{"text_format":"1","workbook":"xlsx","n_sheets":7,"sheets":["Cover Page","Scenario 1","Scenario 2","Inputs","Optimization","Outputs","Calculations & Conversions"],"not_rendered":{"charts":2,"images":4,"macros":1,"external_links":0,"defined_names":440,"comments":5,"pivot_tables":0},"unopened":[],"bounds":{"document_bytes":16777216,"sheet_cells":100000,"rows_first":2000,"rows_last":500,"rows_between":2000,"halvings":0,"cell_chars":16384,"cell_head_chars":4096},"cells_cut":0,"cells_raw":0,"read":"whole","date_system":"1904"}

{"sheet":"Cover Page","index":0,"n_rows":1,"n_cols":1,"rows_kept":1,"cut":false,"hidden":false,"merged":[]}
[1]

{"sheet":"Scenario 1","index":1,"n_rows":414,"n_cols":67,"rows_kept":414,"cut":false,"hidden":false,"merged":[[241,3,241,6],[231,11,231,12],[232,11,232,12],[233,11,233,12],[234,11,234,12],[239,3,239,6],[235,11,235,12],[240,3,240,6],[310,1,310,3],[242,3,242,6],[243,3,243,6],[305,7,305,10],[306,1,306,2],[306,7,306,10],[307,7,307,10],[308,1,308,3],[308,7,308,10]]}
[]
[]
[]
[null,null,null,null,null,null,"1. Herd description",null,"4. Feed inputs"]
[]
[null,null,null,null,null,null,"2. Economic Inputs",null,"5. Manure and Fertilizers"]
[]
[null,null,null,null,null,null,"3. Ration Composition",null,"6. Crops and Rotations"]
[]
[]
[]
[]
[]
[]
[]
[]
[]
[null,null,null,null,null,null,null,null,null,null,null,null,null,null,null,null,null,{"$f":"28/12","v":2.3333333333333335}]
[]
[]
["1. Herd Description"]
["1.1 Herd Structure",null,null,null,null,null,null,null,null,null,null,null,null,null,"HERD DYNAMIC COMPUTATION AREA"]
[null,"N-CyCLE can model the nutritional requirements of up to 5 groups",null,null,null,null,null,"GROUP",null,null,null,null,null,null,"Heifer group Selection:",null,"2H (<1yr)","2H (>1yr)","2H (>1yr)","All together","2H(>1yr)",null,null,null,null,null,null,null,"Annual"]
[null,null,"Your choices are as follows:",null,null,1,2,3,4,5,null,null,null,null,"Heifer group Selection:",null,"(a)","(b)","[c]","(a+b+c)","(b+c)",null,null,null,null,null,null,null,"(yr 2) Heifers",null,"Annual"]
[null,null,"\"3\" groups of cows and two groups of heifers:",null,null,"Early lactation","Mid-late lac.","Dry cows","Heifers<1yr old","Heifers>1yr old",null,null,null,null,"Age span:",null,"2-12-mths","12-24 mths","> 24 mths",">2 mths",">12 mths",null,null,null,null,"2-12 mths","12-24 mths","> 24 mths","Needed for",null,"Heifers"]
[null,null,"\"4\" groups of cows and one group of heifers:",null,null,"Early lactation","Mid-late lac.","Early dry cows","Pre-fresh cows","All Heifers",null,null,null,null,"Heifer# in herd",null,{"$f":"IF(E42=1,Z28,Z28-0.5*AD28)","v":38.762482014388489},{"$f":"IF(E42=1,AA28,AA28-0.5*AD28)","v":37.931115107913669},{"$f":"IF(E42=1,AB28,IF(E40<24,0,((R26*E40/24)-R26)+AE28))","v":3.1609262589928093},{"$f":"SUM(Q26:S26)","v":79.854523381294968},{"$f":"SUM(R26:S26)","v":41.092041366906479},null,null,null,null,"group 1","group 2","group 2","Replacement","Annual","(>24 mths)"]
[null,null,"Make your choice here:",null,3,null,null,null,null,null,null,null,null,null,"Frcn in each group:",null,{"$f":"Q26/$T$26","v":0.48541372953041967},{"$f":"R26/$T$26","v":0.4750027112026895},{"$f":"S26/$T$26","v":3.9583559266890833E-2},{"$f":"SUM(Q27:S27)","v":1},{"$f":"SUM(R27:S27)","v":0.51458627046958028},null,"Total Cows","Calf born","Calf alive","Heifer alive","Heifer #","Heifer #","only","Heifer sold","Purchased","Total Heifers"]
[null,null,null,null,null,null,null,null,null,null,null,null,null,null,"Frcn H>24mths/all H>12 mths",null,null,{"$f":"R27/SUM(R27:S27)","v":0.92307692307692313},{"$f":"S27/SUM(R27:S27)","v":7.6923076923077011E-2},"---",{"$f":"SUM(R28:S28)","v":1.0000000000000002},null,{"$f":"IF(E27=3,SUM(R98:T98),SUM(R98:U98))","v":107},{"$f":"E31*12/E33","v":92.374100719424462},{"$f":"E31*12/E33*(1-(E39/100))","v":83.136690647482013},{"$f":"Y28*0.5","v":41.568345323741006},{"$f":"Z28*0.98","v":40.736978417266187},{"$f":"IF(E40<24,0,(AA28*E40/24)-AA28)","v":3.3947482014388513},{"$f":"E31*E34/100","v":38.520000000000003},{"$f":"IF(SUM(AA28:AB28)<AC28,0,IF(E42=1,0,SUM(AA28:AB28)-AC28))","v":5.6117266187050348},{"$f":"IF(AC28<SUM(AA28:AB28),0,(AC28-SUM(AA28:AB28)))","v":0},{"$f":"T26","v":79.854523381294968}]
["1.2.  Herd Structure: Cows",null,null,null,null,null,null,null,null,null,null,"Breed","Mature BW (kg)",null,null,null,null,null,null,null,null,null,null,null,null,null,"Note: Mortality Heifer> 1 yr = 2%"]
[null,"Breed",null,null,"Holstein","Breed will influence mature body weight and some heifer growth parameters",null,null,null,null,null,"Holstein",682,null,"Actual days in each group",null,{"$f":"365-(1.5*30.4)","v":319.39999999999998},{"$f":"IF(E40>24,365,E40*30.4-365)","v":365},{"$f":"IF(E40<24,0,(E40-24)*30.4)","v":60.8},{"$f":"SUM(Q30:S30)","v":745.19999999999993},{"$f":"SUM(R30:S30)","v":425.8}]
[null,"Total cow (dry and lactating)",null,"Heads",107,null,null,null,null,null,null,"Brown Swiss",682,null,"Frcn days in each group",null,{"$f":"Q30/$T$30","v":0.42860976918947935},{"$f":"R30/$T$30","v":0.48980139559849711},{"$f":"S30/$T$30","v":8.1588835212023619E-2},{"$f":"SUM(Q31:S31)","v":1},{"$f":"SUM(R31:S31)","v":0.57139023081052076}]
[null,"Cow body weight (BW)",null,"Kg",624,"Average body weight of cows in the herd will influence level of feed (dry matter) intake",null,null,null,null,null,"Guernsey",500,null,"Frcn H>24mths/all H>12 mths",null,null,{"$f":"R31/SUM(R31:S31)","v":0.85720995772663222},{"$f":"S31/SUM(R31:S31)","v":0.14279004227336775},"---",{"$f":"SUM(R32:S32)","v":1},null,null,null,null,null,null,null,null,null,null,null,null,null,null,null,null,null,null,null,"Calving interval"]
[null,"Calving interval",null,"Months",13.9,"Calving interval will influence number of heifer born and duration of a lactation",null,null,null,null,null,"Ayrshire",545,null,null,null,null,null,null,null,null,null,null,null,null,null,null,null,null,null,null,null,null,null,null,null,null,null,null,null,423,"days"]
[null,"Culling rate",null,"%",36,"Culling rate will influence number of heifers needed to maintain herd size and number of animal sold ",null,null,null,null,null,"Jersey",454,null,null,null,null,null,null,null,null,null,null,null,null,null,null,null,null,null,null,null,null,null,null,null,null,null,null,null,{"$f":"AO33/30.4","v":13.914473684210527},"months"]
[null,null,null,null,null,{"$f":"52+21+74","v":147},null,null,null,null,null,"Milk. Shorthorn",568,null,"Midpoint Age (mth)",null,6,{"$f":"IF(E40>24,18,12+(E40-12)/2)","v":18},{"$f":"IF(E40>24,(E40-24)/2,\"NA\")","v":1},null,{"$f":"IF(E40<24,R35,(12+E40)/2)","v":19}]
["1.3.  Herd Structure: Heifers",null,null,null,null,null,null,null,null,null,null,null,null,null,"Mature BW,kg",{"$f":"IF(E30=\"Holstein\",682,IF(E30=\"Brown Swiss\",682,IF(E30=\"Guernsey\",500,IF(E30=\"Aryshire\",545,IF(E30=\"Jersey\",454,IF(E30=\"M. Shorthorn\",568,0))))))","v":682}]
[null,"N-CyCLE computes heifer herd size based on calving interval,",null,null,null,null,null,null,null,null,null,null,null,null,"% of mature BW at midpoint",null,27.7,72.2,{"$f":"IF(U35>R35,(U35-R35),\"NA\")","v":1},null,{"$f":"100*((R37/100)+(3.67*(U35-R35))/100)","v":75.86999999999999},null,null,null,null,null,null,null,null,null,null,null,null,null,null,null,null,null,null,null,"Culling rate"]
[null,"culling rates and other parameters:",null,null,null,null,null,null,null,null,null,null,null,null,"Average BW at midpoint (kg):",null,{"$f":"P36*Q37%","v":188.91399999999999},{"$f":"P36*R37%","v":492.404},{"$f":"IF(E40>24,R38+(6*30.4*T52)+(T52*S35*30.4),\"NA\")","v":662.64400000000001},{"$f":"P36*(Q37%*Q27+U37*U27%)","v":357.96557282290416},{"$f":"P36*U37%","v":517.43340000000001},null,null,null,null,null,null,null,null,null,null,null,null,null,null,null,null,null,null,null,null,"out of the herd"]
[null,"Mortality rate",null,"%",10,"Percent of born heifers that do not survive the first year of life. N-Cycle will assume an additional 2% mortality of Heifers>1 yr of age.",null,null,null,null,null,null,null,null,null,null,null,null,null,null,null,null,null,null,null,null,null,null,null,null,null,null,null,null,null,null,null,null,null,null,{"$f":"AO38/E31*100","v":0},"culling rate"]
[null,"Age at 1st calving",null,"Months",26,"The older a heifer is at first calving, the longer she stays in the replacement herd."]
[null,"Do you sell heifers?",null,null,null,null,null,null,null,null,null,null,null,null,"HERD",null,null,"GROUP"]
[null,"Choice \"1\" = keep and raise all heifers",null,null,2,null,null,null,null,null,null,null,null,null,"DESCRIPTION",1,2,3,4,5]
[null,"Choice \"2\" = Raise needed replacement only",null,null,null,null,null,null,null,null,null,null,null,null,"SUMMARY",{"$f":"F25","v":"Early lactation"},{"$f":"G25","v":"Mid-late lac."},{"$f":"IF($E$27=4,H26,H25)","v":"Dry cows"},{"$f":"IF($E$27=4,I26,I25)","v":"Heifers<1yr old"},{"$f":"IF($E$27=4,J26,J25)","v":"Heifers>1yr old"},null,null,null,null,null,null,null,null,null,null,null,null,null,null,null,null,null,null,null,null,{"$f":"AO44/((R99+0.59*S99)*0.9)","v":39.566764855202052},"Peak milk production (kd/day)"]
[null,null,null,null,null,null,null,null,null,null,null,null,null,null,"Total Days",152,{"$f":"ROUNDUP(153+(E33-12)*30.4,0)","v":211},{"$f":"IF(R43=\"Dry cows\",60,39)","v":60},{"$f":"IF(S43=\"Pre-fresh Cows\",21,ROUNDDOWN(365-(1.5*30.4),0))","v":319},{"$f":"IF(T43=\"Heifers>1yr old\",ROUNDUP(365+(E40-24)*30.4,0),ROUNDUP(730+(E40-24)*30.4,0))","v":426},"Days during which an animal stays in a group",null,null,null,null,null,null,null,null,null,null,null,null,null,null,null,null,null,null,null,{"$f":"AO45*E33/12","v":9845.8333333333339},"kg/cow/lactation"]
["1.4. Production Parameters",null,null,null,null,null,null,null,null,null,null,null,null,null,"Days in milk",{"$f":"MEDIAN(0,P44)","v":76},{"$f":"MEDIAN(P44,(P44+Q44))","v":257.5},"na","na","na","Average days since calving",null,null,null,null,null,null,null,null,null,null,null,null,null,null,null,null,null,null,null,8500,"kg/cow/year"]
[null,"Average peak milk production",null,"Kg/d",46.37,"Based on peak milk prodcution N-CyCLE computes milk production for the lactation and a calendar year.",null,null,null,null,null,null,null,null,"BW, kg",{"$f":"E32","v":624},{"$f":"E32","v":624},{"$f":"IF($E$27=4,E32,E32)","v":624},{"$f":"IF($E$27=4,E32,Q38)","v":188.91399999999999},{"$f":"IF($E$27=4,T38,U38)","v":517.43340000000001},null,null,null,null,null,null,null,null,null,null,null,null,null,null,null,null,null,null,null,null,3.9,"kg/hl = ",{"$f":"AO46/1.03","v":3.7864077669902909},"% fat"]
[null,"Milk performance",null,"Kg/cow/lactation",{"$f":"(P47*R99)+(Q47*S99)","v":11538.757169999997},null,null,null,null,null,null,null,null,null,"Milk yield, kg/d",{"$f":"E46*0.9","v":41.732999999999997},{"$f":"P47*0.59","v":24.622469999999996},0,0,0,"Milk yield and composition influence nutritional requirements and exports of nutrients from the farm",null,null,null,null,null,null,null,null,null,null,null,null,null,null,null,null,null,null,null,3.32,"kg/hl = ",{"$f":"AO47/1.03","v":3.2233009708737863},"% protein"]
[null,"Milk performance",null,"Kg/cow/365 day",{"$f":"E47*12/E33","v":9961.5169812949607},null,null,null,null,null,null,null,null,null,"FCM, kg/d",{"$f":"(0.4*P47)+(15*(P49/100)*P47)","v":35.848647},{"$f":"(0.4*Q47)+(15*(Q49/100)*Q47)","v":23.809928489999997},0,0,0,"FCM = Fat-corrected milk, a standardized way to express milk production in dairy cows",null,null,null,null,null,null,null,null,null,null,null,null,null,null,null,null,null,null,null,{"$f":"12.9949-AO46-AO47","v":5.7748999999999988},"kg/hl = ",{"$f":"AO48/1.03","v":5.6066990291262124},"% other solid"]
[null,"Milk composition",null,null,null,"Milk composition is used to compute yields of milk components and milk price",null,null,null,null,null,null,null,null,"Milk fat, %",{"$f":"E50*0.85","v":3.06},{"$f":"E50*1.05","v":3.7800000000000002},0,0,0]
[null,"Milk Fat",null,"%",3.6,null,null,null,null,null,null,null,null,null,"Milk CP , %",{"$f":"E51*0.85","v":2.6349999999999998},{"$f":"E51*1.05","v":3.2550000000000003},0,0,0]
[null,"Milk Crude Protein",null,"%",3.1,null,null,null,null,null,null,null,null,null,"Pregnancy, Days",{"$f":"IF(P45<($E$33*30-280),0,(P45-($E$33*30-280)))","v":0},{"$f":"IF(Q45<($E$33*30-280),0,(Q45-($E$33*30-280)))","v":120.5},{"$f":"IF(E27=3,280-R44/2,280-(R44/2+S44))","v":250},{"$f":"IF(E27=3,0,(280-S44/2))","v":0},{"$f":"IF($E$27=3,IF((T44/2+S44)<($E$40*30-280),0,(T44/2+S44-($E$40*30-280))),IF((T44/2)<($E$40*30-280),0,(T44/2-($E$40*30-280))))","v":32},"When cows are in late gestations, nutrient requirements are adjusted accordingly."]
[null,"Other solids",null,"%",5.7,null,null,null,null,null,null,null,null,null,"Growth, kg/d",0,0,0,{"$f":"IF($E$27=4,0,0.8)","v":0.8},{"$f":"IF($E$27=4,0.8,0.8)","v":0.8},"Heifer growth rate is assumed to be optimal: 0.8 kg of average daily gain"]
[]
[]
["2. Economic Inputs",null,null,null,null,null,null,null,"Back to top"]
["2.1. Milk Incomes"]
[null,"Milk sold",null,"Kg/year",{"$f":"E48*E31*(1-E59%)","v":1012588.2011486328}]
[null,"Milk sold",null,"hl/year",{"$f":"E57/103","v":9830.9534092100275},{"$f":"E58*(E66+3+0.5+1.5)","v":403153.46161713864}]
[null,"Milk wasted (%)",null,"%",5,null,null,null,null,"Discarded milk for various reasons (mastitis, etc.)."]
[null,null,null,null,null,null,"$/lb","$/cwt","$/kg"]
[null,"Milk fat price",null,"$/kg",{"$f":"G61*2.20462291469134","v":3.772109807036883},null,1.7110000000000001,null,null,null,null,null,null,null,null,null,null,null,null,null,null,null,null,null,null,null,null,null,null,null,null,null,null,null,null,null,null,null,null,null,{"$f":"(1-AO62/(E48*E31))*100","v":100},"milk wasted (%)"]
[null,"Milk protein price",null,"$/kg",{"$f":"G62*2.20462291469134","v":6.3559278630551335},null,2.883,null,null,null,null,null,null,null,null,null,null,null,null,null,null,null,null,null,null,null,null,null,null,null,null,null,null,null,null,null,null,null,null,null,null,"milk sold (kg)"]
[null,"Milk other solid price",null,"$/kg",{"$f":"G63*2.20462291469134","v":0.46076618917049006},null,0.20899999999999999]
[null,"Hauling cost",null,"$/hl",{"$f":"G64*2.20462291469134*100","v":0.47619854957332947},"FPLQ 2011",{"$f":"H64/100","v":2.16E-3},0.216]
[null,"Marketing cost",null,"$/kg",{"$f":"G65*2.20462291469134*100","v":0.48722166414678619},null,{"$f":"H65/100","v":2.2100000000000002E-3},0.221]
[null,"Milk price",null,"$/hl",{"$f":"(E50%*E61+E51%*E62+E52%*E63)*103-(E64+E65*1.03)","v":36.008582264203234},null,{"$f":"E66*0.45436/100","v":0.1636085943756338},{"$f":"G66*100","v":16.360859437563381},{"$f":"E66/1.03/100","v":0.34959788606022557}]
[]
["2.2. Other incomes"]
[null,null,null,null,null,null,"$/lb","$/cwt","$/kg"]
[null,"Livestock ($/hl)",null,"$/hl",{"$f":"G70*2.2*103","v":2.8370320000000002},null,{"$f":"H70/100","v":1.252E-2},1.252]
[null,"Other Income ($/hl)",null,"$/hl",{"$f":"G71*2.2*103","v":1.9714200000000002},null,{"$f":"H71/100","v":8.6999999999999994E-3},0.87]
[null,"Total Other Income",null,"$/hl",{"$f":"SUM(E70:E71)","v":4.8084520000000008},null,{"$f":"E72*0.45436/100","v":2.1847682507200004E-2},{"$f":"G72*100","v":2.1847682507200004},{"$f":"E72/1.03/100","v":4.668400000000001E-2}]
[]
["2.3. Variable costs (other than feed purchased, crop-related expenses and storage costs)"]
[null,null,null,null,null,null,null,"$/cwt","$/kg"]
[null,"Breeding fees",null,"$/hl","--",null,null,"--"]
[null,"Health",null,"$/hl",{"$f":"H77*2.20462291469134","v":2.248715372985167},null,null,1.02]
[null,"Bedding",null,"$/hl",{"$f":"H78*2.20462291469134","v":0.66138687440740196},null,null,0.3]
[null,"Supplies ",null,"$/hl",{"$f":"H79*2.20462291469134","v":3.3289806011839236},null,null,1.51]
[null,"DHI",null,"$/hl",{"$f":"H80*2.20462291469134","v":0.85980293672962271},null,null,0.39]
[null,"Other",null,"$/hl",{"$f":"H81*2.20462291469134","v":8.8184916587653608E-2},null,null,0.04]
[null,"Total ",null,"$/hl",{"$f":"SUM(E76:E81)","v":7.1870707018937692},null,null,null,{"$f":"E82/1.03/100","v":6.9777385455279312E-2}]
[]
["2.4. Fixed costs"]
[null,null,null,null,null,null,"$/lb","$/cwt","$/kg"]
[null,"Labor",null,"$",{"$f":"G86*2.20462291469134*$E$57","v":37950.377573772123},null,{"$f":"H86/100","v":1.7000000000000001E-2},1.7]
[null,"Taxes and Insurance",null,"$",{"$f":"G87*2.20462291469134*$E$57","v":6250.6504239154083},null,{"$f":"H87/100","v":2.8000000000000004E-3},0.28000000000000003]
[null,"Depreciation",null,"$",{"$f":"G88*2.20462291469134*$E$57","v":87509.1059348157},null,{"$f":"H88/100","v":3.9199999999999999E-2},3.92]
[null,"Interest",null,"$",{"$f":"G89*2.20462291469134*$E$57","v":0},null,{"$f":"H89/100","v":0}]
[null,"Other",null,"$",{"$f":"G90*2.20462291469134*$E$57","v":17189.28866576737},null,{"$f":"H90/100","v":7.7000000000000002E-3},0.77]
[null,"Total",null,"$",{"$f":"SUM(E86:E90)","v":148899.42259827061}]
[]
[]
["3. Ration Composition",null,null,null,null,null,null,null,"Back to top"]
["3.1 Amount of Feed Dry Matter (DM)",null,null,null,null,null,null,null,null,null,null,null,null,null,"RATION COMPOSITION COMPUTATION AREA"]
[null,"GROUPS",null,null,null,null,"GROUP",null,null,null,null,null,null,null,null,null,null,null,null,"GROUP"]
[null,null,null,null,1,2,3,4,5,null,null,null,null,null,null,null,null,1,2,3,4,5]
[null,null,null,null,{"$f":"P43","v":"Early lactation"},{"$f":"Q43","v":"Mid-late lac."},{"$f":"R43","v":"Dry cows"},{"$f":"S43","v":"Heifers<1yr old"},{"$f":"T43","v":"Heifers>1yr old"},null,null,null,null,null,"Animals",null,"#",{"$f":"ROUNDDOWN(E31*((E33-2)/E33)*(5/(E33-2)),0)","v":38},{"$f":"ROUNDUP(E31*((E33-2)/E33)*(1-(5/(E33-2))),0)","v":54},{"$f":"IF($E$27=4,ROUNDDOWN(E31*((2/E33)*(39/60)),0),E31-SUM(R98:S98))","v":15},{"$f":"IF($E$27=4,E31-(SUM(R98:T98)),Q26)","v":38.762482014388489},{"$f":"IF($E$27=4,T26,U26)","v":41.092041366906479}]
[null,"DMI, Predicted (NRC 2001)",null,"kg/d",{"$f":"(((P46^0.75)*0.0968)+(0.372*P48)-0.293)*(1-EXP(-0.192*((P45/7)+3.67)))","v":23.583553277682984},{"$f":"(((Q46^0.75)*0.0968)+(0.372*Q48)-0.293)*(1-EXP(-0.192*((Q45/7)+3.67)))","v":20.64103003652512},{"$f":"IF($E$27=4,0.018*R46,0.018*R46)","v":11.231999999999999},{"$f":"IF($E$27=4,(((1.71-0.69*EXP(0.35*(-10.5)))%)*(S46*0.82))*E34/100+(((1.97-0.75*EXP(0.16*(-10.5)))%)*S46)*(1-E34/100),R111)","v":5.0251124000000003},{"$f":"IF($E$27=4,U111,V111)","v":12.403697644762801},null,null,null,null,null,"Actual days",null,"#",{"$f":"P44","v":152},{"$f":"Q44","v":211},{"$f":"R44","v":60},{"$f":"S44","v":319},{"$f":"T44","v":426}]
[null," ",null,"%",0,0,0,0,0,null,null,null,null,null,"365-day basis",null,"#",{"$f":"R99*365/(E33*30.4)","v":131.29496402877697},{"$f":"S99*365/(E33*30.4)","v":182.25814085573646},{"$f":"T99*365/(E33*30.4)","v":51.826959485043545},{"$f":"IF($E$27=4,U99*365/(E33*30.4),365)","v":365},{"$f":"IF($E$27=4,V99*365/T30,IF(V99<365,V99,365))","v":365}]
[null,"DM Consumed",null,"kg/d",{"$f":"E99+(E99*E100/100)","v":23.583553277682984},{"$f":"F99+(F99*F100/100)","v":20.64103003652512},{"$f":"G99+(G99*G100/100)","v":11.231999999999999},{"$f":"H99+(H99*H100/100)","v":5.0251124000000003},{"$f":"I99+(I99*I100/100)","v":12.403697644762801}]
[null,null,null,null,null,null,null,null,null,null,null,null,null,null,"DM Consumed",null,"% BW",{"$f":"E101/P46%","v":3.779415589372273},{"$f":"F101/Q46%","v":3.307857377648256},{"$f":"G101/R46%","v":1.7999999999999998},{"$f":"H101/S46%","v":2.6600000000000006},{"$f":"I101/T46%","v":2.3971582902771256}]
["3.2 Ration Composition",null,null,null,null,null,null,null,null,null,null,null,null,null,"DM Consumed",null,"tonnes/yr",{"$f":"(E101*R100*R98)/1000","v":117.66326761203703},{"$f":"(F101*S100*S98)/1000","v":203.14777102944203},{"$f":"(G101*T100*T98)/1000","v":8.7318061340401361},{"$f":"(H101*U100*U98)/1000","v":71.09682759422742},{"$f":"(I101*V100*V98)/1000","v":186.03803870323563}]
[null,"ENl, Mcal/kg DM",null,"MINIMUM",{"$f":"R134*(1+J104)/E101","v":1.6735160989983768},{"$f":"S134*(1+J104)/F101","v":1.4786364631105882},{"$f":"T134*(1+J104)/G101","v":1.3195023654956903},{"$f":"U134*(1+J104)/H101","v":1.4298375156819263},{"$f":"V134*(1+J104)/I101","v":1.3083445354109233},0.1,"Desired adjustment above NRC guidelines",null,null,null,"DM consumed",null,"tonnes/yr","per Cow:",{"$f":"IF(E27=3,R103/R98+S103/S98+T103/T98,R103/R98+S103/S98+T103/T98+U103/U98)","v":7.4405179480046231},null,"per Heifer:",{"$f":"IF(E27=4,V103/V98,(U103/U98)*Q27+(V103/V98)*U27)","v":3.2200413377921935}]
[null,null,null,"MAXIMUM",{"$f":"E104*(1+J105)","v":2.0082193187980519},{"$f":"F104*(1+J105)","v":1.7743637557327057},{"$f":"G104*(1+J105)","v":1.5834028385948284},{"$f":"H104*(1+J105)","v":1.7158050188183116},{"$f":"I104*(1+J105)","v":1.570013442493108},0.2,"Maximum excess allowed in ration (Max/Min)"]
[null,null,null,null,null,null,null,null,null,null,null,null,null,null,"Heifer group Selection:",null,null,"2H (<1yr)","2H (>1yr)","2H (>1yr)","All together","2H(>1yr)"]
[null,"EE, % of ration DM",null,"MAXIMUM",6.5,6.5,5,4.5,4.5,null,null,null,null,null,"Heifer group Selection:",null,null,"(a)","(b)","[c]","(a+b+c)","(b+c)"]
[null,null,null,null,null,null,null,null,null,null,null,null,null,null,"Age span:",null,null,"2-12-mths","12-24 mths","> 24 mths",">2 mths",">12 mths"]
[null,"Forage NDF, % of ration DM",null,"MINIMUM",17,18,24,18,18,null,null,null,null,null,"Dry Matter Intake (DMI)"]
[null,"NDF, % of Ration DM",null,"MINIMUM",25,28,{"$f":"IF($E$27=4,32,30)","v":30},{"$f":"IF(E27=4,28,28)","v":28},28,null,null,null,null,null,"DMI, % of midpoint BW",null,"% of midpoint BW",2.66,2.4300000000000002,{"$f":"IF(E40>24,2.2,\"NA\")","v":2.2000000000000002},null,{"$f":"SUMPRODUCT(S110:T110,R32:S32)","v":2.3971582902771256}]
[null,null,null,"MAXIMUM",100,100,100,100,100,null,null,null,null,null,"DMI",null,"kg/d at midpoint BW",{"$f":"R110%*Q38","v":5.0251124000000003},{"$f":"S110%*R38","v":11.965417200000001},{"$f":"IF(E40>24,T110%*S38,\"NA\")","v":14.578168000000002},{"$f":"Q38*R110%*Q27+U38*V110%*U27","v":8.8220310624443634},{"$f":"U38*V110%","v":12.403697644762801}]
[]
[null,"NFC, % of ration DM",null,"MINIMUM",0,0,0,0,0,null,null,null,null,null,"Calcualtions/assumption for estimation of for NE needs and RDP/RUP fraction in rations of animal groups"]
[null,null,null,"MAXIMUM",42,40,38,42,40]
[null,null,null,null,null,null,null,null,null,null,null,null,null,null,null,null,null,{"$f":"P42","v":1},2,3,4,5]
[null,"RDP, % of ration DM",null,"MINIMUM",{"$f":"R144/1000*(1+$J116)/E101%","v":10.897078275688225},{"$f":"S144/1000*(1+$J116)/F101%","v":9.9449968588440516},{"$f":"T144/1000*(1+$J116)/G101%","v":9.1675497108380473},{"$f":"U144/1000*(1+$J116)/H101%","v":9.8616832107408001},{"$f":"V144/1000*(1+$J116)/I101%","v":9.1306007987892581},0.1,null,null,null,null,null,null,null,"Early lactation","Mid-late lac.","Dry cows","Heifers<1yr old","Heifers>1yr old"]
[null,null,null,"MAXIMUM",{"$f":"E116*(1+$J$117)","v":13.62134784461028},{"$f":"F116*(1+$J$117)","v":12.431246073555064},{"$f":"G116*(1+$J$117)","v":11.459437138547559},{"$f":"H116*(1+$J$117)","v":12.327104013426},{"$f":"I116*(1+$J$117)","v":11.413250998486573},0.25,null,null,null,null,"Animals",null,null,{"$f":"R98","v":38},{"$f":"S98","v":54},{"$f":"T98","v":15},{"$f":"U98","v":38.762482014388489},{"$f":"V98","v":41.092041366906479}]
[null,"RUP, % of ration DM",null,"MINIMUM",{"$f":"R145/1000*(1+$J118)/E101%","v":5.6881075040668572},{"$f":"S145/1000*(1+$J118)/F101%","v":5.0247564785166521},{"$f":"T145/1000*(1+$J118)/G101%","v":2.5042048014535729},{"$f":"U145/1000*(1+$J118)/H101%","v":5.3141397747243362},{"$f":"V145/1000*(1+$J118)/I101%","v":2.8846451195328515},0.1,null,null,null,null,"Days",null,null,{"$f":"R100","v":131.29496402877697},{"$f":"S100","v":182.25814085573646},{"$f":"T100","v":51.826959485043545},{"$f":"U100","v":365},{"$f":"V100","v":365}]
[null,null,null,null,null,null,null,null,null,null,null,null,null,null,"Frcn days",null,null,{"$f":"R100/(SUM(R100:S100))","v":0.41873278236914596},{"$f":"S100/(SUM(R100:S100))","v":0.58126721763085398},{"$f":"T100/(SUM(T100:V100))","v":6.6289552766484003E-2},{"$f":"U100/(SUM(T100:V100))","v":0.46685522361675802},{"$f":"V100/SUM(T100:V100)","v":0.46685522361675802}]
[null,"Crude Protein (CP)",null,"MINIMUM",{"$f":"E116+E118","v":16.585185779755083},{"$f":"F116+F118","v":14.969753337360704},{"$f":"G116+G118","v":11.671754512291621},{"$f":"H116+H118","v":15.175822985465135},{"$f":"I116+I118","v":12.01524591832211},null,null,null,null,null,"Frcn animals",null,null,{"$f":"R98/SUM(R98:S98)","v":0.41304347826086957},{"$f":"S98/SUM(R98:S98)","v":0.58695652173913049},{"$f":"T98/SUM(T98:V98)","v":0.15813689706397235},{"$f":"U98/SUM(T98:V98)","v":0.40865190855022876},{"$f":"V98/SUM(T98:V98)","v":0.43321119438579886}]
[null,null,null,"MAXIMUM",{"$f":"E118+E117","v":19.309455348677137},{"$f":"F118+F117","v":17.456002552071716},{"$f":"G118+G117","v":13.963641940001132},{"$f":"H118+H117","v":17.641243788150337},{"$f":"I118+I117","v":14.297896118019425},null,null,null,null,null,"Overall Frcn",null,null,{"$f":"R120*R119","v":0.17295484489160376},{"$f":"S120*S119","v":0.34117858426158826},{"$f":"T120*T119","v":1.0482824182250244E-2},{"$f":"U120*U119","v":0.19078127814763199},{"$f":"V120*V119","v":0.20224690902826495}]
[null,null,null,"MAX. / MIN.",{"$f":"E121/E120","v":1.1642592133183982},{"$f":"F121/F120","v":1.1660848484728179},{"$f":"G121/G120","v":1.1963618601895634},{"$f":"H121/H120","v":1.1624571402187871},{"$f":"I121/I120","v":1.1899794823355625},null,null,null,null,null,null,null,"Total",{"$f":"SUM(R121:S121)","v":0.51413342915319205},null,{"$f":"SUM(T121:V121)","v":0.40351101135814715}]
[null,"Macro-Minerals, % of ration DM",null,null,null,null,null,null,null,null,null,null,null,null,"Overall Weight",null,null,{"$f":"R121/R122","v":0.33640069889341867},{"$f":"S121/R122","v":0.66359930110658127},{"$f":"T121/T122","v":2.597902879271349E-2},{"$f":"U121/T122","v":0.47280315227457048},{"$f":"V121/T122","v":0.50121781893271611}]
[null,"Available P",null,"MINIMUM",{"$f":"((1*E101/(10*E101)+0.002*P46/(10*E101))+0.9*P47/(10*E101))*(1+J124)","v":0.27778178788503316},{"$f":"((1*F101/(10*F101)+0.002*Q46/(10*F101))+(0.02743*EXP((0.05527-0.000075*Q51)*Q51)-0.02743*EXP((0.05527-0.000075*(Q51-1))*(Q51-1)))/(10*F101)+0.9*Q47/(10*F101))*(1+J124)","v":0.22541761208833672},{"$f":"((1*G101/(10*G101)+0.002*R46/(10*G101))+(0.02743*EXP((0.05527-0.000075*R51)*R51)-0.02743*EXP((0.05527-0.000075*(R51-1))*(R51-1)))/(10*G101))*(1+J124)","v":0.15851844860778155},{"$f":"IF($E$27=4,((1*H101/(10*H101)+0.002*S46/(10*H101))+(0.02743*EXP((0.05527-0.000075*S51)*S51)-0.02743*EXP((0.05527-0.000075*(S51-1))*(S51-1)))/(10*H101))*(1+J124),((1*H101/(10*H101)+0.002*S46/(10*H101))+(((1.2+(4.635*P46^0.22)*(S46^(-0.22)))*S52)/(10*H101))*(1+J124)))","v":0.22835141053655411},{"$f":"((1*I101/(10*I101)+0.002*T46/(10*I101))+(((1.2+(4.635*P46^0.22)*(T46^(-0.22)))*T52)/(10*I101))+IF(T51>190,(0.02743*EXP((0.05527-0.000075*T51)*T51)-0.02743*EXP((0.05527-0.000075*(T51-1))*T51-1))/(10*I101),0))*(1+J124)","v":0.15459622377101523},0.05,"Desired adjustment above NRC guidelines",null,null,null,"NRC Energy needs, Mcal/d"]
[null,null,null,"MAXIMUM",{"$f":"E124*(1+$J$125)","v":0.41667268182754974},{"$f":"F124*(1+$J$125)","v":0.3381264181325051},{"$f":"G124*(1+$J$125)","v":0.23777767291167234},{"$f":"H124*(1+$J$125)","v":0.34252711580483119},{"$f":"I124*(1+$J$125)","v":0.23189433565652284},0.5,"Maximum excess allowed in ration (Max/Min)",null,null,null," NE for maintenance",null,null,{"$f":"(P46^0.75*0.08)","v":9.9879975983985592},{"$f":"(Q46^0.75*0.08)","v":9.9879975983985592},{"$f":"(R46^0.75*0.08)","v":9.9879975983985592},{"$f":"IF(E27=3,(S46*0.96)^0.75*0.086,S46^0.75*0.08)","v":4.2501081733598642},{"$f":"((T46*0.96)^0.75*0.086)","v":9.048836059993743}]
[null,null,null,null,null,null,null,null,null,null,null,null,"Max/Min",null," NE for lactation",null,null,{"$f":"(0.0929*P49+0.0547*P50+0.192)*P47","v":25.891507930499994},{"$f":"(0.0929*Q49+0.0547*Q50+0.192)*Q47","v":17.757983899934995},0,0,0]
[null,"Available Mg required",null,null,{"$f":"0.003*P46/(10*E101)+(0.15*P47)/(10*E101)","v":3.4481445201454138E-2},{"$f":"0.003*Q46/(10*F101)+0.33/(10*F101)+(0.15*Q47)/(10*F101)","v":2.8561416215992654E-2},{"$f":"0.003*R46/(10*G101)+0.33/(10*G101)","v":1.9604700854700858E-2},{"$f":"0.003*S46/(10*H101)+0.45*S52/(10*H101)+IF(S51>190,0.33/(10*H101),0)","v":1.8442214347285046E-2},{"$f":"0.003*T46/(10*I101)+0.45*T52/(10*I101)+IF(T51>190,0.33/(10*I101),0)","v":1.5417178447649669E-2},0.05,"Desired adjustment above NRC",null,null,null," NE for pregnancy",null,null,{"$f":"IF(P51>190,(0.00318*P51-0.0352)/0.218,0)","v":0},{"$f":"IF(Q51>190,(0.00318*Q51-0.0352)/0.218,0)","v":0},{"$f":"IF(R51>190,(0.00318*R51-0.0352)/0.218,0)","v":3.4853211009174312},{"$f":"IF(S51>190,(0.00318*S51-0.0352)/0.218,0)","v":0},{"$f":"IF(T51>190,(0.00318*T51-0.0352)/0.218,0)","v":0}]
[null,"Min. Available Mg Desired",null,"% DM",{"$f":"E127+E127*$J$127","v":3.6205517461526844E-2},{"$f":"F127+F127*$J$127","v":2.9989487026792286E-2},{"$f":"G127+G127*$J$127","v":2.0584935897435902E-2},{"$f":"H127+H127*$J$127","v":1.9364325064649298E-2},{"$f":"I127+I127*$J$127","v":1.6188037370032153E-2},null,"Excess allowed in diet (Max/Min)",null,{"$f":"Optimization!Q194","v":3},null," NE for growth",null,null,null,null,null,{"$f":"IF(E27=3,0.0635*(0.891*(S46*0.96)*(478/(0.96*P36)))^0.75*(0.956*0.96*S52)^1.097,0)","v":1.6196318880890499},{"$f":"0.0635*(0.891*(T46*0.96)*(478/(0.96*P36)))^0.75*(0.956*0.96*T52)^1.097","v":3.4483318624029327},"NEm for heifers"]
[null,null,null,null,null,null,null,null,null,null,null,null,null,null," a (from Gosselin, 2002 p. 108)",null,null,null,null,null,{"$f":"0.8967*H101","v":4.5060182890800009},{"$f":"0.8967*I101","v":11.122395678058805}]
[null,"Available K required",null,null,{"$f":"(0.038*P46+6.1*E101)/(10*E101)+1.5*P47/(10*E101)","v":0.97598174576888796},{"$f":"(0.038*Q46+6.1*F101)/(10*F101)+1.027/(10*F101)+1.5*Q47/(10*F101)","v":0.90878695438584056},{"$f":"(0.038*R46+2.6*G101)/(10*G101)+1.027/(10*G101)","v":0.48025462962962967},{"$f":"IF($E$27=4,(0.038*S46+2.6*H101)/(10*H101)+1.027/(10*H101),(0.038*S46+2.6*H101)/(10*H101)+1.6*S52/(10*H101))","v":0.42832920990981216},{"$f":"(0.038*T46+2.6*I101)/(10*I101)+1.6*T52/(10*I101)+IF(T51>190,1.027/(10*I101),0)","v":0.42884053287805279},0.05,"Desired adjustment above NRC",null,null,null," b",null,null,null,null,null,{"$f":"-0.8967*U125-0.4443*H101-U128","v":-7.6633613264608407},{"$f":"-0.8967*V125-0.4443*I101-V128","v":-17.073386020967433}]
[null,"Min. Available K Desired",null,"% DM",{"$f":"E130+E130*$J$130","v":1.0247808330573323},{"$f":"F130+F130*$J$130","v":0.9542263021051326},{"$f":"G130+G130*$J$130","v":0.50426736111111115},{"$f":"H130+H130*$J$130","v":0.44974567040530278},{"$f":"I130+I130*$J$130","v":0.45028255952195545},null,"Excess allowed in diet (Max/Min)",null,{"$f":"Optimization!Q193","v":10},null," c",null,null,null,null,null,{"$f":"0.4443*U125","v":1.8883230614237876},{"$f":"0.4443*V125","v":4.02039786145522},"NEg for heifers"]
[null,null,null,null,null,null,null,null,null,null,null,null,null,null,"[NEm]",null,null,null,null,null,{"$f":"(-U130+(U130^2-4*U129*U131)^0.5)/(2*U129)","v":1.401730789977532},{"$f":"(-V130+(V130^2-4*V129*V131)^0.5)/(2*V129)","v":1.2446210262752133}]
[null,"Available Ca required",null,null,{"$f":"(0.031*P46)/(10*E101)+1.22*P47/(10*E101)","v":0.29791210498582965},{"$f":"((0.031*Q46)/(10*F101))+(((0.02456*EXP((0.05581-0.00007*Q51)*Q51))-(0.02456*EXP((0.05581-0.00007*(Q51-1))*(Q51-1))))/(10*F101))+1.22*P47/(10*F101)","v":0.34175396089171745},{"$f":"(0.0154*R46)/(10*G101)+((0.02456*EXP((0.05581-0.00007*R51)*R51))-(0.02456*EXP((0.05581-0.00007*(R51-1))*(R51-1))))/(10*G101)","v":0.15078309817638205},{"$f":"IF($E$27=4,(0.0154*S46/(10*H101))+((0.02456*EXP((0.05581-0.00007*S51)*S51))-(0.02456*EXP((0.05581-0.00007*(S51-1))*(S51-1))))/(10*H101),(((9.83*(S46^0.22)*(S46^(-0.22)))*S52)+0.0154*S46)/(10*H101))","v":0.21438874879694234},{"$f":"IF($E$27=4,((((9.83*(P46^0.22)*(T46^(-0.22)))*T52)+0.0154*T46)/(10*I101))+(((0.02456*EXP((0.05581-0.00007*T51)*T51))-(0.02456*EXP((0.05581-0.00007*(T51-1))*(T51-1))))/(10*I101)),(((9.83*(P46^0.22)*(T46^(-0.22)))*T52)+0.0154*T46)/(10*I101))+IF(T51>190,(((0.02456*EXP((0.05581-0.00007*T51)*T51))-(0.02456*EXP((0.05581-0.00007*(T51-1))*(T51-1))))/(10*I101)),0)","v":0.13030979016526303},0.05,"Desired adjustment above NRC",null,null,null,"[ME discounted]",null,null,null,null,null,{"$f":"U132+0.6412/0.8936","v":2.1192777908727871},{"$f":"V132+0.6412/0.8936","v":1.9621680271704685}]
[null,"Min. Available Ca Desired",null,"% DM",{"$f":"E133+E133*$J$133","v":0.31280771023512111},{"$f":"F133+F133*$J$133","v":0.35884165893630332},{"$f":"G133+G133*$J$133","v":0.15832225308520115},{"$f":"H133+H133*$J$133","v":0.22510818623678946},{"$f":"I133+I133*$J$133","v":0.13682527967352617},null,"Excess allowed in diet (Max/Min)",null,{"$f":"Optimization!Q191","v":2},null,null,null,"Total NEl",{"$f":"SUM(R125:R128)","v":35.879505528898555},{"$f":"SUM(S125:S128)","v":27.745981498333556},{"$f":"SUM(T125:T128)","v":13.473318699315991},{"$f":"IF(E27=3,(0.703*U133-0.19)*H101,SUM(U125:U128))","v":6.5319038454894933},{"$f":"(0.703*V133-0.19)*I101","v":14.753009120377044},"For heifer groups, NEl calcuated from ME"]
[null,null,null,null,null,null,null,null,null,null,null,null,null,null," Estimated discounted EM (< 3% FAT)",null,null,{"$f":"(R134/E101+0.19)/0.703*E101","v":57.411636773340433},{"$f":"(S134/F101+0.19)/0.703*F101","v":45.046624758568029},{"$f":"(T134/G101+0.19)/0.703*G101","v":22.201136129894724},{"$f":"(U134/H101+0.19)/0.703*H101","v":10.649609105959449},{"$f":"(V134/I101+0.19)/0.703*I101","v":24.338138937243208}]
[null,"Min. Available Na required Desired",null,null,{"$f":"(0.038*P46)/(10*E101)+0.63*P47/(10*E101)","v":0.21202822751615794},{"$f":"(0.038*Q46)/(10*F101)+0.63*Q47/(10*F101)+IF(Q51>190,1.39/(10*F101),0)","v":0.19003003256422427},{"$f":"(1.5*(R46/100))/(10*G101)+IF(R51>190,1.39/(10*G101),0)","v":9.5708689458689461E-2},{"$f":"IF($E$27=4,(1.5*(S46/100))/(10*H101)+IF(S51>190,1.39/(10*H101),0),(1.5*(S46/100))/(10*H101)+IF(S51>190,1.39/(10*H101),0)+(1.4*S52/(10*H101)))","v":7.8679036114694664E-2},{"$f":"(1.5*(T46/100))/(10*I101)+(1.4*T52/(10*I101))+IF(T51>190,1.39/(10*I101),0)","v":7.160365605775651E-2},0.05,"Desired adjustment above NRC",null,null,null," Estimated discounted ED",null,null,{"$f":"(R135/E101+0.45)/1.01*E101","v":67.35072846366117},{"$f":"(S135/F101+0.45)/1.01*F101","v":53.797117103964688},{"$f":"(T135/G101+0.45)/1.01*G101","v":26.985679336529433},{"$f":"IF(E27=3,U135/0.82,(U135/H101+0.45)/1.01*H101)","v":12.987328177999329},{"$f":"V135/0.82","v":29.680657240540498}]
[null,"Min. Available Na Desired",null,"% DM",{"$f":"E136+E136*$J$136","v":0.22262963889196583},{"$f":"F136+F136*$J$136","v":0.19953153419243547},{"$f":"G136+G136*$J$136","v":0.10049412393162394},{"$f":"H136+H136*$J$136","v":8.2612987920429398E-2},{"$f":"I136+I136*$J$136","v":7.5183838860644336E-2},null,"Excess allowed in diet (Max/Min)",null,{"$f":"Optimization!Q195","v":5},null,"NRC Protein needs, g/d"]
[null,null,null,null,null,null,null,null,null,null,null,null,null,null," MP microbial",null,null,{"$f":"0.64*0.13*R136/4.409*1000","v":1270.9413944605603},{"$f":"0.64*0.13*S136/4.409*1000","v":1015.1780773531103},{"$f":"0.64*0.13*T136/4.409*1000","v":509.23305075963918},{"$f":"0.64*0.13*U136/4.409*1000","v":245.07727475834528},{"$f":"0.64*0.13*V136/4.409*1000","v":560.08861020933762},"Using 4,409 McalDE/kg of TDN"]
[null,"Available Cl required",null,null,{"$f":"(2.25*P46/100)/(10*E101)+1.15*P47/(10*E101)","v":0.26303479068483504},{"$f":"(2.25*Q46/100)/(10*F101)+IF(Q51>190,1/(10*F101))+1.15*Q47/(10*F101)","v":0.20520216493580823},{"$f":"(2.25*R46/100)/(10*G101)+IF(R51>190,1/(10*G101))","v":0.13390313390313391},{"$f":"IF($E$27=4,(2.25*S46/100)/(10*H101)+IF(S51>190,1/(10*H101)),(2.25*S46/100)/(10*H101)+(1*S52)/(10*H101))","v":0.10050650807333185},{"$f":"(2.25*T46/100)/(10*I101)+(1*T52)/(10*I101)+IF(T51>190,1/(10*I101))","v":0.10031082550011591},0.05,"Desired adjustment above NRC",null,null,null," MP maintenance",null,null,{"$f":"(0.3*P46^0.6)+(4.1*P46^0.5)+((E101*1000*0.03)-(0.5*(R138/0.8-R138)))+(E101*11.8*0.4/0.67)","v":831.461437980656},{"$f":"(0.3*Q46^0.6)+(4.1*Q46^0.5)+((F101*1000*0.03)-(0.5*(S138/0.8-S138)))+(F101*11.8*0.4/0.67)","v":754.42673792425398},{"$f":"(0.3*R46^0.6)+(4.1*R46^0.5)+((G101*1000*0.03)-(0.5*(T138/0.8-T138)))+(G101*11.8*0.4/0.67)","v":469.11445504462677},{"$f":"(0.3*S46^0.6)+(4.1*S46^0.5)+((H101*1000*0.03)-(0.5*(U138/0.8-U138)))+(H101*11.8*0.4/0.67)","v":218.83669654157688},{"$f":"(0.3*T46^0.6)+(4.1*T46^0.5)+((I101*1000*0.03)-(0.5*(V138/0.8-V138)))+(I101*11.8*0.4/0.67)","v":495.49225362512715}]
[null,"Min. Available Cl Desired",null,"% DM",{"$f":"E139+E139*$J$139","v":0.2761865302190768},{"$f":"F139+F139*$J$139","v":0.21546227318259864},{"$f":"G139+G139*$J$139","v":0.1405982905982906},{"$f":"H139+H139*$J$139","v":0.10553183347699845},{"$f":"I139+I139*$J$139","v":0.10532636677512171},null,"Excess allowed in diet (Max/Min)",null,{"$f":"Optimization!Q196","v":5},null," MP lactation",null,null,{"$f":"P47*P50%*0.93/0.67*1000","v":1526.4000470149253},{"$f":"Q47*Q50%*0.93/0.67*1000","v":1112.4762695597014},{"$f":"R47*R50%*0.93/0.67*1000","v":0},{"$f":"S47*S50%*0.93/0.67*1000","v":0},{"$f":"T47*T50%*0.93/0.67*1000","v":0}]
[null,null,null,null,null,null,null,null,null,null,null,null,null,null," MP pregnancy",null,null,{"$f":"IF(P51>190,(((0.69*P51)-69.2)*(P36*0.06275/45))/0.33,0)","v":0},{"$f":"IF(Q51>190,(((0.69*Q51)-69.2)*(P36*0.06275/45))/0.33,0)","v":0},{"$f":"IF(R51>190,(((0.69*R51)-69.2)*(P36*0.06275/45))/0.33,0)","v":297.69529629629625},{"$f":"IF(S51>190,(((0.69*S51)-69.2)*(P36*0.06275/45))/0.33,0)","v":0},{"$f":"IF(T51>190,(((0.69*T51)-69.2)*(P36*0.06275/45))/0.33,0)","v":0}]
[null,"Total S required",null,null,0.2,0.2,0.2,0.2,0.2,0.05,"Desired adjustment above NRC",null,null,null," MP growth",null,null,null,null,null,{"$f":"IF(E27=3,(S52*(268-(29.4*(U128/S52))))/(83.4-(0.114*(S46*0.96*478/(0.96*P36))))%,0)","v":244.17110639786273},{"$f":"(T52*(268-(29.4*(V128/T52))))/(83.4-(0.114*(T46*0.96*478/(0.96*P36))))%","v":268.72877119929103}]
[null,"Min. Total S Desired",null,"% DM",{"$f":"E142+E142*$J$142","v":0.21000000000000002},{"$f":"F142+F142*$J$142","v":0.21000000000000002},{"$f":"G142+G142*$J$142","v":0.21000000000000002},{"$f":"H142+H142*$J$142","v":0.21000000000000002},{"$f":"I142+I142*$J$142","v":0.21000000000000002},null,null,null,null,null,null,null,"Total",{"$f":"SUM(R139:R142)","v":2357.8614849955811},{"$f":"SUM(S139:S142)","v":1866.9030074839554},{"$f":"SUM(T139:T142)","v":766.80975134092296},{"$f":"SUM(U139:U142)","v":463.00780293943961},{"$f":"SUM(V139:V142)*1.15","v":878.85417854808088}]
[null,null,null,null,null,null,null,null,null,null,null,null,null,null," RDP requirements",null,null,{"$f":"R138/0.64/0.85","v":2336.2893280525004},{"$f":"S138/0.64/0.85","v":1866.1361716049821},{"$f":"T138/0.64/0.85","v":936.09016683757204},{"$f":"U138/0.64/0.85","v":450.50969624695824},{"$f":"V138/0.64/0.85","v":1029.574651120106}]
[null,"DCAD",null,"mEq/kg",null,null,null,null,null,null,null,null,null,null," RUP requirements",null,null,{"$f":"(R143-(R138+(E101*11.8*0.4)))/0.8","v":1219.5071488304463},{"$f":"(S143-(S138+(F101*11.8*0.4)))/0.8","v":942.87408544805828},{"$f":"(T143-(T138+(G101*11.8*0.4)))/0.8","v":255.70207572660479},{"$f":"(U143-(U138+(H101*11.8*0.4)))/0.8","v":242.7649970663679},{"$f":"(V143-(V138+(I101*11.8*0.4)))/0.8","v":325.27514431932855},"Assuming diet RUP digestibility of .80"]
["3.3 Pasture management",null,null,null,null,null,null,null,null,null,null,null,null,null,null,null,"Total",{"$f":"SUM(R144:R145)","v":3555.796476882947},{"$f":"SUM(S144:S145)","v":2809.0102570530403},{"$f":"SUM(T144:T145)","v":1191.7922425641768},{"$f":"SUM(U144:U145)","v":693.27469331332611},{"$f":"SUM(V144:V145)","v":1354.8497954394345}]
[null,null,null,null,null,null,null,null,null,null,null,null,null,null,"Estimated % Concentrate in diet (%DM)",null,null,50,35,10,40,15]
[null,"Pasture period",null,"d",0,0,0,0,0,null,null,null,null,null,"Kp, %/h",null,null,{"$f":"3.054+0.614*R147","v":33.753999999999998},{"$f":"3.054+0.614*S147","v":24.543999999999997},{"$f":"3.054+0.614*T147","v":9.1939999999999991},{"$f":"3.054+0.614*U147","v":27.613999999999997},{"$f":"3.054+0.614*V147","v":12.263999999999999}]
[null,"Fraction of manure on pasture during pasture period",null,"%",50,50,100,100,100,null,null,null,null,null,"pX, Total TDN/Maintenance TDN",null,null,4,3,1.3,2,2,"À calculer"]
[null,"% of forages to be provided with pasture during pasture period",null,"%",80,80,90,90,90,null,null,null,null,null,"TDN 1x in diet, %",null,null,{"$f":"R136/4.409/E101/(1-(R149-1)*4%)%","v":73.605503292553948},{"$f":"S136/4.409/F101/(1-(S149-1)*4%)%","v":64.253932274380077},{"$f":"T136/4.409/G101/(1-(T149-1)*4%)%","v":55.154279707626756},{"$f":"U136/4.409/H101/(1-(U149-1)*4%)%","v":61.060829903333911},{"$f":"V136/4.409/I101/(1-(V149-1)*4%)%","v":56.534168698797117},"estimated using 4% discount by Xmaintenance"]
["4. Feed Inputs",null,null,null,null,null,null,null,"Back to top"]
["4.1. Feeds, Feed Prices and Allowable Changes in Feed Inventory",null,null,null,null,null,null,null,null,null,null,null,null,null,"FEED COMPOSITION, COSTS"]
[null,null,null,null,null,null,null,"Purchase",null,"Change in Silage and Pasture Inventory",null,null,null,null,null,null,null,"Feed analysis for up to 10 home-grown feeds and 12 purchased feeds"]
[null,"NRC 2001",null,null,"NRC 2001","N-CyCLE",null,"Price",null,"Allowable Inventroy change",null,null,null,null,null,null,null,"Pasture","Feeds produced / purchased",null,null,null,null,null,null,null,"Feeds purchased only"]
[null,"Feedname",null,null,"Feed #","Feedcode",null,"$/t DM",null,"Tons per year",null,null,null,null,null,null,null,1,2,3,4,5,6,7,8,9,"- - - - FORAGES - - - - ",null,null,null,null,null,"- - - - - - - - - - - - - - - - - - - - - - - - - - - - - - - - - CONCENTRATES - - - - - - - - - - - - - - - - - - - - - - - - - - - - - - ",null,null,null,null," - - - - - - - - - - - MINERALS - - - - - - - - - - - - -"]
[null,"Home grown or Purchased",null,null,null,null,null,null,null,"Minimum","Maximum",null,null,null,null,null,null,"GrPast-49","CoSi-35","AlSi-83","MxSi-74","GrHy-52","SBw-108","CoGr-27","Barley-8","Wheat-116","Brewers grains-16","Canola-19","FatCa-40","SBMx-104","SBM48-107","CGM-25","CoDi-23","Bld Meal-14","Urea","SoyHull-103","CottonSd-w-37","CaCO3","NaH2PO4.H20","MgO","CaSO4.2H20","NaCl","MgSO4.7H20"]
[null,"Grasses, cool season, Pasture intensively managed",null,null,49,{"$f":"R156","v":"GrPast-49"},null,122,{"$f":"F157","v":"GrPast-49"},0,0,null,null,null,"Unit resource, t DM",null,null,1,1,1,1,1,1,1,0,1,1,1,1,1,1,1,1,1,1,1,1,1,1,1,1,1,1]
[null,"Corn silage normal, 32-38% M",null,null,35,{"$f":"S156","v":"CoSi-35"},null,110,{"$f":"F158","v":"CoSi-35"},0,0,null,null,null,"Fd type (S=Silage, H=Hay, P=Pasture; C=Concentrate, AP=Animal protein, FA=Fatty acid, M=Mineral)",null,null,"P","S","S","S","H","C","C","C","C","C","C","FA","C","C","C","C","AP","M","C","C","M","M","M","M","M","M"]
[null,"Alfalfa silage, mid maturity, 40-46% NDF",null,null,83,{"$f":"T156","v":"AlSi-83"},null,205,{"$f":"F159","v":"AlSi-83"},0,0,null,null,null,"DM, (%)",null,null,20.100000000000001,35.200000000000003,43.5,45.5,85.8,90,88.1,91,89.4,90.7,90.3,95.3,89.6,89.5,86.4,90.2,90.2,100,90.9,90.1,100,97,98,97,100,98]
[null,"Grass-legumes mixture, silage, mid maturity",null,null,71,{"$f":"U156","v":"MxSi-74"},null,157,{"$f":"F160","v":"MxSi-74"},0,0,null,null,null,"EE, (%)",null,null,2.7,3.13,2.74,2.84,2.42,19.2,4.2,2.2000000000000002,2.2999999999999998,5.2,5.4,84.5,8.1,1.1000000000000001,2.5,10,1.2,0,2.7,19.3,0,0,0,0,0,0]
[null,"Grasses, cool season, hay, mid maturity",null,null,52,{"$f":"V156","v":"GrHy-52"},null,160,null,"* If min = 0 and max = 0, then amount produced = amount used",null,null,null,null,"FNDF, (%)",null,null,{"$f":"IF(OR(R158=\"P\",R158=\"S\",R158=\"H\"),R162,0)","v":45.8},{"$f":"IF(OR(S158=\"P\",S158=\"S\",S158=\"H\"),S162,0)","v":43.01},44.72,50.43,60.43,0,0,0,0,{"$f":"IF(OR(AA158=\"P\",AA158=\"S\",AA158=\"H\"),AA162,0)","v":0},{"$f":"IF(OR(AB158=\"P\",AB158=\"S\",AB158=\"H\"),AB162,0)","v":0},0,0,0,0,0,0,0,0,{"$f":"AK162*0.33","v":16.599},0,0,0,0,0,0]
[null,"Soybean, whole",null,null,108,{"$f":"W156","v":"SBw-108"},null,425,null,"* If min = 0 and max > 0 then amount produced > amount used",null,null,null,null,"NDF, (%)",null,null,45.8,43.01,44.72,50.43,60.43,19.5,9.5,20.8,13.4,47.4,29.8,0,21.7,9.8000000000000007,11.1,38.799999999999997,0,0,60.3,50.3,0,0,0,0,0,0]
[null,"Corn, grain, ground, dry",null,null,27,{"$f":"X156","v":"CoGr-27"},null,200,null,"and the excess is sold.",null,null,null,null,"NFC, (%)",null,null,{"$f":"100-(R162-R165)-R167-R160-R186","v":25.499999999999996},{"$f":"100-(S162-S165)-S167-S160-S186","v":42.63},{"$f":"100-(T162-T165)-T167-T160-T186","v":25.580000000000002},24.21,20.419999999999998,18.499999999999993,76.099999999999994,63.499999999999993,69.8,{"$f":"100-(AA162-AA165)-AA167-AA160-AA186","v":23},{"$f":"100-(AB162-AB165)-AB167-AB160-AB186","v":25.900000000000006},{"$f":"100-(AC162-AC165)-AC167-AC160-AC186","v":0},28.000000000000007,29.600000000000009,21.7,24.900000000000009,0.79999999999999982,0,21.800000000000004,5.0999999999999996,0,0,0,0,0,0]
[null,"Barley, grain, rolled",null,null,8,"Barley-8",null,171,null,"* If min < 0 and max = 0 then amount produced < amount used",null,null,null,null,"ADL (lignin), (%)",null,null,2.1,2.83,6.86,5.97,5.26,1.2,0.9,2.1,1.7,5,9.5,0,1.5,0.5,1.5,4.3,0,0,2.5,7.9,0,0,0,0,0,0]
[null,"Wheat, grain, rolled",null,null,116,{"$f":"Z156","v":"Wheat-116"},null,262,null," and the deficit is purchased",null,null,null,null,"NDICP, (%)",null,null,3.9,1.3,3.1,3.1,3.9,2.2999999999999998,0.7,1.8,1.7,9.1,6.3,0,9.6,0.7,3.6,8.6,0,0,3.5,2.4,0,0,0,0,0,0]
[null,null,null,null,null,null,null,null,null,"* If min < 0 and max > 0 then N-CyCLE decides whether one should",null,null,null,null,"ADICP, (%)",null,null,1.1000000000000001,0.8,1.8,1.6,1.2,0.6,0.3,0.5,0.2,3.5,2.4,0,0.4,0.4,3,5,0,0,1,1.9,0,0,0,0,0,0]
[null,null,null,null,null,null,null,null,null," overproduce or underproduce.",null,null,null,null,"CP, (%)",null,null,20.100000000000001,8.23,19.260000000000002,16.52,11.83,39.200000000000003,9.4,12.4,14.2,29.2,37.799999999999997,0,46.3,53.8,65,29.7,95.5,281,13.9,23.5,0,0,0,0,0,0]
[null,"Purchased only",null,null,null,null,null,null,null,"* For Pasture, 0 should be used for Minimum and Maximum.",null,null,null,null,"A fraction , %CP",null,null,30.7,51.3,57.3,42.4,36.700000000000003,27.8,23.9,30.2,27.1,18.3,23.2,0,8.6999999999999993,15,3.9,28.5,10.1,100,22.5,45.4,0,0,0,0,0,0]
[null,"Brewers grains",null,null,16,{"$f":"AA156","v":"Brewers grains-16"},null,353,null,null,null,null,null,null,"B fraction, % CP",null,null,63.5,30.2,35.299999999999997,48.1,51.7,70.2,72.5,61.2,65.099999999999994,64.599999999999994,70.400000000000006,0,91.3,84.4,90.9,63.3,60.9,0,72.2,46.7,0,0,0,0,0,0]
[null,"Canola meal",null,null,19,{"$f":"AB156","v":"Canola-19"},null,346,null,null,null,null,null,null,"C fraction, % CP",null,null,5.8,18.5,7.4,9.5,11.6,2,3.6,8.6,7.8,17.100000000000001,6.4,0,0,0.6,5.2,8.1999999999999993,29,0,5.3,7.9,0,0,0,0,0,0]
[null,"Fats and Oils, calcium soaps",null,null,40,{"$f":"AC156","v":"FatCa-40"},null,1100,null,null,null,null,null,null,"Kd of fraction B, %/h",null,null,12.3,4.4000000000000004,12.2,15.5,8.1,10.9,4.9000000000000004,22.7,18.8,4.7,10.4,0,2.4,7.5,2.2999999999999998,3.6,1.9,0,6.2,15.7,0,0,0,0,0,0]
[null,"Soybean meal, expellers",null,null,104,{"$f":"AD156","v":"SBMx-104"},null,524,null,null,null,null,null,null,"Ca, (%)",null,null,0.56000000000000005,0.2,1.27,0.99,0.56999999999999995,0.32,0.04,0.06,0.05,0.3,0.75,12,0.36,0.35,0.06,0.22,0.3,0,0.63,0.17,39.39,0,0,23.28,0,0]
[null,"Soybean meal, solvent ",null,null,107,{"$f":"AE156","v":"SBM48-107"},null,387,null,null,null,null,null,null,"Ca availibility (%)",null,null,0.3,0.6,0.3,0.3,0.3,0.6,0.6,0.6,0.6,0.6,0.6,0.8,0.6,0.6,0.6,0.6,0.6,0,0.6,0.6,0.75,0,0,0.7,0,0]
[null,"Corn gluten meal, dried",null,null,25,{"$f":"AF156","v":"CGM-25"},null,618,null,null,null,null,null,null,"P, (%)",null,null,0.44,0.26,0.35,0.34,0.25,0.6,0.3,0.39,0.43,0.67,1.1000000000000001,0,0.66,0.7,0.6,0.83,0.3,0,0.17,0.6,0.04,22.5,0,0,0,0]
[null,"Corn distillers grain with solubles, dried",null,null,23,{"$f":"AG156","v":"CoDi-23"},null,181,null,null,null,null,null,null,"P availibility (%)",null,null,0.64,0.7,0.64,0.64,0.64,0.7,0.7,0.7,0.7,0.7,0.7,0,0.7,0.7,0.7,0.7,0.7,0,0.7,0.7,0.7,0.9,0,0,0,0]
[null,"Blood meal ring dried",null,null,14,{"$f":"AH156","v":"Bld Meal-14"},null,1026,null,null,null,null,null,null,"K, (%)",null,null,3.36,0.99,2.57,2.42,1.85,1.99,0.42,0.56000000000000005,0.5,0.5,1.41,0,2.12,2.41,0.46,1.1000000000000001,0.33,0,1.51,1.1299999999999999,0.06,0,0,0,0,0]
[null,"Urea",null,null,null,{"$f":"AI156","v":"Urea"},null,631,null,null,null,null,null,null,"K availibility (%)",null,null,0.9,0.9,0.9,0.9,0.9,0.9,0.9,0.9,0.9,0.9,0.9,0,0.9,0.9,0.9,0.9,0.9,0,0.9,0.9,0.9,0,0,0,0.9,0]
[null,"Soybean hulls",null,null,103,{"$f":"AJ156","v":"SoyHull-103"},null,225,null,null,null,null,null,null,"Mg, (%)",null,null,0.2,0.15,0.26,0.24,0.17,0.25,0.12,0.14000000000000001,0.15,0.26,0.53,0,0.3,0.28999999999999998,0.14000000000000001,0.33,0.03,0,0.25,0.37,0.05,0,56.2,0,0,9.8000000000000007]
[null,"CottonSd-w-37",null,null,37,"CottonSd-w-37",null,288,null,null,null,null,null,null,"Mg availibility (%)",null,null,0.16,0.16,0.16,0.16,0.16,0.16,0.16,0.16,0.16,0.16,0.16,0,0.16,0.16,0.16,0.16,0.16,0,0.16,0.16,0.16,0,0.7,0,0,0.9]
[null,"Calcium carbonate",null,null,null,{"$f":"AL156","v":"CaCO3"},null,{"$f":"'Scenario 2'!H180*0.9","v":253.2654},null,null,null,null,null,null,"Na, (%)",null,null,0.02,0.01,0.02,0.08,0.08,0.01,0.02,0.02,0.01,0.04,7.0000000000000007E-2,0,0.04,0.03,0.05,0.3,0.4,0,0.01,0.02,0.06,16.68,0,0,39.340000000000003,0]
[null,"Sodium phosphate, monobasic",null,null,null,{"$f":"AM156","v":"NaH2PO4.H20"},null,{"$f":"'Scenario 2'!H181*0.9","v":705.15899999999999},null,null,null,null,null,null,"Na availibility (%)",null,null,0.9,0.9,0.9,0.9,0.9,0.9,0.9,0.9,0.9,0.9,0.9,0,0.9,0.9,0.9,0.9,0.9,0,0.9,0.9,0.9,0.9,0,0,0.9,0]
[null,"Magnesium Oxide",null,null,null,{"$f":"AN156","v":"MgO"},null,{"$f":"'Scenario 2'!H182*0.9","v":690.15600000000006},null,null,null,null,null,null,"Cl, (%)",null,null,0.56000000000000005,0.28999999999999998,0.61,0.43,0.92,0.04,0.08,0.13,0.11,7.0000000000000007E-2,0.04,0,0.1,0.13,0.11,0.26,0.33,0,0.05,0.06,0,0,0,0,60.662999999999997,0]
[null,"Calcium Sulfate",null,null,null,{"$f":"AO156","v":"CaSO4.2H20"},null,{"$f":"'Scenario 2'!H183*0.9","v":454.54500000000002},null,null,null,null,null,null,"Cl availibility (%)",null,null,0.9,0.9,0.9,0.9,0.9,0.9,0.9,0.9,0.9,0.9,0.9,0,0.9,0.9,0.9,0.9,0.9,0,0.9,0.9,0.9,0,0,0,0.9,0]
[null,"Sodium chloride",null,null,null,{"$f":"AP156","v":"NaCl"},null,{"$f":"'Scenario 2'!H184*0.9","v":321.42599999999999},null,null,null,null,null,null,"S, (%)",null,null,0.2,0.14000000000000001,0.28000000000000003,0.26,0.24,0.31,0.1,0.12,0.15,0.38,0.73,0,0.34,0.39,0.86,0.44,0.77,0,0.12,0.23,0,0,0,18.62,0,13.31]
[null,"Magesium sulfate heptahydrate",null,null,null,{"$f":"AQ156","v":"MgSO4.7H20"},null,{"$f":"'Scenario 2'!H185*0.9","v":545.94000000000005},null,null,null,null,null,null,"DCAD (meq/kg)",null,null,{"$f":"(R176*10000/39.0983)+(R180*10000/22.9898)-(R182*10000/35.453)-(R184*10000/16.065)","v":585.62206726398017},88.613288229254522,319.6663707531103,370.62093011142207,99.072811842135138,309.0746726383469,31.308853274084726,40.563433635968153,7.8348779917937037,{"$f":"(AA176*10000/39.0983)+(AA180*10000/22.9898)-(AA182*10000/35.453)-(AA184*10000/16.065)","v":-111.00169205912886},{"$f":"(AB176*10000/39.0983)+(AB180*10000/22.9898)-(AB182*10000/35.453)-(AB184*10000/16.065)","v":-74.608750854704397},{"$f":"(AC176*10000/39.0983)+(AC180*10000/22.9898)-(AC182*10000/35.453)-(AC184*10000/16.065)","v":0},319.77551448875818,350.01231435525887,-426.95128501254027,64.610946040174554,-313.99096168312093,0,301.75608084689907,137.62244054694986,{"$f":"(AL176*10000/39.0983)+(AL180*10000/22.9898)-(AL182*10000/35.453)-(AL184*10000/16.065)","v":41.444466409521866},7255.3915214573426,0,-11590.413943355119,1.1138185150521167,-8285.0918145035794]
[null,null,null,null,null,null,null,null,null,null,null,null,null,null,"Ash, (%)",null,null,9.8000000000000007,4.3,10.8,9.1,8.8000000000000007,5.9,1.5,2.9,2,4.3,7.4,15.5,5.5,6.4,3.3,5.2,2.5,100,4.8,4.2,100,100,100,100,100,100]
["4.2. Additional Costs"]
[null,"Transportation cost of:",null,null,null,null,null,null,null,null,null,null,null,null,"Price, $/t DM",null,null,{"$f":"H157","v":122},{"$f":"H158","v":110},{"$f":"H159","v":205},{"$f":"H160","v":157},{"$f":"H161","v":160},{"$f":"H162","v":425},{"$f":"H163","v":200},{"$f":"H164","v":171},{"$f":"H165","v":262},{"$f":"H169","v":353},{"$f":"H170","v":346},{"$f":"H171","v":1100},{"$f":"H172","v":524},{"$f":"H173","v":387},{"$f":"H174","v":618},{"$f":"H175","v":181},{"$f":"H176","v":1026},{"$f":"H177","v":631},{"$f":"H178","v":225},{"$f":"H179","v":288},{"$f":"H180","v":253.2654},{"$f":"H181","v":705.15899999999999},{"$f":"H182","v":690.15600000000006},{"$f":"H183","v":454.54500000000002},{"$f":"H184","v":321.42599999999999},{"$f":"H185","v":545.94000000000005}]
[null,"Purchased forages, $/t DM",null,null,null,null,null,0,null,null,null,null,null,null,"Transport, $/t DM",null,null,{"$f":"H189","v":0},{"$f":"H189","v":0},{"$f":"H189","v":0},{"$f":"H189","v":0},{"$f":"H189","v":0},{"$f":"H190","v":0},{"$f":"H190","v":0},{"$f":"H190","v":0},{"$f":"H190","v":0},{"$f":"H190","v":0},{"$f":"H190","v":0},{"$f":"$H$190","v":0},0,0,0,0,0,0,0,{"$f":"$H$190","v":0},0,0,{"$f":"$H$190","v":0},{"$f":"$H$190","v":0},{"$f":"$H$190","v":0},{"$f":"H190","v":0}]
[null,"Purchased concentrates & minerals, $/t DM",null,null,null,null,null,0,null,null,null,null,null,null,"Storage costs, $/t DM",null,null,{"$f":"IF(OR(R158=\"S\",R158=\"H\"),$H$192,IF(OR(R158=\"C\",R158=\"PA\"),$H$193,IF(R158=\"M\",$H$194,0)))","v":0},{"$f":"IF(OR(S158=\"S\",S158=\"H\"),$H$192,IF(OR(S158=\"C\",S158=\"PA\"),$H$193,IF(S158=\"M\",$H$194,0)))","v":4.1900000000000004},{"$f":"IF(OR(T158=\"S\",T158=\"H\"),$H$192,IF(OR(T158=\"C\",T158=\"PA\"),$H$193,IF(T158=\"M\",$H$194,0)))","v":4.1900000000000004},4.1900000000000004,4.1900000000000004,2,2,2,2,2,2,0,2,2,2,2,0,1.3,2,{"$f":"H193","v":2},1.3,1.3,1.3,1.3,1.3,1.3]
[null,"Storage costs of:",null,null,null,null,null,null,null,null,null,null,null,null,"Field & storage losses, %",null,null,{"$f":"I198","v":15},{"$f":"D198","v":17},{"$f":"E198","v":17},{"$f":"E198","v":17},18,3,{"$f":"G198","v":3},{"$f":"G198","v":3},{"$f":"G198","v":3}]
[null,"Forages, S/t DM",null,null,null,null,null,4.1900000000000004,null,null,null,null,null,null,"Refusals, % of used",null,null,0,{"$f":"D199","v":5},{"$f":"E199","v":5},5,10,2,{"$f":"G199","v":2},{"$f":"G199","v":2},{"$f":"G199","v":2},{"$f":"G199","v":2},{"$f":"G199","v":2},{"$f":"G199","v":2},{"$f":"G199","v":2},{"$f":"G199","v":2},{"$f":"G199","v":2},{"$f":"G199","v":2},{"$f":"G199","v":2},{"$f":"H199","v":1},{"$f":"G199","v":2},{"$f":"G199","v":2},{"$f":"H199","v":1},{"$f":"H199","v":1},1,1,{"$f":"H199","v":1},{"$f":"H199","v":1}]
[null,"Concentrates, $/t DM",null,null,null,null,null,2,null,null,null,null,null,null,"*Inventory Change",null,null,null,null,null,null,"* If min = 0 and max = 0, then amount produced = amount used"]
[null,"Minerals, $/t DM",null,null,null,null,null,1.3,null,null,null,null,null,null,"Minimum, t",null,null,{"$f":"J157","v":0},{"$f":"J158","v":0},{"$f":"J159","v":0},{"$f":"J160","v":0},"* If min = 0 and max > 0 then amount produced > amount used and the excess is sold"]
[null,null,null,null,null,null,null,null,null,null,null,null,null,null,"Maximum, t",null,null,{"$f":"K157","v":0},{"$f":"K158","v":0},{"$f":"K159","v":0},{"$f":"K160","v":0},"* If min < 0 and max = 0 then amount produced < amount used and the deficit is purchased"]
["4.3. Feed Losses",null,null,null,null,null,null,null,null,null,null,null,null,null,null,null,null,null,null,null,null,"* If min < 0 and max > 0 then N-CyCLE decides whether one should overproduce or underproduce"]
[null,null,null,{"$f":"F158","v":"CoSi-35"},"Other Silages","Hays","Concentrates","Minerals","Pastures"]
[null,"Field & storage losses, %",null,17,17,18,3,null,15]
[null,"Refusals, % of used",null,5,5,10,2,1,null,null,null,null,null,null,null,null,null,{"$f":"R156","v":"GrPast-49"},"CoSi-35","AlSi-83","MxSi-74","GrHy-52","SBw-108","CoGr-27","Barley-8","Wheat-116","Brewers grains-16","Canola-19","FatCa-40","SBMx-104","SBM48-107","CGM-25","CoDi-23","Bld Meal-14","Urea","SoyHull-103","CottonSd-w-37","CaCO3","NaH2PO4.H20","MgO","CaSO4.2H20","NaCl","MgSO4.7H20"]
[null,null,null,null,null,null,null,null,null,null,null,null,null,null,{"$f":"B203","v":"CoGr-27"},null,null,{"$f":"IF($O200=R$199,1,0)","v":0},{"$f":"IF($O200=S$199,1,0)","v":0},{"$f":"IF($O200=T$199,1,0)","v":0},0,0,0,1,0,0,0,0,0,0,0,0,0,0,{"$f":"IF($O200=AI$199,1,0)","v":0},0,0,0,0,0,0,0,0]
["4.4. Feed with limits in Rations",null,null,null,null,null,null,null,null,null,null,null,null,null,{"$f":"B204","v":"SoyHull-103"},null,null,{"$f":"IF($O201=R$199,1,0)","v":0},0,0,0,0,0,0,0,0,0,0,0,0,0,0,0,0,0,1,0,0,0,0,0,0,0]
[null,"Maximum (upper limit) of feed in ration DM of any animal group (% of feed ingredient mix, dry matter basis)",null,null,null,null,null,null,null,null,null,null,null,null,"Wheat-116",null,null,0,0,0,0,0,0,0,0,1,0,0,0,0,0,0,0,0,0,0,0,0,0,0,0,0,0]
[null,"CoGr-27",null,null,null,null,null,40,null,null,null,null,null,null,"CoSi-35",null,null,0,1,0,0,0,0,0,0,0,0,0,0,0,0,0,0,0,0,0,0,0,0,0,0,0,0]
[null,"SoyHull-103",null,null,null,null,null,10,null,null,null,null,null,null,"GrHy-52",null,null,0,0,0,0,1,0,0,0,0,0,0,0,0,0,0,0,0,0,0,0,0,0,0,0,0,0]
[null,"Wheat-116",null,null,null,null,null,20,null,null,null,null,null,null,"CoDi-23",null,null,0,0,0,0,0,0,0,0,0,0,0,0,0,0,0,1,0,0,0,0,0,0,0,0,0,0]
[null,"CoSi-35",null,null,null,null,null,40,null,null,null,null,null,null,"Bld Meal-14",null,null,0,0,0,0,0,0,0,0,0,0,0,0,0,0,0,0,1,0,0,0,0,0,0,0,0,0]
[null,"GrHy-52",null,null,null,null,null,10,null,null,null,null,null,null,"CottonSd-w-37",null,null,0,0,0,0,0,0,0,0,0,0,0,0,0,0,0,0,0,0,0,1,0,0,0,0,0,0]
[null,"CoDi-23",null,null,null,null,null,15,null,null,null,null,null,null,"Urea",null,null,0,0,0,0,0,0,0,0,0,0,0,0,0,0,0,0,0,1,0,0,0,0,0,0,0,0]
[null,"Bld Meal-14",null,null,null,null,null,5,null,null,null,null,null,null,"NaCl",null,null,0,0,0,0,0,0,0,0,0,0,0,0,0,0,0,0,0,0,0,0,0,0,0,0,1,0]
[null,"CottonSd-w-37",null,null,null,null,null,20,null,null,null,null,null,null,"Desired upper Limit (% of ration DM)",null,null,{"$f":"IF(SUM(R200:R209)=0,0,VLOOKUP(R$199,$B$203:$H$212,7,FALSE))","v":0},{"$f":"IF(SUM(S200:S209)=0,0,VLOOKUP(S$199,$B$203:$H$212,7,FALSE))","v":40},0,0,10,0,40,0,20,0,0,0,0,0,0,15,5,1.5,10,20,0,0,0,0,3.5,0]
[null,"Urea",null,null,null,null,null,1.5,null,null,null,null,null,null,null,null,null,"Leave blank if no limit is desired"]
[null,"NaCl",null,null,null,null,null,3.5]
[]
["4.5. Drinking Water Composition:"]
[null,"K, mg/l",null,null,null,null,null,5]
[null,"Na, mg/l",null,null,null,null,null,74]
[null,"Cl, mg/l",null,null,null,null,null,75]
[null,"S, mg/l",null,null,null,null,null,19]
[]
["5.0 Manure and Fertilizers",null,null,null,null,null,null,null,"Back to top"]
["5.1. Manure Production and Nutrient Excretion",null,null,null,null,null,null,null,null,null,null,null,null,null,"MANURE NUTRIENTS, COSTS AND NUTRIENT LOSSES"]
[null,null,null,null,null,null,"GROUP",null,null,null,null,null,null,null,"5.1. Manure Production and Nutrient Excretion",null,null,null,null,null,"GROUP",null,null,"Note that cells highlighted in blue are used in N-CyCLE calcualtions",null,null,null,null,null,"For advance users only: Process-based model (Proportions of N entering a management level)"]
[null,null,null,null,1,2,3,4,5,null,null,null,null,null,null,null,null,null,1,2,3,4,5,"but others are literature estimates based on your earlier inputs",null,null,null,null,null,"Method of collection/storage:",null,null,"N","P2O5","K2O","Na","Cl","S"]
[null,null,null,null,{"$f":"E98","v":"Early lactation"},{"$f":"F98","v":"Mid-late lac."},{"$f":"G98","v":"Dry cows"},{"$f":"H98","v":"Heifers<1yr old"},{"$f":"I98","v":"Heifers>1yr old"},null,null,null,null,null,null,null,null,null,{"$f":"P43","v":"Early lactation"},{"$f":"Q43","v":"Mid-late lac."},{"$f":"R43","v":"Dry cows"},{"$f":"S43","v":"Heifers<1yr old"},{"$f":"T43","v":"Heifers>1yr old"},"Note the differences between the two references listed here!",null,null,null,null,null,"Liquid manure (L)",null,null,0.7,1,1,1,1,1]
[null,null,null,"Daily manure excretion, kg as-is",{"$f":"S226","v":68.830999473846333},{"$f":"T226","v":63.575962200610931},{"$f":"U226","v":35.572000000000003},{"$f":"V233","v":15.3209254},{"$f":"W233","v":27.165544539999999},null,null,null,null,null,null,"As Described in ASAE, 2005",null,null,{"$f":"(P47*0.954)+(P46*0.037)+(P45*0.017)+(P49/100*186.72)+(P50/100*0.94*1141.48)-33.06","v":65.120232119999997},{"$f":"(Q47*0.954)+(Q46*0.037)+(Q45*0.017)+(Q49/100*186.72)+(Q50/100*0.94*1141.48)-33.06","v":59.879215939999995},{"$f":"R46*0.022+21.844","v":35.572000000000003},{"$f":"IF($E$27=4,0,0)","v":0},null,null,null,null,null,null,null,"Solid manure (S)",null,null,0.65,1,1,1,1,1]
[null,null,null,null,null,null,null,null,null,null,null,null,null,null,null,null,null,"Daily manure excretion, kg as-is",{"$f":"(P47*0.172)+(E101*2.207)+(P49/100*171.83)+(P50*0.94/100*505.31)-8.17","v":68.830999473846333},{"$f":"(Q47*0.172)+(F101*2.207)+(Q49/100*171.83)+(Q50*0.94/100*505.31)-8.17","v":63.575962200610931},{"$f":"R46*0.022+21.844","v":35.572000000000003},{"$f":"IF($E$27=4,((S46*0.022)+21.844),((H101*3.886)-(S46*0.029)+5.641))","v":19.690080786400003},{"$f":"(I101*3.886)-(T46*0.029)+5.641","v":38.836200447548244},"Weight of \"fresh\" feces + urine excreted per day",null,null,null,null,null,"Type of storage facility:"]
["5.2 Manure Mangement (Handling)",null,null,null,null,null,null,null,null,null,null,null,null,null,null,null,null,"Daily N excretion (based on minimum dietary CP), g/d",{"$f":"(P47*2.303)+(P45*0.159)+(E101*E120/100*70.138)+(P46*0.193)-56.632","v":446.33119762517782},{"$f":"(Q47*2.303)+(Q45*0.159)+(F101*F120/100*70.138)+(Q46*0.193)-56.632","v":378.1682459601048},{"$f":"(G101*12.747)+(G120/100*1606.29)-117.5","v":213.15652955548904},{"$f":"IF($E$27=4,(G101*12.747)+(G120/100*1606.29)-117.5,(H101*H120/100*78.39)+51.35)","v":111.13038352971481},{"$f":"(I101*I120/100*78.39)+51.35","v":168.17734301094703},null,null,null,null,null,null,"Daily Haul (DH)",null,null,1,1,1,1,1,1]
[null,"Manure Nutrient losses, especially N losses, depend on method of collection, type of storage, method of spreading and percentage of manure spread after fall harvest.",null,null,null,null,null,null,null,null,null,null,null,null,null,null,null,"Daily N excretion (based on maximum dietary CP), g/d",{"$f":"(P47*2.303)+(P45*0.159)+(E101*E121/100*70.138)+(P46*0.193)-56.632","v":491.39342937018802},{"$f":"(Q47*2.303)+(Q45*0.159)+(F101*F121/100*70.138)+(Q46*0.193)-56.632","v":414.1621871312131},{"$f":"(G99*12.747)+(G121/100*1606.29)-117.5","v":249.97088811804417},{"$f":"IF($E$27=4,(G101*12.747)+(G121/100*1606.29)-117.5,(H101*H121/100*78.39)+51.35)","v":120.84213367913455},{"$f":"(I101*I121/100*78.39)+51.35","v":190.37214115880593},null,null,null,null,null,null,"Liquid Storage (LS)",null,null,1,1,1,1,1,1]
[null,"Please, choose as appropriate.",null,null,null,null,null,null,null,null,null,null,null,null,null,null,null,"Daily P excretion (based on minimum dietary P), g/d",{"$f":"((E101*1000)*(E124/0.7/100))-(P47*0.9)","v":56.027179916524481},{"$f":"((F101*1000)*(F124/0.7/100))-(Q47*0.9)","v":44.309087026816087},{"$f":"(((G101*1000)*G124/0.7/100*60)-264.386)/60","v":21.028984020418132},{"$f":"IF($E$27=4,(((H101*1000)*H124/0.7/100*60)-264.386)/60,(H101*1000)*H124/0.7/100)","v":16.392735780638983},{"$f":"(I101*1000)*I124/0.7/100","v":27.393783095396635},"Estimates based on Available P to Total P ratio of 0.70",null,null,null,null,null,"Bedded Pack (BP)",null,null,0.92200000000000004,1,1,1,1,1]
[null,"Group",null,"Handling Mode",null,null,null,null,null,"Type of storage (make a choice consistent with the handling mode)",null,null,null,null,null,null,null,"Daily P excretion (based on maximum dietary P), g/d",{"$f":"((E101*1000)*(E125/0.7/100))-(P47*0.9)","v":102.82061987478676},{"$f":"((F101*1000)*(F125/0.7/100))-(Q47*0.9)","v":77.543742040224132},{"$f":"(((G101*1000)*G125/100/0.7*60)-264.386)/60","v":33.746692697293867},{"$f":"IF($E$27=4,(((H101*1000)*H125/0.7/100*60)-264.386)/60,(H101*1000)*H125/0.7/100)","v":24.589103670958476},{"$f":"(I101*1000)*I125/0.7/100","v":41.090674643094957},"Estimates based on Available P to Total P ratio of 0.70",null,null,null,null,null,"Stack (S)",null,null,1,1,1,1,1,1]
[null,null,null,"Choose","Suggested DM %","Actual DM %","First, choose whether the manure will be handled",null,null,"Choose",null,"Choose",null,null,null,null,null,"Daily K excretion (based on required dietary K), g/d",{"$f":"(P47*1.822)+(P50*0.94/100*2688.88)+(E101*E131/0.9/100*156.93)-91.755","v":93.024284293752004},{"$f":"(Q47*1.822)+(Q50*0.94/100*2688.88)+(F101*F131/0.9/100*156.93)-91.755","v":69.722433098771944},{"$f":"(G101*1000)*G131/0.9/100","v":62.932566666666673},{"$f":"(H101*1000)*H131/0.9/100","v":25.111361613333333},{"$f":"(I101*1000)*I131/0.9/100","v":62.057430255780488},"Estimates based on Available K to Total K ratio of 0.9",null,null,null,null,null,"Compost (C) ",null,null,0.48759999999999998,1,1,1,1,1]
[null,1,{"$f":"P43","v":"Early lactation"},"Liquid",{"$f":"IF(D232=\"Liquid\",8.9,27.7)","v":8.9},8.9,"as a solid or a liquid. Then, choose a percentage of",null,null,"LS",{"$f":"IF(J232=\"DH\",\"Daily Haul\",IF(J232=\"LS\",\"Liquid Storage\",IF(J232=\"BP\",\"Bedded Pack\",IF(J232=\"S\",\"Stack\",IF(J232=\"C\",\"Compost\",\"-\")))))","v":"Liquid Storage"},"Uncov. Top Loaded",null,null,null,"As Described in Nennich et al., 2005",null,null,null,null,null,null,null,null,null,null,null,null,null,"Type of management of liquid storage facility:"]
[null,2,{"$f":"Q43","v":"Mid-late lac."},"Liquid",{"$f":"IF(D233=\"Liquid\",8.9,27.7)","v":8.9},8.9,"dry matter of the manure hauled to the fields. ",null,null,"LS",{"$f":"IF(J233=\"DH\",\"Daily Haul\",IF(J233=\"LS\",\"Liquid Storage\",IF(J233=\"BP\",\"Bedded Pack\",IF(J233=\"S\",\"Stack\",IF(J233=\"C\",\"Compost\",\"-\")))))","v":"Liquid Storage"},"Uncov. Top Loaded",null,null,null,null,null,"Daily manure excretion, kg as-is",{"$f":"E101*2.63+9.4","v":71.424745120306255},{"$f":"F101*2.63+9.4","v":63.685908996061059},{"$f":"((0.00711*R46)+(32.4*13.5/100)+(25.9*34/100)+8.05)","v":25.666639999999997},{"$f":"IF($E$27=4,(0.00711*S46)+(32.4*13.5/100)+(25.9*34/100)+8.05,S46*0.0811)","v":15.3209254},{"$f":"(T46*0.0181)+17.8","v":27.165544539999999},"Equation for dry cow manure production was that of Wilkerson et al.",null,null,null,null,null,"Covered",null,null,1.0927,1,1,1,1,1]
[null,3,{"$f":"R43","v":"Dry cows"},"Liquid",{"$f":"IF(D234=\"Liquid\",8.9,27.7)","v":8.9},8.9,"Actual Percent DM entered will influence estimates",null,null,"LS",{"$f":"IF(J234=\"DH\",\"Daily Haul\",IF(J234=\"LS\",\"Liquid Storage\",IF(J234=\"BP\",\"Bedded Pack\",IF(J234=\"S\",\"Stack\",IF(J234=\"C\",\"Compost\",\"-\")))))","v":"Liquid Storage"},"Uncov. Top Loaded",null,null,null,null,null,"Daily N excretion (based on minimum dietary CP), g/d",{"$f":"(E101*E120/100*84.1)+(P46*0.196)","v":451.25073207644141},{"$f":"(F101*F120/100*84.1)+(Q46*0.196)","v":382.16553887997679},"na",{"$f":"H101*H120/100*112.55","v":85.830873405656348},{"$f":"(I101*I120/100*78.39)+51.4","v":168.22734301094701},"This equation underestmated actual dry cow manure production by ",null,null,null,null,null,"Uncov. Bottom Loaded",null,null,1.0927,1,1,1,1,1]
[null,4,{"$f":"S43","v":"Heifers<1yr old"},"Liquid",{"$f":"IF(D235=\"Liquid\",8.9,27.7)","v":8.9},8.9,"of total amount of manure to haul to the fields.",null,null,"LS",{"$f":"IF(J235=\"DH\",\"Daily Haul\",IF(J235=\"LS\",\"Liquid Storage\",IF(J235=\"BP\",\"Bedded Pack\",IF(J235=\"S\",\"Stack\",IF(J235=\"C\",\"Compost\",\"-\")))))","v":"Liquid Storage"},"Uncov. Top Loaded",null,null,null,null,null,"Daily N excretion (based on maximum dietary CP), g/d",{"$f":"(E101*E121/100*84.1)+(P46*0.196)","v":505.28326351097553},{"$f":"(F101*F121/100*84.1)+(Q46*0.196)","v":425.32460318877099},"na",{"$f":"H101*H121/100*112.55","v":99.77471164162003},{"$f":"(I101*I121/100*78.39)+51.4","v":190.42214115880594},"12.3 kg/d but there was not slope or mean biases..",null,null,null,null,null,"Uncov. Top Loaded",null,null,0.96640000000000004,1,1,1,1,1]
[null,5,{"$f":"T43","v":"Heifers>1yr old"},"Liquid",{"$f":"IF(D236=\"Liquid\",8.9,27.7)","v":8.9},8.9,"Note: Liquid DM% < 14.1 < Solid DM%.",null,null,"LS",{"$f":"IF(J236=\"DH\",\"Daily Haul\",IF(J236=\"LS\",\"Liquid Storage\",IF(J236=\"BP\",\"Bedded Pack\",IF(J236=\"S\",\"Stack\",IF(J236=\"C\",\"Compost\",\"-\")))))","v":"Liquid Storage"},"Uncov. Top Loaded",null,null,null,null,null,"Daily P excretion (based on minimum dietary P), g/d",{"$f":"E101*E124/0.7/100*1000-(P47*0.9)","v":56.027179916524467},{"$f":"F101*F124/0.7/100*1000-(Q47*0.9)","v":44.309087026816087},"na",{"$f":"IF(E27=4,\"na\",H101*H124/0.7/100*622.03)","v":10.196773437630865},"na","Estimates based on Available P to Total P ratio of 0.70",null,null,null,null,null,"Method of Manure Spreading:"]
[null,null,null,null,null,null,null,null,null,null,null,null,null,null,null,null,null,"Daily P excretion (based on maximum dietary P), g/d",{"$f":"E101*E125/0.7/100*1000-(P47*0.9)","v":102.82061987478673},{"$f":"F101*F125/0.7/100*1000-(Q47*0.9)","v":77.543742040224132},"na",{"$f":"IF(E27=4,\"na\",H101*H125/0.7/100*622.03)","v":15.2951601564463},"na","Estimates based on Available P to Total P ratio of 0.70",null,null,null,null,null,"Broadcast, no incorporation",null,null,0.71,1,1,1,1,1]
[null,"Group",null,"Method of manure spreading",null,null,null,null,null,"% of Manure spread after fall harvest",null,null,null,null,null,null,null,"Daily K excretion (based on required dietary K), g/d",{"$f":"E101*7.21+(E131/0.9/100*15944)-164.5","v":187.08303693505104},{"$f":"F101*7.21+(F131/0.9/100*15944)-164.5","v":153.36831723850429},"na","na","na","Estimates based on Available K to Total K ratio of 0.9",null,null,null,null,null,"Broadcast, incorporated within 48h",null,null,0.77,1,1,1,1,1]
[null,null,null,"Choose",null,null,null,null,null,null,"%",null,null,null,null,null,null,null,null,null,null,null,null,null,null,null,null,null,null,"Spray bar misting, no incorporation",null,null,0.77,1,1,1,1,1]
[null,1,{"$f":"P43","v":"Early lactation"},"Broadcast, no incorporation",null,null,null,null,null,{"$f":"D232","v":"Liquid"},20,"US rccommentations do not",null,null,null,null,null,null,null,null,null,null,null,null,null,null,null,null,null,"Spray bar misting, incorporated within 48h",null,null,0.83,1,1,1,1,1]
[null,2,{"$f":"Q43","v":"Mid-late lac."},"Broadcast, no incorporation",null,null,null,null,null,{"$f":"D233","v":"Liquid"},20,"include differential losses in NPK",null,null,null,null,null,null,null,null,null,null,null,null,null,null,null,null,null,"Knifing in",null,null,1,1,1,1,1,1]
[null,3,{"$f":"R43","v":"Dry cows"},"Broadcast, no incorporation",null,null,null,null,null,{"$f":"D234","v":"Liquid"},20,"between fall and spring",null,null,null,null,null,null,null,null,null,null,null,null,null,null,null,null,null,"Box spreader, no incorporation",null,null,0.77,1,1,1,1,1]
[null,4,{"$f":"S43","v":"Heifers<1yr old"},"Broadcast, no incorporation",null,null,null,null,null,{"$f":"D235","v":"Liquid"},20,"application, but Canadian",null,null,null,null,null,null,null,null,null,null,null,null,null,null,null,null,null,"Box spreader, incorporated within 48h",null,null,0.83,1,1,1,1,1]
[null,5,{"$f":"T43","v":"Heifers>1yr old"},"Broadcast, no incorporation",null,null,null,null,null,{"$f":"D236","v":"Liquid"},20,"recommendations do.",null,null,null,null,null,null,null,null,null,null,null,null,null,null,null,null,null,"Pasture",null,null,0.77,1,1,1,1,1]
[null,null,null,null,null,null,null,null,null,null,null,null,null,null,null,null,null,null,null,null,null,null,null,null,null,null,null,null,null,"Moment of Manure Spreading:"]
["5.3. Fertilizer and Manure Composition",null,null,null,null,null,null,null,null,null,null,null,null,null,null,null,null,null,null,null,null,null,null,null,null,null,null,null,null,"Liquid Manure Spread in Spring and Summer",null,null,0.91,1,1,1,1,1]
[null,null,null,null,null,"Purchased fertilizer",null,null,"Manures",null,null,null,null,null,null,null,null,null,null,null,null,null,null,null,null,null,null,null,null,"Liquid Manure Spread after Harvest",null,null,0.63,0.625,0.77,1,1,1]
[null,null,null,"18-46-0","27-0-0","0-46-0","0-0-60","11-52-0","Solid","Liquid",null,null,null,null,null,null,null,null,null,null,null,null,null,null,null,null,null,null,null,"Solid Manure Spread in Spring and Summer",null,null,1,1,1,1,1,1]
[null,"Unit resource, t",null,1,1,1,1,1,1,1,null,null,null,null,null,null,null,null,null,null,null,null,null,null,null,null,null,null,null,"Solid Manure Spread after Harvest",null,null,0.77,0.625,0.77,1,1,1]
[null,"N,  %",null,18,27,0,0,11,null,null,null,null,null,null,null,null,null,null,null,null,null,null,null,null,null,null,null,null,null,"Crop efficiency ratio:"]
[null,"P2O5,  %",null,46,0,46,0,52,"Manure composition ",null,null,null,null,null,"Cost of manure spreading ($/t) (R.E. Massey, 2005).",null,null,null,null,null,null,null,"Common Fertilizers",null,null,null,null,null,null,"Liquid Manure",null,null,0.6,0.8,0.9,1,1,1]
[null,"K2O, %",null,0,0,0,60,0,"is calculated by N-CyCLE",null,null,null,null,null,"The two tables below will allow you to estimate manure spreading cost (S/t) for your scenario",null,null,null,null,null,null,null,"Type","Formula","Name",null,null,null,null,"Solid Manure",null,null,0.55000000000000004,0.65,0.9,1,1,1]
[null,"Na, %",null,0,0,0,0,0,"depending on animal",null,null,null,null,null,"You can either extrapolate intermediate numbers from the Tables or use the \"calculators\"",null,null,null,null,null,null,null,"N ONLY",null,null,null,null,null,null,"Pasture",null,null,0.6,0.8,0.9,1,1,1]
[null,"Cl, %",null,0,0,0,47.5,0,"requirements and nutrient",null,null,null,null,null,"Note that you can assume that solid and liquid manure spreading costs are identical.",null,null,null,null,null,null,null,null,"82-0-0","Anyhydrous Ammonia"]
[null,"S, %",null,0,0,0,0,0,"intake",null,null,null,null,null,null,null,null,null,null,null,null,null,null,"46-0-0","Urea",null,null,null,null,"Maximum Frequency of Spreading N-containing commercial Fertilizers"]
[null,null,null,null,null,null,null,null,null,null,null,null,null,null,null,null,"Mode of Spreading",null,null,null,null,null,null,"28-0-0","UAN",null,null,null,null,null,null,null,null,null,null,"ROTATION"]
["5.4 Purchase price and spreading costs",null,null,null,null,null,null,null,null,null,null,null,null,null,"Distance","5000-gallon tanker",null,"Drag Hose or Center Pivot",null,null,null,null,null,"34-0-0","Ammonium Nitrate",null,null,null,null,null,null,null,null,{"$f":"T278","v":"CCC"},{"$f":"AD278","v":"SCC"},{"$f":"AN278","v":"CCAAA"},{"$f":"AX278","v":"CCCSCAAA"},{"$f":"BH278","v":"       CCCSWAAA"}]
[null,null,null,{"$f":"D248","v":"18-46-0"},"27-0-0","0-46-0","0-0-60","11-52-0","Solid","Liquid",null,null,null,null,"(Miles)","50-cow herd","2000-cow herd","50-cow herd","2000-cow herd",null,null,null,null,"21-0-0-24","Ammonium Sulfate",null,null,null,null,null,null,null,"Max. frequency of N application, yr",3,3,3,2,2,"Number of non-legume crops in the rotation"]
[null,"Purchase Costs $/t",null,755,381,715,700,755,0,0,null,null,null,null,0.5,0.8,2.2999999999999998,0.8,5,null,null,null,null,null,null,null,null,null,null,null,null,null,"years in the rotation",{"$f":"MAX(R280:AA280)","v":1},{"$f":"MAX(AB280:AK280)","v":3},{"$f":"MAX(AL280:AU280)","v":5},{"$f":"MAX(AV280:BE280)","v":8},{"$f":"MAX(BF280:BO280)","v":8}]
[null,null,null,null,null,null,null,null,null,null,"In this version of N-CCLE spreading cost of",null,null,null,1.5,1.5,2.7,1,6.3,null,null,null,"N&P2O5 Fertilzers"]
[null,null,null,null,null,null,null,null,null,null,"Commercial fertilizers are not accounted for",null,null,null,4.5,5.4,3.4,1.4,11.4,null,null,null,null,"18-46-0","DAP = Diammonium Phosphate"]
[null,"Spreading costs of Manure, $/t",null,null,null,null,null,null,null,null,"at it creates \"non-linear\" conditions",null,null,null,"Calculate the cost for any distance (within the range of 0 to 6 miles):",null,null,null,null,null,null,null,null,"11-52-0","MAP = Mono Amonimum Phosphate"]
[null,"Land Unit 1",null,"See definition of Land Unit in section 6, below",null,null,null,null,1.5,1.5,"See Tables and calculator to the right",null,null,null,"Simply enter the desired distance and read the corresponding costs",null,null,null,null,null,null,null,null,"10-34-0","Liquid"]
[null,"Land Unit 2",null,null,null,null,null,null,1.5,1.5,"for calculation of manure spreading",null,null,null,1,{"$f":"0.1571*O264^2+0.3714*O264+0.575","v":1.1034999999999999},{"$f":"-0.0476*O264^2+0.5238*O264+2.0357","v":2.5118999999999998},{"$f":"0.1538*O264+0.7429","v":0.89670000000000005},{"$f":"0.107*O264^2+1.0714*O264+4.4375","v":5.6158999999999999},null,null,null,"P2O5 ONLY"]
[null,"Land Unit 3",null,null,null,null,null,null,1.5,1.5,"costs",null,null,null,null,null,null,null,null,null,null,null,null,"0-46-0","TSP = Triple Super Phosphate"]
[null,"Land Unit 4",null,null,null,null,null,null,1.5,1.5,null,null,null,null,null,null,"5000-gallon tanker",null,null,"Drag hose or center Pivot"]
[null,"Land Unit 5",null,null,null,null,null,null,1.5,1.5,null,null,null,null,"Cow  number",null,"Distance (miles)",null,null,"Distance (miles)",null,null,"K2O ONLY"]
[null,null,null,null,null,null,null,null,null,null,null,null,null,null,"in the herd",0.5,1.5,4.5,0.5,1.5,4.5,null,null,"0-0-60","Muriate of Potash (Potassium Chloride)"]
["5.5. Manure Export (with high stocking rates, allocation of manure on the farm land may be impossible. The only feasible solution (as built in N-CYCLE) is to export manure.",null,null,null,null,null,null,null,null,null,null,null,null,null,50,0.8,1.5,5.4,0.8,1,1.4]
[null,null,null,null,null,null,null,null,{"$f":"I258","v":"Solid"},{"$f":"J258","v":"Liquid"},null,null,null,null,300,1,1.6,5.2,1.4,1.7,2.7]
[null,"Manure exported (maximum amount allowed, t/y) (Use zeros to force N-CyCLE to use all the manure on the farm land.)",null,null,null,null,null,null,0,0,"Note that one dairy cow produces approximately",null,null,null,2000,2.4,2.7,3.5,5.0999999999999996,6.3,11.4]
[null,"Cost associated with exportation of manure, $/t (e.g., cost of spreading manure on neighbors land \"free of charge\" to them).",null,null,null,null,null,null,6,6,"25 metric tons of manure per year",null,null,null,140,{"$f":"0.0008*O272+0.7619","v":0.87390000000000001},{"$f":"0.0006*O272+1.4542","v":1.5382},{"$f":"-0.001*O272+5.4799","v":5.3399000000000001},{"$f":"0.0022*O272+0.6923","v":1.0003},{"$f":"0.0027*O272+0.8645","v":1.2425000000000002},{"$f":"0.0051*O272+1.1722","v":1.8862000000000001}]
[null,null,null,null,null,null,null,null,null,null,null,null,null,null,null,null,null,null,null,null,null,null,{"$f":"(S281-(S281*0.43))/0.43","v":0}]
[]
["6.0 Crops and Rotations",null,null,null,null,null,null,null,"Back to top"]
["6.1 Cropland",null,null,null,null,null,null,null,null,null,null,null,null,null,"CROP ROTATIONS"]
[null,"Land Unit",null,null,"ha","In N-CyCLE, a land unit is a set of fields withthe same general characteristics. By defaults, N-CyCLE assumes that:",null,null,null,null,null,null,null,null,null,null,null,null,null,null,null,null,null,null,null,null,null,null,null,null,null,null,null,null,null,null,null,null,null,null,null,null,null,null,null,null,null,null,null,null,null,null,null,null,null,null,null,"*** Rotation copntaining Pastures must be the rotation 5 in Land Unit 1."]
[null,"LU 1",null,43,50.4,"Land Unit 1 are fields with very high P soil located very near the facilities",null,null,null,null,null,null,null,null,"Land Unit 1",null,null,"Rotation 1 name:",null,"CCC",null,null,null,null,null,null,null,"Rotation 2 name:",null,"SCC",null,null,null,null,null,null,null,"Rotation 3 name:",null,"CCAAA",null,null,null,null,null,null,null,"Rotation 4 name:",null,"CCCSCAAA",null,null,null,null,null,null,null,"Rotation 5 name *** :","         ","       CCCSWAAA"]
[null,"LU 2",null,null,0,"Land Unit 2 are fields with high P soil located near the facilities",null,null,null,null,null,null,null,null,"Crops:",null,null,{"$f":"X156","v":"CoGr-27"},null,null,null,null,null,null,null,null,null,"SBw-108","CoGr-27",null,"CoSi-35",null,null,null,null,null,null,"CoSi-35","CoGr-27",null,"AlSi-83","AlSi-83","MxSi-74",null,null,null,null,"CoSi-35","CoGr-27",null,"CoSi-35","SBw-108","CoGr-27",null,"AlSi-83","AlSi-83","MxSi-74","CoSi-35","CoGr-27",null,"CoSi-35","SBw-108","Wheat-116","Straw-120","AlSi-83","AlSi-83","MxSi-74"]
[null,"LU 3",null,37,50.4,"Land Unit 3 are fields with normal P soil located at a distance from the facilities",null,null,null,null,null,null,null,null,"Year",null,null,1,null,null,null,null,null,null,null,null,null,1,2,null,3,null,null,null,null,null,null,1,2,null,3,4,5,null,null,null,null,1,2,null,3,4,5,null,6,7,8,1,2,null,3,4,5,5,6,7,8]
[null,"LU 4",null,null,0,"Land Unit 4 are fields with low P soil located far from the facilities",null,null,null,null,null,null,null,null,"Yield, t DM/yr",null,null,{"$f":"8.1/0.97","v":8.3505154639175263},null,null,null,null,null,null,null,null,null,{"$f":"2.86/0.97","v":2.9484536082474224},{"$f":"9/0.97","v":9.2783505154639183},null,{"$f":"15.7/0.85","v":18.470588235294116},null,null,null,null,null,null,{"$f":"16.5/0.85","v":19.411764705882355},{"$f":"8.5/0.97","v":8.7628865979381452},null,{"$f":"3.7/0.8","v":4.625},{"$f":"8.7/0.8","v":10.874999999999998},{"$f":"7.6/0.8","v":9.4999999999999982},null,null,null,null,{"$f":"16.5/0.85","v":19.411764705882355},{"$f":"8.54/0.97","v":8.8041237113402051},null,{"$f":"15.7/0.85","v":18.470588235294116},{"$f":"2.9/0.97","v":2.9896907216494846},{"$f":"9/0.97","v":9.2783505154639183},null,{"$f":"3.7/0.8","v":4.625},{"$f":"8.7/0.8","v":10.874999999999998},{"$f":"7.6/0.8","v":9.4999999999999982},{"$f":"16.5/0.85","v":19.411764705882355},{"$f":"8.5/0.97","v":8.7628865979381452},null,{"$f":"15.7/0.85","v":18.470588235294116},{"$f":"2.9/0.97","v":2.9896907216494846},{"$f":"3.4/0.97","v":3.5051546391752577},1.6,{"$f":"3.7/0.8","v":4.625},{"$f":"8.7/0.8","v":10.874999999999998},{"$f":"7.6/0.8","v":9.4999999999999982}]
[null,"LU 5",null,37,50.4,"Land Unit 5 are fields with very low P soils located very farm from the facilities.",null,null,null,null,null,null,null,null,"N,  kg/ha",null,null,{"$f":"179-20","v":159},null,null,null,null,null,null,null,null,null,0,{"$f":"179-20-44.8","v":114.2},null,{"$f":"179-20","v":159},null,null,null,null,null,null,{"$f":"179-156","v":23},{"$f":"179-56-20","v":103},null,0,0,0,null,null,null,null,{"$f":"179-156","v":23},{"$f":"179-20-56","v":103},null,{"$f":"179-20","v":159},0,{"$f":"179-20-44.8","v":114.2},null,0,0,0,{"$f":"179-156","v":23},{"$f":"179-20-56","v":103},null,{"$f":"179-20","v":159},0,{"$f":"67-44.8","v":22.200000000000003},0,0,0,0]
[null,"Total",null,null,{"$f":"SUM(E278:E282)","v":151.19999999999999},null,null,null,null,null,null,null,null,null,"P2O5,  kg/ha",null,null,34,null,null,null,null,null,null,null,null,null,22,34,null,39,null,null,null,null,null,null,39,34,null,12,28.021262036675218,28.021262036675218,null,null,null,null,39,34,null,39,22,34,null,12,28.021262036675218,28.021262036675218,39,34,null,39,22,28,0,12,28.021262036675218,28.021262036675218]
[null,null,null,null,null,null,null,null,null,null,null,null,null,null,"K2O, kg/ha",null,null,22,null,null,null,null,null,null,null,null,null,28,22,null,73,null,null,null,null,null,null,73,22,null,48,112,112,null,null,null,null,73,22,null,73,28,22,null,48,112,112,73,22,null,73,28,48,0,48,112,112]
["6.2 Rotations, Crop Yields, N-Fixation, NPK Required and Cost of Production in each Land Units",null,null,null,null,null,null,null,null,null,null,null,null,null,"P removal, kg/ha",null,null,{"$f":"R281*1000*$X$174/100","v":25.051546391752581},null,null,null,null,null,null,null,null,null,{"$f":"AB281*1000*$W$174/100","v":17.690721649484534},{"$f":"AC281*1000*$X$174/100","v":27.835051546391757},null,{"$f":"AE281*1000*$S$174/100","v":48.023529411764706},null,null,null,null,null,null,{"$f":"AL281*1000*$S$174/100","v":50.470588235294123},{"$f":"AM281*1000*$X$174/100","v":26.288659793814432},null,{"$f":"AO281*1000*$T$174/100","v":16.1875},{"$f":"AP281*1000*$T$174/100","v":38.062499999999993},{"$f":"AQ281*1000*$U$174/100","v":32.299999999999997},null,null,null,null,{"$f":"AV281*1000*$S$174/100","v":50.470588235294123},{"$f":"AW281*1000*$X$174/100","v":26.412371134020617},null,{"$f":"AY281*1000*$S$174/100","v":48.023529411764706},{"$f":"AZ281*1000*$W$174/100","v":17.938144329896907},{"$f":"BA281*1000*$X$174/100","v":27.835051546391757},null,{"$f":"BC281*1000*$T$174/100","v":16.1875},{"$f":"BD281*1000*$T$174/100","v":38.062499999999993},{"$f":"BE281*1000*$U$174/100","v":32.299999999999997},{"$f":"BF281*1000*$S$174/100","v":50.470588235294123},{"$f":"BG281*1000*$X$174/100","v":26.288659793814432},null,{"$f":"BI281*1000*$S$174/100","v":48.023529411764706},{"$f":"BJ281*1000*$W$174/100","v":17.938144329896907},{"$f":"BK281*1000*$Z$174/100","v":15.072164948453608},{"$f":"BL281*1000*0.1/100","v":1.6},{"$f":"BM281*1000*$T$174/100","v":16.1875},{"$f":"BN281*1000*$T$174/100","v":38.062499999999993},{"$f":"BO281*1000*$U$174/100","v":32.299999999999997}]
[null,"Rotations, annual yields, N-fixed, NPK required, Legume-N credit, and cost of production are described in details to the right.",null,null,null,null,null,null,null,null,null,null,null,null,"K removal, kg/ha"]
[null,"Below, is short description of the rotation described in this scenario. N-CyCLE select the most appropriate (combination of) rotation for each land unit.",null,null,null,null,null,null,null,null,null,null,null,null,"Cl, kg/ha",null,null,0,null,null,null,null,null,null,null,null,null,0,0,null,0,null,null,null,null,null,null,0,0,null,0,0,0,null,null,null,null,0,0,null,0,0,0,null,0,0,0,0,0,null,0,0,0,0,0,0,0]
[null,"Rotation","Years","Year 1","Year 2","Year 3","Year 4","Year 5","Year 6","Year 7","Year 8",null,null,null,"N fixation, kg/t",null,null,0,null,null,null,null,null,null,null,null,null,{"$f":"1000*39.2/100/6.25*0.4","v":25.088000000000001},0,null,0,null,null,null,null,null,null,0,0,null,{"$f":"1000*23/100/6.25*0.67","v":24.655999999999999},{"$f":"1000*23/100/6.25*0.67","v":24.655999999999999},{"$f":"1000*19/100/6.25*0.67","v":20.367999999999999},null,null,null,null,0,0,null,0,{"$f":"1000*39.2/100/6.25*0.4","v":25.088000000000001},0,null,{"$f":"1000*23/100/6.25*0.67","v":24.655999999999999},{"$f":"1000*23/100/6.25*0.67","v":24.655999999999999},{"$f":"1000*23/100/6.25*0.67","v":24.655999999999999},0,0,null,0,{"$f":"1000*39.2/100/6.25*0.4","v":25.088000000000001},0,0,{"$f":"1000*23/100/6.25*0.67","v":24.655999999999999},{"$f":"1000*23/100/6.25*0.67","v":24.655999999999999},{"$f":"1000*23/100/6.25*0.67","v":24.655999999999999}]
[null,"CBAAMMG",7,"Corn silage","Barley","Barley/Alfalfa","Alfalfa silage","Alf/Grass sil.","Alf/Grass sil.","Grass Hay",null,null,null,null,"Above ground residue, %",null,null,38,null,null,null,null,null,null,null,null,null,45,38,null,8,null,null,null,null,null,null,8,38,null,0,0,0,null,null,null,null,8,38,null,8,45,38,null,0,0,0,8,38,null,8,45,0,0,0,0,0]
[null,"CCSW",4,"Soybean","Corn grain","Soybean","Wheat",null,null,null,null,null,null,null,"N Above ground residue, g N/kg",null,null,5,null,null,null,null,null,null,null,null,null,6,5,null,13,null,null,null,null,null,null,13,5,null,0,0,0,null,null,null,null,13,5,null,13,6,5,null,0,0,0,13,5,null,13,6,6,0,0,0,0]
[null,"CCAAMMG",7,"Corn grain","Corn silage","Alfalfa silage ","Alfalfa silage","Alf./Grass sil.","Alf./Grass sil.","Grass Hay",null,null,null,null,"Below ground residue, %",null,null,15,null,null,null,null,null,null,null,null,null,25,15,null,20,null,null,null,null,null,null,20,15,null,0,0,0,null,null,null,null,20,15,null,20,25,15,null,0,0,0,20,15,null,20,25,15,0,0,0,0]
[null,"BAAMM",5,"Barley","Barley/Alfalfa","Alfalfa silage ","Alf./Grass sil.","Alf./Grass sil.",null,null,null,null,null,null,"N Below ground residue, g N/kg",null,null,7,null,null,null,null,null,null,null,null,null,10,7,null,7,null,null,null,null,null,null,7,7,null,0,0,0,null,null,null,null,7,7,null,7,10,7,null,0,0,0,7,7,null,7,10,10,0,0,0,0]
[null,"CCS",3,"Corn grain","Corn silage","Soybean",null,null,null,null,null,null,null,null,"Fuel consumption (L/ha) (w/o fertilizers application)",null,null,58.6,null,null,null,null,null,null,null,null,null,60.1,58.6,null,101.1,null,null,null,null,null,null,101.1,58.6,null,49.3,123.3,123.3,null,null,null,null,101.1,58.6,null,101.1,60.1,58.6,null,49.3,123.3,123.3,101.1,58.6,null,101.1,60.1,46.3,0,49.3,123.3,123.3]
[null,null,null,null,null,null,null,null,null,null,null,null,null,null,"Variable costs  w/o fertilizer, $/ha",null,null,800.65,null,null,null,null,null,null,null,null,null,454.48,724.41,null,505.43,0,null,null,null,null,null,486.38,800.65,null,578.94000000000005,387.44,387.44,null,null,null,null,486.38,800.65,null,505.43,454.48,724.41,null,578.94000000000005,387.44,387.44,486.38,800.65,null,505.43,454.48,360.95,360.95,578.94000000000005,387.44,387.44]
["6.3. Maximum application:",null,null,null,null,null,null,null,null,null,null,null,null,null,"Variable costs, $/t",null,null,0,null,null,null,null,null,null,null,null,null,0,0,null,0,null,null,null,null,null,null,0,0,null,0,0,0,null,null,null,null,0,0,null,0,0,0,null,0,0,0,0,0,null,0,0,0,0,0,0,0]
[null,null,null,null,"N,  kg/ha","P2O5,  kg/ha","K2O, kg/ha","In N-CyCLE you can define a maximum allowable rate of nutrient application",null,null,null,null,null,null,"Cost $/ha",null,null,{"$f":"R294+R295","v":800.65},null,null,null,null,null,null,null,null,null,{"$f":"AB294+AB295*AB281","v":454.48},{"$f":"AC294+AC295*AC281","v":724.41},null,{"$f":"AE294+AE295*AE281","v":505.43},{"$f":"AF294+AF295*AF281","v":0},null,null,null,null,null,{"$f":"AL294+AL295","v":486.38},{"$f":"AM294+AM295","v":800.65},null,{"$f":"AO294+AO295","v":578.94000000000005},{"$f":"AP294+AP295","v":387.44},{"$f":"AQ294+AQ295","v":387.44},null,null,null,null,{"$f":"AV294+AV295*AV281","v":486.38},{"$f":"AW294+AW295*AW281","v":800.65},null,{"$f":"AY294+AY295*AY281","v":505.43},{"$f":"AZ294+AZ295*AZ281","v":454.48},{"$f":"BA294+BA295*BA281","v":724.41},null,{"$f":"BC294+BC295*BC281","v":578.94000000000005},387.44,{"$f":"BE294+BE295*BE281","v":387.44},{"$f":"BF294+BF295*BF281","v":486.38},{"$f":"BG294+BG295*BG281","v":800.65},null,{"$f":"BI294+BI295*BI281","v":505.43},{"$f":"BJ294+BJ295*BJ281","v":454.48},{"$f":"BK294+BK295*BK281","v":360.95},{"$f":"BL294+BL295*BL281-200","v":160.94999999999999},{"$f":"BM294+BM295*BM281","v":578.94000000000005},{"$f":"BN294+BN295*BN281","v":387.44},{"$f":"BO294+BO295*BO281","v":387.44}]
[null,"Land Unit 1",null,null,40,0,100,"In the case of Phosphorus no excess (above crop needs) is allowed in Land Unit 1"]
[null,"Land Unit 2",null,null,40,5,100,"As Land Units are further away from the farm, soil test P is assumed to decrease",null,null,null,null,null,null,"Land Unit 2",null,null,"Rotation 1 name:",null,"CCC",null,null,null,null,null,null,null,"Rotation 2 name:",null,"SCC",null,null,null,null,null,null,null,"Rotation 3 name:",null,"CCAAA",null,null,null,null,null,null,null,"Rotation 4 name:",null,"CCCSCAAA",null,null,null,null,null,null,null,"Rotation 5 name:",null,"CCCSWAAA"]
[null,"Land Unit 3",null,null,40,10,100,"and some excess of P application is allowed.",null,null,null,null,null,null,"Crops:",null,null,null,"CoGr-27",null,null,null,null,null,null,null,null,"SBw-108","CoGr-27",null,"CoSi-35",null,null,null,null,null,null,"CoSi-35","CoGr-27",null,"AlSi-83","AlSi-83","MxSi-74",null,null,null,null,"CoSi-35","CoGr-27",null,"CoSi-35","SBw-108","CoGr-27",null,"AlSi-83","AlSi-83","MxSi-74","CoSi-35","CoGr-27",null,"CoSi-35","SBw-108","Wheat-116","Straw-120","AlSi-83","AlSi-83","MxSi-74"]
[null,"Land Unit 4",null,null,40,15,100,null,null,null,null,null,null,null,"Year",null,null,null,1,null,null,null,null,null,null,null,null,1,2,null,3,null,null,null,null,null,null,1,2,null,3,4,5,null,null,null,null,1,2,null,3,4,5,null,6,7,8,1,2,null,3,4,5,5,6,7,8]
[null,"Land Unit 5",null,null,40,20,100,null,null,null,null,null,null,null,"Yield, t DM/yr",null,null,null,{"$f":"8.1/0.97","v":8.3505154639175263},null,null,null,null,null,null,null,null,{"$f":"2.86/0.97","v":2.9484536082474224},{"$f":"9/0.97","v":9.2783505154639183},null,{"$f":"15.7/0.85","v":18.470588235294116},null,null,null,null,null,null,{"$f":"16.5/0.85","v":19.411764705882355},{"$f":"8.5/0.97","v":8.7628865979381452},null,{"$f":"3.7/0.8","v":4.625},{"$f":"8.7/0.8","v":10.874999999999998},{"$f":"7.6/0.8","v":9.4999999999999982},null,null,null,null,{"$f":"16.5/0.85","v":19.411764705882355},{"$f":"8.54/0.97","v":8.8041237113402051},null,{"$f":"15.7/0.85","v":18.470588235294116},{"$f":"2.9/0.97","v":2.9896907216494846},{"$f":"9/0.97","v":9.2783505154639183},null,{"$f":"3.7/0.8","v":4.625},{"$f":"8.7/0.8","v":10.874999999999998},{"$f":"7.6/0.8","v":9.4999999999999982},{"$f":"16.5/0.85","v":19.411764705882355},{"$f":"8.5/0.97","v":8.7628865979381452},null,{"$f":"15.7/0.85","v":18.470588235294116},{"$f":"2.9/0.97","v":2.9896907216494846},{"$f":"3.4/0.97","v":3.5051546391752577},1.6,{"$f":"3.7/0.8","v":4.625},{"$f":"8.7/0.8","v":10.874999999999998},{"$f":"7.6/0.8","v":9.4999999999999982}]
[null,"*Maximum amount of plant available nutrients above agronomic needs or legal limits",null,null,null,null,null,null,null,null,null,null,null,null,"N,  kg/ha",null,null,null,{"$f":"179-15","v":164},null,null,null,null,null,null,null,null,0,{"$f":"179-15-44.8","v":119.2},null,{"$f":"179-15","v":164},null,null,null,null,null,null,{"$f":"179-156","v":23},{"$f":"179-56-15","v":108},null,0,0,0,null,null,null,null,{"$f":"179-156","v":23},{"$f":"179-15-56","v":108},null,{"$f":"179-15","v":164},0,{"$f":"179-15-44.8","v":119.2},null,0,0,0,{"$f":"179-156","v":23},{"$f":"179-20-56","v":103},null,{"$f":"179-20","v":159},0,{"$f":"67-44.8","v":22.200000000000003},0,0,0,0]
[null,null,null,null,null,null,null,null,null,null,null,null,null,null,"P2O5,  kg/ha",null,null,null,50,null,null,null,null,null,null,null,null,32,50,null,59,null,null,null,null,null,null,59,50,null,21,49,49,null,null,null,null,59,50,null,59,32,50,null,21,49,49,39,34,null,39,22,28,0,12,28.021262036675218,28.021262036675218]
[null,null,null,null,null,null,null,null,null,null,null,null,null,null,"K2O, kg/ha",null,null,null,45,null,null,null,null,null,null,null,null,50,45,null,106,null,null,null,null,null,null,106,45,null,66,154,154,null,null,null,null,106,45,null,106,50,45,null,66,154,154,73,22,null,73,28,48,0,48,112,112]
["6.4. Minimum Application rate (Amount of nutrients that may be drawn from soil reserves)",null,null,null,null,null,null,null,null,null,null,null,null,null,"P removal, kg/ha",null,null,null,{"$f":"S301*1000*$X$174/100","v":25.051546391752581},null,null,null,null,null,null,null,null,{"$f":"AB301*1000*$W$174/100","v":17.690721649484534},{"$f":"AC301*1000*$X$174/100","v":27.835051546391757},null,{"$f":"AE301*1000*$S$174/100","v":48.023529411764706},null,null,null,null,null,null,{"$f":"AL301*1000*$S$174/100","v":50.470588235294123},{"$f":"AM301*1000*$X$174/100","v":26.288659793814432},null,{"$f":"AO301*1000*$T$174/100","v":16.1875},{"$f":"AP301*1000*$T$174/100","v":38.062499999999993},{"$f":"AQ301*1000*$U$174/100","v":32.299999999999997},null,null,null,null,{"$f":"AV301*1000*$S$174/100","v":50.470588235294123},{"$f":"AW301*1000*$X$174/100","v":26.412371134020617},null,{"$f":"AY301*1000*$S$174/100","v":48.023529411764706},{"$f":"AZ301*1000*$W$174/100","v":17.938144329896907},{"$f":"BA301*1000*$X$174/100","v":27.835051546391757},null,{"$f":"BC301*1000*$T$174/100","v":16.1875},{"$f":"BD301*1000*$T$174/100","v":38.062499999999993},{"$f":"BE301*1000*$U$174/100","v":32.299999999999997},{"$f":"BF301*1000*$S$174/100","v":50.470588235294123},{"$f":"BG301*1000*$X$174/100","v":26.288659793814432},null,{"$f":"BI301*1000*$S$174/100","v":48.023529411764706},{"$f":"BJ301*1000*$W$174/100","v":17.938144329896907},{"$f":"BK301*1000*$Z$174/100","v":15.072164948453608},{"$f":"BL301*1000*0.1/100","v":1.6},{"$f":"BM301*1000*$T$174/100","v":16.1875},{"$f":"BN301*1000*$T$174/100","v":38.062499999999993},{"$f":"BO301*1000*$U$174/100","v":32.299999999999997}]
[null,null,null,null,"N,  kg/ha","P2O5,  kg/ha","K2O, kg/ha","When soil reserves are high, (especially for P and K), N-Cycle",null,null,null,null,null,null,"K removal, kg/ha"]
[null,"Land Unit 1 (High soil P and K tests)",null,null,0,0,0,"allows for relying on soil reserves to supply plant available",null,null,null,null,null,null,"Cl, kg/ha",null,null,null,0,null,null,null,null,null,null,null,null,0,0,null,0,null,null,null,null,null,null,0,0,null,0,0,0,null,null,null,null,0,0,null,0,0,0,null,0,0,0,0,0,null,0,0,0,0,0,0,0]
[null,"Land Unit 2",null,null,0,0,0,"nutrients. The amount of P and K that can be \"mined\" from",null,null,null,null,null,null,"N fixation, kg/t",null,null,null,0,null,null,null,null,null,null,null,null,{"$f":"1000*39.2/100/6.25*0.4","v":25.088000000000001},0,null,0,null,null,null,null,null,null,0,0,null,{"$f":"1000*23/100/6.25*0.67","v":24.655999999999999},{"$f":"1000*23/100/6.25*0.67","v":24.655999999999999},{"$f":"1000*19/100/6.25*0.67","v":20.367999999999999},null,null,null,null,0,0,null,0,{"$f":"1000*39.2/100/6.25*0.4","v":25.088000000000001},0,null,{"$f":"1000*23/100/6.25*0.67","v":24.655999999999999},{"$f":"1000*23/100/6.25*0.67","v":24.655999999999999},{"$f":"1000*23/100/6.25*0.67","v":24.655999999999999},0,0,null,0,{"$f":"1000*39.2/100/6.25*0.4","v":25.088000000000001},0,0,{"$f":"1000*23/100/6.25*0.67","v":24.655999999999999},{"$f":"1000*23/100/6.25*0.67","v":24.655999999999999},{"$f":"1000*23/100/6.25*0.67","v":24.655999999999999}]
[null,"Land Unit 3 (Optimum soil P and K tests)",null,null,0,0,0,"the soil should be increased as the soil test values increases",null,null,null,null,null,null,"Above ground residue, %",null,null,null,38,null,null,null,null,null,null,null,null,45,38,null,8,null,null,null,null,null,null,8,38,null,0,0,0,null,null,null,null,8,38,null,8,45,38,null,0,0,0,8,38,null,8,45,0,0,0,0,0]
[null,"Land Unit 4",null,null,0,0,0,"above optimum",null,null,null,null,null,null,"N Above ground residue, g N/kg",null,null,null,5,null,null,null,null,null,null,null,null,6,5,null,13,null,null,null,null,null,null,13,5,null,0,0,0,null,null,null,null,13,5,null,13,6,5,null,0,0,0,13,5,null,13,6,6,0,0,0,0]
[null,"Land Unit 5 (Very Low soil P and K tests)",null,null,0,0,0,null,null,null,null,null,null,null,"Below ground residue, %",null,null,null,15,null,null,null,null,null,null,null,null,25,15,null,20,null,null,null,null,null,null,20,15,null,0,0,0,null,null,null,null,20,15,null,20,25,15,null,0,0,0,20,15,null,20,25,15,0,0,0,0]
[null,null,null,null,null,null,null,"1ppm = 8.8 kg of P application in excess of P removal",null,null,null,null,null,null,"N Below ground residue, g N/kg",null,null,null,7,null,null,null,null,null,null,null,null,10,7,null,7,null,null,null,null,null,null,7,7,null,0,0,0,null,null,null,null,7,7,null,7,10,7,null,0,0,0,7,7,null,7,10,10,0,0,0,0]
[null,null,null,null,null,null,null,null,null,null,null,null,null,null,"Fuel consumption (L/ha) (w/o fertilizers application)",null,null,null,58.6,null,null,null,null,null,null,null,null,60.1,58.6,null,101.1,null,null,null,null,null,null,101.1,58.6,null,49.3,123.3,123.3,null,null,null,null,101.1,58.6,null,101.1,60.1,58.6,null,49.3,123.3,123.3,101.1,58.6,null,101.1,60.1,46.3,0,49.3,123.3,123.3]
[null,null,null,null,null,null,null,null,null,null,null,null,null,null,"Variable costs  w/o fertilizer, $/ha",null,null,null,800.65,null,null,null,null,null,null,null,null,454.48,724.41,null,505.43,null,null,null,null,null,null,486.38,800.65,null,578.94000000000005,387.44,387.44,null,null,null,null,486.38,800.65,null,505.43,454.48,724.41,null,578.94000000000005,387.44,387.44,486.38,800.65,null,505.43,454.48,360.95,360.95,578.94000000000005,387.44,387.44]
[null,null,null,null,null,null,null,null,null,null,null,null,null,null,"Variable costs, $/t",null,null,null,0,null,null,null,null,null,null,null,null,0,0,null,0,null,null,null,null,null,null,0,0,null,0,0,0,null,null,null,null,0,0,null,0,0,0,null,0,0,0,0,0,null,0,0,0,0,0,0,0]
[null,"END OF DATA ENTRY",null,null,null,null,null,null,"Back to top",null,null,null,null,null,"Cost $/ha",null,null,null,{"$f":"S314+S315","v":800.65},null,null,null,null,null,null,null,null,{"$f":"AB314+AB315*AB301","v":454.48},{"$f":"AC314+AC315*AC301","v":724.41},null,505.43,null,null,null,null,null,null,{"$f":"AL314+AL315*AL301","v":486.38},{"$f":"AM314+AM315*AM301","v":800.65},null,{"$f":"AO314+AO315*AO301","v":578.94000000000005},{"$f":"AP314+AP315*AP301","v":387.44},{"$f":"AQ314+AQ315*AQ301","v":387.44},null,null,null,null,{"$f":"AV314+AV315*AV301","v":486.38},{"$f":"AW314+AW315*AW301","v":800.65},null,{"$f":"AY314+AY315*AY301","v":505.43},{"$f":"AZ314+AZ315*AZ301","v":454.48},{"$f":"BA314+BA315*BA301","v":724.41},{"$f":"BB314+BB315*BB301","v":0},{"$f":"BC314+BC315*BC301","v":578.94000000000005},387.44,{"$f":"BE314+BE315*BE301","v":387.44},{"$f":"BF314+BF315*BF301","v":486.38},{"$f":"BG314+BG315*BG301","v":800.65},null,{"$f":"BI314+BI315*BI301","v":505.43},454.48,360.95,{"$f":"BL314+BL315*BL301-200","v":160.94999999999999},578.94000000000005,387.44,387.44]
[]
[null,null,null,null,null,null,null,null,null,null,null,null,null,null,"Land Unit 3",null,null,"Rotation 1 name:",null,"CCC",null,null,null,null,null,null,null,"Rotation 2 name:",null,"SCC",null,null,null,null,null,null,null,"Rotation 3 name:",null,"CCAAA",null,null,null,null,null,null,null,"Rotation 4 name:",null,"CCCSCAAA",null,null,null,null,null,null,null,"Rotation 5 name:",null,"CCCSWAAA"]
[null,null,null,null,null,null,null,null,null,null,null,null,null,null,"Crops:",null,null,null,"CoGr-27",null,null,null,null,null,null,null,null,"SBw-108","CoGr-27",null,"CoSi-35",null,null,null,null,null,null,"CoSi-35","CoGr-27",null,"AlSi-83","AlSi-83","MxSi-74",null,null,null,null,"CoSi-35","CoGr-27",null,"CoSi-35","SBw-108","CoGr-27",null,"AlSi-83","AlSi-83","MxSi-74","CoSi-35","CoGr-27",null,"CoSi-35","SBw-108","Wheat-116","Straw-120","AlSi-83","AlSi-83","MxSi-74"]
[null,"CONGRATUALTIONS, YOU HAVE COMPLETED A MOST CRITICAL STEP IN USING N-CYCLE: YOU HAVE DESCRIBED A FARM SITUATION ",null,null,null,null,null,null,null,null,null,null,null,null,"Year",null,null,null,1,null,null,null,null,null,null,null,null,1,2,null,3,null,null,null,null,null,null,1,2,null,3,4,5,null,null,null,null,1,2,null,3,4,5,null,6,7,8,1,2,null,3,4,5,5,6,7,8]
[null,null,null,null,null,null,null,null,null,null,null,null,null,null,"Yield, t DM/yr",null,null,null,{"$f":"8.1/0.97","v":8.3505154639175263},null,null,null,null,null,null,null,null,{"$f":"2.86/0.97","v":2.9484536082474224},{"$f":"9/0.97","v":9.2783505154639183},null,{"$f":"15.7/0.85","v":18.470588235294116},null,null,null,null,null,null,{"$f":"16.5/0.85","v":19.411764705882355},{"$f":"8.5/0.97","v":8.7628865979381452},null,{"$f":"3.7/0.8","v":4.625},{"$f":"8.7/0.8","v":10.874999999999998},{"$f":"7.6/0.8","v":9.4999999999999982},null,null,null,null,{"$f":"16.5/0.85","v":19.411764705882355},{"$f":"8.54/0.97","v":8.8041237113402051},null,{"$f":"15.7/0.85","v":18.470588235294116},{"$f":"2.9/0.97","v":2.9896907216494846},{"$f":"9/0.97","v":9.2783505154639183},null,{"$f":"3.7/0.8","v":4.625},{"$f":"8.7/0.8","v":10.874999999999998},{"$f":"7.6/0.8","v":9.4999999999999982},{"$f":"16.5/0.85","v":19.411764705882355},{"$f":"8.5/0.97","v":8.7628865979381452},null,{"$f":"15.7/0.85","v":18.470588235294116},{"$f":"2.9/0.97","v":2.9896907216494846},{"$f":"3.4/0.97","v":3.5051546391752577},1.6,{"$f":"3.7/0.8","v":4.625},{"$f":"8.7/0.8","v":10.874999999999998},{"$f":"7.6/0.8","v":9.4999999999999982}]
[null,null,null,null,null,"YOU ARE NOW READY TO OPTIMIZE YOUR FARM",null,null,null,null,null,null,null,null,"N,  kg/ha",null,null,null,{"$f":"179-10","v":169},null,null,null,null,null,null,null,null,0,{"$f":"179-10-44.8","v":124.2},null,{"$f":"179-10","v":169},null,null,null,null,null,null,{"$f":"179-156","v":23},{"$f":"179-56-10","v":113},null,0,0,0,null,null,null,null,{"$f":"179-156","v":23},{"$f":"179-10-56","v":113},null,{"$f":"179-10","v":169},0,{"$f":"179-10-44.8","v":124.2},null,0,0,0,{"$f":"179-156","v":23},{"$f":"179-10-56","v":113},null,{"$f":"179-10","v":169},0,{"$f":"67-44.8","v":22.200000000000003},0,0,0,0]
[null,null,null,null,null,null,null,null,null,null,null,null,null,null,"P2O5,  kg/ha",null,null,null,67,null,null,null,null,null,null,null,null,42,67,null,78,null,null,null,null,null,null,78,67,null,30,70,70,null,null,null,null,78,67,null,78,42,67,null,30,70,70,78,67,null,78,42,48,0,30,70,70]
[null,null,null,"TO CONTINUE, FOLLOW THE INSTRUCTIONS AT THE TOP OF THE \"OPTIMIZATION\" WORKSHEET",null,null,null,null,null,null,null,null,null,null,"K2O, kg/ha",null,null,null,67,null,null,null,null,null,null,null,null,73,67,null,139,null,null,null,null,null,null,139,67,null,84,196,196,null,null,null,null,139,67,null,139,73,67,null,84,196,196,139,67,null,139,73,80,0,84,196,196]
[null,null,null,null,null,null,null,null,null,null,null,null,null,null,"P removal, kg/ha",null,null,null,{"$f":"S321*1000*$X$174/100","v":25.051546391752581},null,null,null,null,null,null,null,null,{"$f":"AB321*1000*$W$174/100","v":17.690721649484534},{"$f":"AC321*1000*$X$174/100","v":27.835051546391757},null,{"$f":"AE321*1000*$S$174/100","v":48.023529411764706},null,null,null,null,null,null,{"$f":"AL321*1000*$S$174/100","v":50.470588235294123},{"$f":"AM321*1000*$X$174/100","v":26.288659793814432},null,{"$f":"AO321*1000*$T$174/100","v":16.1875},{"$f":"AP321*1000*$T$174/100","v":38.062499999999993},{"$f":"AQ321*1000*$U$174/100","v":32.299999999999997},null,null,null,null,{"$f":"AV321*1000*$S$174/100","v":50.470588235294123},{"$f":"AW321*1000*$X$174/100","v":26.412371134020617},null,{"$f":"AY321*1000*$S$174/100","v":48.023529411764706},{"$f":"AZ321*1000*$W$174/100","v":17.938144329896907},{"$f":"BA321*1000*$X$174/100","v":27.835051546391757},null,{"$f":"BC321*1000*$T$174/100","v":16.1875},{"$f":"BD321*1000*$T$174/100","v":38.062499999999993},{"$f":"BE321*1000*$U$174/100","v":32.299999999999997},{"$f":"BF321*1000*$S$174/100","v":50.470588235294123},{"$f":"BG321*1000*$X$174/100","v":26.288659793814432},null,{"$f":"BI321*1000*$S$174/100","v":48.023529411764706},{"$f":"BJ321*1000*$W$174/100","v":17.938144329896907},{"$f":"BK321*1000*$Z$174/100","v":15.072164948453608},{"$f":"BL321*1000*0.1/100","v":1.6},{"$f":"BM321*1000*$T$174/100","v":16.1875},{"$f":"BN321*1000*$T$174/100","v":38.062499999999993},{"$f":"BO321*1000*$U$174/100","v":32.299999999999997}]
[null,null,null,null,null,null,null,null,null,null,null,null,null,null,"K removal, kg/ha"]
["6.5 Emission factors and coefficients used for GHG calculation",null,null,null,null,null,null,null,null,null,null,null,null,null,"Cl, kg/ha",null,null,null,0,null,null,null,null,null,null,null,null,0,0,null,0,null,null,null,null,null,null,0,0,null,0,0,0,null,null,null,null,0,0,null,0,0,0,null,0,0,0,0,0,null,0,0,0,0,0,0,0]
[null,null,null,null,null,null,"CH4","N2O","CO2",null,null,null,null,null,"N fixation, kg/t",null,null,null,0,null,null,null,null,null,null,null,null,{"$f":"1000*39.2/100/6.25*0.4","v":25.088000000000001},0,null,0,null,null,null,null,null,null,0,0,null,{"$f":"1000*23/100/6.25*0.67","v":24.655999999999999},{"$f":"1000*23/100/6.25*0.67","v":24.655999999999999},{"$f":"1000*19/100/6.25*0.67","v":20.367999999999999},null,null,null,null,0,0,null,0,{"$f":"1000*39.2/100/6.25*0.4","v":25.088000000000001},0,null,{"$f":"1000*23/100/6.25*0.67","v":24.655999999999999},{"$f":"1000*23/100/6.25*0.67","v":24.655999999999999},{"$f":"1000*23/100/6.25*0.67","v":24.655999999999999},0,0,null,0,{"$f":"1000*39.2/100/6.25*0.4","v":25.088000000000001},0,0,{"$f":"1000*23/100/6.25*0.67","v":24.655999999999999},{"$f":"1000*23/100/6.25*0.67","v":24.655999999999999},{"$f":"1000*23/100/6.25*0.67","v":24.655999999999999}]
[null,"Enteric fermentation Ym (% of GE)",null,null,null,null,null,null,null,null,null,null,null,null,"Above ground residue, %",null,null,null,38,null,null,null,null,null,null,null,null,45,38,null,8,null,null,null,null,null,null,8,38,null,0,0,0,null,null,null,null,8,38,null,8,45,38,null,0,0,0,8,38,null,8,45,0,0,0,0,0]
[null,null,"Dairy heifers",null,null,null,6.5,null,null,6.7,null,null,null,null,"N Above ground residue, g N/kg",null,null,null,5,null,null,null,null,null,null,null,null,6,5,null,13,null,null,null,null,null,null,13,5,null,0,0,0,null,null,null,null,13,5,null,13,6,5,null,0,0,0,13,5,null,13,6,6,0,0,0,0]
[null,null,"Dairy cows",null,null,null,6.5,null,null,8.9,null,null,null,null,"Below ground residue, %",null,null,null,15,null,null,null,null,null,null,null,null,25,15,null,20,null,null,null,null,null,null,20,15,null,0,0,0,null,null,null,null,20,15,null,20,25,15,null,0,0,0,20,15,null,20,25,15,0,0,0,0]
[null,"Maximum CH4 production potentiel of manure, m3 / kg VS",null,null,null,null,0.24,null,null,null,null,null,null,null,"N Below ground residue, g N/kg",null,null,null,7,null,null,null,null,null,null,null,null,10,7,null,7,null,null,null,null,null,null,7,7,null,0,0,0,null,null,null,null,7,7,null,7,10,7,null,0,0,0,7,7,null,7,10,10,0,0,0,0]
[null,"CH4 conversion factor for manure management system, %",null,null,null,null,null,null,null,null,null,null,null,null,"Fuel consumption (L/ha) (w/o fertilizers application)",null,null,null,58.6,null,null,null,null,null,null,null,null,60.1,58.6,null,101.1,null,null,null,null,null,null,101.1,58.6,null,49.3,123.3,123.3,null,null,null,null,101.1,58.6,null,101.1,60.1,58.6,null,49.3,123.3,123.3,101.1,58.6,null,101.1,60.1,46.3,0,49.3,123.3,123.3]
[null,null,"Liquid",null,null,null,0.2,null,null,null,null,null,null,null,"Variable costs  w/o fertilizer, $/ha",null,null,null,800.65,null,null,null,null,null,null,null,null,454.48,724.41,null,505.43,null,null,null,null,null,null,486.38,800.65,null,578.94000000000005,387.44,387.44,null,null,null,null,486.38,800.65,null,505.43,454.48,724.41,null,578.94000000000005,387.44,387.44,486.38,800.65,null,505.43,454.48,360.95,360.95,578.94000000000005,387.44,387.44]
[null,null,"Solid",null,null,null,0.02,null,null,null,null,null,null,null,"Variable costs, $/t",null,null,null,null,null,null,null,null,null,null,null,null,0,0,null,0,null,null,null,null,null,null,0,0,null,0,0,0,null,null,null,null,0,0,null,0,0,0,null,0,0,0,0,0,null,0,0,0,0,0,0,0]
[null,null,"Pasture",null,null,null,0.01,null,null,null,null,null,null,null,"Cost $/ha",null,null,null,{"$f":"S334+S335","v":800.65},null,null,null,null,null,null,null,null,{"$f":"AB334+AB335*AB321","v":454.48},{"$f":"AC334+AC335*AC321","v":724.41},null,505.43,null,null,null,null,null,null,{"$f":"AL334+AL335*AL321","v":486.38},{"$f":"+AM334+AM335*AM321","v":800.65},null,{"$f":"AO334+AO335*AO321","v":578.94000000000005},{"$f":"AP334+AP335*AP321","v":387.44},{"$f":"AQ334+AQ335*AQ321","v":387.44},{"$f":"AR334+AR335*AR321","v":0},null,null,null,{"$f":"AV334+AV335*AV321","v":486.38},{"$f":"+AW335+AW334","v":800.65},{"$f":"AX334+AX335*AX321","v":0},{"$f":"AY334+AY335*AY321","v":505.43},{"$f":"AZ334+AZ335*AZ321","v":454.48},{"$f":"BA334+BA335*BA321","v":724.41},{"$f":"BB334+BB335*BB321","v":0},512.47,289.58,289.58,{"$f":"BF334+BF335*BF321","v":486.38},{"$f":"BG334+BG335*BG321","v":800.65},null,{"$f":"BI334+BI335*BI321","v":505.43},{"$f":"BJ334+BJ335*BJ321","v":454.48},{"$f":"BK334+BK335*BK321","v":360.95},{"$f":"BL334+BL335*BL321-200","v":160.94999999999999},{"$f":"BM334+BM335*BM321","v":578.94000000000005},289.58,289.58]
[null,"N2O emission factor for manure management, %"]
[null,null,"Liquid",null,null,null,null,0.1,null,null,null,null,null,null,"Land Unit 4",null,null,"Rotation 1 name:",null,"CCC",null,null,null,null,null,null,null,"Rotation 2 name:",null,"SCC",null,null,null,null,null,null,null,"Rotation 3 name:",null,"CCAAA",null,null,null,null,null,null,null,"Rotation 4 name:",null,"CCCSCAAA",null,null,null,null,null,null,null,"Rotation 5 name:",null,"CCCSWAAA"]
[null,null,"Solid",null,null,null,null,2,null,null,null,null,null,null,"Crops:",null,null,null,"CoGr-27",null,null,null,null,null,null,null,null,"SBw-108","CoGr-27",null,"CoSi-35",null,null,null,null,null,null,"CoSi-35","CoGr-27",null,"AlSi-83","AlSi-83","MxSi-74",null,null,null,null,"CoSi-35","CoGr-27",null,"CoSi-35","SBw-108","CoGr-27",null,"AlSi-83","AlSi-83","MxSi-74","CoSi-35","CoGr-27",null,"CoSi-35","SBw-108","Wheat-116","Straw-120","AlSi-83","AlSi-83","MxSi-74"]
[null,null,"Pasture",null,null,null,null,2,null,null,null,null,null,null,"Year",null,null,null,1,null,null,null,null,null,null,null,null,1,2,null,3,null,null,null,null,null,null,1,2,null,3,4,5,null,null,null,null,1,2,null,3,4,5,null,6,7,8,1,2,null,3,4,5,5,6,7,8]
[null,"N2O emission factor for fertlisation, kg N2O-N/ kg N",null,null,null,null,null,1.1900000000000001E-2,null,null,null,null,null,null,"Yield, t DM/yr",null,null,null,{"$f":"8.1/0.97","v":8.3505154639175263},null,null,null,null,null,null,null,null,{"$f":"2.86/0.97","v":2.9484536082474224},{"$f":"9/0.97","v":9.2783505154639183},null,{"$f":"15.7/0.85","v":18.470588235294116},null,null,null,null,null,null,{"$f":"16.5/0.85","v":19.411764705882355},{"$f":"8.5/0.97","v":8.7628865979381452},null,{"$f":"3.7/0.8","v":4.625},{"$f":"8.7/0.8","v":10.874999999999998},{"$f":"7.6/0.8","v":9.4999999999999982},null,null,null,null,{"$f":"16.5/0.85","v":19.411764705882355},{"$f":"8.54/0.97","v":8.8041237113402051},null,{"$f":"15.7/0.85","v":18.470588235294116},{"$f":"2.9/0.97","v":2.9896907216494846},{"$f":"9/0.97","v":9.2783505154639183},null,{"$f":"3.7/0.8","v":4.625},{"$f":"8.7/0.8","v":10.874999999999998},{"$f":"7.6/0.8","v":9.4999999999999982},{"$f":"16.5/0.85","v":19.411764705882355},{"$f":"8.5/0.97","v":8.7628865979381452},null,{"$f":"15.7/0.85","v":18.470588235294116},{"$f":"2.9/0.97","v":2.9896907216494846},{"$f":"3.4/0.97","v":3.5051546391752577},1.6,{"$f":"3.7/0.8","v":4.625},{"$f":"8.7/0.8","v":10.874999999999998},{"$f":"7.6/0.8","v":9.4999999999999982}]
[null,"Ratio factor adjusting for emission during spring thaw",null,null,null,null,null,1.4,null,null,null,null,null,null,"N,  kg/ha",null,null,null,{"$f":"179-5","v":174},null,null,null,null,null,null,null,null,0,{"$f":"179-5-44.8","v":129.19999999999999},null,{"$f":"179-5","v":174},null,null,null,null,null,null,{"$f":"179-156","v":23},{"$f":"179-56-5","v":118},null,0,0,0,null,null,null,null,{"$f":"179-156","v":23},{"$f":"179-5-56","v":118},null,{"$f":"179-5","v":174},0,{"$f":"179-5-44.8","v":129.19999999999999},null,0,0,0,{"$f":"179-156","v":23},{"$f":"179-5-56","v":118},null,{"$f":"179-5","v":174},0,{"$f":"67-44.8","v":22.200000000000003},0,0,0,0]
[null,"N applied as synthetic fertilizer that is lost by volatilization, kg N/kg N",null,null,null,null,null,0.1,null,null,null,null,null,null,"P2O5,  kg/ha",null,null,null,84,null,null,null,null,null,null,null,null,52,84,null,98,null,null,null,null,null,null,119,84,null,39,91,91,null,null,null,null,98,84,null,98,52,84,null,39,91,91,98,84,null,98,52,57,0,39,91,91]
[null,"Emission factor form volatilisation and redeposition, kg N2O-N/kg N",null,null,null,null,null,0.01,null,null,null,null,null,null,"K2O, kg/ha",null,null,null,90,null,null,null,null,null,null,null,null,95,90,null,172,null,null,null,null,null,null,172,90,null,102,238,238,null,null,null,null,172,90,null,172,95,90,null,102,238,238,172,90,null,172,95,96,0,102,238,238]
[null,"Manure N volatilised, (%)",null,null,null,null,null,null,null,null,null,null,null,null,"P removal, kg/ha",null,null,null,{"$f":"S341*1000*$X$174/100","v":25.051546391752581},null,null,null,null,null,null,null,null,{"$f":"AB341*1000*$W$174/100","v":17.690721649484534},{"$f":"AC341*1000*$X$174/100","v":27.835051546391757},null,{"$f":"AE341*1000*$S$174/100","v":48.023529411764706},null,null,null,null,null,null,{"$f":"AL341*1000*$S$174/100","v":50.470588235294123},{"$f":"AM341*1000*$X$174/100","v":26.288659793814432},null,{"$f":"AO341*1000*$T$174/100","v":16.1875},{"$f":"AP341*1000*$T$174/100","v":38.062499999999993},{"$f":"AQ341*1000*$U$174/100","v":32.299999999999997},null,null,null,null,{"$f":"AV341*1000*$S$174/100","v":50.470588235294123},{"$f":"AW341*1000*$X$174/100","v":26.412371134020617},null,{"$f":"AY341*1000*$S$174/100","v":48.023529411764706},{"$f":"AZ341*1000*$W$174/100","v":17.938144329896907},{"$f":"BA341*1000*$X$174/100","v":27.835051546391757},null,{"$f":"BC341*1000*$T$174/100","v":16.1875},{"$f":"BD341*1000*$T$174/100","v":38.062499999999993},{"$f":"BE341*1000*$U$174/100","v":32.299999999999997},{"$f":"BF341*1000*$S$174/100","v":50.470588235294123},{"$f":"BG341*1000*$X$174/100","v":26.288659793814432},null,{"$f":"BI341*1000*$S$174/100","v":48.023529411764706},{"$f":"BJ341*1000*$W$174/100","v":17.938144329896907},{"$f":"BK341*1000*$Z$174/100","v":15.072164948453608},{"$f":"BL341*1000*0.1/100","v":1.6},{"$f":"BM341*1000*$T$174/100","v":16.1875},{"$f":"BN341*1000*$T$174/100","v":38.062499999999993},{"$f":"BO341*1000*$U$174/100","v":32.299999999999997}]
[null,null,"Liquid",null,null,null,null,40,null,"(15-45)",null,null,null,null,"K removal, kg/ha"]
[null,null,"Solid",null,null,null,null,25,null,"(10-40)",null,null,null,null,"Cl, kg/ha",null,null,null,0,null,null,null,null,null,null,null,null,0,0,null,0,null,null,null,null,null,null,0,0,null,0,0,0,null,null,null,null,0,0,null,0,0,0,null,0,0,0,0,0,null,0,0,0,0,0,0,0]
[null,null,"Pasture",null,null,null,null,20,null,"(5-50)",null,null,null,null,"N fixation, kg/t",null,null,null,0,null,null,null,null,null,null,null,null,{"$f":"1000*39.2/100/6.25*0.4","v":25.088000000000001},0,null,0,null,null,null,null,null,null,0,0,null,{"$f":"1000*23/100/6.25*0.67","v":24.655999999999999},{"$f":"1000*23/100/6.25*0.67","v":24.655999999999999},{"$f":"1000*19/100/6.25*0.67","v":20.367999999999999},null,null,null,null,0,0,null,0,{"$f":"1000*39.2/100/6.25*0.4","v":25.088000000000001},0,null,{"$f":"1000*23/100/6.25*0.67","v":24.655999999999999},{"$f":"1000*23/100/6.25*0.67","v":24.655999999999999},{"$f":"1000*23/100/6.25*0.67","v":24.655999999999999},0,0,null,0,{"$f":"1000*39.2/100/6.25*0.4","v":25.088000000000001},0,0,{"$f":"1000*23/100/6.25*0.67","v":24.655999999999999},{"$f":"1000*23/100/6.25*0.67","v":24.655999999999999},{"$f":"1000*23/100/6.25*0.67","v":24.655999999999999}]
[null,"Fraction of N Residues and N Fertilizers that leaches and runs-off",null,null,null,null,null,0.3,null,null,null,null,null,null,"Above ground residue, %",null,null,null,38,null,null,null,null,null,null,null,null,45,38,null,8,null,null,null,null,null,null,8,38,null,0,0,0,null,null,null,null,8,38,null,8,45,38,null,0,0,0,8,38,null,8,45,0,0,0,0,0]
[null,"Emission factor form leaching and run-off, kg N2O-N/kg N",null,null,null,null,null,1.2500000000000001E-2,null,null,null,null,null,null,"N Above ground residue, g N/kg",null,null,null,5,null,null,null,null,null,null,null,null,6,5,null,13,null,null,null,null,null,null,13,5,null,0,0,0,null,null,null,null,13,5,null,13,6,5,null,0,0,0,13,5,null,13,6,6,0,0,0,0]
[null,"Fuel (Diesel) EF (kg/L)",null,null,null,null,9.3299999999999994E-2,0.16,2.73,null,null,null,null,null,"Below ground residue, %",null,null,null,15,null,null,null,null,null,null,null,null,25,15,null,20,null,null,null,null,null,null,20,15,null,0,0,0,null,null,null,null,20,15,null,20,25,15,null,0,0,0,20,15,null,20,25,15,0,0,0,0]
[null,null,null,null,null,null,null,null,null,null,null,null,null,null,"N Below ground residue, g N/kg",null,null,null,7,null,null,null,null,null,null,null,null,10,7,null,7,null,null,null,null,null,null,7,7,null,0,0,0,null,null,null,null,7,7,null,7,10,7,null,0,0,0,7,7,null,7,10,10,0,0,0,0]
[null,null,null,null,null,null,null,null,null,null,null,null,null,null,"Fuel consumption (L/ha) (w/o fertilizers application)",null,null,null,58.6,null,null,null,null,null,null,null,null,60.1,58.6,null,101.1,null,null,null,null,null,null,101.1,58.6,null,49.3,123.3,123.3,null,null,null,null,101.1,58.6,null,101.1,60.1,58.6,null,49.3,123.3,123.3,101.1,58.6,null,101.1,60.1,46.3,0,49.3,123.3,123.3]
[null,null,null,null,null,null,null,null,null,null,null,null,null,null,"Variable costs  w/o fertilizer, $/ha",null,null,null,800.65,null,null,null,null,null,null,null,null,454.48,724.41,null,505.43,null,null,null,null,null,null,486.38,800.65,null,578.94000000000005,387.44,387.44,null,null,null,null,486.38,800.65,null,505.43,454.48,724.41,null,578.94000000000005,387.44,387.44,486.38,800.65,null,505.43,454.48,360.95,360.95,578.94000000000005,387.44,387.44]
[null,null,null,null,null,null,null,null,null,null,null,null,null,null,"Variable costs, $/t",null,null,null,0,null,null,null,null,null,null,null,null,0,0,null,0,null,null,null,null,null,null,0,0,null,0,0,0,null,null,null,null,0,0,null,0,0,0,null,0,0,0,0,0,null,0,0,0,0,0,0,0]
[null,null,null,null,null,null,null,null,null,null,null,null,null,null,"Cost $/ha",null,null,null,{"$f":"S354+S355","v":800.65},null,null,null,null,null,null,null,null,{"$f":"AB354+AB355*AB341","v":454.48},{"$f":"AC354+AC355*AC341","v":724.41},null,505.43,null,null,null,null,null,null,{"$f":"AL354+AL355*AL341","v":486.38},{"$f":"AM354+AM355*AM341","v":800.65},null,{"$f":"AO354+AO355*AO341","v":578.94000000000005},{"$f":"AP354+AP355*AP341","v":387.44},{"$f":"AQ354+AQ355*AQ341","v":387.44},null,null,null,null,447.33,{"$f":"AW354+AW355*AW341","v":800.65},null,{"$f":"AY354+AY355*AY341","v":505.43},{"$f":"AZ354+AZ355*AZ341","v":454.48},{"$f":"BA354+BA355*BA341","v":724.41},{"$f":"BB354+BB355*BB341","v":0},{"$f":"BC354+BC355*BC341","v":578.94000000000005},387.44,{"$f":"BE354+BE355*BE341","v":387.44},{"$f":"BF354+BF355*BF341","v":486.38},{"$f":"BG354+BG355*BG341","v":800.65},null,{"$f":"BI354+BI355*BI341","v":505.43},454.48,360.95,{"$f":"BL354+BL355*BL341-200","v":160.94999999999999},578.94000000000005,387.44,387.44]
[]
[null,null,null,null,null,null,null,null,null,null,null,null,null,null,"Land Unit 5",null,null,"Rotation 1 name:",null,"CCC",null,null,null,null,null,null,null,"Rotation 2 name:",null,"SCC",null,null,null,null,null,null,null,"Rotation 3 name:",null,"CCAAA",null,null,null,null,null,null,null,"Rotation 4 name:",null,"CCCSCAAA",null,null,null,null,null,null,null,"Rotation 5 name:",null,"CCCSWAAA"]
[null,null,null,null,null,null,null,null,null,null,null,null,null,null,"Crops:",null,null,null,"CoGr-27",null,null,null,null,null,null,null,null,"SBw-108","CoGr-27",null,"CoSi-35",null,null,null,null,null,null,"CoSi-35","CoGr-27",null,"AlSi-83","AlSi-83","MxSi-74",null,null,null,null,"CoSi-35","CoGr-27",null,"CoSi-35","SBw-108","CoGr-27",null,"AlSi-83","AlSi-83","MxSi-74","CoSi-35","CoGr-27",null,"CoSi-35","SBw-108","Wheat-116","Straw-120","AlSi-83","AlSi-83","MxSi-74"]
[null,null,null,null,null,null,null,null,null,null,null,null,null,null,"Year",null,null,null,1,null,null,null,null,null,null,null,null,1,2,null,3,null,null,null,null,null,null,1,2,null,3,4,5,null,null,null,null,1,2,null,3,4,5,null,6,7,8,1,2,null,3,4,5,5,6,7,8]
[null,null,null,null,null,null,null,null,null,null,null,null,null,null,"Yield, t DM/yr",null,null,null,{"$f":"8.1/0.97","v":8.3505154639175263},null,null,null,null,null,null,null,null,{"$f":"2.86/0.97","v":2.9484536082474224},{"$f":"9/0.97","v":9.2783505154639183},null,{"$f":"15.7/0.85","v":18.470588235294116},null,null,null,null,null,null,{"$f":"16.5/0.85","v":19.411764705882355},{"$f":"8.5/0.97","v":8.7628865979381452},null,{"$f":"3.7/0.8","v":4.625},{"$f":"8.7/0.8","v":10.874999999999998},{"$f":"7.6/0.8","v":9.4999999999999982},null,null,null,null,{"$f":"16.5/0.85","v":19.411764705882355},{"$f":"8.54/0.97","v":8.8041237113402051},null,{"$f":"15.7/0.85","v":18.470588235294116},{"$f":"2.9/0.97","v":2.9896907216494846},{"$f":"9/0.97","v":9.2783505154639183},null,{"$f":"3.7/0.8","v":4.625},{"$f":"8.7/0.8","v":10.874999999999998},{"$f":"7.6/0.8","v":9.4999999999999982},{"$f":"16.5/0.85","v":19.411764705882355},{"$f":"8.5/0.97","v":8.7628865979381452},null,{"$f":"15.7/0.85","v":18.470588235294116},{"$f":"2.9/0.97","v":2.9896907216494846},{"$f":"3.4/0.97","v":3.5051546391752577},1.6,{"$f":"3.7/0.8","v":4.625},{"$f":"8.7/0.8","v":10.874999999999998},{"$f":"7.6/0.8","v":9.4999999999999982}]
[null,null,null,null,null,null,null,null,null,null,null,null,null,null,"N,  kg/ha",null,null,null,179,null,null,null,null,null,null,null,null,0,{"$f":"179-44.8","v":134.19999999999999},null,179,null,null,null,null,null,null,{"$f":"179-156","v":23},{"$f":"179-56","v":123},null,0,0,0,null,null,null,null,{"$f":"179-156","v":23},{"$f":"179-56","v":123},null,179,0,{"$f":"179-44.8","v":134.19999999999999},null,0,0,0,{"$f":"179-156","v":23},{"$f":"179-56","v":123},null,179,0,{"$f":"67-44.8","v":22.200000000000003},0,0,0,0]
[null,null,null,null,null,null,null,null,null,null,null,null,null,null,"P2O5,  kg/ha",null,null,null,101,null,null,null,null,null,null,null,null,62,101,null,118,null,null,null,null,null,null,118,101,null,48,112,112,null,null,null,null,118,101,null,118,62,101,null,48,112,112,118,101,null,118,62,67,0,48,112,112]
[null,null,null,null,null,null,null,null,null,null,null,null,null,null,"K2O, kg/ha",null,null,null,112,null,null,null,null,null,null,null,null,118,112,null,205,null,null,null,null,null,null,205,112,null,120,280,280,null,null,null,null,205,112,null,205,118,112,null,120,280,280,205,112,null,205,118,112,0,120,280,280]
[null,null,null,null,null,null,null,null,null,null,null,null,null,null,"P removal, kg/ha",null,null,null,{"$f":"S361*1000*$X$174/100","v":25.051546391752581},null,null,null,null,null,null,null,null,{"$f":"AB361*1000*$W$174/100","v":17.690721649484534},{"$f":"AC361*1000*$X$174/100","v":27.835051546391757},null,{"$f":"AE361*1000*$S$174/100","v":48.023529411764706},null,null,null,null,null,null,{"$f":"AL361*1000*$S$174/100","v":50.470588235294123},{"$f":"AM361*1000*$X$174/100","v":26.288659793814432},null,{"$f":"AO361*1000*$T$174/100","v":16.1875},{"$f":"AP361*1000*$T$174/100","v":38.062499999999993},{"$f":"AQ361*1000*$U$174/100","v":32.299999999999997},null,null,null,null,{"$f":"AV361*1000*$S$174/100","v":50.470588235294123},{"$f":"AW361*1000*$X$174/100","v":26.412371134020617},null,{"$f":"AY361*1000*$S$174/100","v":48.023529411764706},{"$f":"AZ361*1000*$W$174/100","v":17.938144329896907},{"$f":"BA361*1000*$X$174/100","v":27.835051546391757},null,{"$f":"BC361*1000*$T$174/100","v":16.1875},{"$f":"BD361*1000*$T$174/100","v":38.062499999999993},{"$f":"BE361*1000*$U$174/100","v":32.299999999999997},{"$f":"BF361*1000*$R$173/100","v":58.235294117647072},{"$f":"BG361*1000*$W$173/100","v":52.577319587628864},null,{"$f":"BI361*1000*$R$173/100","v":55.411764705882341},{"$f":"BJ361*1000*$V$173/100","v":8.9690721649484537},{"$f":"BK361*1000*$Y$173/100","v":21.030927835051543},{"$f":"BL361*1000*$AA$173/100","v":9.6},{"$f":"BM361*1000*$S$173/100","v":27.75},{"$f":"BN361*1000*$S$173/100","v":65.249999999999986},{"$f":"BO361*1000*$T$173/100","v":28.499999999999996}]
[null,null,null,null,null,null,null,null,null,null,null,null,null,null,"K removal, kg/ha"]
[null,null,null,null,null,null,null,null,null,null,null,null,null,null,"Cl, kg/ha",null,null,null,0,null,null,null,null,null,null,null,null,0,0,null,0,null,null,null,null,null,null,0,0,null,0,0,0,null,null,null,null,0,0,null,0,0,0,null,0,0,0,0,0,null,0,0,0,0,0,0,0]
[null,null,null,null,null,null,null,null,null,null,null,null,null,null,"N fixation, kg/t",null,null,null,0,null,null,null,null,null,null,null,null,{"$f":"1000*39.2/100/6.25*0.4","v":25.088000000000001},0,null,0,null,null,null,null,null,null,0,0,null,{"$f":"1000*23/100/6.25*0.67","v":24.655999999999999},{"$f":"1000*23/100/6.25*0.67","v":24.655999999999999},{"$f":"1000*19/100/6.25*0.67","v":20.367999999999999},null,null,null,null,0,0,null,0,{"$f":"1000*39.2/100/6.25*0.4","v":25.088000000000001},0,null,{"$f":"1000*23/100/6.25*0.67","v":24.655999999999999},{"$f":"1000*23/100/6.25*0.67","v":24.655999999999999},{"$f":"1000*23/100/6.25*0.67","v":24.655999999999999},0,0,null,0,{"$f":"1000*39.2/100/6.25*0.4","v":25.088000000000001},0,0,{"$f":"1000*23/100/6.25*0.67","v":24.655999999999999},{"$f":"1000*23/100/6.25*0.67","v":24.655999999999999},{"$f":"1000*23/100/6.25*0.67","v":24.655999999999999}]
[null,null,null,null,null,null,null,null,null,null,null,null,null,null,"Above ground residue, %",null,null,null,38,null,null,null,null,null,null,null,null,45,38,null,8,null,null,null,null,null,null,8,38,null,0,0,0,null,null,null,null,8,38,null,8,45,38,null,0,0,0,8,38,null,8,45,0,0,0,0,0]
[null,null,null,null,null,null,null,null,null,null,null,null,null,null,"N Above ground residue, g N/kg",null,null,null,5,null,null,null,null,null,null,null,null,6,5,null,13,null,null,null,null,null,null,13,5,null,0,0,0,null,null,null,null,13,5,null,13,6,5,null,0,0,0,13,5,null,13,6,6,0,0,0,0]
[null,null,null,null,null,null,null,null,null,null,null,null,null,null,"Below ground residue, %",null,null,null,15,null,null,null,null,null,null,null,null,25,15,null,20,null,null,null,null,null,null,20,15,null,0,0,0,null,null,null,null,20,15,null,20,25,15,null,0,0,0,20,15,null,20,25,15,0,0,0,0]
[null,null,null,null,null,null,null,null,null,null,null,null,null,null,"N Below ground residue, g N/kg",null,null,null,7,null,null,null,null,null,null,null,null,10,7,null,7,null,null,null,null,null,null,7,7,null,0,0,0,null,null,null,null,7,7,null,7,10,7,null,0,0,0,7,7,null,7,10,10,0,0,0,0]
[null,null,null,null,null,null,null,null,null,null,null,null,null,null,"Fuel consumption (L/ha) (w/o fertilizers application)",null,null,null,58.6,null,null,null,null,null,null,null,null,60.1,58.6,null,101.1,null,null,null,null,null,null,101.1,58.6,null,49.3,123.3,123.3,null,null,null,null,101.1,58.6,null,101.1,60.1,58.6,null,49.3,123.3,123.3,101.1,58.6,null,101.1,60.1,46.3,0,49.3,123.3,123.3]
[null,null,null,null,null,null,null,null,null,null,null,null,null,null,"Variable costs  w/o fertilizer, $/ha",null,null,null,800.65,null,null,null,null,null,null,null,null,454.48,724.41,null,505.43,null,null,null,null,null,null,486.38,800.65,null,578.94000000000005,387.44,387.44,null,null,null,null,486.38,800.65,null,505.43,454.48,724.41,null,578.94000000000005,387.44,387.44,486.38,800.65,null,505.43,454.48,360.95,360.95,578.94000000000005,387.44,387.44]
[null,null,null,null,null,null,null,null,null,null,null,null,null,null,"Variable costs, $/t",null,null,null,0,null,null,null,null,null,null,null,null,0,0,null,0,null,null,null,null,null,null,0,0,null,0,0,0,null,null,null,null,0,0,null,0,0,0,null,0,0,0,0,0,null,0,0,0,0,0,0,0]
[null,null,null,null,null,null,null,null,null,null,null,null,null,null,"Cost $/ha",null,null,null,{"$f":"S374+S375","v":800.65},null,null,null,null,null,null,null,null,{"$f":"AB374+AB375*AB361","v":454.48},{"$f":"AC374+AC375*AC361","v":724.41},null,505.43,null,null,null,null,null,null,{"$f":"AL374+AL375*AL361","v":486.38},{"$f":"AM374+AM375*AM361","v":800.65},null,{"$f":"AO374+AO375*AO361","v":578.94000000000005},{"$f":"AP374+AP375*AP361","v":387.44},{"$f":"AQ374+AQ375*AQ361","v":387.44},null,null,null,null,447.33,{"$f":"AW374+AW375*AW361","v":800.65},null,{"$f":"AY374+AY375*AY361","v":505.43},{"$f":"AZ374+AZ375*AZ361","v":454.48},{"$f":"BA374+BA375*BA361","v":724.41},null,{"$f":"BC374+BC375*BC361","v":578.94000000000005},387.44,{"$f":"BE374+BE375*BE361","v":387.44},{"$f":"BF374+BF375*BF361","v":486.38},{"$f":"BG374+BG375*BG361","v":800.65},null,{"$f":"BI374+BI375*BI361","v":505.43},454.48,360.95,{"$f":"BL374+BL375*BL361-200","v":160.94999999999999},578.94000000000005,387.44,387.44]
[]
[]
[]
[]
[]
[]
[]
[]
[]
["Internal codes - Do not change"]
["Scenario",null,2]
["Sources for drop boxes"]
[null,"Manure collection/storage method",null,null,null,"Type of storage facility",null,"Options",null,null,"Method of manure spreading",null,null,null,null,"Breed"]
[1,"Liquid",null,null,1,{"$f":"IF('Scenario 2'!$D$232=\"Liquid\",\"DH\",IF('Scenario 2'!$D$232=\"Solid\",\"S\"))","v":"DH"},1,{"$f":"IF('Scenario 2'!$J$232=\"LS\",\"Covered\",IF('Scenario 2'!$J$232=\"S\",\"Stack with a liquid part\",\"-\"))","v":"Covered"},null,1,{"$f":"IF('Scenario 2'!$D$232=\"Liquid\",\"Broadcast, no incorporation\",IF('Scenario 2'!$D$232=\"Solid\",\"Box spreader, no incorporation\",\"-\"))","v":"Broadcast, no incorporation"},null,null,null,null,"Holstein"]
[1,"Solid",null,null,1,{"$f":"IF('Scenario 2'!$D$232=\"Liquid\",\"LS\",IF('Scenario 2'!$D$232=\"Solid\",\"BP\"))","v":"LS"},1,{"$f":"IF('Scenario 2'!$J$232=\"LS\",\"Uncov. Bottom Loaded\",IF('Scenario 2'!$J$232=\"S\",\"Stack without a liquid part\",\"-\"))","v":"Uncov. Bottom Loaded"},null,1,{"$f":"IF('Scenario 2'!$D$232=\"Liquid\",\"Broadcast, incorporated within 48h\",IF('Scenario 2'!$D$232=\"Solid\",\"Box spreader, incorporated within 48h\",\"-\"))","v":"Broadcast, incorporated within 48h"},null,null,null,null,"Brown Swiss"]
[2,"Liquid",null,null,1,{"$f":"IF('Scenario 2'!$D$232=\"Liquid\",\"-\",IF('Scenario 2'!$D$232=\"Solid\",\"C\"))","v":"-"},1,{"$f":"IF('Scenario 2'!$J$232=\"LS\",\"Uncov. Top Loaded\",\"-\")","v":"Uncov. Top Loaded"},null,1,{"$f":"IF('Scenario 2'!$D$232=\"Liquid\",\"Spray bar misting, no incorporation\",\"-\")","v":"Spray bar misting, no incorporation"},null,null,null,null,"Guernsey"]
[2,"Solid",null,null,2,{"$f":"IF('Scenario 2'!$D$233=\"Liquid\",\"DH\",IF('Scenario 2'!$D$233=\"Solid\",\"S\"))","v":"DH"},2,{"$f":"IF('Scenario 2'!$J$233=\"LS\",\"Covered\",IF('Scenario 2'!$J$233=\"S\",\"Stack with a liquid part\",\"-\"))","v":"Covered"},null,1,{"$f":"IF('Scenario 2'!$D$232=\"Liquid\",\"Spray bar misting, incorporated within 48h\",\"-\")","v":"Spray bar misting, incorporated within 48h"},null,null,null,null,"Ayrshire"]
[3,"Liquid",null,null,2,{"$f":"IF('Scenario 2'!$D$233=\"Liquid\",\"LS\",IF('Scenario 2'!$D$233=\"Solid\",\"BP\"))","v":"LS"},2,{"$f":"IF('Scenario 2'!$J$233=\"LS\",\"Uncov. Bottom Loaded\",IF('Scenario 2'!$J$233=\"S\",\"Stack without a liquid part\",\"-\"))","v":"Uncov. Bottom Loaded"},null,1,{"$f":"IF('Scenario 2'!$D$232=\"Liquid\",\"Knifing in\",\"-\")","v":"Knifing in"},null,null,null,null,"Jersey"]
[3,"Solid",null,null,2,{"$f":"IF('Scenario 2'!$D$233=\"Liquid\",\"-\",IF('Scenario 2'!$D$233=\"Solid\",\"C\"))","v":"-"},2,{"$f":"IF('Scenario 2'!$J$233=\"LS\",\"Uncov. Top Loaded\",\"-\")","v":"Uncov. Top Loaded"},null,2,{"$f":"IF('Scenario 2'!$D$233=\"Liquid\",\"Broadcast, no incorporation\",IF('Scenario 2'!$D$233=\"Solid\",\"Box spreader, no incorporation\",\"-\"))","v":"Broadcast, no incorporation"},null,null,null,null,"M. Shorthorn"]
[4,"Liquid",null,null,3,{"$f":"IF('Scenario 2'!$D$234=\"Liquid\",\"DH\",IF('Scenario 2'!$D$234=\"Solid\",\"S\"))","v":"DH"},3,{"$f":"IF('Scenario 2'!$J$234=\"LS\",\"Covered\",IF('Scenario 2'!$J$234=\"S\",\"Stack with a liquid part\",\"-\"))","v":"Covered"},null,2,{"$f":"IF('Scenario 2'!$D$233=\"Liquid\",\"Broadcast, incorporated within 48h\",IF('Scenario 2'!$D$233=\"Solid\",\"Box spreader, incorporated within 48h\",\"-\"))","v":"Broadcast, incorporated within 48h"}]
[4,"Solid",null,null,3,{"$f":"IF('Scenario 2'!$D$234=\"Liquid\",\"LS\",IF('Scenario 2'!$D$234=\"Solid\",\"BP\"))","v":"LS"},3,{"$f":"IF('Scenario 2'!$J$234=\"LS\",\"Uncov. Bottom Loaded\",IF('Scenario 2'!$J$234=\"S\",\"Stack without a liquid part\",\"-\"))","v":"Uncov. Bottom Loaded"},null,2,{"$f":"IF('Scenario 2'!$D$233=\"Liquid\",\"Spray bar misting, no incorporation\",\"-\")","v":"Spray bar misting, no incorporation"}]
[5,"Liquid",null,null,3,{"$f":"IF('Scenario 2'!$D$234=\"Liquid\",\"-\",IF('Scenario 2'!$D$234=\"Solid\",\"C\"))","v":"-"},3,{"$f":"IF('Scenario 2'!$J$234=\"LS\",\"Uncov. Top Loaded\",\"-\")","v":"Uncov. Top Loaded"},null,2,{"$f":"IF('Scenario 2'!$D$233=\"Liquid\",\"Spray bar misting, incorporated within 48h\",\"-\")","v":"Spray bar misting, incorporated within 48h"}]
[5,"Solid",null,null,4,{"$f":"IF('Scenario 2'!$D$235=\"Liquid\",\"DH\",IF('Scenario 2'!$D$235=\"Solid\",\"S\"))","v":"DH"},4,{"$f":"IF('Scenario 2'!$J$235=\"LS\",\"Covered\",IF('Scenario 2'!$J$235=\"S\",\"Stack with a liquid part\",\"-\"))","v":"Covered"},null,2,{"$f":"IF('Scenario 2'!$D$233=\"Liquid\",\"Knifing in\",\"-\")","v":"Knifing in"}]
[null,null,null,null,4,{"$f":"IF('Scenario 2'!$D$235=\"Liquid\",\"LS\",IF('Scenario 2'!$D$235=\"Solid\",\"BP\"))","v":"LS"},4,{"$f":"IF('Scenario 2'!$J$235=\"LS\",\"Uncov. Bottom Loaded\",IF('Scenario 2'!$J$235=\"S\",\"Stack without a liquid part\",\"-\"))","v":"Uncov. Bottom Loaded"},null,3,{"$f":"IF('Scenario 2'!$D$234=\"Liquid\",\"Broadcast, no incorporation\",IF('Scenario 2'!$D$234=\"Solid\",\"Box spreader, no incorporation\",\"-\"))","v":"Broadcast, no incorporation"}]
[null,null,null,null,4,{"$f":"IF('Scenario 2'!$D$235=\"Liquid\",\"-\",IF('Scenario 2'!$D$235=\"Solid\",\"C\"))","v":"-"},4,{"$f":"IF('Scenario 2'!$J$235=\"LS\",\"Uncov. Top Loaded\",\"-\")","v":"Uncov. Top Loaded"},null,3,{"$f":"IF('Scenario 2'!$D$234=\"Liquid\",\"Broadcast, incorporated within 48h\",IF('Scenario 2'!$D$234=\"Solid\",\"Box spreader, incorporated within 48h\",\"-\"))","v":"Broadcast, incorporated within 48h"}]
[null,null,null,null,5,{"$f":"IF('Scenario 2'!$D$236=\"Liquid\",\"DH\",IF('Scenario 2'!$D$236=\"Solid\",\"S\"))","v":"DH"},5,{"$f":"IF('Scenario 2'!$J$236=\"LS\",\"Covered\",IF('Scenario 2'!$J$236=\"S\",\"Stack with a liquid part\",\"-\"))","v":"Covered"},null,3,{"$f":"IF('Scenario 2'!$D$234=\"Liquid\",\"Spray bar misting, no incorporation\",\"-\")","v":"Spray bar misting, no incorporation"}]
[null,null,null,null,5,{"$f":"IF('Scenario 2'!$D$236=\"Liquid\",\"LS\",IF('Scenario 2'!$D$236=\"Solid\",\"BP\"))","v":"LS"},5,{"$f":"IF('Scenario 2'!$J$236=\"LS\",\"Uncov. Bottom Loaded\",IF('Scenario 2'!$J$236=\"S\",\"Stack without a liquid part\",\"-\"))","v":"Uncov. Bottom Loaded"},null,3,{"$f":"IF('Scenario 2'!$D$234=\"Liquid\",\"Spray bar misting, incorporated within 48h\",\"-\")","v":"Spray bar misting, incorporated within 48h"}]
[null,null,null,null,5,{"$f":"IF('Scenario 2'!$D$236=\"Liquid\",\"-\",IF('Scenario 2'!$D$236=\"Solid\",\"C\"))","v":"-"},5,{"$f":"IF('Scenario 2'!$J$236=\"LS\",\"Uncov. Top Loaded\",\"-\")","v":"Uncov. Top Loaded"},null,3,{"$f":"IF('Scenario 2'!$D$234=\"Liquid\",\"Knifing in\",\"-\")","v":"Knifing in"}]
[null,null,null,null,null,null,null,null,null,4,{"$f":"IF('Scenario 2'!$D$235=\"Liquid\",\"Broadcast, no incorporation\",IF('Scenario 2'!$D$235=\"Solid\",\"Box spreader, no incorporation\",\"-\"))","v":"Broadcast, no incorporation"}]
[null,null,null,null,null,null,null,null,null,4,{"$f":"IF('Scenario 2'!$D$235=\"Liquid\",\"Broadcast, incorporated within 48h\",IF('Scenario 2'!$D$235=\"Solid\",\"Box spreader, incorporated within 48h\",\"-\"))","v":"Broadcast, incorporated within 48h"}]
[null,null,null,null,null,null,null,null,null,4,{"$f":"IF('Scenario 2'!$D$235=\"Liquid\",\"Spray bar misting, no incorporation\",\"-\")","v":"Spray bar misting, no incorporation"}]
[null,null,null,null,null,null,null,null,null,4,{"$f":"IF('Scenario 2'!$D$235=\"Liquid\",\"Spray bar misting, incorporated within 48h\",\"-\")","v":"Spray bar misting, incorporated within 48h"}]
[null,null,null,null,null,null,null,null,null,4,{"$f":"IF('Scenario 2'!$D$235=\"Liquid\",\"Knifing in\",\"-\")","v":"Knifing in"}]
[null,null,null,null,null,null,null,null,null,5,{"$f":"IF('Scenario 2'!$D$236=\"Liquid\",\"Broadcast, no incorporation\",IF('Scenario 2'!$D$236=\"Solid\",\"Box spreader, no incorporation\",\"-\"))","v":"Broadcast, no incorporation"}]
[null,null,null,null,null,null,null,null,null,5,{"$f":"IF('Scenario 2'!$D$236=\"Liquid\",\"Broadcast, incorporated within 48h\",IF('Scenario 2'!$D$236=\"Solid\",\"Box spreader, incorporated within 48h\",\"-\"))","v":"Broadcast, incorporated within 48h"}]
[null,null,null,null,null,null,null,null,null,5,{"$f":"IF('Scenario 2'!$D$236=\"Liquid\",\"Spray bar misting, no incorporation\",\"-\")","v":"Spray bar misting, no incorporation"}]
[null,null,null,null,null,null,null,null,null,5,{"$f":"IF('Scenario 2'!$D$236=\"Liquid\",\"Spray bar misting, incorporated within 48h\",\"-\")","v":"Spray bar misting, incorporated within 48h"}]
[null,null,null,null,null,null,null,null,null,5,{"$f":"IF('Scenario 2'!$D$236=\"Liquid\",\"Knifing in\",\"-\")","v":"Knifing in"}]

{"sheet":"Scenario 2","index":2,"n_rows":414,"n_cols":67,"rows_kept":414,"cut":false,"hidden":false,"merged":[[308,7,308,10],[242,3,242,6],[310,1,310,3],[243,3,243,6],[305,7,305,10],[306,1,306,2],[306,7,306,10],[307,7,307,10],[308,1,308,3],[240,3,240,6],[241,3,241,6],[231,11,231,12],[232,11,232,12],[233,11,233,12],[234,11,234,12],[235,11,235,12],[239,3,239,6]]}
[]
[]
[]
[null,null,null,null,null,null,"1. Herd description",null,"4. Feed inputs"]
[]
[null,null,null,null,null,null,"2. Economic Inputs",null,"5. Manure and Fertilizers"]
[]
[null,null,null,null,null,null,"3. Ration Composition",null,"6. Crops and Rotations"]
[]
[]
[]
[]
[]
[]
[]
[]
[]
[null,null,null,null,null,null,null,null,null,null,null,null,null,null,null,null,null,{"$f":"28/12","v":2.3333333333333335}]
[]
[]
["1. Herd Description"]
["1.1 Herd Structure",null,null,null,null,null,null,null,null,null,null,null,null,null,"HERD DYNAMIC COMPUTATION AREA"]
[null,"N-CyCLE can model the nutritional requirements of up to 5 groups",null,null,null,null,null,"GROUP",null,null,null,null,null,null,"Heifer group Selection:",null,"2H (<1yr)","2H (>1yr)","2H (>1yr)","All together","2H(>1yr)",null,null,null,null,null,null,null,"Annual"]
[null,null,"Your choices are as follows:",null,null,1,2,3,4,5,null,null,null,null,"Heifer group Selection:",null,"(a)","(b)","[c]","(a+b+c)","(b+c)",null,null,null,null,null,null,null,"(yr 2) Heifers",null,"Annual"]
[null,null,"\"3\" groups of cows and two groups of heifers:",null,null,"Early lactation","Mid-late lac.","Dry cows","Heifers<1yr old","Heifers>1yr old",null,null,null,null,"Age span:",null,"2-12-mths","12-24 mths","> 24 mths",">2 mths",">12 mths",null,null,null,null,"2-12 mths","12-24 mths","> 24 mths","Needed for",null,"Heifers"]
[null,null,"\"4\" groups of cows and one group of heifers:",null,null,"Early lactation","Mid-late lac.","Early dry cows","Pre-fresh cows","All Heifers",null,null,null,null,"Heifer# in herd",null,{"$f":"IF(E42=1,Z28,Z28-0.5*AD28)","v":30.446349650349653},{"$f":"IF(E42=1,AA28,AA28-0.5*AD28)","v":29.789286713286714},{"$f":"IF(E42=1,AB28,IF(E40<24,0,((R26*E40/24)-R26)+AE28))","v":3.7236608391608357},{"$f":"SUM(Q26:S26)","v":63.959297202797202},{"$f":"SUM(R26:S26)","v":33.51294755244755},null,null,null,null,"group 1","group 2","group 2","Replacement","Annual","(>24 mths)"]
[null,null,"Make your choice here:",null,3,null,null,null,null,null,null,null,null,null,"Frcn in each group:",null,{"$f":"Q26/$T$26","v":0.47602695748536317},{"$f":"R26/$T$26","v":0.4657538155685661},{"$f":"S26/$T$26","v":5.8219226946070707E-2},{"$f":"SUM(Q27:S27)","v":1},{"$f":"SUM(R27:S27)","v":0.52397304251463683},null,"Total Cows","Calf born","Calf alive","Heifer alive","Heifer #","Heifer #","only","Heifer sold","Purchased","Total Heifers"]
[null,null,null,null,null,null,null,null,null,null,null,null,null,null,"Frcn H>24mths/all H>12 mths",null,null,{"$f":"R27/SUM(R27:S27)","v":0.88888888888888895},{"$f":"S27/SUM(R27:S27)","v":0.11111111111111101},"---",{"$f":"SUM(R28:S28)","v":1},null,{"$f":"IF(E27=3,SUM(R98:T98),SUM(R98:U98))","v":87},{"$f":"E31*12/E33","v":73.006993006993},{"$f":"E31*12/E33*(1-(E39/100))","v":65.706293706293707},{"$f":"Y28*0.5","v":32.853146853146853},{"$f":"Z28*0.98","v":32.196083916083914},{"$f":"IF(E40<24,0,(AA28*E40/24)-AA28)","v":4.0245104895104902},{"$f":"E31*E34/100","v":31.407000000000004},{"$f":"IF(SUM(AA28:AB28)<AC28,0,IF(E42=1,0,SUM(AA28:AB28)-AC28))","v":4.8135944055944009},{"$f":"IF(AC28<SUM(AA28:AB28),0,(AC28-SUM(AA28:AB28)))","v":0},{"$f":"T26","v":63.959297202797202}]
["1.2.  Herd Structure: Cows",null,null,null,null,null,null,null,null,null,null,"Breed","Mature BW (kg)",null,null,null,null,null,null,null,null,null,null,null,null,null,"Note: Mortality Heifer> 1 yr = 2%"]
[null,"Breed",null,null,"Holstein","Breed will influence mature body weight and some heifer growth parameters",null,null,null,null,null,"Holstein",682,null,"Actual days in each group",null,{"$f":"365-(1.5*30.4)","v":319.39999999999998},{"$f":"IF(E40>24,365,E40*30.4-365)","v":365},{"$f":"IF(E40<24,0,(E40-24)*30.4)","v":91.199999999999989},{"$f":"SUM(Q30:S30)","v":775.59999999999991},{"$f":"SUM(R30:S30)","v":456.2}]
[null,"Total cow (dry and lactating)",null,"Heads",87,null,null,null,null,null,null,"Brown Swiss",682,null,"Frcn days in each group",null,{"$f":"Q30/$T$30","v":0.41181021144920066},{"$f":"R30/$T$30","v":0.47060340381640026},{"$f":"S30/$T$30","v":0.11758638473439917},{"$f":"SUM(Q31:S31)","v":1},{"$f":"SUM(R31:S31)","v":0.5881897885507994}]
[null,"Cow body weight (BW)",null,"Kg",647,"Average body weight of cows in the herd will influence level of feed (dry matter) intake",null,null,null,null,null,"Guernsey",500,null,"Frcn H>24mths/all H>12 mths",null,null,{"$f":"R31/SUM(R31:S31)","v":0.80008768084173609},{"$f":"S31/SUM(R31:S31)","v":0.19991231915826391},"---",{"$f":"SUM(R32:S32)","v":1},null,null,null,null,null,null,null,null,null,null,null,null,null,null,null,null,null,null,null,"Calving interval"]
[null,"Calving interval",null,"Months",14.3,"Calving interval will influence number of heifer born and duration of a lactation",null,null,null,null,null,"Ayrshire",545,null,null,null,null,null,null,null,null,null,null,null,null,null,null,null,null,null,null,null,null,null,null,null,null,null,null,null,423,"days"]
[null,"Culling rate",null,"%",36.1,"Culling rate will influence number of heifers needed to maintain herd size and number of animal sold ",null,null,null,null,null,"Jersey",454,null,null,null,null,null,null,null,null,null,null,null,null,null,null,null,null,null,null,null,null,null,null,null,null,null,null,null,{"$f":"AO33/30.4","v":13.914473684210527},"months"]
[null,null,null,null,null,null,null,null,null,null,null,"Milk. Shorthorn",568,null,"Midpoint Age (mth)",null,6,{"$f":"IF(E40>24,18,12+(E40-12)/2)","v":18},{"$f":"IF(E40>24,(E40-24)/2,\"NA\")","v":1.5},null,{"$f":"IF(E40<24,R35,(12+E40)/2)","v":19.5}]
["1.3.  Herd Structure: Heifers",null,null,null,null,null,null,null,null,null,null,null,null,null,"Mature BW,kg",{"$f":"IF(E30=\"Holstein\",682,IF(E30=\"Brown Swiss\",682,IF(E30=\"Guernsey\",500,IF(E30=\"Aryshire\",545,IF(E30=\"Jersey\",454,IF(E30=\"M. Shorthorn\",568,0))))))","v":682}]
[null,"N-CyCLE computes heifer herd size based on calving interval,",null,null,null,null,null,null,null,null,null,null,null,null,"% of mature BW at midpoint",null,27.7,72.2,{"$f":"IF(U35>R35,(U35-R35),\"NA\")","v":1.5},null,{"$f":"100*((R37/100)+(3.67*(U35-R35))/100)","v":77.704999999999998},null,null,null,null,null,null,null,null,null,null,null,null,null,null,null,null,null,null,null,"Culling rate"]
[null,"culling rates and other parameters:",null,null,null,null,null,null,null,null,null,null,null,null,"Average BW at midpoint (kg):",null,{"$f":"P36*Q37%","v":188.91399999999999},{"$f":"P36*R37%","v":492.404},{"$f":"IF(E40>24,R38+(6*30.4*T52)+(T52*S35*30.4),\"NA\")","v":674.80399999999997},{"$f":"P36*(Q37%*Q27+U37*U27%)","v":367.6066749782409},{"$f":"P36*U37%","v":529.94810000000007},null,null,null,null,null,null,null,null,null,null,null,null,null,null,null,null,null,null,null,null,"out of the herd"]
[null,"Mortality rate",null,"%",10,"Percent of born heifers that do not survive the first year of life. N-Cycle will assume an additional 2% mortality of Heifers>1 yr of age.",null,null,null,null,null,null,null,null,null,null,null,null,null,null,null,null,null,null,null,null,null,null,null,null,null,null,null,null,null,null,null,null,null,null,{"$f":"AO38/E31*100","v":0},"culling rate"]
[null,"Age at 1st calving",null,"Months",27,"The older a heifer is at first calving, the longer she stays in the replacement herd."]
[null,"Do you sell heifers?",null,null,null,null,null,null,null,null,null,null,null,null,"HERD",null,null,"GROUP"]
[null,"Choice \"1\" = keep and raise all heifers",null,null,2,null,null,null,null,null,null,null,null,null,"DESCRIPTION",1,2,3,4,5]
[null,"Choice \"2\" = Raise needed replacement only",null,null,null,null,null,null,null,null,null,null,null,null,"SUMMARY",{"$f":"F25","v":"Early lactation"},{"$f":"G25","v":"Mid-late lac."},{"$f":"IF($E$27=4,H26,H25)","v":"Dry cows"},{"$f":"IF($E$27=4,I26,I25)","v":"Heifers<1yr old"},{"$f":"IF($E$27=4,J26,J25)","v":"Heifers>1yr old"},null,null,null,null,null,null,null,null,null,null,null,null,null,null,null,null,null,null,null,null,{"$f":"AO44/((R99+0.59*S99)*0.9)","v":39.689070175369856},"Peak milk production (kd/day)"]
[null,null,null,null,null,null,null,null,null,null,null,null,null,null,"Total Days",152,{"$f":"ROUNDUP(153+(E33-12)*30.4,0)","v":223},{"$f":"IF(R43=\"Dry cows\",60,39)","v":60},{"$f":"IF(S43=\"Pre-fresh Cows\",21,ROUNDDOWN(365-(1.5*30.4),0))","v":319},{"$f":"IF(T43=\"Heifers>1yr old\",ROUNDUP(365+(E40-24)*30.4,0),ROUNDUP(730+(E40-24)*30.4,0))","v":457},"Days during which an animal stays in a group",null,null,null,null,null,null,null,null,null,null,null,null,null,null,null,null,null,null,null,{"$f":"AO45*E33/12","v":10129.166666666666},"kg/cow/lactation"]
["1.4. Production Parameters",null,null,null,null,null,null,null,null,null,null,null,null,null,"Days in milk",{"$f":"MEDIAN(0,P44)","v":76},{"$f":"MEDIAN(P44,(P44+Q44))","v":263.5},"na","na","na","Average days since calving",null,null,null,null,null,null,null,null,null,null,null,null,null,null,null,null,null,null,null,8500,"kg/cow/year"]
[null,"Average peak milk production",null,"Kg/d",40.6,"Based on peak milk prodcution N-CyCLE computes milk production for the lactation and a calendar year.",null,null,null,null,null,null,null,null,"BW, kg",{"$f":"E32","v":647},{"$f":"E32","v":647},{"$f":"IF($E$27=4,E32,E32)","v":647},{"$f":"IF($E$27=4,E32,Q38)","v":188.91399999999999},{"$f":"IF($E$27=4,T38,U38)","v":529.94810000000007},null,null,null,null,null,null,null,null,null,null,null,null,null,null,null,null,null,null,null,null,3.9,"kg/hl = ",{"$f":"AO46/1.03","v":3.7864077669902909},"% fat"]
[null,"Milk performance",null,"Kg/cow/lactation",{"$f":"(P47*R99)+(Q47*S99)","v":10361.647799999999},null,null,null,null,null,null,null,null,null,"Milk yield, kg/d",{"$f":"E46*0.9","v":36.54},{"$f":"P47*0.59","v":21.558599999999998},0,0,0,"Milk yield and composition influence nutritional requirements and exports of nutrients from the farm",null,null,null,null,null,null,null,null,null,null,null,null,null,null,null,null,null,null,null,3.32,"kg/hl = ",{"$f":"AO47/1.03","v":3.2233009708737863},"% protein"]
[null,"Milk performance",null,"Kg/cow/365 day",{"$f":"E47*12/E33","v":8695.0890629370624},{"$f":"8444*1.03","v":8697.32},{"$f":"F48*E31/100","v":7566.6683999999996},null,null,null,null,null,null,null,"FCM, kg/d",{"$f":"(0.4*P47)+(15*(P49/100)*P47)","v":32.785514999999997},{"$f":"(0.4*Q47)+(15*(Q49/100)*Q47)","v":21.86581005},0,0,0,"FCM = Fat-corrected milk, a standardized way to express milk production in dairy cows",null,null,null,null,null,null,null,null,null,null,null,null,null,null,null,null,null,null,null,{"$f":"12.9949-AO46-AO47","v":5.7748999999999988},"kg/hl = ",{"$f":"AO48/1.03","v":5.6066990291262124},"% other solid"]
[null,"Milk composition",null,null,null,"Milk composition is used to compute yields of milk components and milk price",null,null,null,null,null,null,null,null,"Milk fat, %",{"$f":"E50*0.85","v":3.3149999999999999},{"$f":"E50*1.05","v":4.0949999999999998},0,0,0]
[null,"Milk Fat",null,"%",3.9,null,null,null,null,null,null,null,null,null,"Milk CP , %",{"$f":"E51*0.85","v":2.7743999999999995},{"$f":"E51*1.05","v":3.4272},0,0,0]
[null,"Milk Crude Protein",null,"%",3.2639999999999998,null,null,null,null,null,null,null,null,null,"Pregnancy, Days",{"$f":"IF(P45<($E$33*30-280),0,(P45-($E$33*30-280)))","v":0},{"$f":"IF(Q45<($E$33*30-280),0,(Q45-($E$33*30-280)))","v":114.5},{"$f":"IF(E27=3,280-R44/2,280-(R44/2+S44))","v":250},{"$f":"IF(E27=3,0,(280-S44/2))","v":0},{"$f":"IF($E$27=3,IF((T44/2+S44)<($E$40*30-280),0,(T44/2+S44-($E$40*30-280))),IF((T44/2)<($E$40*30-280),0,(T44/2-($E$40*30-280))))","v":17.5},"When cows are in late gestations, nutrient requirements are adjusted accordingly."]
[null,"Other solids",null,"%",5.5,null,null,null,null,null,null,null,null,null,"Growth, kg/d",0,0,0,{"$f":"IF($E$27=4,0,0.8)","v":0.8},{"$f":"IF($E$27=4,0.8,0.8)","v":0.8},"Heifer growth rate is assumed to be optimal: 0.8 kg of average daily gain"]
[]
[]
["2. Economic Inputs",null,null,null,null,null,null,null,"Back to top"]
["2.1. Milk Incomes"]
[null,"Milk sold",null,"Kg/year",{"$f":"E48*E31*(1-E59%)","v":718649.11105174827}]
[null,"Milk sold",null,"hl/year",{"$f":"E57/103","v":6977.175835453867},{"$f":"E58*(E66+3+0.5+1.5)","v":546109.16323924181}]
[null,"Milk wasted (%)",null,"%",5,null,null,null,null,"Discarded milk for various reasons (mastitis, etc.)."]
[null,null,null,null,null,null,"$/lb","$/cwt","$/kg"]
[null,"Milk fat price",null,"$/kg",9.7125000000000004,null,"-",null,null,null,null,null,null,null,null,null,null,null,null,null,null,null,null,null,null,null,null,null,null,null,null,null,null,null,null,null,null,null,null,null,{"$f":"(1-AO62/(E48*E31))*100","v":100},"milk wasted (%)"]
[null,"Milk protein price",null,"$/kg",8.5942000000000007,null,"-",null,null,null,null,null,null,null,null,null,null,null,null,null,null,null,null,null,null,null,null,null,null,null,null,null,null,null,null,null,null,null,null,null,null,"milk sold (kg)"]
[null,"Milk other solid price",null,"$/kg",1.7115,null,"-"]
[null,"Hauling cost",null,"$/hl",2.5602999999999998,"FPLQ 2011",null,"-"]
[null,"Marketing cost",null,"$/kg",{"$f":"0.0349+0.0008+0.1002","v":0.13589999999999999},null,null,"-"]
[null,"Milk price",null,"$/hl",{"$f":"((E50%*E61+E51%*E62+E52%*E63)*103-E64-SUM(E50:E52)%*E65*103)","v":73.27080413600001},null,"-","-",{"$f":"E66/1.03/100","v":0.7113670304466021}]
[]
["2.2. Other incomes"]
[null,null,null,null,null,null,"$/lb","$/cwt","$/kg"]
[null,"Livestock ($/hl)",null,"$/hl",0]
[null,"Other Income ($/hl)",null,"$/hl",{"$f":"(11320+3925)/((E57/100)/1.03)","v":2.1849814824121188}]
[null,"Total Other Income",null,"$/hl",{"$f":"SUM(E70:E71)","v":2.1849814824121188},null,null,null,{"$f":"E72/1.03/100","v":2.1213412450603094E-2}]
[]
["2.3. Variable costs (other than feed purchased, crop-related expenses and storage costs)"]
[null,null,null,null,null,null,null,"$/cwt","$/kg"]
[null,"Breeding fees",null,"$/hl",{"$f":"9395/((E57/100)/1.03)","v":1.3465333569866746},null,null,"-"]
[null,"Health",null,"$/hl",{"$f":"18106/((E57/100)/1.03)","v":2.5950327793082204},null,null,"-"]
[null,"Bedding",null,"$/hl",{"$f":"6380/2/E57*100*1.03","v":0.45720504617216517},null,null,"-"]
[null,"Supplies ",null,"$/hl",0,null,null,"-"]
[null,"DHI",null,"$/hl",0,null,null,"-"]
[null,"Other",null,"$/hl",{"$f":"18670/(E57/100/1.03)","v":2.675867778067186},null,null,"-"]
[null,"Total ",null,"$/hl",{"$f":"SUM(E76:E81)","v":7.0746389605342461},null,null,null,{"$f":"E82/1.03/100","v":6.8685815150817925E-2}]
[]
["2.4. Fixed costs"]
[null,null,null,null,null,null,"$/lb","$/cwt","$/kg"]
[null,"Labor",null,"$",93876,null,"-","-"]
[null,"Taxes and Insurance",null,"$",34802,null,"-","-"]
[null,"Depreciation",null,"$",78447,null,"-","-"]
[null,"Interest",null,"$",{"$f":"61590+2978","v":64568}]
[null,"Other",null,"$",{"$f":"15979+13928+6874","v":36781},null,"-","-"]
[null,"Total",null,"$",{"$f":"SUM(E86:E90)","v":308474}]
[]
[]
["3. Ration Composition",null,null,null,null,null,null,null,"Back to top"]
["3.1 Amount of Feed Dry Matter (DM)",null,null,null,null,null,null,null,null,null,null,null,null,null,"RATION COMPOSITION COMPUTATION AREA"]
[null,"GROUPS",null,null,null,null,"GROUP",null,null,null,null,null,null,null,null,null,null,null,null,"GROUP"]
[null,null,null,null,1,2,3,4,5,null,null,null,null,null,null,null,null,1,2,3,4,5]
[null,null,null,null,{"$f":"P43","v":"Early lactation"},{"$f":"Q43","v":"Mid-late lac."},{"$f":"R43","v":"Dry cows"},{"$f":"S43","v":"Heifers<1yr old"},{"$f":"T43","v":"Heifers>1yr old"},null,null,null,null,null,"Animals",null,"#",{"$f":"ROUNDDOWN(E31*((E33-2)/E33)*(5/(E33-2)),0)","v":30},{"$f":"ROUNDUP(E31*((E33-2)/E33)*(1-(5/(E33-2))),0)","v":45},{"$f":"IF($E$27=4,ROUNDDOWN(E31*((2/E33)*(39/60)),0),E31-SUM(R98:S98))","v":12},{"$f":"IF($E$27=4,E31-(SUM(R98:T98)),Q26)","v":30.446349650349653},{"$f":"IF($E$27=4,T26,U26)","v":33.51294755244755}]
[null,"DMI, Predicted (NRC 2001)",null,"kg/d",{"$f":"(((P46^0.75)*0.0968)+(0.372*P48)-0.293)*(1-EXP(-0.192*((P45/7)+3.67)))","v":22.826246096393053},{"$f":"(((Q46^0.75)*0.0968)+(0.372*Q48)-0.293)*(1-EXP(-0.192*((Q45/7)+3.67)))","v":20.251862118349681},{"$f":"IF($E$27=4,0.018*R46,0.018*R46)","v":11.645999999999999},{"$f":"IF($E$27=4,(((1.71-0.69*EXP(0.35*(-10.5)))%)*(S46*0.82))*E34/100+(((1.97-0.75*EXP(0.16*(-10.5)))%)*S46)*(1-E34/100),R111)","v":5.0251124000000003},{"$f":"IF($E$27=4,U111,V111)","v":12.634069576479616},null,null,null,null,null,"Actual days",null,"#",{"$f":"P44","v":152},{"$f":"Q44","v":223},{"$f":"R44","v":60},{"$f":"S44","v":319},{"$f":"T44","v":457}]
[null," ",null,"%",0,0,0,0,0,null,null,null,null,null,"365-day basis",null,"#",{"$f":"R99*365/(E33*30.4)","v":127.62237762237761},{"$f":"S99*365/(E33*30.4)","v":187.23546190651453},{"$f":"T99*365/(E33*30.4)","v":50.37725432462274},{"$f":"IF($E$27=4,U99*365/(E33*30.4),365)","v":365},{"$f":"IF($E$27=4,V99*365/T30,IF(V99<365,V99,365))","v":365}]
[null,"DM Consumed",null,"kg/d",{"$f":"E99+(E99*E100/100)","v":22.826246096393053},{"$f":"F99+(F99*F100/100)","v":20.251862118349681},{"$f":"G99+(G99*G100/100)","v":11.645999999999999},{"$f":"H99+(H99*H100/100)","v":5.0251124000000003},{"$f":"I99+(I99*I100/100)","v":12.634069576479616}]
[null,null,null,null,null,null,null,null,null,null,null,null,null,null,"DM Consumed",null,"% BW",{"$f":"E101/P46%","v":3.5280133070159279},{"$f":"F101/Q46%","v":3.1301177926351906},{"$f":"G101/R46%","v":1.7999999999999998},{"$f":"H101/S46%","v":2.6600000000000006},{"$f":"I101/T46%","v":2.3840201665935994}]
["3.2 Ration Composition",null,null,null,null,null,null,null,null,null,null,null,null,null,"DM Consumed",null,"tonnes/yr",{"$f":"(E101*R100*R98)/1000","v":87.394193970455916},{"$f":"(F101*S100*S98)/1000","v":170.63400411883106},{"$f":"(G101*T100*T98)/1000","v":7.0403220463746763},{"$f":"(H101*U100*U98)/1000","v":55.843660144388309},{"$f":"(I101*V100*V98)/1000","v":154.54279254804513}]
[null,"ENl, Mcal/kg DM",null,"MINIMUM",{"$f":"R134*(1+J104)/E101","v":1.6421667389516734},{"$f":"S134*(1+J104)/F101","v":1.4472546110632405},{"$f":"T134*(1+J104)/G101","v":1.2985569147098848},{"$f":"U134*(1+J104)/H101","v":1.4298375156819263},{"$f":"V134*(1+J104)/I101","v":1.3079828512949907},0.1,"Desired adjustment above NRC guidelines",null,null,null,"DM consumed",null,"tonnes/yr","per Cow:",{"$f":"IF(E27=3,R103/R98+S103/S98+T103/T98,R103/R98+S103/S98+T103/T98+U103/U98)","v":7.291700061075999},null,"per Heifer:",{"$f":"IF(E27=4,V103/V98,(U103/U98)*Q27+(V103/V98)*U27)","v":3.289380307375116}]
[null,null,null,"MAXIMUM",{"$f":"E104*(1+J105)","v":1.9706000867420079},{"$f":"F104*(1+J105)","v":1.7367055332758885},{"$f":"G104*(1+J105)","v":1.5582682976518616},{"$f":"H104*(1+J105)","v":1.7158050188183116},{"$f":"I104*(1+J105)","v":1.5695794215539889},0.2,"Maximum excess allowed in ration (Max/Min)"]
[null,null,null,null,null,null,null,null,null,null,null,null,null,null,"Heifer group Selection:",null,null,"2H (<1yr)","2H (>1yr)","2H (>1yr)","All together","2H(>1yr)"]
[null,"EE, % of ration DM",null,"MAXIMUM",6.5,6.5,5,4.5,4.5,null,null,null,null,null,"Heifer group Selection:",null,null,"(a)","(b)","[c]","(a+b+c)","(b+c)"]
[null,null,null,null,null,null,null,null,null,null,null,null,null,null,"Age span:",null,null,"2-12-mths","12-24 mths","> 24 mths",">2 mths",">12 mths"]
[null,"Forage NDF, % of ration DM",null,"MINIMUM",17,18,24,18,18,null,null,null,null,null,"Dry Matter Intake (DMI)"]
[null,"NDF, % of Ration DM",null,"MINIMUM",25,28,{"$f":"IF($E$27=4,32,30)","v":30},{"$f":"IF(E27=4,28,28)","v":28},28,null,null,null,null,null,"DMI, % of midpoint BW",null,"% of midpoint BW",2.66,2.4300000000000002,{"$f":"IF(E40>24,2.2,\"NA\")","v":2.2000000000000002},null,{"$f":"SUMPRODUCT(S110:T110,R32:S32)","v":2.3840201665935994}]
[null,null,null,"MAXIMUM",100,100,100,100,100,null,null,null,null,null,"DMI",null,"kg/d at midpoint BW",{"$f":"R110%*Q38","v":5.0251124000000003},{"$f":"S110%*R38","v":11.965417200000001},{"$f":"IF(E40>24,T110%*S38,\"NA\")","v":14.845688000000001},{"$f":"Q38*R110%*Q27+U38*V110%*U27","v":9.0120008421236051},{"$f":"U38*V110%","v":12.634069576479616}]
[]
[null,"NFC, % of ration DM",null,"MINIMUM",0,0,0,0,0,null,null,null,null,null,"Calcualtions/assumption for estimation of for NE needs and RDP/RUP fraction in rations of animal groups"]
[null,null,null,"MAXIMUM",42,40,38,42,40]
[null,null,null,null,null,null,null,null,null,null,null,null,null,null,null,null,null,{"$f":"P42","v":1},2,3,4,5]
[null,"RDP, % of ration DM",null,"MINIMUM",{"$f":"R144/1000*(1+$J116)/E101%","v":10.743921466899803},{"$f":"S144/1000*(1+$J116)/F101%","v":9.7916813108940524},{"$f":"T144/1000*(1+$J116)/G101%","v":9.065221038220491},{"$f":"U144/1000*(1+$J116)/H101%","v":9.8616832107408001},{"$f":"V144/1000*(1+$J116)/I101%","v":9.1284243693753915},0.1,null,null,null,null,null,null,null,"Early lactation","Mid-late lac.","Dry cows","Heifers<1yr old","Heifers>1yr old"]
[null,null,null,"MAXIMUM",{"$f":"E116*(1+$J$117)","v":13.429901833624754},{"$f":"F116*(1+$J$117)","v":12.239601638617565},{"$f":"G116*(1+$J$117)","v":11.331526297775614},{"$f":"H116*(1+$J$117)","v":12.327104013426},{"$f":"I116*(1+$J$117)","v":11.41053046171924},0.25,null,null,null,null,"Animals",null,null,{"$f":"R98","v":30},{"$f":"S98","v":45},{"$f":"T98","v":12},{"$f":"U98","v":30.446349650349653},{"$f":"V98","v":33.51294755244755}]
[null,"RUP, % of ration DM",null,"MINIMUM",{"$f":"R145/1000*(1+$J118)/E101%","v":5.4180227228961266},{"$f":"S145/1000*(1+$J118)/F101%","v":4.7242082090076138},{"$f":"T145/1000*(1+$J118)/G101%","v":2.4279384342376646},{"$f":"U145/1000*(1+$J118)/H101%","v":5.3141397747243362},{"$f":"V145/1000*(1+$J118)/I101%","v":2.8415847477365799},0.1,null,null,null,null,"Days",null,null,{"$f":"R100","v":127.62237762237761},{"$f":"S100","v":187.23546190651453},{"$f":"T100","v":50.37725432462274},{"$f":"U100","v":365},{"$f":"V100","v":365}]
[null,null,null,null,null,null,null,null,null,null,null,null,null,null,"Frcn days",null,null,{"$f":"R100/(SUM(R100:S100))","v":0.40533333333333332},{"$f":"S100/(SUM(R100:S100))","v":0.59466666666666668},{"$f":"T100/(SUM(T100:V100))","v":6.4555000860733333E-2},{"$f":"U100/(SUM(T100:V100))","v":0.4677224995696333},{"$f":"V100/SUM(T100:V100)","v":0.4677224995696333}]
[null,"Crude Protein (CP)",null,"MINIMUM",{"$f":"E116+E118","v":16.161944189795928},{"$f":"F116+F118","v":14.515889519901666},{"$f":"G116+G118","v":11.493159472458157},{"$f":"H116+H118","v":15.175822985465135},{"$f":"I116+I118","v":11.970009117111971},null,null,null,null,null,"Frcn animals",null,null,{"$f":"R98/SUM(R98:S98)","v":0.4},{"$f":"S98/SUM(R98:S98)","v":0.6},{"$f":"T98/SUM(T98:V98)","v":0.15797934475304887},{"$f":"U98/SUM(T98:V98)","v":0.40082453065703805},{"$f":"V98/SUM(T98:V98)","v":0.44119612458991309}]
[null,null,null,"MAXIMUM",{"$f":"E118+E117","v":18.84792455652088},{"$f":"F118+F117","v":16.963809847625178},{"$f":"G118+G117","v":13.759464732013278},{"$f":"H118+H117","v":17.641243788150337},{"$f":"I118+I117","v":14.25211520945582},null,null,null,null,null,"Overall Frcn",null,null,{"$f":"R120*R119","v":0.16213333333333335},{"$f":"S120*S119","v":0.35680000000000001},{"$f":"T120*T119","v":1.0198356736511158E-2},{"$f":"U120*U119","v":0.18747465136773495},{"$f":"V120*V119","v":0.20635735419362949}]
[null,null,null,"MAX. / MIN.",{"$f":"E121/E120","v":1.1661916620415496},{"$f":"F121/F120","v":1.1686372939369198},{"$f":"G121/G120","v":1.1971873152013617},{"$f":"H121/H120","v":1.1624571402187871},{"$f":"I121/I120","v":1.1906519928277597},null,null,null,null,null,null,null,"Total",{"$f":"SUM(R121:S121)","v":0.51893333333333336},null,{"$f":"SUM(T121:V121)","v":0.40403036229787559}]
[null,"Macro-Minerals, % of ration DM",null,null,null,null,null,null,null,null,null,null,null,null,"Overall Weight",null,null,{"$f":"R121/R122","v":0.31243576567317577},{"$f":"S121/R122","v":0.68756423432682423},{"$f":"T121/T122","v":2.5241560259256737E-2},{"$f":"U121/T122","v":0.46401129435296573},{"$f":"V121/T122","v":0.51074714538777755}]
[null,"Available P",null,"MINIMUM",{"$f":"((1*E101/(10*E101)+0.002*P46/(10*E101))+0.9*P47/(10*E101))*(1+J124)","v":0.26222690383887126},{"$f":"((1*F101/(10*F101)+0.002*Q46/(10*F101))+(0.02743*EXP((0.05527-0.000075*Q51)*Q51)-0.02743*EXP((0.05527-0.000075*(Q51-1))*(Q51-1)))/(10*F101)+0.9*Q47/(10*F101))*(1+J124)","v":0.21342285375750314},{"$f":"((1*G101/(10*G101)+0.002*R46/(10*G101))+(0.02743*EXP((0.05527-0.000075*R51)*R51)-0.02743*EXP((0.05527-0.000075*(R51-1))*(R51-1)))/(10*G101))*(1+J124)","v":0.157030672742796},{"$f":"IF($E$27=4,((1*H101/(10*H101)+0.002*S46/(10*H101))+(0.02743*EXP((0.05527-0.000075*S51)*S51)-0.02743*EXP((0.05527-0.000075*(S51-1))*(S51-1)))/(10*H101))*(1+J124),((1*H101/(10*H101)+0.002*S46/(10*H101))+(((1.2+(4.635*P46^0.22)*(S46^(-0.22)))*S52)/(10*H101))*(1+J124)))","v":0.22915708283192232},{"$f":"((1*I101/(10*I101)+0.002*T46/(10*I101))+(((1.2+(4.635*P46^0.22)*(T46^(-0.22)))*T52)/(10*I101))+IF(T51>190,(0.02743*EXP((0.05527-0.000075*T51)*T51)-0.02743*EXP((0.05527-0.000075*(T51-1))*T51-1))/(10*I101),0))*(1+J124)","v":0.15398689149526695},0.05,"Desired adjustment above NRC guidelines",null,null,null,"NRC Energy needs, Mcal/d"]
[null,null,null,"MAXIMUM",{"$f":"E124*(1+$J$125)","v":0.39334035575830689},{"$f":"F124*(1+$J$125)","v":0.32013428063625471},{"$f":"G124*(1+$J$125)","v":0.23554600911419399},{"$f":"H124*(1+$J$125)","v":0.34373562424788351},{"$f":"I124*(1+$J$125)","v":0.23098033724290043},0.5,"Maximum excess allowed in ration (Max/Min)",null,null,null," NE for maintenance",null,null,{"$f":"(P46^0.75*0.08)","v":10.262855107001947},{"$f":"(Q46^0.75*0.08)","v":10.262855107001947},{"$f":"(R46^0.75*0.08)","v":10.262855107001947},{"$f":"IF(E27=3,(S46*0.96)^0.75*0.086,S46^0.75*0.08)","v":4.2501081733598642},{"$f":"((T46*0.96)^0.75*0.086)","v":9.2124868425596738}]
[null,null,null,null,null,null,null,null,null,null,null,null,"Max/Min",null," NE for lactation",null,null,{"$f":"(0.0929*P49+0.0547*P50+0.192)*P47","v":23.813964997200003},{"$f":"(0.0929*Q49+0.0547*Q50+0.192)*Q47","v":16.382236559723996},0,0,0]
[null,"Available Mg required",null,null,{"$f":"0.003*P46/(10*E101)+(0.15*P47)/(10*E101)","v":3.2515201880579069E-2},{"$f":"0.003*Q46/(10*F101)+0.33/(10*F101)+(0.15*Q47)/(10*F101)","v":2.7181648619917544E-2},{"$f":"0.003*R46/(10*G101)+0.33/(10*G101)","v":1.9500257599175681E-2},{"$f":"0.003*S46/(10*H101)+0.45*S52/(10*H101)+IF(S51>190,0.33/(10*H101),0)","v":1.8442214347285046E-2},{"$f":"0.003*T46/(10*I101)+0.45*T52/(10*I101)+IF(T51>190,0.33/(10*I101),0)","v":1.5433224332007431E-2},0.05,"Desired adjustment above NRC",null,null,null," NE for pregnancy",null,null,{"$f":"IF(P51>190,(0.00318*P51-0.0352)/0.218,0)","v":0},{"$f":"IF(Q51>190,(0.00318*Q51-0.0352)/0.218,0)","v":0},{"$f":"IF(R51>190,(0.00318*R51-0.0352)/0.218,0)","v":3.4853211009174312},{"$f":"IF(S51>190,(0.00318*S51-0.0352)/0.218,0)","v":0},{"$f":"IF(T51>190,(0.00318*T51-0.0352)/0.218,0)","v":0}]
[null,"Min. Available Mg Desired",null,"% DM",{"$f":"E127+E127*$J$127","v":3.4140961974608024E-2},{"$f":"F127+F127*$J$127","v":2.8540731050913419E-2},{"$f":"G127+G127*$J$127","v":2.0475270479134465E-2},{"$f":"H127+H127*$J$127","v":1.9364325064649298E-2},{"$f":"I127+I127*$J$127","v":1.6204885548607804E-2},null,"Excess allowed in diet (Max/Min)",null,{"$f":"Optimization!Q194","v":3},null," NE for growth",null,null,null,null,null,{"$f":"IF(E27=3,0.0635*(0.891*(S46*0.96)*(478/(0.96*P36)))^0.75*(0.956*0.96*S52)^1.097,0)","v":1.6196318880890499},{"$f":"0.0635*(0.891*(T46*0.96)*(478/(0.96*P36)))^0.75*(0.956*0.96*T52)^1.097","v":3.5106959282438672},"NEm for heifers"]
[null,null,null,null,null,null,null,null,null,null,null,null,null,null," a (from Gosselin, 2002 p. 108)",null,null,null,null,null,{"$f":"0.8967*H101","v":4.5060182890800009},{"$f":"0.8967*I101","v":11.328970189229272}]
[null,"Available K required",null,null,{"$f":"(0.038*P46+6.1*E101)/(10*E101)+1.5*P47/(10*E101)","v":0.95782767023854154},{"$f":"(0.038*Q46+6.1*F101)/(10*F101)+1.027/(10*F101)+1.5*Q47/(10*F101)","v":0.89615097051985249},{"$f":"(0.038*R46+2.6*G101)/(10*G101)+1.027/(10*G101)","v":0.47992958955864679},{"$f":"IF($E$27=4,(0.038*S46+2.6*H101)/(10*H101)+1.027/(10*H101),(0.038*S46+2.6*H101)/(10*H101)+1.6*S52/(10*H101))","v":0.42832920990981216},{"$f":"(0.038*T46+2.6*I101)/(10*I101)+1.6*T52/(10*I101)+IF(T51>190,1.027/(10*I101),0)","v":0.42952596050185732},0.05,"Desired adjustment above NRC",null,null,null," b",null,null,null,null,null,{"$f":"-0.8967*U125-0.4443*H101-U128","v":-7.6633613264608407},{"$f":"-0.8967*V125-0.4443*I101-V128","v":-17.384849992797019}]
[null,"Min. Available K Desired",null,"% DM",{"$f":"E130+E130*$J$130","v":1.0057190537504686},{"$f":"F130+F130*$J$130","v":0.94095851904584515},{"$f":"G130+G130*$J$130","v":0.50392606903657911},{"$f":"H130+H130*$J$130","v":0.44974567040530278},{"$f":"I130+I130*$J$130","v":0.45100225852695019},null,"Excess allowed in diet (Max/Min)",null,{"$f":"Optimization!Q193","v":10},null," c",null,null,null,null,null,{"$f":"0.4443*U125","v":1.8883230614237876},{"$f":"0.4443*V125","v":4.0931079041492628},"NEg for heifers"]
[null,null,null,null,null,null,null,null,null,null,null,null,null,null,"[NEm]",null,null,null,null,null,{"$f":"(-U130+(U130^2-4*U129*U131)^0.5)/(2*U129)","v":1.401730789977532},{"$f":"(-V130+(V130^2-4*V129*V131)^0.5)/(2*V129)","v":1.2441533111375789}]
[null,"Available Ca required",null,null,{"$f":"(0.031*P46)/(10*E101)+1.22*P47/(10*E101)","v":0.28316438772739594},{"$f":"((0.031*Q46)/(10*F101))+(((0.02456*EXP((0.05581-0.00007*Q51)*Q51))-(0.02456*EXP((0.05581-0.00007*(Q51-1))*(Q51-1))))/(10*F101))+1.22*P47/(10*F101)","v":0.32028764815445054},{"$f":"(0.0154*R46)/(10*G101)+((0.02456*EXP((0.05581-0.00007*R51)*R51))-(0.02456*EXP((0.05581-0.00007*(R51-1))*(R51-1))))/(10*G101)","v":0.14846434472927383},{"$f":"IF($E$27=4,(0.0154*S46/(10*H101))+((0.02456*EXP((0.05581-0.00007*S51)*S51))-(0.02456*EXP((0.05581-0.00007*(S51-1))*(S51-1))))/(10*H101),(((9.83*(S46^0.22)*(S46^(-0.22)))*S52)+0.0154*S46)/(10*H101))","v":0.21438874879694234},{"$f":"IF($E$27=4,((((9.83*(P46^0.22)*(T46^(-0.22)))*T52)+0.0154*T46)/(10*I101))+(((0.02456*EXP((0.05581-0.00007*T51)*T51))-(0.02456*EXP((0.05581-0.00007*(T51-1))*(T51-1))))/(10*I101)),(((9.83*(P46^0.22)*(T46^(-0.22)))*T52)+0.0154*T46)/(10*I101))+IF(T51>190,(((0.02456*EXP((0.05581-0.00007*T51)*T51))-(0.02456*EXP((0.05581-0.00007*(T51-1))*(T51-1))))/(10*I101)),0)","v":0.1296348693327416},0.05,"Desired adjustment above NRC",null,null,null,"[ME discounted]",null,null,null,null,null,{"$f":"U132+0.6412/0.8936","v":2.1192777908727871},{"$f":"V132+0.6412/0.8936","v":1.961700312032834}]
[null,"Min. Available Ca Desired",null,"% DM",{"$f":"E133+E133*$J$133","v":0.29732260711376574},{"$f":"F133+F133*$J$133","v":0.33630203056217306},{"$f":"G133+G133*$J$133","v":0.15588756196573753},{"$f":"H133+H133*$J$133","v":0.22510818623678946},{"$f":"I133+I133*$J$133","v":0.13611661279937867},null,"Excess allowed in diet (Max/Min)",null,{"$f":"Optimization!Q191","v":2},null,null,null,"Total NEl",{"$f":"SUM(R125:R128)","v":34.07682010420195},{"$f":"SUM(S125:S128)","v":26.645091666725943},{"$f":"SUM(T125:T128)","v":13.748176207919379},{"$f":"IF(E27=3,(0.703*U133-0.19)*H101,SUM(U125:U128))","v":6.5319038454894933},{"$f":"(0.703*V133-0.19)*I101","v":15.022860316457367},"For heifer groups, NEl calcuated from ME"]
[null,null,null,null,null,null,null,null,null,null,null,null,null,null," Estimated discounted EM (< 3% FAT)",null,null,{"$f":"(R134/E101+0.19)/0.703*E101","v":54.642684014959642},{"$f":"(S134/F101+0.19)/0.703*F101","v":43.375455859477078},{"$f":"(T134/G101+0.19)/0.703*G101","v":22.704005985660569},{"$f":"(U134/H101+0.19)/0.703*H101","v":10.649609105959449},{"$f":"(V134/I101+0.19)/0.703*I101","v":24.784258230424602}]
[null,"Min. Available Na required Desired",null,null,{"$f":"(0.038*P46)/(10*E101)+0.63*P47/(10*E101)","v":0.20855904119741622},{"$f":"(0.038*Q46)/(10*F101)+0.63*Q47/(10*F101)+IF(Q51>190,1.39/(10*F101),0)","v":0.18846621499272925},{"$f":"(1.5*(R46/100))/(10*G101)+IF(R51>190,1.39/(10*G101),0)","v":9.5268761806628896E-2},{"$f":"IF($E$27=4,(1.5*(S46/100))/(10*H101)+IF(S51>190,1.39/(10*H101),0),(1.5*(S46/100))/(10*H101)+IF(S51>190,1.39/(10*H101),0)+(1.4*S52/(10*H101)))","v":7.8679036114694664E-2},{"$f":"(1.5*(T46/100))/(10*I101)+(1.4*T52/(10*I101))+IF(T51>190,1.39/(10*I101),0)","v":7.178384957515066E-2},0.05,"Desired adjustment above NRC",null,null,null," Estimated discounted ED",null,null,{"$f":"(R135/E101+0.45)/1.01*E101","v":64.271776988452004},{"$f":"(S135/F101+0.45)/1.01*F101","v":51.969102784885578},{"$f":"(T135/G101+0.45)/1.01*G101","v":27.668025728376801},{"$f":"IF(E27=3,U135/0.82,(U135/H101+0.45)/1.01*H101)","v":12.987328177999329},{"$f":"V135/0.82","v":30.224705159054395}]
[null,"Min. Available Na Desired",null,"% DM",{"$f":"E136+E136*$J$136","v":0.21898699325728704},{"$f":"F136+F136*$J$136","v":0.19788952574236571},{"$f":"G136+G136*$J$136","v":0.10003219989696034},{"$f":"H136+H136*$J$136","v":8.2612987920429398E-2},{"$f":"I136+I136*$J$136","v":7.5373042053908199E-2},null,"Excess allowed in diet (Max/Min)",null,{"$f":"Optimization!Q195","v":5},null,"NRC Protein needs, g/d"]
[null,null,null,null,null,null,null,null,null,null,null,null,null,null," MP microbial",null,null,{"$f":"0.64*0.13*R136/4.409*1000","v":1212.8400647401243},{"$f":"0.64*0.13*S136/4.409*1000","v":980.68254744896365},{"$f":"0.64*0.13*T136/4.409*1000","v":522.10926300770018},{"$f":"0.64*0.13*U136/4.409*1000","v":245.07727475834528},{"$f":"0.64*0.13*V136/4.409*1000","v":570.35506219853175},"Using 4,409 McalDE/kg of TDN"]
[null,"Available Cl required",null,null,{"$f":"(2.25*P46/100)/(10*E101)+1.15*P47/(10*E101)","v":0.24786598620322592},{"$f":"(2.25*Q46/100)/(10*F101)+IF(Q51>190,1/(10*F101))+1.15*Q47/(10*F101)","v":0.1943025770669557},{"$f":"(2.25*R46/100)/(10*G101)+IF(R51>190,1/(10*G101))","v":0.13358663918942126},{"$f":"IF($E$27=4,(2.25*S46/100)/(10*H101)+IF(S51>190,1/(10*H101)),(2.25*S46/100)/(10*H101)+(1*S52)/(10*H101))","v":0.10050650807333185},{"$f":"(2.25*T46/100)/(10*I101)+(1*T52)/(10*I101)+IF(T51>190,1/(10*I101))","v":0.10071048107640226},0.05,"Desired adjustment above NRC",null,null,null," MP maintenance",null,null,{"$f":"(0.3*P46^0.6)+(4.1*P46^0.5)+((E101*1000*0.03)-(0.5*(R138/0.8-R138)))+(E101*11.8*0.4/0.67)","v":812.85342104197412},{"$f":"(0.3*Q46^0.6)+(4.1*Q46^0.5)+((F101*1000*0.03)-(0.5*(S138/0.8-S138)))+(F101*11.8*0.4/0.67)","v":746.50563259137425},{"$f":"(0.3*R46^0.6)+(4.1*R46^0.5)+((G101*1000*0.03)-(0.5*(T138/0.8-T138)))+(G101*11.8*0.4/0.67)","v":485.02505765781729},{"$f":"(0.3*S46^0.6)+(4.1*S46^0.5)+((H101*1000*0.03)-(0.5*(U138/0.8-U138)))+(H101*11.8*0.4/0.67)","v":218.83669654157688},{"$f":"(0.3*T46^0.6)+(4.1*T46^0.5)+((I101*1000*0.03)-(0.5*(V138/0.8-V138)))+(I101*11.8*0.4/0.67)","v":504.04823076199398}]
[null,"Min. Available Cl Desired",null,"% DM",{"$f":"E139+E139*$J$139","v":0.26025928551338723},{"$f":"F139+F139*$J$139","v":0.20401770592030349},{"$f":"G139+G139*$J$139","v":0.14026597114889233},{"$f":"H139+H139*$J$139","v":0.10553183347699845},{"$f":"I139+I139*$J$139","v":0.10574600513022238},null,"Excess allowed in diet (Max/Min)",null,{"$f":"Optimization!Q196","v":5},null," MP lactation",null,null,{"$f":"P47*P50%*0.93/0.67*1000","v":1407.1673982089551},{"$f":"Q47*Q50%*0.93/0.67*1000","v":1025.5767096358209},{"$f":"R47*R50%*0.93/0.67*1000","v":0},{"$f":"S47*S50%*0.93/0.67*1000","v":0},{"$f":"T47*T50%*0.93/0.67*1000","v":0}]
[null,null,null,null,null,null,null,null,null,null,null,null,null,null," MP pregnancy",null,null,{"$f":"IF(P51>190,(((0.69*P51)-69.2)*(P36*0.06275/45))/0.33,0)","v":0},{"$f":"IF(Q51>190,(((0.69*Q51)-69.2)*(P36*0.06275/45))/0.33,0)","v":0},{"$f":"IF(R51>190,(((0.69*R51)-69.2)*(P36*0.06275/45))/0.33,0)","v":297.69529629629625},{"$f":"IF(S51>190,(((0.69*S51)-69.2)*(P36*0.06275/45))/0.33,0)","v":0},{"$f":"IF(T51>190,(((0.69*T51)-69.2)*(P36*0.06275/45))/0.33,0)","v":0}]
[null,"Total S required",null,null,0.2,0.2,0.2,0.2,0.2,0.05,"Desired adjustment above NRC",null,null,null," MP growth",null,null,null,null,null,{"$f":"IF(E27=3,(S52*(268-(29.4*(U128/S52))))/(83.4-(0.114*(S46*0.96*478/(0.96*P36))))%,0)","v":244.17110639786273},{"$f":"(T52*(268-(29.4*(V128/T52))))/(83.4-(0.114*(T46*0.96*478/(0.96*P36))))%","v":270.80781108970956}]
[null,"Min. Total S Desired",null,"% DM",{"$f":"E142+E142*$J$142","v":0.21000000000000002},{"$f":"F142+F142*$J$142","v":0.21000000000000002},{"$f":"G142+G142*$J$142","v":0.21000000000000002},{"$f":"H142+H142*$J$142","v":0.21000000000000002},{"$f":"I142+I142*$J$142","v":0.21000000000000002},null,null,null,null,null,null,null,"Total",{"$f":"SUM(R139:R142)","v":2220.020819250929},{"$f":"SUM(S139:S142)","v":1772.0823422271951},{"$f":"SUM(T139:T142)","v":782.72035395411353},{"$f":"SUM(U139:U142)","v":463.00780293943961},{"$f":"SUM(V139:V142)*1.15","v":891.08444812945902}]
[null,null,null,null,null,null,null,null,null,null,null,null,null,null," RDP requirements",null,null,{"$f":"R138/0.64/0.85","v":2229.4854131252282},{"$f":"S138/0.64/0.85","v":1802.725271045889},{"$f":"T138/0.64/0.85","v":959.75967464650762},{"$f":"U138/0.64/0.85","v":450.50969624695824},{"$f":"V138/0.64/0.85","v":1048.4468055120069}]
[null,"DCAD",null,"mEq/kg",null,null,null,null,null,null,null,null,null,null," RUP requirements",null,null,{"$f":"(R143-(R138+(E101*11.8*0.4)))/0.8","v":1124.3010911697868},{"$f":"(S143-(S138+(F101*11.8*0.4)))/0.8","v":869.76375697452625},{"$f":"(T143-(T138+(G101*11.8*0.4)))/0.8","v":257.0524636830167},{"$f":"(U143-(U138+(H101*11.8*0.4)))/0.8","v":242.7649970663679},{"$f":"(V143-(V138+(I101*11.8*0.4)))/0.8","v":326.37072191242936},"Assuming diet RUP digestibility of .80"]
["3.3 Pasture management",null,null,null,null,null,null,null,null,null,null,null,null,null,null,null,"Total",{"$f":"SUM(R144:R145)","v":3353.7865042950152},{"$f":"SUM(S144:S145)","v":2672.4890280204154},{"$f":"SUM(T144:T145)","v":1216.8121383295243},{"$f":"SUM(U144:U145)","v":693.27469331332611},{"$f":"SUM(V144:V145)","v":1374.8175274244363}]
[null,null,null,null,null,null,null,null,null,null,null,null,null,null,"Estimated % Concentrate in diet (%DM)",null,null,50,35,10,40,15]
[null,"Pasture period",null,"d",0,0,0,0,0,null,null,null,null,null,"Kp, %/h",null,null,{"$f":"3.054+0.614*R147","v":33.753999999999998},{"$f":"3.054+0.614*S147","v":24.543999999999997},{"$f":"3.054+0.614*T147","v":9.1939999999999991},{"$f":"3.054+0.614*U147","v":27.613999999999997},{"$f":"3.054+0.614*V147","v":12.263999999999999}]
[null,"Fraction of manure on pasture during pasture period",null,"%",50,50,100,100,100,null,null,null,null,null,"pX, Total TDN/Maintenance TDN",null,null,4,3,1.3,2,2,"À calculer"]
[null,"% of forages to be provided with pasture during pasture period",null,"%",80,80,90,90,90,null,null,null,null,null,"TDN 1x in diet, %",null,null,{"$f":"R136/4.409/E101/(1-(R149-1)*4%)%","v":72.570988929313643},{"$f":"S136/4.409/F101/(1-(S149-1)*4%)%","v":63.263371193827481},{"$f":"T136/4.409/G101/(1-(T149-1)*4%)%","v":54.538644733214078},{"$f":"U136/4.409/H101/(1-(U149-1)*4%)%","v":61.060829903333911},{"$f":"V136/4.409/I101/(1-(V149-1)*4%)%","v":56.520692846511366},"estimated using 4% discount by Xmaintenance"]
["4. Feed Inputs",null,null,null,null,null,null,null,"Back to top"]
["4.1. Feeds, Feed Prices and Allowable Changes in Feed Inventory",null,null,null,null,null,null,null,null,null,null,null,null,null,"FEED COMPOSITION, COSTS"]
[null,null,null,null,null,null,null,"Purchase",null,"Change in Silage and Pasture Inventory",null,null,null,null,null,null,null,"Feed analysis for up to 10 home-grown feeds and 12 purchased feeds"]
[null,"NRC 2001",null,null,"NRC 2001","N-CyCLE",null,"Price",null,"Allowable Inventroy change",null,null,null,null,null,null,null,"Pasture","Feeds produced / purchased",null,null,null,null,null,null,null,"Feeds purchased only"]
[null,"Feedname",null,null,"Feed #","Feedcode",null,"$/t DM",null,"Tons per year",null,null,null,null,null,null,null,1,2,3,4,5,6,7,8,9,"- - - - FORAGES - - - - ",null,null,null,null,null,"- - - - - - - - - - - - - - - - - - - - - - - - - - - - - - - - - CONCENTRATES - - - - - - - - - - - - - - - - - - - - - - - - - - - - - - ",null,null,null,null," - - - - - - - - - - - MINERALS - - - - - - - - - - - - -"]
[null,"Home grown or Purchased",null,null,null,null,null,null,null,"Minimum","Maximum",null,null,null,null,null,null,"GrPast-49","CoSi-35","AlSi-83","MxSi-71","GrHy-52","SBw-108","CoGr-27","Barley-8","Wheat-116","Brewers grains-16","Canola-19","FatCa-40","SBMx-104","SBM48-107","CGM-25","CoDi-23","Bld Meal-14","Urea","SoyHull-103","Beet pulp-11","CaCO3","NaH2PO4.H20","MgO","CaSO4.2H20","NaCl","MgSO4.7H20"]
[null,"Grasses, cool season, Pasture intensively managed",null,null,49,{"$f":"R156","v":"GrPast-49"},null,0,{"$f":"F157","v":"GrPast-49"},0,0,null,null,null,"Unit resource, t DM",null,null,1,1,1,1,1,1,1,1,1,1,1,1,1,1,1,1,1,1,1,1,1,1,1,1,1,1]
[null,"Corn silage normal, 32-38% M",null,null,35,{"$f":"S156","v":"CoSi-35"},null,94.866666666666674,{"$f":"F158","v":"CoSi-35"},0,0,null,null,null,"Fd type (S=Silage, H=Hay, P=Pasture; C=Concentrate, AP=Animal protein, FA=Fatty acid, M=Mineral)",null,null,"P","S","S","S","H","C","C","C","C","C","C","FA","C","C","C","C","AP","M","C","C","M","M","M","M","M","M"]
[null,"Alfalfa silage, mid maturity, 40-46% NDF",null,null,83,{"$f":"T156","v":"AlSi-83"},null,174,{"$f":"F159","v":"AlSi-83"},0,0,null,null,null,"DM, (%)",null,null,20.100000000000001,35.200000000000003,43.5,45.5,85.8,90,88.1,91,89.4,90.7,90.3,95.3,89.6,89.5,86.4,90.2,90.2,100,90.9,88.3,100,97,98,97,100,98]
[null,"Grass-legumes mixture, silage, mid maturity",null,null,71,{"$f":"U156","v":"MxSi-71"},null,152.33333333333334,{"$f":"F160","v":"MxSi-71"},0,0,null,null,null,"EE, (%)",null,null,2.7,3.13,2.74,2.84,2.42,19.2,4.2,2.2000000000000002,2.2999999999999998,5.2,5.4,84.5,8.1,1.1000000000000001,2.5,10,1.2,0,2.7,1.1000000000000001,0,0,0,0,0,0]
[null,"Grasses, cool season, hay, mid maturity",null,null,52,{"$f":"V156","v":"GrHy-52"},null,154.16666666666666,null,"* If min = 0 and max = 0, then amount produced = amount used",null,null,null,null,"FNDF, (%)",null,null,{"$f":"IF(OR(R158=\"P\",R158=\"S\",R158=\"H\"),R162,0)","v":45.8},{"$f":"IF(OR(S158=\"P\",S158=\"S\",S158=\"H\"),S162,0)","v":43.01},44.72,50.43,60.43,0,0,0,0,{"$f":"IF(OR(AA158=\"P\",AA158=\"S\",AA158=\"H\"),AA162,0)","v":0},{"$f":"IF(OR(AB158=\"P\",AB158=\"S\",AB158=\"H\"),AB162,0)","v":0},0,0,0,0,0,0,0,0,0,0,0,0,0,0,0]
[null,"Soybean, seed, whole roasted",null,null,108,{"$f":"W156","v":"SBw-108"},null,444.44,null,"* If min = 0 and max > 0 then amount produced > amount used",null,null,null,null,"NDF, (%)",null,null,45.8,43.01,44.72,50.43,60.43,19.5,9.5,20.8,13.4,47.4,29.8,0,21.7,9.8000000000000007,11.1,38.799999999999997,0,0,60.3,45.8,0,0,0,0,0,0]
[null,"Corn, grain, ground, dry",null,null,27,{"$f":"X156","v":"CoGr-27"},null,252.81,null,"and the excess is sold.",null,null,null,null,"NFC, (%)",null,null,{"$f":"100-(R162-R165)-R167-R160-R186","v":25.499999999999996},{"$f":"100-(S162-S165)-S167-S160-S186","v":42.63},{"$f":"100-(T162-T165)-T167-T160-T186","v":25.580000000000002},24.21,20.419999999999998,18.499999999999993,76.099999999999994,63.499999999999993,69.8,{"$f":"100-(AA162-AA165)-AA167-AA160-AA186","v":23},{"$f":"100-(AB162-AB165)-AB167-AB160-AB186","v":25.900000000000006},{"$f":"100-(AC162-AC165)-AC167-AC160-AC186","v":0},28.000000000000007,29.600000000000009,21.7,24.900000000000009,0.79999999999999982,0,21.800000000000004,41.300000000000004,0,0,0,0,0,0]
[null,"Barley, grain, rolled",null,null,8,{"$f":"Y156","v":"Barley-8"},null,198.86,null,"* If min < 0 and max = 0 then amount produced < amount used",null,null,null,null,"ADL (lignin), (%)",null,null,2.1,2.83,6.86,5.97,5.26,1.2,0.9,2.1,1.7,5,9.5,0,1.5,0.5,1.5,4.3,0,0,2.5,1.6,0,0,0,0,0,0]
[null,"Wheat, grain, rolled",null,null,116,{"$f":"Z156","v":"Wheat-116"},null,231.81,null," and the deficit is purchased",null,null,null,null,"NDICP, (%)",null,null,3.9,1.3,3.1,3.1,3.9,2.2999999999999998,0.7,1.8,1.7,9.1,6.3,0,9.6,0.7,3.6,8.6,0,0,3.5,5.5,0,0,0,0,0,0]
[null,null,null,null,null,null,null,null,null,"* If min < 0 and max > 0 then N-CyCLE decides whether one should",null,null,null,null,"ADICP, (%)",null,null,1.1000000000000001,0.8,1.8,1.6,1.2,0.6,0.3,0.5,0.2,3.5,2.4,0,0.4,0.4,3,5,0,0,1,0.6,0,0,0,0,0,0]
[null,null,null,null,null,null,null,null,null," overproduce or underproduce.",null,null,null,null,"CP, (%)",null,null,20.100000000000001,8.23,19.260000000000002,16.52,11.83,39.200000000000003,9.4,12.4,14.2,29.2,37.799999999999997,0,46.3,53.8,65,29.7,95.5,281,13.9,10,0,0,0,0,0,0]
[null,"Purchased only",null,null,null,null,null,null,null,"* For Pasture, 0 should be used for Minimum and Maximum.",null,null,null,null,"A fraction , %CP",null,null,30.7,51.3,57.3,42.4,36.700000000000003,27.8,23.9,30.2,27.1,18.3,23.2,0,8.6999999999999993,15,3.9,28.5,10.1,100,22.5,4.5,0,0,0,0,0,0]
[null,"Brewers grains",null,null,16,{"$f":"AA156","v":"Brewers grains-16"},null,266.67,null,null,null,null,null,null,"B fraction, % CP",null,null,63.5,30.2,35.299999999999997,48.1,51.7,70.2,72.5,61.2,65.099999999999994,64.599999999999994,70.400000000000006,0,91.3,84.4,90.9,63.3,60.9,0,72.2,90.5,0,0,0,0,0,0]
[null,"Canola meal",null,null,19,{"$f":"AB156","v":"Canola-19"},null,375,null,null,null,null,null,null,"C fraction, % CP",null,null,5.8,18.5,7.4,9.5,11.6,2,3.6,8.6,7.8,17.100000000000001,6.4,0,0,0.6,5.2,8.1999999999999993,29,0,5.3,5,0,0,0,0,0,0]
[null,"Fats and Oils, calcium soaps",null,null,40,{"$f":"AC156","v":"FatCa-40"},null,1530.61,null,null,null,null,null,null,"Kd of fraction B, %/h",null,null,12.3,4.4000000000000004,12.2,15.5,8.1,10.9,4.9000000000000004,22.7,18.8,4.7,10.4,0,2.4,7.5,2.2999999999999998,3.6,1.9,0,6.2,2,0,0,0,0,0,0]
[null,"Soybean meal, expellers",null,null,104,{"$f":"AD156","v":"SBMx-104"},null,738.64,null,null,null,null,null,null,"Ca, (%)",null,null,0.56000000000000005,0.2,1.27,0.99,0.56999999999999995,0.32,0.04,0.06,0.05,0.3,0.75,12,0.36,0.35,0.06,0.22,0.3,0,0.63,0.91,39.39,0,0,23.28,0,0]
[null,"Soybean meal, solvent ",null,null,107,{"$f":"AE156","v":"SBM48-107"},null,511.11,null,null,null,null,null,null,"Ca availibility (%)",null,null,0.3,0.6,0.3,0.3,0.3,0.6,0.6,0.6,0.6,0.6,0.6,0.8,0.6,0.6,0.6,0.6,0.6,0,0.6,0.6,0.75,0,0,0.7,0,0]
[null,"Corn gluten meal, dried",null,null,25,{"$f":"AF156","v":"CGM-25"},null,786.05,null,null,null,null,null,null,"P, (%)",null,null,0.44,0.23,0.32,0.31,0.25,0.6,0.3,0.39,0.43,0.67,1.1000000000000001,0,0.66,0.7,0.6,0.83,0.3,0,0.17,0.09,0.04,22.5,0,0,0,0]
[null,"Corn distillers grain with solubles, dried",null,null,23,{"$f":"AG156","v":"CoDi-23"},null,241.76,null,null,null,null,null,null,"P availibility (%)",null,null,0.64,0.7,0.64,0.64,0.64,0.7,0.7,0.7,0.7,0.7,0.7,0,0.7,0.7,0.7,0.7,0.7,0,0.7,0.7,0.7,0.9,0,0,0,0]
[null,"Blood meal ring dried",null,null,14,{"$f":"AH156","v":"Bld Meal-14"},null,616.25,null,null,null,null,null,null,"K, (%)",null,null,3.36,0.99,2.57,2.42,1.85,1.99,0.42,0.56000000000000005,0.5,0.5,1.41,0,2.12,2.41,0.46,1.1000000000000001,0.33,0,1.51,0.96,0.06,0,0,0,0,0]
[null,"Urea",null,null,null,{"$f":"AI156","v":"Urea"},null,867.35,null,null,null,null,null,null,"K availibility (%)",null,null,0.9,0.9,0.9,0.9,0.9,0.9,0.9,0.9,0.9,0.9,0.9,0,0.9,0.9,0.9,0.9,0.9,0,0.9,0.9,0.9,0,0,0,0.9,0]
[null,"Soybean hulls, ",null,null,103,{"$f":"AJ156","v":"SoyHull-103"},null,247.25,null,null,null,null,null,null,"Mg, (%)",null,null,0.2,0.15,0.26,0.24,0.17,0.25,0.12,0.14000000000000001,0.15,0.26,0.53,0,0.3,0.28999999999999998,0.14000000000000001,0.33,0.03,0,0.25,0.23,0.05,0,56.2,0,0,9.8000000000000007]
[null,{"$f":"+AK156","v":"Beet pulp-11"},null,null,11,{"$f":"AK156","v":"Beet pulp-11"},null,466.48,null,null,null,null,null,null,"Mg availibility (%)",null,null,0.16,0.16,0.16,0.16,0.16,0.16,0.16,0.16,0.16,0.16,0.16,0,0.16,0.16,0.16,0.16,0.16,0,0.16,0.16,0.16,0,0.7,0,0,0.9]
[null,"Calcium carbonate",null,null,null,{"$f":"AL156","v":"CaCO3"},null,281.40600000000001,null,null,null,null,null,null,"Na, (%)",null,null,0.02,0.01,0.02,0.08,0.08,0.01,0.02,0.02,0.01,0.04,7.0000000000000007E-2,0,0.04,0.03,0.05,0.3,0.4,0,0.01,0.31,0.06,16.68,0,0,39.340000000000003,0]
[null,"Sodium phosphate, monobasic",null,null,null,{"$f":"AM156","v":"NaH2PO4.H20"},null,783.51,null,null,null,null,null,null,"Na availibility (%)",null,null,0.9,0.9,0.9,0.9,0.9,0.9,0.9,0.9,0.9,0.9,0.9,0,0.9,0.9,0.9,0.9,0.9,0,0.9,0.9,0.9,0.9,0,0,0.9,0]
[null,"Magnesium Oxide",null,null,null,{"$f":"AN156","v":"MgO"},null,766.84,null,null,null,null,null,null,"Cl, (%)",null,null,0.56000000000000005,0.28999999999999998,0.61,0.43,0.92,0.04,0.08,0.13,0.11,7.0000000000000007E-2,0.04,0,0.1,0.13,0.11,0.26,0.33,0,0.05,0.18,0,0,0,0,60.662999999999997,0]
[null,"Calcium Sulfate",null,null,null,{"$f":"AO156","v":"CaSO4.2H20"},null,505.05,null,null,null,null,null,null,"Cl availibility (%)",null,null,0.9,0.9,0.9,0.9,0.9,0.9,0.9,0.9,0.9,0.9,0.9,0,0.9,0.9,0.9,0.9,0.9,0,0.9,0.9,0.9,0,0,0,0.9,0]
[null,"Sodium chloride",null,null,null,{"$f":"AP156","v":"NaCl"},null,357.14,null,null,null,null,null,null,"S, (%)",null,null,0.2,0.14000000000000001,0.28000000000000003,0.26,0.24,0.31,0.1,0.12,0.15,0.38,0.73,0,0.34,0.39,0.86,0.44,0.77,0,0.12,0.3,0,0,0,18.62,0,13.31]
[null,"Magesium sulfate heptahydrate",null,null,null,{"$f":"AQ156","v":"MgSO4.7H20"},null,606.6,null,null,null,null,null,null,"DCAD (meq/kg)",null,null,{"$f":"(R176*10000/39.0983)+(R180*10000/22.9898)-(R182*10000/35.453)-(R184*10000/16.065)","v":585.62206726398017},88.613288229254522,319.6663707531103,370.62093011142207,99.072811842135138,309.0746726383469,31.308853274084726,40.563433635968153,7.8348779917937037,{"$f":"(AA176*10000/39.0983)+(AA180*10000/22.9898)-(AA182*10000/35.453)-(AA184*10000/16.065)","v":-111.00169205912886},{"$f":"(AB176*10000/39.0983)+(AB180*10000/22.9898)-(AB182*10000/35.453)-(AB184*10000/16.065)","v":-74.608750854704397},{"$f":"(AC176*10000/39.0983)+(AC180*10000/22.9898)-(AC182*10000/35.453)-(AC184*10000/16.065)","v":0},319.77551448875818,350.01231435525887,-426.95128501254027,64.610946040174554,-313.99096168312093,0,301.75608084689907,{"$f":"(AK176*10000/39.0983)+(AK180*10000/22.9898)-(AK182*10000/35.453)-(AK184*10000/16.065)","v":142.86457338576761},{"$f":"(AL176*10000/39.0983)+(AL180*10000/22.9898)-(AL182*10000/35.453)-(AL184*10000/16.065)","v":41.444466409521866},7255.3915214573426,0,-11590.413943355119,1.1138185150521167,-8285.0918145035794]
[null,null,null,null,null,null,null,null,null,null,null,null,null,null,"Ash, (%)",null,null,9.8000000000000007,4.3,10.8,9.1,8.8000000000000007,5.9,1.5,2.9,2,4.3,7.4,15.5,5.5,6.4,3.3,5.2,2.5,100,4.8,7.3,100,100,100,100,100,100]
["4.2. Additional Costs"]
[null,"Transportation cost of:",null,null,null,null,null,null,null,null,null,null,null,null,"Price, $/t DM",null,null,{"$f":"H157","v":0},{"$f":"H158","v":94.866666666666674},{"$f":"H159","v":174},{"$f":"H160","v":152.33333333333334},{"$f":"H161","v":154.16666666666666},{"$f":"H162","v":444.44},{"$f":"H163","v":252.81},{"$f":"H164","v":198.86},{"$f":"H165","v":231.81},{"$f":"H169","v":266.67},{"$f":"H170","v":375},{"$f":"H171","v":1530.61},{"$f":"H172","v":738.64},{"$f":"H173","v":511.11},{"$f":"H174","v":786.05},{"$f":"H175","v":241.76},{"$f":"H176","v":616.25},{"$f":"H177","v":867.35},{"$f":"H178","v":247.25},{"$f":"H179","v":466.48},{"$f":"H180","v":281.40600000000001},{"$f":"H181","v":783.51},{"$f":"H182","v":766.84},{"$f":"H183","v":505.05},{"$f":"H184","v":357.14},{"$f":"H185","v":606.6}]
[null,"Purchased forages, $/t DM",null,null,null,null,null,0,null,null,null,null,null,null,"Transport, $/t DM",null,null,{"$f":"H189","v":0},{"$f":"H189","v":0},{"$f":"H189","v":0},{"$f":"H189","v":0},{"$f":"H189","v":0},{"$f":"H190","v":0},{"$f":"H190","v":0},{"$f":"H190","v":0},{"$f":"H190","v":0},{"$f":"H190","v":0},{"$f":"H190","v":0},{"$f":"$H$190","v":0},0,0,0,0,0,0,0,0,0,0,{"$f":"$H$190","v":0},{"$f":"$H$190","v":0},{"$f":"$H$190","v":0},{"$f":"H190","v":0}]
[null,"Purchased concentrates & minerals, $/t DM",null,null,null,null,null,0,null,null,null,null,null,null,"Storage costs, $/t DM",null,null,{"$f":"IF(OR(R158=\"S\",R158=\"H\"),$H$192,IF(OR(R158=\"C\",R158=\"PA\"),$H$193,IF(R158=\"M\",$H$194,0)))","v":0},{"$f":"IF(OR(S158=\"S\",S158=\"H\"),$H$192,IF(OR(S158=\"C\",S158=\"PA\"),$H$193,IF(S158=\"M\",$H$194,0)))","v":4.1900000000000004},{"$f":"IF(OR(T158=\"S\",T158=\"H\"),$H$192,IF(OR(T158=\"C\",T158=\"PA\"),$H$193,IF(T158=\"M\",$H$194,0)))","v":4.1900000000000004},4.1900000000000004,4.1900000000000004,2,2,2,2,2,2,0,2,2,2,2,0,1.3,2,2,1.3,1.3,1.3,1.3,1.3,1.3]
[null,"Storage costs of:",null,null,null,null,null,null,null,null,null,null,null,null,"Field & storage losses, %",null,null,{"$f":"I198","v":15},{"$f":"D198","v":17},{"$f":"E198","v":17},{"$f":"E198","v":17},18,3,{"$f":"G198","v":3},{"$f":"G198","v":3},{"$f":"G198","v":3}]
[null,"Forages, S/t DM",null,null,null,null,null,4.1900000000000004,null,null,null,null,null,null,"Refusals, % of used",null,null,0,{"$f":"D199","v":5},{"$f":"E199","v":5},5,10,2,{"$f":"G199","v":2},{"$f":"G199","v":2},{"$f":"G199","v":2},{"$f":"G199","v":2},{"$f":"G199","v":2},{"$f":"G199","v":2},{"$f":"G199","v":2},{"$f":"G199","v":2},{"$f":"G199","v":2},{"$f":"G199","v":2},{"$f":"G199","v":2},{"$f":"H199","v":1},{"$f":"G199","v":2},{"$f":"G199","v":2},{"$f":"H199","v":1},{"$f":"H199","v":1},1,1,{"$f":"H199","v":1},{"$f":"H199","v":1}]
[null,"Concentrates, $/t DM",null,null,null,null,null,2,null,null,null,null,null,null,"*Inventory Change",null,null,null,null,null,null,"* If min = 0 and max = 0, then amount produced = amount used"]
[null,"Minerals, $/t DM",null,null,null,null,null,1.3,null,null,null,null,null,null,"Minimum, t",null,null,{"$f":"J157","v":0},{"$f":"J158","v":0},{"$f":"J159","v":0},{"$f":"J160","v":0},"* If min = 0 and max > 0 then amount produced > amount used and the excess is sold"]
[null,null,null,null,null,null,null,null,null,null,null,null,null,null,"Maximum, t",null,null,{"$f":"K157","v":0},{"$f":"K158","v":0},{"$f":"K159","v":0},{"$f":"K160","v":0},"* If min < 0 and max = 0 then amount produced < amount used and the deficit is purchased"]
["4.3. Feed Losses",null,null,null,null,null,null,null,null,null,null,null,null,null,null,null,null,null,null,null,null,"* If min < 0 and max > 0 then N-CyCLE decides whether one should overproduce or underproduce"]
[null,null,null,{"$f":"F158","v":"CoSi-35"},"Other Silages","Hays","Concentrates","Minerals","Pastures"]
[null,"Field & storage losses, %",null,17,17,18,3,null,15]
[null,"Refusals, % of used",null,5,5,10,2,1,null,null,null,null,null,null,null,null,null,{"$f":"R156","v":"GrPast-49"},"CoSi-35","AlSi-83","MxSi-71","GrHy-52","SBw-108","CoGr-27","Barley-8","Wheat-116","Brewers grains-16","Canola-19","FatCa-40","SBMx-104","SBM48-107","CGM-25","CoDi-23","Bld Meal-14","Urea","SoyHull-103","Beet pulp-11","CaCO3","NaH2PO4.H20","MgO","CaSO4.2H20","NaCl","MgSO4.7H20"]
[null,null,null,null,null,null,null,null,null,null,null,null,null,null,{"$f":"B203","v":"CoGr-27"},null,null,{"$f":"IF($O200=R$199,1,0)","v":0},{"$f":"IF($O200=S$199,1,0)","v":0},{"$f":"IF($O200=T$199,1,0)","v":0},0,0,0,1,0,0,0,0,0,0,0,0,0,0,{"$f":"IF($O200=AI$199,1,0)","v":0},0,0,0,0,0,0,0,0]
["4.4. Feed with limits in Rations",null,null,null,null,null,null,null,null,null,null,null,null,null,{"$f":"B204","v":"Barley-8"},null,null,{"$f":"IF($O201=R$199,1,0)","v":0},0,0,0,0,0,0,1,0,0,0,0,0,0,0,0,0,0,0,0,0,0,0,0,0,0]
[null,"Maximum (upper limit) of feed in ration DM of any animal group (% of feed ingredient mix, dry matter basis)",null,null,null,null,null,null,null,null,null,null,null,null,"Wheat-116",null,null,0,0,0,0,0,0,0,0,1,0,0,0,0,0,0,0,0,0,0,0,0,0,0,0,0,0]
[null,"CoGr-27",null,null,null,null,null,40,null,null,null,null,null,null,"CoSi-35",null,null,0,1,0,0,0,0,0,0,0,0,0,0,0,0,0,0,0,0,0,0,0,0,0,0,0,0]
[null,"Barley-8",null,null,null,null,null,20,null,null,null,null,null,null,"GrHy-52",null,null,0,0,0,0,1,0,0,0,0,0,0,0,0,0,0,0,0,0,0,0,0,0,0,0,0,0]
[null,"Wheat-116",null,null,null,null,null,20,null,null,null,null,null,null,"CoDi-23",null,null,0,0,0,0,0,0,0,0,0,0,0,0,0,0,0,1,0,0,0,0,0,0,0,0,0,0]
[null,"CoSi-35",null,null,null,null,null,40,null,null,null,null,null,null,"Bld Meal-14",null,null,0,0,0,0,0,0,0,0,0,0,0,0,0,0,0,0,1,0,0,0,0,0,0,0,0,0]
[null,"GrHy-52",null,null,null,null,null,10,null,null,null,null,null,null,"Beet pulp-11",null,null,0,0,0,0,0,0,0,0,0,0,0,0,0,0,0,0,0,0,0,1,0,0,0,0,0,0]
[null,"CoDi-23",null,null,null,null,null,15,null,null,null,null,null,null,"Urea",null,null,0,0,0,0,0,0,0,0,0,0,0,0,0,0,0,0,0,1,0,0,0,0,0,0,0,0]
[null,"Bld Meal-14",null,null,null,null,null,10,null,null,null,null,null,null,"NaCl",null,null,0,0,0,0,0,0,0,0,0,0,0,0,0,0,0,0,0,0,0,0,0,0,0,0,1,0]
[null,{"$f":"B179","v":"Beet pulp-11"},null,null,null,null,null,20,null,null,null,null,null,null,"Desired upper Limit (% of ration DM)",null,null,{"$f":"IF(SUM(R200:R209)=0,0,VLOOKUP(R$199,$B$203:$H$212,7,FALSE))","v":0},{"$f":"IF(SUM(S200:S209)=0,0,VLOOKUP(S$199,$B$203:$H$212,7,FALSE))","v":40},0,0,10,0,40,20,20,0,0,0,0,0,0,15,10,1.5,0,20,0,0,0,0,3.5,0]
[null,"Urea",null,null,null,null,null,1.5,null,null,null,null,null,null,null,null,null,"Leave blank if no limit is desired"]
[null,"NaCl",null,null,null,null,null,3.5]
[]
["4.5. Drinking Water Composition:"]
[null,"K, mg/l",null,null,null,null,null,5]
[null,"Na, mg/l",null,null,null,null,null,74]
[null,"Cl, mg/l",null,null,null,null,null,75]
[null,"S, mg/l",null,null,null,null,null,19]
[]
["5.0 Manure and Fertilizers",null,null,null,null,null,null,null,"Back to top"]
["5.1. Manure Production and Nutrient Excretion",null,null,null,null,null,null,null,null,null,null,null,null,null,"MANURE NUTRIENTS, COSTS AND NUTRIENT LOSSES"]
[null,null,null,null,null,null,"GROUP",null,null,null,null,null,null,null,"5.1. Manure Production and Nutrient Excretion",null,null,null,null,null,"GROUP",null,null,"Note that cells highlighted in blue are used in N-CyCLE calcualtions",null,null,null,null,null,"For advance users only: Process-based model (Proportions of N entering a management level)"]
[null,null,null,null,1,2,3,4,5,null,null,null,null,null,null,null,null,null,1,2,3,4,5,"but others are literature estimates based on your earlier inputs",null,null,null,null,null,"Method of collection/storage:",null,null,"N","P2O5","K2O","Na","Cl","S"]
[null,null,null,null,{"$f":"E98","v":"Early lactation"},{"$f":"F98","v":"Mid-late lac."},{"$f":"G98","v":"Dry cows"},{"$f":"H98","v":"Heifers<1yr old"},{"$f":"I98","v":"Heifers>1yr old"},null,null,null,null,null,null,null,null,null,{"$f":"P43","v":"Early lactation"},{"$f":"Q43","v":"Mid-late lac."},{"$f":"R43","v":"Dry cows"},{"$f":"S43","v":"Heifers<1yr old"},{"$f":"T43","v":"Heifers>1yr old"},"Note the differences between the two references listed here!",null,null,null,null,null,"Liquid manure (L)",null,null,0.7,1,1,1,1,1]
[null,null,null,"Daily manure excretion, kg as-is",{"$f":"S226","v":67.366731036339459},{"$f":"T226","v":63.549282655997743},{"$f":"U226","v":36.078000000000003},{"$f":"V233","v":15.3209254},{"$f":"W233","v":27.392060610000001},null,null,null,null,null,null,"As Described in ASAE, 2005",null,null,{"$f":"(P47*0.954)+(P46*0.037)+(P45*0.017)+(P49/100*186.72)+(P50/100*0.94*1141.48)-33.06","v":62.988995852799988},{"$f":"(Q47*0.954)+(Q46*0.037)+(Q45*0.017)+(Q49/100*186.72)+(Q50/100*0.94*1141.48)-33.06","v":60.345142806399991},{"$f":"R46*0.022+21.844","v":36.078000000000003},{"$f":"IF($E$27=4,0,0)","v":0},null,null,null,null,null,null,null,"Solid manure (S)",null,null,0.65,1,1,1,1,1]
[null,null,null,null,null,null,null,null,null,null,null,null,null,null,null,null,null,"Daily manure excretion, kg as-is",{"$f":"(P47*0.172)+(E101*2.207)+(P49/100*171.83)+(P50*0.94/100*505.31)-8.17","v":67.366731036339459},{"$f":"(Q47*0.172)+(F101*2.207)+(Q49/100*171.83)+(Q50*0.94/100*505.31)-8.17","v":63.549282655997743},{"$f":"R46*0.022+21.844","v":36.078000000000003},{"$f":"IF($E$27=4,((S46*0.022)+21.844),((H101*3.886)-(S46*0.029)+5.641))","v":19.690080786400003},{"$f":"(I101*3.886)-(T46*0.029)+5.641","v":39.368499474199787},"Weight of \"fresh\" feces + urine excreted per day",null,null,null,null,null,"Type of storage facility:"]
["5.2 Manure Mangement (Handling)",null,null,null,null,null,null,null,null,null,null,null,null,null,null,null,null,"Daily N excretion (based on minimum dietary CP), g/d",{"$f":"(P47*2.303)+(P45*0.159)+(E101*E120/100*70.138)+(P46*0.193)-56.632","v":423.22528562206816},{"$f":"(Q47*2.303)+(Q45*0.159)+(F101*F120/100*70.138)+(Q46*0.193)-56.632","v":365.97229479202548},{"$f":"(G101*12.747)+(G120/100*1606.29)-117.5","v":215.56503329014811},{"$f":"IF($E$27=4,(G101*12.747)+(G120/100*1606.29)-117.5,(H101*H120/100*78.39)+51.35)","v":111.13038352971481},{"$f":"(I101*I120/100*78.39)+51.35","v":169.89914057228171},null,null,null,null,null,null,"Daily Haul (DH)",null,null,1,1,1,1,1,1]
[null,"Manure Nutrient losses, especially N losses, depend on method of collection, type of storage, method of spreading and percentage of manure spread after fall harvest.",null,null,null,null,null,null,null,null,null,null,null,null,null,null,null,"Daily N excretion (based on maximum dietary CP), g/d",{"$f":"(P47*2.303)+(P45*0.159)+(E101*E121/100*70.138)+(P46*0.193)-56.632","v":466.22748879615693},{"$f":"(Q47*2.303)+(Q45*0.159)+(F101*F121/100*70.138)+(Q46*0.193)-56.632","v":400.74316968369504},{"$f":"(G99*12.747)+(G121/100*1606.29)-117.5","v":251.96846804385609},{"$f":"IF($E$27=4,(G101*12.747)+(G121/100*1606.29)-117.5,(H101*H121/100*78.39)+51.35)","v":120.84213367913455},{"$f":"(I101*I121/100*78.39)+51.35","v":192.50077047040543},null,null,null,null,null,null,"Liquid Storage (LS)",null,null,1,1,1,1,1,1]
[null,"Please, choose as appropriate.",null,null,null,null,null,null,null,null,null,null,null,null,null,null,null,"Daily P excretion (based on minimum dietary P), g/d",{"$f":"((E101*1000)*(E124/0.7/100))-(P47*0.9)","v":52.623369144589596},{"$f":"((F101*1000)*(F124/0.7/100))-(Q47*0.9)","v":42.343120102880889},{"$f":"(((G101*1000)*G124/0.7/100*60)-264.386)/60","v":21.718984020418127},{"$f":"IF($E$27=4,(((H101*1000)*H124/0.7/100*60)-264.386)/60,(H101*1000)*H124/0.7/100)","v":16.450572835521715},{"$f":"(I101*1000)*I124/0.7/100","v":27.792587157386002},"Estimates based on Available P to Total P ratio of 0.70",null,null,null,null,null,"Bedded Pack (BP)",null,null,0.92200000000000004,1,1,1,1,1]
[null,"Group",null,"Handling Mode",null,null,null,null,null,"Type of storage (make a choice consistent with the handling mode)",null,null,null,null,null,null,null,"Daily P excretion (based on maximum dietary P), g/d",{"$f":"((E101*1000)*(E125/0.7/100))-(P47*0.9)","v":95.378053716884381},{"$f":"((F101*1000)*(F125/0.7/100))-(Q47*0.9)","v":73.216050154321323},{"$f":"(((G101*1000)*G125/100/0.7*60)-264.386)/60","v":34.781692697293849},{"$f":"IF($E$27=4,(((H101*1000)*H125/0.7/100*60)-264.386)/60,(H101*1000)*H125/0.7/100)","v":24.675859253282574},{"$f":"(I101*1000)*I125/0.7/100","v":41.688880736079},"Estimates based on Available P to Total P ratio of 0.70",null,null,null,null,null,"Stack (S)",null,null,1,1,1,1,1,1]
[null,null,null,"Choose","Suggested DM %","Actual DM %","First, choose whether the manure will be handled",null,null,"Choose",null,"Choose",null,null,null,null,null,"Daily K excretion (based on required dietary K), g/d",{"$f":"(P47*1.822)+(P50*0.94/100*2688.88)+(E101*E131/0.9/100*156.93)-91.755","v":84.97414010280454},{"$f":"(Q47*1.822)+(Q50*0.94/100*2688.88)+(F101*F131/0.9/100*156.93)-91.755","v":67.376461638122095},{"$f":"(G101*1000)*G131/0.9/100","v":65.208033333333319},{"$f":"(H101*1000)*H131/0.9/100","v":25.111361613333333},{"$f":"(I101*1000)*I131/0.9/100","v":63.311043481988172},"Estimates based on Available K to Total K ratio of 0.9",null,null,null,null,null,"Compost (C) ",null,null,0.48759999999999998,1,1,1,1,1]
[null,1,{"$f":"P43","v":"Early lactation"},"Liquid",{"$f":"IF(D232=\"Liquid\",8.9,27.7)","v":8.9},8.9,"as a solid or a liquid. Then, choose a percentage of",null,null,"LS",{"$f":"IF(J232=\"DH\",\"Daily Haul\",IF(J232=\"LS\",\"Liquid Storage\",IF(J232=\"BP\",\"Bedded Pack\",IF(J232=\"S\",\"Stack\",IF(J232=\"C\",\"Compost\",\"-\")))))","v":"Liquid Storage"},"Uncov. Bottom Loaded",null,null,null,"As Described in Nennich et al., 2005",null,null,null,null,null,null,null,null,null,null,null,null,null,"Type of management of liquid storage facility:"]
[null,2,{"$f":"Q43","v":"Mid-late lac."},"Liquid",{"$f":"IF(D233=\"Liquid\",8.9,27.7)","v":8.9},8.9,"dry matter of the manure hauled to the fields. ",null,null,"LS",{"$f":"IF(J233=\"DH\",\"Daily Haul\",IF(J233=\"LS\",\"Liquid Storage\",IF(J233=\"BP\",\"Bedded Pack\",IF(J233=\"S\",\"Stack\",IF(J233=\"C\",\"Compost\",\"-\")))))","v":"Liquid Storage"},"Uncov. Bottom Loaded",null,null,null,null,null,"Daily manure excretion, kg as-is",{"$f":"E101*2.63+9.4","v":69.433027233513727},{"$f":"F101*2.63+9.4","v":62.662397371259658},{"$f":"((0.00711*R46)+(32.4*13.5/100)+(25.9*34/100)+8.05)","v":25.830169999999999},{"$f":"IF($E$27=4,(0.00711*S46)+(32.4*13.5/100)+(25.9*34/100)+8.05,S46*0.0811)","v":15.3209254},{"$f":"(T46*0.0181)+17.8","v":27.392060610000001},"Equation for dry cow manure production was that of Wilkerson et al.",null,null,null,null,null,"Covered",null,null,1.0927,1,1,1,1,1]
[null,3,{"$f":"R43","v":"Dry cows"},"Liquid",{"$f":"IF(D234=\"Liquid\",8.9,27.7)","v":8.9},8.9,"Actual Percent DM entered will influence estimates",null,null,"LS",{"$f":"IF(J234=\"DH\",\"Daily Haul\",IF(J234=\"LS\",\"Liquid Storage\",IF(J234=\"BP\",\"Bedded Pack\",IF(J234=\"S\",\"Stack\",IF(J234=\"C\",\"Compost\",\"-\")))))","v":"Liquid Storage"},"Uncov. Bottom Loaded",null,null,null,null,null,"Daily N excretion (based on minimum dietary CP), g/d",{"$f":"(E101*E120/100*84.1)+(P46*0.196)","v":437.07078951233183},{"$f":"(F101*F120/100*84.1)+(Q46*0.196)","v":374.04395998216864},"na",{"$f":"H101*H120/100*112.55","v":85.830873405656348},{"$f":"(I101*I120/100*78.39)+51.4","v":169.94914057228169},"This equation underestmated actual dry cow manure production by ",null,null,null,null,null,"Uncov. Bottom Loaded",null,null,1.0927,1,1,1,1,1]
[null,4,{"$f":"S43","v":"Heifers<1yr old"},"Liquid",{"$f":"IF(D235=\"Liquid\",8.9,27.7)","v":8.9},8.9,"of total amount of manure to haul to the fields.",null,null,"LS",{"$f":"IF(J235=\"DH\",\"Daily Haul\",IF(J235=\"LS\",\"Liquid Storage\",IF(J235=\"BP\",\"Bedded Pack\",IF(J235=\"S\",\"Stack\",IF(J235=\"C\",\"Compost\",\"-\")))))","v":"Liquid Storage"},"Uncov. Bottom Loaded",null,null,null,null,null,"Daily N excretion (based on maximum dietary CP), g/d",{"$f":"(E101*E121/100*84.1)+(P46*0.196)","v":488.63321340438557},{"$f":"(F101*F121/100*84.1)+(Q46*0.196)","v":415.73648868828241},"na",{"$f":"H101*H121/100*112.55","v":99.77471164162003},{"$f":"(I101*I121/100*78.39)+51.4","v":192.55077047040544},"12.3 kg/d but there was not slope or mean biases..",null,null,null,null,null,"Uncov. Top Loaded",null,null,0.96640000000000004,1,1,1,1,1]
[null,5,{"$f":"T43","v":"Heifers>1yr old"},"Liquid",{"$f":"IF(D236=\"Liquid\",8.9,27.7)","v":8.9},8.9,"Note: Liquid DM% < 14.1 < Solid DM%.",null,null,"LS",{"$f":"IF(J236=\"DH\",\"Daily Haul\",IF(J236=\"LS\",\"Liquid Storage\",IF(J236=\"BP\",\"Bedded Pack\",IF(J236=\"S\",\"Stack\",IF(J236=\"C\",\"Compost\",\"-\")))))","v":"Liquid Storage"},"Uncov. Bottom Loaded",null,null,null,null,null,"Daily P excretion (based on minimum dietary P), g/d",{"$f":"E101*E124/0.7/100*1000-(P47*0.9)","v":52.62336914458961},{"$f":"F101*F124/0.7/100*1000-(Q47*0.9)","v":42.343120102880889},"na",{"$f":"IF(E27=4,\"na\",H101*H124/0.7/100*622.03)","v":10.232749820879572},"na","Estimates based on Available P to Total P ratio of 0.70",null,null,null,null,null,"Method of Manure Spreading:"]
[null,null,null,null,null,null,null,null,null,null,null,null,null,null,null,null,null,"Daily P excretion (based on maximum dietary P), g/d",{"$f":"E101*E125/0.7/100*1000-(P47*0.9)","v":95.378053716884409},{"$f":"F101*F125/0.7/100*1000-(Q47*0.9)","v":73.216050154321337},"na",{"$f":"IF(E27=4,\"na\",H101*H125/0.7/100*622.03)","v":15.349124731319359},"na","Estimates based on Available P to Total P ratio of 0.70",null,null,null,null,null,"Broadcast, no incorporation",null,null,0.71,1,1,1,1,1]
[null,"Group",null,"Method of manure spreading",null,null,null,null,null,"% of Manure spread after fall harvest",null,null,null,null,null,null,null,"Daily K excretion (based on required dietary K), g/d",{"$f":"E101*7.21+(E131/0.9/100*15944)-164.5","v":178.24595205496581},{"$f":"F101*7.21+(F131/0.9/100*15944)-164.5","v":148.21195506960066},"na","na","na","Estimates based on Available K to Total K ratio of 0.9",null,null,null,null,null,"Broadcast, incorporated within 48h",null,null,0.77,1,1,1,1,1]
[null,null,null,"Choose",null,null,null,null,null,null,"%",null,null,null,null,null,null,null,null,null,null,null,null,null,null,null,null,null,null,"Spray bar misting, no incorporation",null,null,0.77,1,1,1,1,1]
[null,1,{"$f":"P43","v":"Early lactation"},"Spray bar misting, no incorporation",null,null,null,null,null,{"$f":"D232","v":"Liquid"},20,"US rccommentations do not",null,null,null,null,null,null,null,null,null,null,null,null,null,null,null,null,null,"Spray bar misting, incorporated within 48h",null,null,0.83,1,1,1,1,1]
[null,2,{"$f":"Q43","v":"Mid-late lac."},"Spray bar misting, no incorporation",null,null,null,null,null,{"$f":"D233","v":"Liquid"},20,"include differential losses in NPK",null,null,null,null,null,null,null,null,null,null,null,null,null,null,null,null,null,"Knifing in",null,null,1,1,1,1,1,1]
[null,3,{"$f":"R43","v":"Dry cows"},"Spray bar misting, no incorporation",null,null,null,null,null,{"$f":"D234","v":"Liquid"},20,"between fall and spring",null,null,null,null,null,null,null,null,null,null,null,null,null,null,null,null,null,"Box spreader, no incorporation",null,null,0.77,1,1,1,1,1]
[null,4,{"$f":"S43","v":"Heifers<1yr old"},"Spray bar misting, no incorporation",null,null,null,null,null,{"$f":"D235","v":"Liquid"},20,"application, but Canadian",null,null,null,null,null,null,null,null,null,null,null,null,null,null,null,null,null,"Box spreader, incorporated within 48h",null,null,0.83,1,1,1,1,1]
[null,5,{"$f":"T43","v":"Heifers>1yr old"},"Spray bar misting, no incorporation",null,null,null,null,null,{"$f":"D236","v":"Liquid"},20,"recommendations do.",null,null,null,null,null,null,null,null,null,null,null,null,null,null,null,null,null,"Pasture",null,null,0.77,1,1,1,1,1]
[null,null,null,null,null,null,null,null,null,null,null,null,null,null,null,null,null,null,null,null,null,null,null,null,null,null,null,null,null,"Moment of Manure Spreading:"]
["5.3. Fertilizer and Manure Composition",null,null,null,null,null,null,null,null,null,null,null,null,null,null,null,null,null,null,null,null,null,null,null,null,null,null,null,null,"Liquid Manure Spread in Spring and Summer",null,null,0.91,1,1,1,1,1]
[null,null,null,null,null,"Purchased fertilizer",null,null,"Manures",null,null,null,null,null,null,null,null,null,null,null,null,null,null,null,null,null,null,null,null,"Liquid Manure Spread after Harvest",null,null,0.63,0.625,0.77,1,1,1]
[null,null,null,"18-46-0","27-0-0","0-46-0","0-0-60","11-52-0","Solid","Liquid",null,null,null,null,null,null,null,null,null,null,null,null,null,null,null,null,null,null,null,"Solid Manure Spread in Spring and Summer",null,null,1,1,1,1,1,1]
[null,"Unit resource, t",null,1,1,1,1,1,1,1,null,null,null,null,null,null,null,null,null,null,null,null,null,null,null,null,null,null,null,"Solid Manure Spread after Harvest",null,null,0.77,0.625,0.77,1,1,1]
[null,"N,  %",null,18,27,0,0,11,null,null,null,null,null,null,null,null,null,null,null,null,null,null,null,null,null,null,null,null,null,"Crop efficiency ratio:"]
[null,"P2O5,  %",null,46,0,46,0,52,"Manure composition ",null,null,null,null,null,"Cost of manure spreading ($/t) (R.E. Massey, 2005).",null,null,null,null,null,null,null,"Common Fertilizers",null,null,null,null,null,null,"Liquid Manure",null,null,0.6,0.8,0.9,1,1,1]
[null,"K2O, %",null,0,0,0,60,0,"is calculated by N-CyCLE",null,null,null,null,null,"The two tables below will allow you to estimate manure spreading cost (S/t) for your scenario",null,null,null,null,null,null,null,"Type","Formula","Name",null,null,null,null,"Solid Manure",null,null,0.55000000000000004,0.65,0.9,1,1,1]
[null,"Na, %",null,0,0,0,0,0,"depending on animal",null,null,null,null,null,"You can either extrapolate intermediate numbers from the Tables or use the \"calculators\"",null,null,null,null,null,null,null,"N ONLY",null,null,null,null,null,null,"Pasture",null,null,0.6,0.8,0.9,1,1,1]
[null,"Cl, %",null,0,0,0,47.5,0,"requirements and nutrient",null,null,null,null,null,"Note that you can assume that solid and liquid manure spreading costs are identical.",null,null,null,null,null,null,null,null,"82-0-0","Anyhydrous Ammonia"]
[null,"S, %",null,0,0,0,0,0,"intake",null,null,null,null,null,null,null,null,null,null,null,null,null,null,"46-0-0","Urea",null,null,null,null,"Maximum Frequency of Spreading N-containing commercial Fertilizers"]
[null,null,null,null,null,null,null,null,null,null,null,null,null,null,null,null,"Mode of Spreading",null,null,null,null,null,null,"28-0-0","UAN",null,null,null,null,null,null,null,null,null,null,"ROTATION"]
["5.4 Purchase price and spreading costs",null,null,null,null,null,null,null,null,null,null,null,null,null,"Distance","5000-gallon tanker",null,"Drag Hose or Center Pivot",null,null,null,null,null,"34-0-0","Ammonium Nitrate",null,null,null,null,null,null,null,null,{"$f":"T278","v":"CBAAMMG"},{"$f":"AD278","v":"CCSW"},{"$f":"AN278","v":"CCAAMMG"},{"$f":"AX278","v":"BAAMM"},{"$f":"BH278","v":"CCS"}]
[null,null,null,{"$f":"D248","v":"18-46-0"},"27-0-0","0-46-0","0-0-60","11-52-0","Solid","Liquid",null,null,null,null,"(Miles)","50-cow herd","2000-cow herd","50-cow herd","2000-cow herd",null,null,null,null,"21-0-0-24","Ammonium Sulfate",null,null,null,null,null,null,null,"Max. frequency of N application, yr",3,3,3,2,2,"Number of non-legume crops in the rotation"]
[null,"Purchase Costs $/t",null,831,610,904,721,830,0,0,null,null,null,null,0.5,0.8,2.2999999999999998,0.8,5,null,null,null,null,null,null,null,null,null,null,null,null,null,"years in the rotation",{"$f":"MAX(R280:AA280)","v":7},{"$f":"MAX(AB280:AK280)","v":4},{"$f":"MAX(AL280:AU280)","v":7},{"$f":"MAX(AV280:BE280)","v":5},{"$f":"MAX(BF280:BO280)","v":3}]
[null,null,null,null,null,null,null,null,null,null,"In this version of N-CCLE spreading cost of",null,null,null,1.5,1.5,2.7,1,6.3,null,null,null,"N&P2O5 Fertilzers"]
[null,null,null,null,null,null,null,null,null,null,"Commercial fertilizers are not accounted for",null,null,null,4.5,5.4,3.4,1.4,11.4,null,null,null,null,"18-46-0","DAP = Diammonium Phosphate"]
[null,"Spreading costs of Manure, $/t",null,null,null,null,null,null,null,null,"at it creates \"non-linear\" conditions",null,null,null,"Calculate the cost for any distance (within the range of 0 to 6 miles):",null,null,null,null,null,null,null,null,"11-52-0","MAP = Mono Amonimum Phosphate"]
[null,"Land Unit 1",null,"See definition of Land Unit in section 6, below",null,null,null,null,1.5,1.5,"See Tables and calculator to the right",null,null,null,"Simply enter the desired distance and read the corresponding costs",null,null,null,null,null,null,null,null,"10-34-0","Liquid"]
[null,"Land Unit 2",null,null,null,null,null,null,1.5,1.5,"for calculation of manure spreading",null,null,null,1,{"$f":"0.1571*O264^2+0.3714*O264+0.575","v":1.1034999999999999},{"$f":"-0.0476*O264^2+0.5238*O264+2.0357","v":2.5118999999999998},{"$f":"0.1538*O264+0.7429","v":0.89670000000000005},{"$f":"0.107*O264^2+1.0714*O264+4.4375","v":5.6158999999999999},null,null,null,"P2O5 ONLY"]
[null,"Land Unit 3",null,null,null,null,null,null,1.5,1.5,"costs",null,null,null,null,null,null,null,null,null,null,null,null,"0-46-0","TSP = Triple Super Phosphate"]
[null,"Land Unit 4",null,null,null,null,null,null,1.5,1.5,null,null,null,null,null,null,"5000-gallon tanker",null,null,"Drag hose or center Pivot"]
[null,"Land Unit 5",null,null,null,null,null,null,1.5,1.5,null,null,null,null,"Cow  number",null,"Distance (miles)",null,null,"Distance (miles)",null,null,"K2O ONLY"]
[null,null,null,null,null,null,null,null,null,null,null,null,null,null,"in the herd",0.5,1.5,4.5,0.5,1.5,4.5,null,null,"0-0-60","Muriate of Potash (Potassium Chloride)"]
["5.5. Manure Export (with high stocking rates, allocation of manure on the farm land may be impossible. The only feasible solution (as built in N-CYCLE) is to export manure.",null,null,null,null,null,null,null,null,null,null,null,null,null,50,0.8,1.5,5.4,0.8,1,1.4]
[null,null,null,null,null,null,null,null,{"$f":"I258","v":"Solid"},{"$f":"J258","v":"Liquid"},null,null,null,null,300,1,1.6,5.2,1.4,1.7,2.7]
[null,"Manure exported (maximum amount allowed, t/y) (Use zeros to force N-CyCLE to use all the manure on the farm land.)",null,null,null,null,null,null,0,0,"Note that one dairy cow produces approximately",null,null,null,2000,2.4,2.7,3.5,5.0999999999999996,6.3,11.4]
[null,"Cost associated with exportation of manure, $/t (e.g., cost of spreading manure on neighbors land \"free of charge\" to them).",null,null,null,null,null,null,6,6,"25 metric tons of manure per year",null,null,null,70,{"$f":"0.0008*O272+0.7619","v":0.81790000000000007},{"$f":"0.0006*O272+1.4542","v":1.4962},{"$f":"-0.001*O272+5.4799","v":5.4098999999999995},{"$f":"0.0022*O272+0.6923","v":0.84630000000000005},{"$f":"0.0027*O272+0.8645","v":1.0535000000000001},{"$f":"0.0051*O272+1.1722","v":1.5291999999999999}]
[null,null,null,null,null,null,null,null,null,null,null,null,null,null,null,null,null,null,null,null,null,null,{"$f":"(S281-(S281*0.43))/0.43","v":2.505348837209302}]
[]
["6.0 Crops and Rotations",null,null,null,null,null,null,null,"Back to top"]
["6.1 Cropland",null,null,null,null,null,null,null,null,null,null,null,null,null,"CROP ROTATIONS"]
[null,"Land Unit",null,null,"ha","In N-CyCLE, a land unit is a set of fields withthe same general characteristics. By defaults, N-CyCLE assumes that:",null,null,null,null,null,null,null,null,null,null,null,null,null,null,null,null,null,null,null,null,null,null,null,null,null,null,null,null,null,null,null,null,null,null,null,null,null,null,null,null,null,null,null,null,null,null,null,null,null,null,null,"*** Rotation copntaining Pastures must be the rotation 5 in Land Unit 1."]
[null,"LU 1",null,43,{"$f":"47","v":47},"Land Unit 1 are fields with very high P soil located very near the facilities",null,null,null,null,null,null,null,null,"Land Unit 1",null,null,"Rotation 1 name:",null,"CBAAMMG",null,null,null,null,null,null,null,"Rotation 2 name:",null,"CCSW",null,null,null,null,null,null,null,"Rotation 3 name:",null,"CCAAMMG",null,null,null,null,null,null,null,"Rotation 4 name:",null,"BAAMM",null,null,null,null,null,null,null,"Rotation 5 name:",null,"CCS"]
[null,"LU 2",null,null,0,"Land Unit 2 are fields with high P soil located near the facilities",null,null,null,null,null,null,null,null,"Crops:",null,null,"CoSi-35","Barley-8","Straw-120","Barley-8","Straw-120","AlSi-83","AlSi-83","MxSi-71","MxSi-71","GrHy-52","CoSi-35","CoGr-27","SBw-108","Wheat-116","Straw-120",null,null,null,null,null,"CoGr-27","CoSi-35","AlSi-83","AlSi-83","MxSi-71","MxSi-71","GrHy-52",null,null,null,"Barley-8","Straw-120","Barley-8","Straw-120","AlSi-83","AlSi-83","MxSi-71","MxSi-71",null,null,"CoGr-27","CoSi-35","SBw-108"]
[null,"LU 3",null,37,48,"Land Unit 3 are fields with normal P soil located at a distance from the facilities",null,null,null,null,null,null,null,null,"Year",null,null,1,2,2,3,3,3,4,5,6,7,1,2,3,4,4,null,null,null,null,null,1,2,3,4,5,6,7,null,null,null,1,1,2,2,2,3,4,5,null,null,1,2,3]
[null,"LU 4",null,null,0,"Land Unit 4 are fields with low P soil located far from the facilities",null,null,null,null,null,null,null,null,"Yield, t DM/yr",null,null,13.49,1.89,{"$f":"1.5759*S281/2.728","v":1.0918075513196481},{"$f":"S281*0.67","v":1.2663},{"$f":"1.5759*U281/2.728","v":0.73151105938416416},1.54,{"$f":"Z281*(8/6)","v":6.706666666666667},{"$f":"Z281*(8/6)","v":6.706666666666667},5.03,{"$f":"Z281*(4/6)","v":3.3533333333333335},13.49,5.81,1.85,1.95,{"$f":"1.5759*AE281/3.08","v":0.99772889610389615},null,null,null,null,null,5.81,13.49,3.07,6.71,6.71,5.03,{"$f":"AQ281*(4/6)","v":3.3533333333333335},null,null,null,1.89,{"$f":"1.5759*AV281/2.728","v":1.0918075513196481},{"$f":"AV281*0.67","v":1.2663},{"$f":"1.5759*AX281/2.728","v":0.73151105938416416},1.54,6.71,6.71,5.03,null,null,5.81,13.49,1.85]
[null,"LU 5",null,37,47,"Land Unit 5 are fields with very low P soils located very farm from the facilities.",null,null,null,null,null,null,null,null,"N,  kg/ha",null,null,{"$f":"140-25","v":115},50,0,22.5,0,0,10,20,{"$f":"20","v":20},{"$f":"80","v":80},{"$f":"140","v":140},140,15,{"$f":"90-25","v":65},0,null,null,null,null,null,{"$f":"140-25","v":115},140,20,10,20,{"$f":"20","v":20},{"$f":"80","v":80},null,null,null,{"$f":"50-50","v":0},0,22.5,0,0,10,20,{"$f":"20","v":20},null,null,{"$f":"140-25","v":115},140,15]
[null,"Total",null,null,{"$f":"SUM(E278:E282)","v":142},null,null,null,null,null,null,null,null,null,"P2O5,  kg/ha",null,null,20,20,0,20,0,0,20,20,20,25,20,20,0,20,0,0,0,0,0,0,20,20,20,20,20,20,25,0,0,0,20,0,20,0,0,20,20,20,0,0,20,20,0,0,0,0,0,0,0,0]
[null,null,null,null,null,null,null,null,null,null,null,null,null,null,"K2O, kg/ha",null,null,40,20,0,30,0,0,20,20,20,20,40,40,0,20,0,0,0,0,0,0,40,40,30,20,20,20,20,0,0,0,20,0,30,0,0,20,20,20,0,0,40,40,0,0,0,0,0,0,0,0]
["6.2 Rotations, Crop Yields, N-Fixation, NPK Required and Cost of Production in each Land Units",null,null,null,null,null,null,null,null,null,null,null,null,null,"P removal, kg/ha",null,null,{"$f":"R281*1000*$S$174/100","v":31.027000000000001},{"$f":"S281*1000*$Y$174/100","v":7.3710000000000004},{"$f":"T281*1000*0.1/100","v":1.0918075513196481},{"$f":"U281*1000*$Y$174/100","v":4.9385699999999995},{"$f":"V281*1000*0.1/100","v":0.73151105938416416},{"$f":"W281*1000*$T$174/100","v":4.9279999999999999},{"$f":"X281*1000*$T$174/100","v":21.461333333333336},{"$f":"Y281*1000*$U$174/100","v":20.790666666666667},{"$f":"Z281*1000*$U$174/100","v":15.593},{"$f":"AA281*1000*$V$174/100","v":8.3833333333333329},{"$f":"AB281*1000*$S$174/100","v":31.027000000000001},{"$f":"AC281*1000*$X$174/100","v":17.43},{"$f":"AD281*1000*$W$174/100","v":11.1},{"$f":"AE281*1000*$Z$174/100","v":8.3849999999999998},{"$f":"AF281*1000*0.1/100","v":0.99772889610389615},null,null,null,null,null,{"$f":"AL281*1000*$X$174/100","v":17.43},{"$f":"AM281*1000*$S$174/100","v":31.027000000000001},{"$f":"AN281*1000*$T$174/100","v":9.8239999999999998},{"$f":"AO281*1000*$T$174/100","v":21.471999999999998},{"$f":"AP281*1000*$U$174/100","v":20.800999999999998},{"$f":"AQ281*1000*$U$174/100","v":15.593},{"$f":"AR281*1000*$V$174/100","v":8.3833333333333329},null,null,null,{"$f":"AV281*1000*$Y$174/100","v":7.3710000000000004},{"$f":"AW281*1000*0.1/100","v":1.0918075513196481},{"$f":"AX281*1000*$Y$174/100","v":4.9385699999999995},{"$f":"AY281*1000*0.1/100","v":0.73151105938416416},{"$f":"AZ281*1000*$T$174/100","v":4.9279999999999999},{"$f":"BA281*1000*$T$174/100","v":21.471999999999998},{"$f":"BB281*1000*$U$174/100","v":20.800999999999998},{"$f":"BC281*1000*$U$174/100","v":15.593},null,null,{"$f":"BF281*1000*$X$174/100","v":17.43},{"$f":"BG281*1000*$S$174/100","v":31.027000000000001},{"$f":"BH281*1000*$W$174/100","v":11.1}]
[null,"Rotations, annual yields, N-fixed, NPK required, Legume-N credit, and cost of production are described in details to the right.",null,null,null,null,null,null,null,null,null,null,null,null,"K removal, kg/ha"]
[null,"Below, is short description of the rotation described in this scenario. N-CyCLE select the most appropriate (combination of) rotation for each land unit.",null,null,null,null,null,null,null,null,null,null,null,null,"Cl, kg/ha",null,null,0,0,0,0,0,0,0,0,0,0,0,0,0,0,0,null,null,null,null,null,0,0,0,0,0,0,0,null,null,null,0,0,0,0,0,0,0,0,null,null,0,0,0]
[null,"Rotation","Years","Year 1","Year 2","Year 3","Year 4","Year 5","Year 6","Year 7","Year 8",null,null,null,"N fixation, kg/t",null,null,null,null,null,null,null,{"$f":"1000*21.9%/6.25*2/3*75%","v":17.519999999999996},{"$f":"1000*21.9%/6.25*2/3*75%","v":17.519999999999996},{"$f":"1000*20.6%/6.25*2/3*50%","v":10.98666666666667},{"$f":"1000*20.6%/6.25*2/3*50%","v":10.98666666666667},null,null,null,{"$f":"1000*39.2%/6.25*40%","v":25.088000000000001},null,null,null,null,null,null,null,null,null,{"$f":"1000*21.9%/6.25*2/3*75%","v":17.519999999999996},{"$f":"1000*21.9%/6.25*2/3*75%","v":17.519999999999996},{"$f":"1000*20.6%/6.25*2/3*50%","v":10.98666666666667},{"$f":"1000*20.6%/6.25*2/3*50%","v":10.98666666666667},null,null,null,null,null,null,null,null,{"$f":"1000*21.9%/6.25*2/3*75%","v":17.519999999999996},{"$f":"1000*21.9%/6.25*2/3*75%","v":17.519999999999996},{"$f":"1000*20.6%/6.25*2/3*50%","v":10.98666666666667},{"$f":"1000*20.6%/6.25*2/3*50%","v":10.98666666666667},null,null,null,null,{"$f":"1000*39.2%/6.25*40%","v":25.088000000000001}]
[null,"CBAAMMG",7,"Corn silage","Barley","Barley/Alfalfa","Alfalfa silage","Alf/Grass sil.","Alf/Grass sil.","Grass Hay",null,null,null,null,"Above ground residue, %",null,null,8,0,0,0,0,0,0,0,0,10,8,38,45,0,0,null,null,null,null,null,38,8,0,0,0,0,10,null,null,null,0,0,0,0,0,0,0,10,null,null,38,8,45]
[null,"CCSW",4,"Soybean","Corn grain","Soybean","Wheat",null,null,null,null,null,null,null,"N Above ground residue, g N/kg",null,null,13,7,0,0,0,0,0,0,0,15,13,5,6,6,0,null,null,null,null,null,5,13,0,0,0,0,15,null,null,null,7,0,0,0,0,0,0,15,null,null,5,13,6]
[null,"CCAAMMG",7,"Corn grain","Corn silage","Alfalfa silage ","Alfalfa silage","Alf./Grass sil.","Alf./Grass sil.","Grass Hay",null,null,null,null,"Below ground residue, %",null,null,20,15,0,0,0,0,0,0,0,50,20,15,25,15,0,null,null,null,null,null,15,20,0,0,0,0,50,null,null,null,15,0,0,0,0,0,0,50,null,null,15,20,25]
[null,"BAAMM",5,"Barley","Barley/Alfalfa","Alfalfa silage ","Alf./Grass sil.","Alf./Grass sil.",null,null,null,null,null,null,"N Below ground residue, g N/kg",null,null,7,10,0,0,0,0,0,0,0,15,7,7,10,10,0,null,null,null,null,null,7,7,0,0,0,0,15,null,null,null,10,0,0,0,0,0,0,15,null,null,7,7,10]
[null,"CCS",3,"Corn grain","Corn silage","Soybean",null,null,null,null,null,null,null,null,"Fuel consumption (L/ha) (w/o fertilizers application)",null,null,101.1,46.3,0,52.9,0,49.3,123.3,123.3,123.3,40,101.1,58.6,60.1,46.3,0,null,null,null,null,null,58.6,101.1,87.7,123.3,123.3,123.3,40,null,null,null,46.3,0,52.9,0,49.3,123.3,123.3,123.3,null,null,58.6,101.1,60.1]
[null,null,null,null,null,null,null,null,null,null,null,null,null,null,"Variable costs  w/o fertilizer, $/ha",null,null,715.28,400.72,0,400.72,0,320.26,171.8,171.8,152.91999999999999,91.77,715.28,667.12,536.07000000000005,401.32,0,null,null,null,null,null,667.12,715.28,431.48,171.8,171.8,152.91999999999999,91.77,null,null,null,400.72,0,400.7,0,320.26,171.8,171.8,152.91999999999999,null,null,667.12,715.28,536.07000000000005]
["6.3. Maximum application:",null,null,null,null,null,null,null,null,null,null,null,null,null,"Variable costs, $/t",null,null,0.62,12.73,{"$f":"13.19+3.12-200","v":-183.69},12.7,{"$f":"13.19+3.12-200","v":-183.69},12.37,12.37,12.37,12.37,11.74,0.62,23.18,8.7799999999999994,10.25,{"$f":"13.19+3.12-200","v":-183.69},null,null,null,null,null,23.18,0.62,12.37,12.37,12.37,12.37,12.37,null,null,null,12.73,{"$f":"13.19+3.12-200","v":-183.69},12.73,16.309999999999999,12.37,12.37,12.37,12.37,null,null,23.18,0.62,8.7799999999999994]
[null,null,null,null,"N,  kg/ha","P2O5,  kg/ha","K2O, kg/ha","In N-CyCLE you can define a maximum allowable rate of nutrient application",null,null,null,null,null,null,"Cost $/ha",null,null,{"$f":"R294+R295*R281","v":723.64379999999994},{"$f":"S294+S295*S281-292.93","v":131.84970000000004},{"$f":"T294+T295*T281","v":-200.55412910190617},{"$f":"U294+U295*U281-292.93","v":123.87201000000005},{"$f":"V294+V295*V281","v":-134.37126649827712},339.3098,254.76146666666668,254.76146666666668,215.14109999999999,131.13813333333331,723.64379999999994,{"$f":"AC294+AC295*AC281-290.52","v":511.2758},{"$f":"AD294+AD295*AD281-110.62","v":441.6930000000001},{"$f":"AE294+AE295*AE281-221.216","v":200.0915},{"$f":"AF294+AF295*AF281","v":-183.27282092532468},0,0,0,0,0,{"$f":"AL294+AL295*AL281-290.52","v":511.2758},{"$f":"AM294+AM295*AM281","v":723.64379999999994},469.45590000000004,254.80270000000002,254.80270000000002,215.14109999999999,133.25073333333333,0,0,0,{"$f":"AV294+AV295*AV281-292.93","v":131.84970000000004},{"$f":"AW294+AW295*AW281","v":-200.55412910190617},{"$f":"AX294+AX295*AX281-292.93","v":123.88999899999999},{"$f":"AY294+AY295*AY281","v":11.930945378555716},{"$f":"AZ294+AZ295*AZ281","v":339.3098},{"$f":"BA294+BA295*BA281","v":254.80270000000002},{"$f":"BB294+BB295*BB281","v":254.80270000000002},{"$f":"BC294+BC295*BC281","v":215.14109999999999},null,null,{"$f":"BF294+BF295*BF281-290.52","v":511.2758},{"$f":"BG294+BG295*BG281","v":723.64379999999994},{"$f":"BH294+BH295*BH281-110.62","v":441.6930000000001},{"$f":"BI294+BI295*BI281","v":0},0,0,0,0,0,0]
[null,"Land Unit 1",null,null,40,0,100,"In the case of Phosphorus no excess (above crop needs) is allowed in Land Unit 1"]
[null,"Land Unit 2",null,null,40,15,100,"As Land Units are further away from the farm, soil test P is assumed to decrease",null,null,null,null,null,null,"Land Unit 2",null,null,"Rotation 1 name:",null,"CBAAMMG",null,null,null,null,null,null,null,"Rotation 2 name:",null,"CCSW",null,null,null,null,null,null,null,"Rotation 3 name:",null,"CCAAMMG",null,null,null,null,null,null,null,"Rotation 4 name:",null,"BAAMM",null,null,null,null,null,null,null,"Rotation 5 name:",null,"CCS"]
[null,"Land Unit 3",null,null,40,30,100,"and some excess of P application is allowed.",null,null,null,null,null,null,"Crops:",null,null,"CoSi-35","Barley-8","Straw-120","Barley-8","Straw-120","AlSi-83","AlSi-83","MxSi-71","MxSi-71","GrHy-52","CoSi-35","CoGr-27","SBw-108","Wheat-116","Straw-120",null,null,null,null,null,"CoGr-27","CoSi-35","AlSi-83","AlSi-83","MxSi-71","MxSi-71","GrHy-52",null,null,null,"Barley-8","Straw-120","Barley-8","Straw-120","AlSi-83","AlSi-83","MxSi-71","MxSi-71",null,null,"CoGr-27","CoSi-35","SBw-108"]
[null,"Land Unit 4",null,null,40,45,100,null,null,null,null,null,null,null,"Year",null,null,1,2,2,3,3,3,4,5,6,7,1,2,3,4,4,null,null,null,null,null,1,2,3,4,5,6,7,null,null,null,1,1,2,2,2,3,4,5,null,null,1,2,3]
[null,"Land Unit 5",null,null,40,60,100,null,null,null,null,null,null,null,"Yield, t DM/yr",null,null,13.49,1.89,{"$f":"1.5759*S301/2.728","v":1.0918075513196481},{"$f":"S301*0.67","v":1.2663},{"$f":"1.5759*U301/2.728","v":0.73151105938416416},1.54,{"$f":"Z301*(8/6)","v":6.706666666666667},{"$f":"Z301*(8/6)","v":6.706666666666667},5.03,{"$f":"Z301*(4/6)","v":3.3533333333333335},13.49,5.81,1.85,1.95,{"$f":"1.5759*AE301/3.08","v":0.99772889610389615},null,null,null,null,null,5.81,13.49,3.07,6.71,6.71,5.03,{"$f":"AQ301*(4/6)","v":3.3533333333333335},null,null,null,1.89,{"$f":"1.5759*AV301/2.728","v":1.0918075513196481},{"$f":"AV301*0.67","v":1.2663},{"$f":"1.5759*AX301/2.728","v":0.73151105938416416},1.54,6.71,6.71,5.03,null,null,5.81,13.49,1.85]
[null,"*Maximum amount of plant available nutrients above agronomic needs or legal limits",null,null,null,null,null,null,null,null,null,null,null,null,"N,  kg/ha",null,null,{"$f":"151.25-25","v":126.25},61.25,0,26.25,0,0,10,21.25,{"$f":"21.25","v":21.25},{"$f":"91.25","v":91.25},151.25,151.25,15,{"$f":"101.25-25","v":76.25},0,null,null,null,null,null,{"$f":"151.25-25","v":126.25},151.25,10,10,21.25,{"$f":"21.25","v":21.25},{"$f":"91.25","v":91.25},null,null,null,{"$f":"61.25-50","v":11.25},0,26.25,0,0,10,21.25,{"$f":"91.25","v":91.25},null,null,{"$f":"151.25-25","v":126.25},151.25,15]
[null,null,null,null,null,null,null,null,null,null,null,null,null,null,"P2O5,  kg/ha",null,null,30,31.25,0,32.5,0,0,25,25,25,28.75,30,30,5,31.25,0,0,0,0,0,0,30,30,32.5,25,25,25,28.75,0,0,0,31.25,0,32.5,0,0,25,25,28.75,0,0,30,30,5,0,0,0,0,0,0,0]
[null,null,null,null,null,null,null,null,null,null,null,null,null,null,"K2O, kg/ha",null,null,75,33.75,0,57.5,0,0,60,60,60,46.25,75,50,20,33.75,0,0,0,0,0,0,50,75,57.5,60,60,60,46.25,0,0,0,33.75,0,57.5,0,0,60,60,46.25,0,0,50,75,20,0,0,0,0,0,0,0]
["6.4. Minimum Application rate (Amount of nutrients that may be drawn from soil reserves)",null,null,null,null,null,null,null,null,null,null,null,null,null,"P removal, kg/ha",null,null,{"$f":"R301*1000*$S$174/100","v":31.027000000000001},{"$f":"S301*1000*$Y$174/100","v":7.3710000000000004},{"$f":"T301*1000*0.1/100","v":1.0918075513196481},{"$f":"U301*1000*$Y$174/100","v":4.9385699999999995},{"$f":"V301*1000*0.1/100","v":0.73151105938416416},{"$f":"W301*1000*$T$174/100","v":4.9279999999999999},{"$f":"X301*1000*$T$174/100","v":21.461333333333336},{"$f":"Y301*1000*$U$174/100","v":20.790666666666667},{"$f":"Z301*1000*$U$174/100","v":15.593},{"$f":"AA301*1000*$V$174/100","v":8.3833333333333329},{"$f":"AB301*1000*$S$174/100","v":31.027000000000001},{"$f":"AC301*1000*$X$174/100","v":17.43},{"$f":"AD301*1000*$W$174/100","v":11.1},{"$f":"AE301*1000*$Z$174/100","v":8.3849999999999998},{"$f":"AF301*1000*0.1/100","v":0.99772889610389615},null,null,null,null,null,{"$f":"AL301*1000*$X$174/100","v":17.43},{"$f":"AM301*1000*$S$174/100","v":31.027000000000001},{"$f":"AN301*1000*$T$174/100","v":9.8239999999999998},{"$f":"AO301*1000*$T$174/100","v":21.471999999999998},{"$f":"AP301*1000*$U$174/100","v":20.800999999999998},{"$f":"AQ301*1000*$U$174/100","v":15.593},{"$f":"AR301*1000*$V$174/100","v":8.3833333333333329},null,null,null,{"$f":"AV301*1000*$Y$174/100","v":7.3710000000000004},{"$f":"AW301*1000*0.1/100","v":1.0918075513196481},{"$f":"AX301*1000*$Y$174/100","v":4.9385699999999995},{"$f":"AY301*1000*0.1/100","v":0.73151105938416416},{"$f":"AZ301*1000*$T$174/100","v":4.9279999999999999},{"$f":"BA301*1000*$T$174/100","v":21.471999999999998},{"$f":"BB301*1000*$U$174/100","v":20.800999999999998},{"$f":"BC301*1000*$U$174/100","v":15.593},null,null,{"$f":"BF301*1000*$X$174/100","v":17.43},{"$f":"BG301*1000*$S$174/100","v":31.027000000000001},{"$f":"BH301*1000*$W$174/100","v":11.1}]
[null,null,null,null,"N,  kg/ha","P2O5,  kg/ha","K2O, kg/ha","When soil reserves are high, (especially for P and K), N-Cycle",null,null,null,null,null,null,"K removal, kg/ha"]
[null,"Land Unit 1 (High soil P and K tests)",null,null,0,0,0,"allows for relying on soil reserves to supply plant available",null,null,null,null,null,null,"Cl, kg/ha",null,null,0,0,0,0,0,0,0,0,0,0,0,0,0,0,0,null,null,null,null,null,0,0,0,0,0,0,0,null,null,null,0,0,0,0,0,0,0,0,null,null,0,0,0]
[null,"Land Unit 2",null,null,0,0,0,"nutrients. The amount of P and K that can be \"mined\" from",null,null,null,null,null,null,"N fixation, kg/t",null,null,null,null,null,null,null,{"$f":"1000*21.9%/6.25*2/3*75%","v":17.519999999999996},{"$f":"1000*21.9%/6.25*2/3*75%","v":17.519999999999996},{"$f":"1000*20.6%/6.25*2/3*50%","v":10.98666666666667},{"$f":"1000*20.6%/6.25*2/3*50%","v":10.98666666666667},null,null,null,{"$f":"1000*39.2%/6.25*40%","v":25.088000000000001},null,null,null,null,null,null,null,null,null,{"$f":"1000*21.9%/6.25*2/3*75%","v":17.519999999999996},{"$f":"1000*21.9%/6.25*2/3*75%","v":17.519999999999996},{"$f":"1000*20.6%/6.25*2/3*50%","v":10.98666666666667},{"$f":"1000*20.6%/6.25*2/3*50%","v":10.98666666666667},null,null,null,null,null,null,null,null,{"$f":"1000*21.9%/6.25*2/3*75%","v":17.519999999999996},{"$f":"1000*21.9%/6.25*2/3*75%","v":17.519999999999996},{"$f":"1000*20.6%/6.25*2/3*50%","v":10.98666666666667},{"$f":"1000*20.6%/6.25*2/3*50%","v":10.98666666666667},null,null,null,null,{"$f":"1000*39.2%/6.25*40%","v":25.088000000000001}]
[null,"Land Unit 3 (Optimum soil P and K tests)",null,null,0,0,0,"the soil should be increased as the soil test values increases",null,null,null,null,null,null,"Above ground residue, %",null,null,8,0,0,0,0,0,0,0,0,10,8,38,45,0,0,null,null,null,null,null,38,8,0,0,0,0,10,null,null,null,0,0,0,0,0,0,0,10,null,null,38,8,45]
[null,"Land Unit 4",null,null,0,0,0,"above optimum",null,null,null,null,null,null,"N Above ground residue, g N/kg",null,null,13,7,0,0,0,0,0,0,0,15,13,5,6,6,0,null,null,null,null,null,5,13,0,0,0,0,15,null,null,null,7,0,0,0,0,0,0,15,null,null,5,13,6]
[null,"Land Unit 5 (Very Low soil P and K tests)",null,null,0,0,0,null,null,null,null,null,null,null,"Below ground residue, %",null,null,20,15,0,0,0,0,0,0,0,50,20,15,25,15,0,null,null,null,null,null,15,20,0,0,0,0,50,null,null,null,15,0,0,0,0,0,0,50,null,null,15,20,25]
[null,null,null,null,null,null,null,"1ppm = 8.8 kg of P application in excess of P removal",null,null,null,null,null,null,"N Below ground residue, g N/kg",null,null,7,10,0,0,0,0,0,0,0,15,7,7,10,10,0,null,null,null,null,null,7,7,0,0,0,0,15,null,null,null,10,0,0,0,0,0,0,15,null,null,7,7,10]
[null,null,null,null,null,null,null,null,null,null,null,null,null,null,"Fuel consumption (L/ha) (w/o fertilizers application)",null,null,101.1,46.3,0,52.9,0,49.3,123.3,123.3,123.3,40,101.1,58.6,60.1,46.3,0,null,null,null,null,null,58.6,101.1,87.7,123.3,123.3,123.3,40,null,null,null,46.3,0,52.9,0,49.3,123.3,123.3,123.3,null,null,58.6,101.1,60.1]
[null,null,null,null,null,null,null,null,null,null,null,null,null,null,"Variable costs  w/o fertilizer, $/ha",null,null,715.28,400.72,0,400.72,0,320.26,171.8,171.8,152.91999999999999,91.77,715.28,667.12,536.07000000000005,401.32,0,null,null,null,null,null,667.12,715.28,431.48,171.8,171.8,152.91999999999999,91.77,null,null,null,400.72,0,400.7,0,320.26,171.8,171.8,152.91999999999999,null,null,667.12,715.28,536.07000000000005]
[null,null,null,null,null,null,null,null,null,null,null,null,null,null,"Variable costs, $/t",null,null,0.62,12.73,{"$f":"13.19+3.12-200","v":-183.69},12.7,{"$f":"13.19+3.12-200","v":-183.69},12.37,12.37,12.37,12.37,11.74,0.62,23.18,8.7799999999999994,10.25,{"$f":"13.19+3.12-200","v":-183.69},null,null,null,null,null,23.18,0.62,12.37,12.37,12.37,12.37,12.37,null,null,null,12.73,{"$f":"13.19+3.12-200","v":-183.69},12.73,16.309999999999999,12.37,12.37,12.37,12.37,null,null,23.18,0.62,8.7799999999999994]
[null,"END OF DATA ENTRY",null,null,null,null,null,null,"Back to top",null,null,null,null,null,"Cost $/ha",null,null,{"$f":"R314+R315*R301","v":723.64379999999994},{"$f":"S314+S315*S301-292.93","v":131.84970000000004},{"$f":"T314+T315*T301","v":-200.55412910190617},{"$f":"U314+U315*U301-292.93","v":123.87201000000005},{"$f":"V314+V315*V301","v":-134.37126649827712},339.3098,254.76146666666668,254.76146666666668,215.14109999999999,131.13813333333331,723.64379999999994,{"$f":"AC314+AC315*AC301-290.52","v":511.2758},{"$f":"AD314+AD315*AD301-110.62","v":441.6930000000001},{"$f":"AE314+AE315*AE301-221.216","v":200.0915},{"$f":"AF314+AF315*AF301","v":-183.27282092532468},0,0,0,0,0,{"$f":"AL314+AL315*AL301-290.52","v":511.2758},{"$f":"AM314+AM315*AM301","v":723.64379999999994},469.45590000000004,254.80270000000002,254.80270000000002,215.14109999999999,133.25073333333333,0,0,0,{"$f":"AV314+AV315*AV301-292.93","v":131.84970000000004},{"$f":"AW314+AW315*AW301","v":-200.55412910190617},{"$f":"AX314+AX315*AX301-292.93","v":123.88999899999999},{"$f":"AY314+AY315*AY301","v":11.930945378555716},{"$f":"AZ314+AZ315*AZ301","v":339.3098},{"$f":"BA314+BA315*BA301","v":254.80270000000002},{"$f":"BB314+BB315*BB301","v":254.80270000000002},{"$f":"BC314+BC315*BC301","v":215.14109999999999},null,null,{"$f":"BF314+BF315*BF301-290.52","v":511.2758},{"$f":"BG314+BG315*BG301","v":723.64379999999994},{"$f":"BH314+BH315*BH301-110.62","v":441.6930000000001},{"$f":"BI314+BI315*BI301","v":0},0,0,0,0,0,0]
[]
[null,null,null,null,null,null,null,null,null,null,null,null,null,null,"Land Unit 3",null,null,"Rotation 1 name:",null,"CBAAMMG",null,null,null,null,null,null,null,"Rotation 2 name:",null,"CCSW",null,null,null,null,null,null,null,"Rotation 3 name:",null,"CCAAMMG",null,null,null,null,null,null,null,"Rotation 4 name:",null,"BAAMM",null,null,null,null,null,null,null,"Rotation 5 name:",null,"CCS"]
[null,null,null,null,null,null,null,null,null,null,null,null,null,null,"Crops:",null,null,"CoSi-35","Barley-8","Straw-120","Barley-8","Straw-120","AlSi-83","AlSi-83","MxSi-71","MxSi-71","GrHy-52","CoSi-35","CoGr-27","SBw-108","Wheat-116","Straw-120",null,null,null,null,null,"CoGr-27","CoSi-35","AlSi-83","AlSi-83","MxSi-71","MxSi-71","GrHy-52",null,null,null,"Barley-8","Straw-120","Barley-8","Straw-120","AlSi-83","AlSi-83","MxSi-71","MxSi-71",null,null,"CoGr-27","CoSi-35","SBw-108"]
[null,"CONGRATUALTIONS, YOU HAVE COMPLETED A MOST CRITICAL STEP IN USING N-CYCLE: YOU HAVE DESCRIBED A FARM SITUATION ",null,null,null,null,null,null,null,null,null,null,null,null,"Year",null,null,1,2,2,3,3,3,4,5,6,7,1,2,3,4,4,null,null,null,null,null,1,2,3,4,5,6,7,null,null,null,1,1,2,2,2,3,4,5,null,null,1,2,3]
[null,null,null,null,null,null,null,null,null,null,null,null,null,null,"Yield, t DM/yr",null,null,13.49,1.89,{"$f":"1.5759*S321/2.728","v":1.0918075513196481},{"$f":"S321*0.67","v":1.2663},{"$f":"1.5759*U321/2.728","v":0.73151105938416416},1.54,{"$f":"Z321*(8/6)","v":6.706666666666667},{"$f":"Z321*(8/6)","v":6.706666666666667},5.03,{"$f":"Z321*(4/6)","v":3.3533333333333335},13.49,5.81,1.85,1.95,{"$f":"1.5759*AE321/3.08","v":0.99772889610389615},null,null,null,null,null,5.81,13.49,3.07,6.71,6.71,5.03,{"$f":"AQ321*(4/6)","v":3.3533333333333335},null,null,null,1.89,{"$f":"1.5759*AV321/2.728","v":1.0918075513196481},{"$f":"AV321*0.67","v":1.2663},{"$f":"1.5759*AX321/2.728","v":0.73151105938416416},1.54,6.71,6.71,5.03,null,null,5.81,13.49,1.85]
[null,null,null,null,null,"YOU ARE NOW READY TO OPTIMIZE YOUR FARM",null,null,null,null,null,null,null,null,"N,  kg/ha",null,null,{"$f":"162.5-25","v":137.5},72.5,0,37.5,0,0,10,32.5,{"$f":"32.5","v":32.5},{"$f":"102.5","v":102.5},{"$f":"162.5","v":162.5},162.5,22.5,{"$f":"112.5-25","v":87.5},0,null,null,null,null,null,{"$f":"162.5-25","v":137.5},162.5,12.5,10,32.5,{"$f":"32.5","v":32.5},{"$f":"102.5","v":102.5},null,null,null,{"$f":"72.5-50","v":22.5},0,37.5,0,0,10,32.5,{"$f":"32.5","v":32.5},null,null,{"$f":"162.5-25","v":137.5},162.5,22.5]
[null,null,null,null,null,null,null,null,null,null,null,null,null,null,"P2O5,  kg/ha",null,null,40,45,0,45,0,0,30,30,30,32.5,40,40,10,42.5,0,0,0,0,0,0,40,40,45,30,30,30,32.5,0,0,0,42.5,0,45,0,0,30,30,30,0,0,40,110,10,0,0,0,0,0,0,0]
[null,null,null,"TO CONTINUE, FOLLOW THE INSTRUCTIONS AT THE TOP OF THE \"OPTIMIZATION\" WORKSHEET",null,null,null,null,null,null,null,null,null,null,"K2O, kg/ha",null,null,110,47.5,0,85,0,0,100,100,100,72.5,110,60,40,47.5,0,0,0,0,0,0,60,110,85,100,100,100,72.5,0,0,0,47.5,0,85,0,0,100,100,100,0,0,60,122.5,40,0,0,0,0,0,0,0]
[null,null,null,null,null,null,null,null,null,null,null,null,null,null,"P removal, kg/ha",null,null,{"$f":"R321*1000*$S$174/100","v":31.027000000000001},{"$f":"S321*1000*$Y$174/100","v":7.3710000000000004},{"$f":"T321*1000*0.1/100","v":1.0918075513196481},{"$f":"U321*1000*$Y$174/100","v":4.9385699999999995},{"$f":"V321*1000*0.1/100","v":0.73151105938416416},{"$f":"W321*1000*$T$174/100","v":4.9279999999999999},{"$f":"X321*1000*$T$174/100","v":21.461333333333336},{"$f":"Y321*1000*$U$174/100","v":20.790666666666667},{"$f":"Z321*1000*$U$174/100","v":15.593},{"$f":"AA321*1000*$V$174/100","v":8.3833333333333329},{"$f":"AB321*1000*$S$174/100","v":31.027000000000001},{"$f":"AC321*1000*$X$174/100","v":17.43},{"$f":"AD321*1000*$W$174/100","v":11.1},{"$f":"AE321*1000*$Z$174/100","v":8.3849999999999998},{"$f":"AF321*1000*0.1/100","v":0.99772889610389615},null,null,null,null,null,{"$f":"AL321*1000*$X$174/100","v":17.43},{"$f":"AM321*1000*$S$174/100","v":31.027000000000001},{"$f":"AN321*1000*$T$174/100","v":9.8239999999999998},{"$f":"AO321*1000*$T$174/100","v":21.471999999999998},{"$f":"AP321*1000*$U$174/100","v":20.800999999999998},{"$f":"AQ321*1000*$U$174/100","v":15.593},{"$f":"AR321*1000*$V$174/100","v":8.3833333333333329},null,null,null,{"$f":"AV321*1000*$Y$174/100","v":7.3710000000000004},{"$f":"AW321*1000*0.1/100","v":1.0918075513196481},{"$f":"AX321*1000*$Y$174/100","v":4.9385699999999995},{"$f":"AY321*1000*0.1/100","v":0.73151105938416416},{"$f":"AZ321*1000*$T$174/100","v":4.9279999999999999},{"$f":"BA321*1000*$T$174/100","v":21.471999999999998},{"$f":"BB321*1000*$U$174/100","v":20.800999999999998},{"$f":"BC321*1000*$U$174/100","v":15.593},null,null,{"$f":"BF321*1000*$X$174/100","v":17.43},{"$f":"BG321*1000*$S$174/100","v":31.027000000000001},{"$f":"BH321*1000*$W$174/100","v":11.1}]
[null,null,null,null,null,null,null,null,null,null,null,null,null,null,"K removal, kg/ha"]
["6.5 Emission factors and coefficients used for GHG calculation",null,null,null,null,null,null,null,null,null,null,null,null,null,"Cl, kg/ha",null,null,0,0,0,0,0,0,0,0,0,0,0,0,0,0,0,null,null,null,null,null,0,0,0,0,0,0,0,null,null,null,0,0,0,0,0,0,0,0,null,null,0,0,0]
[null,null,null,null,null,null,"CH4","N2O","CO2",null,null,null,null,null,"N fixation, kg/t",null,null,null,null,null,null,null,{"$f":"1000*21.9%/6.25*2/3*75%","v":17.519999999999996},{"$f":"1000*21.9%/6.25*2/3*75%","v":17.519999999999996},{"$f":"1000*20.6%/6.25*2/3*50%","v":10.98666666666667},{"$f":"1000*20.6%/6.25*2/3*50%","v":10.98666666666667},null,null,null,{"$f":"1000*39.2%/6.25*40%","v":25.088000000000001},null,null,null,null,null,null,null,null,null,{"$f":"1000*21.9%/6.25*2/3*75%","v":17.519999999999996},{"$f":"1000*21.9%/6.25*2/3*75%","v":17.519999999999996},{"$f":"1000*20.6%/6.25*2/3*50%","v":10.98666666666667},{"$f":"1000*20.6%/6.25*2/3*50%","v":10.98666666666667},null,null,null,null,null,null,null,null,{"$f":"1000*21.9%/6.25*2/3*75%","v":17.519999999999996},{"$f":"1000*21.9%/6.25*2/3*75%","v":17.519999999999996},{"$f":"1000*20.6%/6.25*2/3*50%","v":10.98666666666667},{"$f":"1000*20.6%/6.25*2/3*50%","v":10.98666666666667},null,null,null,null,{"$f":"1000*39.2%/6.25*40%","v":25.088000000000001}]
[null,"Enteric fermentation Ym (% of GE)",null,null,null,null,null,null,null,null,null,null,null,null,"Above ground residue, %",null,null,8,0,0,0,0,0,0,0,0,10,8,38,45,0,0,null,null,null,null,null,38,8,0,0,0,0,10,null,null,null,0,0,0,0,0,0,0,10,null,null,38,8,45]
[null,null,"Dairy heifers",null,null,null,6.5,null,null,6.7,null,null,null,null,"N Above ground residue, g N/kg",null,null,13,7,0,0,0,0,0,0,0,15,13,5,6,6,0,null,null,null,null,null,5,13,0,0,0,0,15,null,null,null,7,0,0,0,0,0,0,15,null,null,5,13,6]
[null,null,"Dairy cows",null,null,null,6.5,null,null,8.9,null,null,null,null,"Below ground residue, %",null,null,20,15,0,0,0,0,0,0,0,50,20,15,25,15,0,null,null,null,null,null,15,20,0,0,0,0,50,null,null,null,15,0,0,0,0,0,0,50,null,null,15,20,25]
[null,"Maximum CH4 production potentiel of manure, m3 / kg VS",null,null,null,null,0.24,null,null,null,null,null,null,null,"N Below ground residue, g N/kg",null,null,7,10,0,0,0,0,0,0,0,15,7,7,10,10,0,null,null,null,null,null,7,7,0,0,0,0,15,null,null,null,10,0,0,0,0,0,0,15,null,null,7,7,10]
[null,"CH4 conversion factor for manure management system, %",null,null,null,null,null,null,null,null,null,null,null,null,"Fuel consumption (L/ha) (w/o fertilizers application)",null,null,101.1,46.3,0,52.9,0,49.3,123.3,123.3,123.3,40,101.1,58.6,60.1,46.3,0,null,null,null,null,null,58.6,101.1,87.7,123.3,123.3,123.3,40,null,null,null,46.3,0,52.9,0,49.3,123.3,123.3,123.3,null,null,58.6,101.1,60.1]
[null,null,"Liquid",null,null,null,0.2,null,null,null,null,null,null,null,"Variable costs  w/o fertilizer, $/ha",null,null,715.28,400.72,0,400.72,0,320.26,171.8,171.8,152.91999999999999,91.77,715.28,667.12,536.07000000000005,401.32,0,null,null,null,null,null,667.12,715.28,431.48,171.8,171.8,152.91999999999999,91.77,null,null,null,400.72,0,400.7,0,320.26,171.8,171.8,152.91999999999999,null,null,667.12,715.28,536.07000000000005]
[null,null,"Solid",null,null,null,0.02,null,null,null,null,null,null,null,"Variable costs, $/t",null,null,0.62,12.73,{"$f":"13.19+3.12-200","v":-183.69},12.7,{"$f":"13.19+3.12-200","v":-183.69},12.37,12.37,12.37,12.37,11.74,0.62,23.18,8.7799999999999994,10.25,{"$f":"13.19+3.12-200","v":-183.69},null,null,null,null,null,23.18,0.62,12.37,12.37,12.37,12.37,12.37,null,null,null,12.73,{"$f":"13.19+3.12-200","v":-183.69},12.73,16.309999999999999,12.37,12.37,12.37,12.37,null,null,23.18,0.62,8.7799999999999994]
[null,null,"Pasture",null,null,null,0.01,null,null,null,null,null,null,null,"Cost $/ha",null,null,{"$f":"R334+R335*R321","v":723.64379999999994},{"$f":"S334+S335*S321-292.93","v":131.84970000000004},{"$f":"T334+T335*T321","v":-200.55412910190617},{"$f":"U334+U335*U321-292.93","v":123.87201000000005},{"$f":"V334+V335*V321","v":-134.37126649827712},339.3098,254.76146666666668,254.76146666666668,215.14109999999999,131.13813333333331,723.64379999999994,{"$f":"AC334+AC335*AC321-290.52","v":511.2758},{"$f":"AD334+AD335*AD321-110.62","v":441.6930000000001},{"$f":"AE334+AE335*AE321-221.216","v":200.0915},{"$f":"AF334+AF335*AF321","v":-183.27282092532468},0,0,0,0,0,{"$f":"AL334+AL335*AL321-290.52","v":511.2758},{"$f":"AM334+AM335*AM321","v":723.64379999999994},469.45590000000004,254.80270000000002,254.80270000000002,215.14109999999999,133.25073333333333,0,0,0,{"$f":"AV334+AV335*AV321-292.93","v":131.84970000000004},{"$f":"AW334+AW335*AW321","v":-200.55412910190617},{"$f":"AX334+AX335*AX321-292.93","v":123.88999899999999},{"$f":"AY334+AY335*AY321","v":11.930945378555716},{"$f":"AZ334+AZ335*AZ321","v":339.3098},{"$f":"BA334+BA335*BA321","v":254.80270000000002},{"$f":"BB334+BB335*BB321","v":254.80270000000002},{"$f":"BC334+BC335*BC321","v":215.14109999999999},null,null,{"$f":"BF334+BF335*BF321-290.52","v":511.2758},{"$f":"BG334+BG335*BG321","v":723.64379999999994},{"$f":"BH334+BH335*BH321-110.62","v":441.6930000000001},{"$f":"BI334+BI335*BI321","v":0},0,0,0,0,0,0]
[null,"N2O emission factor for manure management, %"]
[null,null,"Liquid",null,null,null,null,0.1,null,null,null,null,null,null,"Land Unit 4",null,null,"Rotation 1 name:",null,"CBAAMMG",null,null,null,null,null,null,null,"Rotation 2 name:",null,"CCSW",null,null,null,null,null,null,null,"Rotation 3 name:",null,"CCAAMMG",null,null,null,null,null,null,null,"Rotation 4 name:",null,"BAAMM",null,null,null,null,null,null,null,"Rotation 5 name:",null,"CCS"]
[null,null,"Solid",null,null,null,null,2,null,null,null,null,null,null,"Crops:",null,null,"CoSi-35","Barley-8","Straw-120","Barley-8","Straw-120","AlSi-83","AlSi-83","MxSi-71","MxSi-71","GrHy-52","CoSi-35","CoGr-27","SBw-108","Wheat-116","Straw-120",null,null,null,null,null,"CoGr-27","CoSi-35","AlSi-83","AlSi-83","MxSi-71","MxSi-71","GrHy-52",null,null,null,"Barley-8","Straw-120","Barley-8","Straw-120","AlSi-83","AlSi-83","MxSi-71","MxSi-71",null,null,"CoGr-27","CoSi-35","SBw-108"]
[null,null,"Pasture",null,null,null,null,2,null,null,null,null,null,null,"Year",null,null,1,2,2,3,3,3,4,5,6,7,1,2,3,4,4,null,null,null,null,null,1,2,3,4,5,6,7,null,null,null,1,1,2,2,2,3,4,5,null,null,1,2,3]
[null,"N2O emission factor for fertlisation, kg N2O-N/ kg N",null,null,null,null,null,1.1900000000000001E-2,null,null,null,null,null,null,"Yield, t DM/yr",null,null,13.49,1.89,{"$f":"1.5759*S341/2.728","v":1.0918075513196481},{"$f":"S341*0.67","v":1.2663},{"$f":"1.5759*U341/2.728","v":0.73151105938416416},1.54,{"$f":"Z341*(8/6)","v":6.706666666666667},{"$f":"Z341*(8/6)","v":6.706666666666667},5.03,{"$f":"Z341*(4/6)","v":3.3533333333333335},13.49,5.81,1.85,1.95,{"$f":"1.5759*AE341/3.08","v":0.99772889610389615},null,null,null,null,null,5.81,13.49,3.07,6.71,6.71,5.03,{"$f":"AQ341*(4/6)","v":3.3533333333333335},null,null,null,1.89,{"$f":"1.5759*AV341/2.728","v":1.0918075513196481},{"$f":"AV341*0.67","v":1.2663},{"$f":"1.5759*AX341/2.728","v":0.73151105938416416},1.54,6.71,6.71,5.03,null,null,5.81,13.49,1.85]
[null,"Ratio factor adjusting for emission during spring thaw",null,null,null,null,null,1.4,null,null,null,null,null,null,"N,  kg/ha",null,null,{"$f":"170-25","v":145},80,0,45,0,0,10,40,{"$f":"40","v":40},{"$f":"110","v":110},170,170,30,{"$f":"120-25","v":95},0,null,null,null,null,null,{"$f":"170-25","v":145},170,20,10,40,{"$f":"40","v":40},{"$f":"110","v":110},null,null,null,{"$f":"80-50","v":30},0,45,0,0,10,40,{"$f":"40","v":40},null,null,{"$f":"170-25","v":145},170,30]
[null,"N applied as synthetic fertilizer that is lost by volatilization, kg N/kg N",null,null,null,null,null,0.1,null,null,null,null,null,null,"P2O5,  kg/ha",null,null,50,53.75,0,57.5,0,0,35,35,35,36.25,50,50,15,53.75,0,0,0,0,0,0,50,50,57.5,35,35,35,36.25,0,0,0,53.75,0,57.5,0,0,35,35,35,0,0,50,50,15,0,0,0,0,0,0,0]
[null,"Emission factor form volatilisation and redeposition, kg N2O-N/kg N",null,null,null,null,null,0.01,null,null,null,null,null,null,"K2O, kg/ha",null,null,145,61.25,0,112.5,0,0,140,140,140,98.75,145,70,60,61.25,0,0,0,0,0,0,70,145,112.5,140,140,140,98.75,0,0,0,61.25,0,112.5,0,0,140,140,140,0,0,70,145,60,0,0,0,0,0,0,0]
[null,"Manure N volatilised, (%)",null,null,null,null,null,null,null,null,null,null,null,null,"P removal, kg/ha",null,null,{"$f":"R341*1000*$S$174/100","v":31.027000000000001},{"$f":"S341*1000*$Y$174/100","v":7.3710000000000004},{"$f":"T341*1000*0.1/100","v":1.0918075513196481},{"$f":"U341*1000*$Y$174/100","v":4.9385699999999995},{"$f":"V341*1000*0.1/100","v":0.73151105938416416},{"$f":"W341*1000*$T$174/100","v":4.9279999999999999},{"$f":"X341*1000*$T$174/100","v":21.461333333333336},{"$f":"Y341*1000*$U$174/100","v":20.790666666666667},{"$f":"Z341*1000*$U$174/100","v":15.593},{"$f":"AA341*1000*$V$174/100","v":8.3833333333333329},{"$f":"AB341*1000*$S$174/100","v":31.027000000000001},{"$f":"AC341*1000*$X$174/100","v":17.43},{"$f":"AD341*1000*$W$174/100","v":11.1},{"$f":"AE341*1000*$Z$174/100","v":8.3849999999999998},{"$f":"AF341*1000*0.1/100","v":0.99772889610389615},null,null,null,null,null,{"$f":"AL341*1000*$X$174/100","v":17.43},{"$f":"AM341*1000*$S$174/100","v":31.027000000000001},{"$f":"AN341*1000*$T$174/100","v":9.8239999999999998},{"$f":"AO341*1000*$T$174/100","v":21.471999999999998},{"$f":"AP341*1000*$U$174/100","v":20.800999999999998},{"$f":"AQ341*1000*$U$174/100","v":15.593},{"$f":"AR341*1000*$V$174/100","v":8.3833333333333329},null,null,null,{"$f":"AV341*1000*$Y$174/100","v":7.3710000000000004},{"$f":"AW341*1000*0.1/100","v":1.0918075513196481},{"$f":"AX341*1000*$Y$174/100","v":4.9385699999999995},{"$f":"AY341*1000*0.1/100","v":0.73151105938416416},{"$f":"AZ341*1000*$T$174/100","v":4.9279999999999999},{"$f":"BA341*1000*$T$174/100","v":21.471999999999998},{"$f":"BB341*1000*$U$174/100","v":20.800999999999998},{"$f":"BC341*1000*$U$174/100","v":15.593},null,null,{"$f":"BF341*1000*$X$174/100","v":17.43},{"$f":"BG341*1000*$S$174/100","v":31.027000000000001},{"$f":"BH341*1000*$W$174/100","v":11.1}]
[null,null,"Liquid",null,null,null,null,40,null,"(15-45)",null,null,null,null,"K removal, kg/ha"]
[null,null,"Solid",null,null,null,null,25,null,"(10-40)",null,null,null,null,"Cl, kg/ha",null,null,0,0,0,0,0,0,0,0,0,0,0,0,0,0,0,null,null,null,null,null,0,0,0,0,0,0,0,null,null,null,0,0,0,0,0,0,0,0,null,null,0,0,0]
[null,null,"Pasture",null,null,null,null,20,null,"(5-50)",null,null,null,null,"N fixation, kg/t",null,null,null,null,null,null,null,{"$f":"1000*21.9%/6.25*2/3*75%","v":17.519999999999996},{"$f":"1000*21.9%/6.25*2/3*75%","v":17.519999999999996},{"$f":"1000*20.6%/6.25*2/3*50%","v":10.98666666666667},{"$f":"1000*20.6%/6.25*2/3*50%","v":10.98666666666667},null,null,null,{"$f":"1000*39.2%/6.25*40%","v":25.088000000000001},null,null,null,null,null,null,null,null,null,{"$f":"1000*21.9%/6.25*2/3*75%","v":17.519999999999996},{"$f":"1000*21.9%/6.25*2/3*75%","v":17.519999999999996},{"$f":"1000*20.6%/6.25*2/3*50%","v":10.98666666666667},{"$f":"1000*20.6%/6.25*2/3*50%","v":10.98666666666667},null,null,null,null,null,null,null,null,{"$f":"1000*21.9%/6.25*2/3*75%","v":17.519999999999996},{"$f":"1000*21.9%/6.25*2/3*75%","v":17.519999999999996},{"$f":"1000*20.6%/6.25*2/3*50%","v":10.98666666666667},{"$f":"1000*20.6%/6.25*2/3*50%","v":10.98666666666667},null,null,null,null,{"$f":"1000*39.2%/6.25*40%","v":25.088000000000001}]
[null,"Fraction of N Residues and N Fertilizers that leaches and runs-off",null,null,null,null,null,0.3,null,null,null,null,null,null,"Above ground residue, %",null,null,8,0,0,0,0,0,0,0,0,10,8,38,45,0,0,null,null,null,null,null,38,8,0,0,0,0,10,null,null,null,0,0,0,0,0,0,0,10,null,null,38,8,45]
[null,"Emission factor form leaching and run-off, kg N2O-N/kg N",null,null,null,null,null,1.2500000000000001E-2,null,null,null,null,null,null,"N Above ground residue, g N/kg",null,null,13,7,0,0,0,0,0,0,0,15,13,5,6,6,0,null,null,null,null,null,5,13,0,0,0,0,15,null,null,null,7,0,0,0,0,0,0,15,null,null,5,13,6]
[null,"Fuel (Diesel) EF (kg/L)",null,null,null,null,9.3299999999999994E-2,0.16,2.73,null,null,null,null,null,"Below ground residue, %",null,null,20,15,0,0,0,0,0,0,0,50,20,15,25,15,0,null,null,null,null,null,15,20,0,0,0,0,50,null,null,null,15,0,0,0,0,0,0,50,null,null,15,20,25]
[null,null,null,null,null,null,null,null,null,null,null,null,null,null,"N Below ground residue, g N/kg",null,null,7,10,0,0,0,0,0,0,0,15,7,7,10,10,0,null,null,null,null,null,7,7,0,0,0,0,15,null,null,null,10,0,0,0,0,0,0,15,null,null,7,7,10]
[null,null,null,null,null,null,null,null,null,null,null,null,null,null,"Fuel consumption (L/ha) (w/o fertilizers application)",null,null,101.1,46.3,0,52.9,0,49.3,123.3,123.3,123.3,40,101.1,58.6,60.1,46.3,0,null,null,null,null,null,58.6,101.1,87.7,123.3,123.3,123.3,40,null,null,null,46.3,0,52.9,0,49.3,123.3,123.3,123.3,null,null,58.6,101.1,60.1]
[null,null,null,null,null,null,null,null,null,null,null,null,null,null,"Variable costs  w/o fertilizer, $/ha",null,null,715.28,400.72,0,400.72,0,320.26,171.8,171.8,152.91999999999999,91.77,715.28,667.12,536.07000000000005,401.32,0,null,null,null,null,null,667.12,715.28,431.48,171.8,171.8,152.91999999999999,91.77,null,null,null,400.72,0,400.7,0,320.26,171.8,171.8,152.91999999999999,null,null,667.12,715.28,536.07000000000005]
[null,null,null,null,null,null,null,null,null,null,null,null,null,null,"Variable costs, $/t",null,null,0.62,12.73,{"$f":"13.19+3.12-200","v":-183.69},12.7,{"$f":"13.19+3.12-200","v":-183.69},12.37,12.37,12.37,12.37,11.74,0.62,23.18,8.7799999999999994,10.25,{"$f":"13.19+3.12-200","v":-183.69},null,null,null,null,null,23.18,0.62,12.37,12.37,12.37,12.37,12.37,null,null,null,12.73,{"$f":"13.19+3.12-200","v":-183.69},12.73,16.309999999999999,12.37,12.37,12.37,12.37,null,null,23.18,0.62,8.7799999999999994]
[null,null,null,null,null,null,null,null,null,null,null,null,null,null,"Cost $/ha",null,null,{"$f":"R354+R355*R341","v":723.64379999999994},{"$f":"S354+S355*S341-292.93","v":131.84970000000004},{"$f":"T354+T355*T341","v":-200.55412910190617},{"$f":"U354+U355*U341-292.93","v":123.87201000000005},{"$f":"V354+V355*V341","v":-134.37126649827712},339.3098,254.76146666666668,254.76146666666668,215.14109999999999,131.13813333333331,723.64379999999994,{"$f":"AC354+AC355*AC341-290.52","v":511.2758},{"$f":"AD354+AD355*AD341-110.62","v":441.6930000000001},{"$f":"AE354+AE355*AE341-221.216","v":200.0915},{"$f":"AF354+AF355*AF341","v":-183.27282092532468},0,0,0,0,0,{"$f":"AL354+AL355*AL341-290.52","v":511.2758},{"$f":"AM354+AM355*AM341","v":723.64379999999994},469.45590000000004,254.80270000000002,254.80270000000002,215.14109999999999,133.25073333333333,0,0,0,{"$f":"AV354+AV355*AV341-292.93","v":131.84970000000004},{"$f":"AW354+AW355*AW341","v":-200.55412910190617},{"$f":"AX354+AX355*AX341-292.93","v":123.88999899999999},{"$f":"AY354+AY355*AY341","v":11.930945378555716},{"$f":"AZ354+AZ355*AZ341","v":339.3098},{"$f":"BA354+BA355*BA341","v":254.80270000000002},{"$f":"BB354+BB355*BB341","v":254.80270000000002},{"$f":"BC354+BC355*BC341","v":215.14109999999999},null,null,{"$f":"BF354+BF355*BF341-290.52","v":511.2758},{"$f":"BG354+BG355*BG341","v":723.64379999999994},{"$f":"BH354+BH355*BH341-110.62","v":441.6930000000001},{"$f":"BI354+BI355*BI341","v":0},0,0,0,0,0,0]
[]
[null,null,null,null,null,null,null,null,null,null,null,null,null,null,"Land Unit 5",null,null,"Rotation 1 name:",null,"CBAAMMG",null,null,null,null,null,null,null,"Rotation 2 name:",null,"CCSW",null,null,null,null,null,null,null,"Rotation 3 name:",null,"CCAAMMG",null,null,null,null,null,null,null,"Rotation 4 name:",null,"BAAMM",null,null,null,null,null,null,null,"Rotation 5 name:",null,"CCS"]
[null,null,null,null,null,null,null,null,null,null,null,null,null,null,"Crops:",null,null,"CoSi-35","Barley-8","Straw-120","Barley-8","Straw-120","AlSi-83","AlSi-83","MxSi-71","MxSi-71","GrHy-52","CoSi-35","CoGr-27","SBw-108","Wheat-116","Straw-120",null,null,null,null,null,"CoGr-27","CoSi-35","AlSi-83","AlSi-83","MxSi-71","MxSi-71","GrHy-52",null,null,null,"Barley-8","Straw-120","Barley-8","Straw-120","AlSi-83","AlSi-83","MxSi-71","MxSi-71",null,null,"CoGr-27","CoSi-35","SBw-108"]
[null,null,null,null,null,null,null,null,null,null,null,null,null,null,"Year",null,null,1,2,2,3,3,3,4,5,6,7,1,2,3,4,4,null,null,null,null,null,1,2,3,4,5,6,7,null,null,null,1,1,2,2,2,3,4,5,null,null,1,2,3]
[null,null,null,null,null,null,null,null,null,null,null,null,null,null,"Yield, t DM/yr",null,null,13.49,1.89,{"$f":"1.5759*S361/2.728","v":1.0918075513196481},{"$f":"S361*0.67","v":1.2663},{"$f":"1.5759*U361/2.728","v":0.73151105938416416},1.54,{"$f":"Z361*(8/6)","v":6.706666666666667},{"$f":"Z361*(8/6)","v":6.706666666666667},5.03,{"$f":"Z361*(4/6)","v":3.3533333333333335},13.49,5.81,1.85,1.95,{"$f":"1.5759*AE361/3.08","v":0.99772889610389615},null,null,null,null,null,5.81,13.49,3.07,6.71,6.71,5.03,{"$f":"AQ361*(4/6)","v":3.3533333333333335},null,null,null,1.89,{"$f":"1.5759*AV361/2.728","v":1.0918075513196481},{"$f":"AV361*0.67","v":1.2663},{"$f":"1.5759*AX361/2.728","v":0.73151105938416416},1.54,6.71,6.71,5.03,null,null,5.81,13.49,1.85]
[null,null,null,null,null,null,null,null,null,null,null,null,null,null,"N,  kg/ha",null,null,{"$f":"170-25","v":145},80,0,45,0,0,10,40,{"$f":"40","v":40},{"$f":"110-25","v":85},170,170,30,{"$f":"120-25","v":95},0,null,null,null,null,null,{"$f":"170-25","v":145},170,20,10,40,{"$f":"40","v":40},{"$f":"110","v":110},null,null,null,{"$f":"80-50","v":30},0,45,0,0,10,40,{"$f":"40","v":40},null,null,{"$f":"170-25","v":145},170,30]
[null,null,null,null,null,null,null,null,null,null,null,null,null,null,"P2O5,  kg/ha",null,null,60,65,0,70,0,0,40,40,40,0,60,60,20,65,0,0,0,0,0,0,60,60,70,40,40,40,40,0,0,0,65,0,70,0,0,40,40,40,0,0,60,60,20,0,0,0,0,0,0,0]
[null,null,null,null,null,null,null,null,null,null,null,null,null,null,"K2O, kg/ha",null,null,180,75,0,140,0,0,180,180,180,125,180,80,80,75,0,0,0,0,0,0,80,180,140,180,180,180,125,0,0,0,75,0,140,0,0,180,180,180,0,0,80,180,80,0,0,0,0,0,0,0]
[null,null,null,null,null,null,null,null,null,null,null,null,null,null,"P removal, kg/ha",null,null,{"$f":"R361*1000*$S$174/100","v":31.027000000000001},{"$f":"S361*1000*$Y$174/100","v":7.3710000000000004},{"$f":"T361*1000*0.1/100","v":1.0918075513196481},{"$f":"U361*1000*$Y$174/100","v":4.9385699999999995},{"$f":"V361*1000*0.1/100","v":0.73151105938416416},{"$f":"W361*1000*$T$174/100","v":4.9279999999999999},{"$f":"X361*1000*$T$174/100","v":21.461333333333336},{"$f":"Y361*1000*$U$174/100","v":20.790666666666667},{"$f":"Z361*1000*$U$174/100","v":15.593},{"$f":"AA361*1000*$V$174/100","v":8.3833333333333329},{"$f":"AB361*1000*$S$174/100","v":31.027000000000001},{"$f":"AC361*1000*$X$174/100","v":17.43},{"$f":"AD361*1000*$W$174/100","v":11.1},{"$f":"AE361*1000*$Z$174/100","v":8.3849999999999998},{"$f":"AF361*1000*0.1/100","v":0.99772889610389615},null,null,null,null,null,{"$f":"AL361*1000*$X$174/100","v":17.43},{"$f":"AM361*1000*$S$174/100","v":31.027000000000001},{"$f":"AN361*1000*$T$174/100","v":9.8239999999999998},{"$f":"AO361*1000*$T$174/100","v":21.471999999999998},{"$f":"AP361*1000*$U$174/100","v":20.800999999999998},{"$f":"AQ361*1000*$U$174/100","v":15.593},{"$f":"AR361*1000*$V$174/100","v":8.3833333333333329},null,null,null,{"$f":"AV361*1000*$Y$174/100","v":7.3710000000000004},{"$f":"AW361*1000*0.1/100","v":1.0918075513196481},{"$f":"AX361*1000*$Y$174/100","v":4.9385699999999995},{"$f":"AY361*1000*0.1/100","v":0.73151105938416416},{"$f":"AZ361*1000*$T$174/100","v":4.9279999999999999},{"$f":"BA361*1000*$T$174/100","v":21.471999999999998},{"$f":"BB361*1000*$U$174/100","v":20.800999999999998},{"$f":"BC361*1000*$U$174/100","v":15.593},null,null,{"$f":"BF361*1000*$X$174/100","v":17.43},{"$f":"BG361*1000*$S$174/100","v":31.027000000000001},{"$f":"BH361*1000*$W$174/100","v":11.1}]
[null,null,null,null,null,null,null,null,null,null,null,null,null,null,"K removal, kg/ha"]
[null,null,null,null,null,null,null,null,null,null,null,null,null,null,"Cl, kg/ha",null,null,0,0,0,0,0,0,0,0,0,0,0,0,0,0,0,null,null,null,null,null,0,0,0,0,0,0,0,null,null,null,0,0,0,0,0,0,0,0,null,null,0,0,0]
[null,null,null,null,null,null,null,null,null,null,null,null,null,null,"N fixation, kg/t",null,null,null,null,null,null,null,{"$f":"1000*21.9%/6.25*2/3*75%","v":17.519999999999996},{"$f":"1000*21.9%/6.25*2/3*75%","v":17.519999999999996},{"$f":"1000*20.6%/6.25*2/3*50%","v":10.98666666666667},{"$f":"1000*20.6%/6.25*2/3*50%","v":10.98666666666667},null,null,null,{"$f":"1000*39.2%/6.25*40%","v":25.088000000000001},null,null,null,null,null,null,null,null,null,{"$f":"1000*21.9%/6.25*2/3*75%","v":17.519999999999996},{"$f":"1000*21.9%/6.25*2/3*75%","v":17.519999999999996},{"$f":"1000*20.6%/6.25*2/3*50%","v":10.98666666666667},{"$f":"1000*20.6%/6.25*2/3*50%","v":10.98666666666667},null,null,null,null,null,null,null,null,{"$f":"1000*21.9%/6.25*2/3*75%","v":17.519999999999996},{"$f":"1000*21.9%/6.25*2/3*75%","v":17.519999999999996},{"$f":"1000*20.6%/6.25*2/3*50%","v":10.98666666666667},{"$f":"1000*20.6%/6.25*2/3*50%","v":10.98666666666667},null,null,null,null,{"$f":"1000*39.2%/6.25*40%","v":25.088000000000001}]
[null,null,null,null,null,null,null,null,null,null,null,null,null,null,"Above ground residue, %",null,null,8,0,0,0,0,0,0,0,0,10,8,38,45,0,0,null,null,null,null,null,38,8,0,0,0,0,10,null,null,null,0,0,0,0,0,0,0,10,null,null,38,8,45]
[null,null,null,null,null,null,null,null,null,null,null,null,null,null,"N Above ground residue, g N/kg",null,null,13,7,0,0,0,0,0,0,0,15,13,5,6,6,0,null,null,null,null,null,5,13,0,0,0,0,15,null,null,null,7,0,0,0,0,0,0,15,null,null,5,13,6]
[null,null,null,null,null,null,null,null,null,null,null,null,null,null,"Below ground residue, %",null,null,20,15,0,0,0,0,0,0,0,50,20,15,25,15,0,null,null,null,null,null,15,20,0,0,0,0,50,null,null,null,15,0,0,0,0,0,0,50,null,null,15,20,25]
[null,null,null,null,null,null,null,null,null,null,null,null,null,null,"N Below ground residue, g N/kg",null,null,7,10,0,0,0,0,0,0,0,15,7,7,10,10,0,null,null,null,null,null,7,7,0,0,0,0,15,null,null,null,10,0,0,0,0,0,0,15,null,null,7,7,10]
[null,null,null,null,null,null,null,null,null,null,null,null,null,null,"Fuel consumption (L/ha) (w/o fertilizers application)",null,null,101.1,46.3,0,52.9,0,49.3,123.3,123.3,123.3,40,101.1,58.6,60.1,46.3,0,null,null,null,null,null,58.6,101.1,87.7,123.3,123.3,123.3,40,null,null,null,46.3,0,52.9,0,49.3,123.3,123.3,123.3,null,null,58.6,101.1,60.1]
[null,null,null,null,null,null,null,null,null,null,null,null,null,null,"Variable costs  w/o fertilizer, $/ha",null,null,715.28,400.72,0,400.72,0,320.26,171.8,171.8,152.91999999999999,91.77,715.28,667.12,536.07000000000005,401.32,0,null,null,null,null,null,667.12,715.28,431.48,171.8,171.8,152.91999999999999,91.77,null,null,null,400.72,0,400.7,0,320.26,171.8,171.8,152.91999999999999,null,null,667.12,715.28,536.07000000000005]
[null,null,null,null,null,null,null,null,null,null,null,null,null,null,"Variable costs, $/t",null,null,0.62,12.73,{"$f":"13.19+3.12-200","v":-183.69},12.7,{"$f":"13.19+3.12-200","v":-183.69},12.37,12.37,12.37,12.37,11.74,0.62,23.18,8.7799999999999994,10.25,{"$f":"13.19+3.12-200","v":-183.69},null,null,null,null,null,23.18,0.62,12.37,12.37,12.37,12.37,12.37,null,null,null,12.73,{"$f":"13.19+3.12-200","v":-183.69},12.73,16.309999999999999,12.37,12.37,12.37,12.37,null,null,23.18,0.62,8.7799999999999994]
[null,null,null,null,null,null,null,null,null,null,null,null,null,null,"Cost $/ha",null,null,{"$f":"R374+R375*R361","v":723.64379999999994},{"$f":"S374+S375*S361-292.93","v":131.84970000000004},{"$f":"T374+T375*T361","v":-200.55412910190617},{"$f":"U374+U375*U361-292.93","v":123.87201000000005},{"$f":"V374+V375*V361","v":-134.37126649827712},339.3098,254.76146666666668,254.76146666666668,215.14109999999999,131.13813333333331,723.64379999999994,{"$f":"AC374+AC375*AC361-290.52","v":511.2758},{"$f":"AD374+AD375*AD361-110.62","v":441.6930000000001},{"$f":"AE374+AE375*AE361-221.216","v":200.0915},{"$f":"AF374+AF375*AF361","v":-183.27282092532468},0,0,0,0,0,{"$f":"AL374+AL375*AL361-290.52","v":511.2758},{"$f":"AM374+AM375*AM361","v":723.64379999999994},469.45590000000004,254.80270000000002,254.80270000000002,215.14109999999999,133.25073333333333,0,0,0,{"$f":"AV374+AV375*AV361-292.93","v":131.84970000000004},{"$f":"AW374+AW375*AW361","v":-200.55412910190617},{"$f":"AX374+AX375*AX361-292.93","v":123.88999899999999},{"$f":"AY374+AY375*AY361","v":11.930945378555716},{"$f":"AZ374+AZ375*AZ361","v":339.3098},{"$f":"BA374+BA375*BA361","v":254.80270000000002},{"$f":"BB374+BB375*BB361","v":254.80270000000002},{"$f":"BC374+BC375*BC361","v":215.14109999999999},null,null,{"$f":"BF374+BF375*BF361-290.52","v":511.2758},{"$f":"BG374+BG375*BG361","v":723.64379999999994},{"$f":"BH374+BH375*BH361-110.62","v":441.6930000000001},{"$f":"BI374+BI375*BI361","v":0},0,0,0,0,0,0]
[]
[]
[]
[]
[]
[]
[]
[]
[]
["Internal codes - Do not change"]
["Scenario",null,2]
["Sources for drop boxes"]
[null,"Manure collection/storage method",null,null,null,"Type of storage facility",null,"Options",null,null,"Method of manure spreading",null,null,null,null,"Breed"]
[1,"Liquid",null,null,1,{"$f":"IF('Scenario 2'!$D$232=\"Liquid\",\"DH\",IF('Scenario 2'!$D$232=\"Solid\",\"S\"))","v":"DH"},1,{"$f":"IF('Scenario 2'!$J$232=\"LS\",\"Covered\",IF('Scenario 2'!$J$232=\"S\",\"Stack with a liquid part\",\"-\"))","v":"Covered"},null,1,{"$f":"IF('Scenario 2'!$D$232=\"Liquid\",\"Broadcast, no incorporation\",IF('Scenario 2'!$D$232=\"Solid\",\"Box spreader, no incorporation\",\"-\"))","v":"Broadcast, no incorporation"},null,null,null,null,"Holstein"]
[1,"Solid",null,null,1,{"$f":"IF('Scenario 2'!$D$232=\"Liquid\",\"LS\",IF('Scenario 2'!$D$232=\"Solid\",\"BP\"))","v":"LS"},1,{"$f":"IF('Scenario 2'!$J$232=\"LS\",\"Uncov. Bottom Loaded\",IF('Scenario 2'!$J$232=\"S\",\"Stack without a liquid part\",\"-\"))","v":"Uncov. Bottom Loaded"},null,1,{"$f":"IF('Scenario 2'!$D$232=\"Liquid\",\"Broadcast, incorporated within 48h\",IF('Scenario 2'!$D$232=\"Solid\",\"Box spreader, incorporated within 48h\",\"-\"))","v":"Broadcast, incorporated within 48h"},null,null,null,null,"Brown Swiss"]
[2,"Liquid",null,null,1,{"$f":"IF('Scenario 2'!$D$232=\"Liquid\",\"-\",IF('Scenario 2'!$D$232=\"Solid\",\"C\"))","v":"-"},1,{"$f":"IF('Scenario 2'!$J$232=\"LS\",\"Uncov. Top Loaded\",\"-\")","v":"Uncov. Top Loaded"},null,1,{"$f":"IF('Scenario 2'!$D$232=\"Liquid\",\"Spray bar misting, no incorporation\",\"-\")","v":"Spray bar misting, no incorporation"},null,null,null,null,"Guernsey"]
[2,"Solid",null,null,2,{"$f":"IF('Scenario 2'!$D$233=\"Liquid\",\"DH\",IF('Scenario 2'!$D$233=\"Solid\",\"S\"))","v":"DH"},2,{"$f":"IF('Scenario 2'!$J$233=\"LS\",\"Covered\",IF('Scenario 2'!$J$233=\"S\",\"Stack with a liquid part\",\"-\"))","v":"Covered"},null,1,{"$f":"IF('Scenario 2'!$D$232=\"Liquid\",\"Spray bar misting, incorporated within 48h\",\"-\")","v":"Spray bar misting, incorporated within 48h"},null,null,null,null,"Ayrshire"]
[3,"Liquid",null,null,2,{"$f":"IF('Scenario 2'!$D$233=\"Liquid\",\"LS\",IF('Scenario 2'!$D$233=\"Solid\",\"BP\"))","v":"LS"},2,{"$f":"IF('Scenario 2'!$J$233=\"LS\",\"Uncov. Bottom Loaded\",IF('Scenario 2'!$J$233=\"S\",\"Stack without a liquid part\",\"-\"))","v":"Uncov. Bottom Loaded"},null,1,{"$f":"IF('Scenario 2'!$D$232=\"Liquid\",\"Knifing in\",\"-\")","v":"Knifing in"},null,null,null,null,"Jersey"]
[3,"Solid",null,null,2,{"$f":"IF('Scenario 2'!$D$233=\"Liquid\",\"-\",IF('Scenario 2'!$D$233=\"Solid\",\"C\"))","v":"-"},2,{"$f":"IF('Scenario 2'!$J$233=\"LS\",\"Uncov. Top Loaded\",\"-\")","v":"Uncov. Top Loaded"},null,2,{"$f":"IF('Scenario 2'!$D$233=\"Liquid\",\"Broadcast, no incorporation\",IF('Scenario 2'!$D$233=\"Solid\",\"Box spreader, no incorporation\",\"-\"))","v":"Broadcast, no incorporation"},null,null,null,null,"M. Shorthorn"]
[4,"Liquid",null,null,3,{"$f":"IF('Scenario 2'!$D$234=\"Liquid\",\"DH\",IF('Scenario 2'!$D$234=\"Solid\",\"S\"))","v":"DH"},3,{"$f":"IF('Scenario 2'!$J$234=\"LS\",\"Covered\",IF('Scenario 2'!$J$234=\"S\",\"Stack with a liquid part\",\"-\"))","v":"Covered"},null,2,{"$f":"IF('Scenario 2'!$D$233=\"Liquid\",\"Broadcast, incorporated within 48h\",IF('Scenario 2'!$D$233=\"Solid\",\"Box spreader, incorporated within 48h\",\"-\"))","v":"Broadcast, incorporated within 48h"}]
[4,"Solid",null,null,3,{"$f":"IF('Scenario 2'!$D$234=\"Liquid\",\"LS\",IF('Scenario 2'!$D$234=\"Solid\",\"BP\"))","v":"LS"},3,{"$f":"IF('Scenario 2'!$J$234=\"LS\",\"Uncov. Bottom Loaded\",IF('Scenario 2'!$J$234=\"S\",\"Stack without a liquid part\",\"-\"))","v":"Uncov. Bottom Loaded"},null,2,{"$f":"IF('Scenario 2'!$D$233=\"Liquid\",\"Spray bar misting, no incorporation\",\"-\")","v":"Spray bar misting, no incorporation"}]
[5,"Liquid",null,null,3,{"$f":"IF('Scenario 2'!$D$234=\"Liquid\",\"-\",IF('Scenario 2'!$D$234=\"Solid\",\"C\"))","v":"-"},3,{"$f":"IF('Scenario 2'!$J$234=\"LS\",\"Uncov. Top Loaded\",\"-\")","v":"Uncov. Top Loaded"},null,2,{"$f":"IF('Scenario 2'!$D$233=\"Liquid\",\"Spray bar misting, incorporated within 48h\",\"-\")","v":"Spray bar misting, incorporated within 48h"}]
[5,"Solid",null,null,4,{"$f":"IF('Scenario 2'!$D$235=\"Liquid\",\"DH\",IF('Scenario 2'!$D$235=\"Solid\",\"S\"))","v":"DH"},4,{"$f":"IF('Scenario 2'!$J$235=\"LS\",\"Covered\",IF('Scenario 2'!$J$235=\"S\",\"Stack with a liquid part\",\"-\"))","v":"Covered"},null,2,{"$f":"IF('Scenario 2'!$D$233=\"Liquid\",\"Knifing in\",\"-\")","v":"Knifing in"}]
[null,null,null,null,4,{"$f":"IF('Scenario 2'!$D$235=\"Liquid\",\"LS\",IF('Scenario 2'!$D$235=\"Solid\",\"BP\"))","v":"LS"},4,{"$f":"IF('Scenario 2'!$J$235=\"LS\",\"Uncov. Bottom Loaded\",IF('Scenario 2'!$J$235=\"S\",\"Stack without a liquid part\",\"-\"))","v":"Uncov. Bottom Loaded"},null,3,{"$f":"IF('Scenario 2'!$D$234=\"Liquid\",\"Broadcast, no incorporation\",IF('Scenario 2'!$D$234=\"Solid\",\"Box spreader, no incorporation\",\"-\"))","v":"Broadcast, no incorporation"}]
[null,null,null,null,4,{"$f":"IF('Scenario 2'!$D$235=\"Liquid\",\"-\",IF('Scenario 2'!$D$235=\"Solid\",\"C\"))","v":"-"},4,{"$f":"IF('Scenario 2'!$J$235=\"LS\",\"Uncov. Top Loaded\",\"-\")","v":"Uncov. Top Loaded"},null,3,{"$f":"IF('Scenario 2'!$D$234=\"Liquid\",\"Broadcast, incorporated within 48h\",IF('Scenario 2'!$D$234=\"Solid\",\"Box spreader, incorporated within 48h\",\"-\"))","v":"Broadcast, incorporated within 48h"}]
[null,null,null,null,5,{"$f":"IF('Scenario 2'!$D$236=\"Liquid\",\"DH\",IF('Scenario 2'!$D$236=\"Solid\",\"S\"))","v":"DH"},5,{"$f":"IF('Scenario 2'!$J$236=\"LS\",\"Covered\",IF('Scenario 2'!$J$236=\"S\",\"Stack with a liquid part\",\"-\"))","v":"Covered"},null,3,{"$f":"IF('Scenario 2'!$D$234=\"Liquid\",\"Spray bar misting, no incorporation\",\"-\")","v":"Spray bar misting, no incorporation"}]
[null,null,null,null,5,{"$f":"IF('Scenario 2'!$D$236=\"Liquid\",\"LS\",IF('Scenario 2'!$D$236=\"Solid\",\"BP\"))","v":"LS"},5,{"$f":"IF('Scenario 2'!$J$236=\"LS\",\"Uncov. Bottom Loaded\",IF('Scenario 2'!$J$236=\"S\",\"Stack without a liquid part\",\"-\"))","v":"Uncov. Bottom Loaded"},null,3,{"$f":"IF('Scenario 2'!$D$234=\"Liquid\",\"Spray bar misting, incorporated within 48h\",\"-\")","v":"Spray bar misting, incorporated within 48h"}]
[null,null,null,null,5,{"$f":"IF('Scenario 2'!$D$236=\"Liquid\",\"-\",IF('Scenario 2'!$D$236=\"Solid\",\"C\"))","v":"-"},5,{"$f":"IF('Scenario 2'!$J$236=\"LS\",\"Uncov. Top Loaded\",\"-\")","v":"Uncov. Top Loaded"},null,3,{"$f":"IF('Scenario 2'!$D$234=\"Liquid\",\"Knifing in\",\"-\")","v":"Knifing in"}]
[null,null,null,null,null,null,null,null,null,4,{"$f":"IF('Scenario 2'!$D$235=\"Liquid\",\"Broadcast, no incorporation\",IF('Scenario 2'!$D$235=\"Solid\",\"Box spreader, no incorporation\",\"-\"))","v":"Broadcast, no incorporation"}]
[null,null,null,null,null,null,null,null,null,4,{"$f":"IF('Scenario 2'!$D$235=\"Liquid\",\"Broadcast, incorporated within 48h\",IF('Scenario 2'!$D$235=\"Solid\",\"Box spreader, incorporated within 48h\",\"-\"))","v":"Broadcast, incorporated within 48h"}]
[null,null,null,null,null,null,null,null,null,4,{"$f":"IF('Scenario 2'!$D$235=\"Liquid\",\"Spray bar misting, no incorporation\",\"-\")","v":"Spray bar misting, no incorporation"}]
[null,null,null,null,null,null,null,null,null,4,{"$f":"IF('Scenario 2'!$D$235=\"Liquid\",\"Spray bar misting, incorporated within 48h\",\"-\")","v":"Spray bar misting, incorporated within 48h"}]
[null,null,null,null,null,null,null,null,null,4,{"$f":"IF('Scenario 2'!$D$235=\"Liquid\",\"Knifing in\",\"-\")","v":"Knifing in"}]
[null,null,null,null,null,null,null,null,null,5,{"$f":"IF('Scenario 2'!$D$236=\"Liquid\",\"Broadcast, no incorporation\",IF('Scenario 2'!$D$236=\"Solid\",\"Box spreader, no incorporation\",\"-\"))","v":"Broadcast, no incorporation"}]
[null,null,null,null,null,null,null,null,null,5,{"$f":"IF('Scenario 2'!$D$236=\"Liquid\",\"Broadcast, incorporated within 48h\",IF('Scenario 2'!$D$236=\"Solid\",\"Box spreader, incorporated within 48h\",\"-\"))","v":"Broadcast, incorporated within 48h"}]
[null,null,null,null,null,null,null,null,null,5,{"$f":"IF('Scenario 2'!$D$236=\"Liquid\",\"Spray bar misting, no incorporation\",\"-\")","v":"Spray bar misting, no incorporation"}]
[null,null,null,null,null,null,null,null,null,5,{"$f":"IF('Scenario 2'!$D$236=\"Liquid\",\"Spray bar misting, incorporated within 48h\",\"-\")","v":"Spray bar misting, incorporated within 48h"}]
[null,null,null,null,null,null,null,null,null,5,{"$f":"IF('Scenario 2'!$D$236=\"Liquid\",\"Knifing in\",\"-\")","v":"Knifing in"}]

{"sheet":"Inputs","index":3,"n_rows":476,"n_cols":52,"rows_kept":476,"cut":false,"hidden":false,"merged":[[177,2,177,6],[291,3,291,6],[287,3,287,6],[278,5,278,6],[288,3,288,6],[289,3,289,6],[290,3,290,6]]}
[]
[]
[]
[]
[]
[]
[]
[null,"Scenario",1]
[]
[]
[]
[]
[]
[]
[]
[]
[]
[]
[]
[]
["1. Herd description"]
[null,"Number of group (total=5)"]
[null,"3C- 2H (3); 4C-1H (4)",{"$f":"IF($C$8=1,'Scenario 1'!E27,'Scenario 2'!E27)","v":3}]
[]
[]
[]
[]
[]
["1.1.  Herd structure: Cows"]
[null,"Breed",{"$f":"IF($C$8=1,'Scenario 1'!E30,'Scenario 2'!E30)","v":"Holstein"}]
[null,"Total cow number",{"$f":"IF($C$8=1,'Scenario 1'!E31,'Scenario 2'!E31)","v":107},"Total cows"]
[null,"Herd BW (kg)",{"$f":"IF($C$8=1,'Scenario 1'!E32,'Scenario 2'!E32)","v":624},"kg"]
[null,"Calving interval",{"$f":"IF($C$8=1,'Scenario 1'!E33,'Scenario 2'!E33)","v":13.9},"months"]
[null,"Culling rate",{"$f":"IF($C$8=1,'Scenario 1'!E34,'Scenario 2'!E34)","v":36},"%"]
[]
[]
[]
["1.2. Herd structure: Replacement heifers"]
[null,"Mortality rate (heifers < 1yr)",{"$f":"IF($C$8=1,'Scenario 1'!E39,'Scenario 2'!E39)","v":10},"%"]
[null,"Age at first calving ",{"$f":"IF($C$8=1,'Scenario 1'!E40,'Scenario 2'!E40)","v":26},"Months"]
[]
[null,"Heifer: Grow all (1) vs. ",{"$f":"IF($C$8=1,'Scenario 1'!E42,'Scenario 2'!E42)","v":2}]
[null,"only for replacement (2)"]
[]
["1.3. Herd production parameters"]
[null,"Peak milk production, kg/d",{"$f":"IF(C8=1,'Scenario 1'!E46,'Scenario 2'!E46)","v":46.37},"kg/d"]
[null,"Milk performance, kg/cow/lactation",{"$f":"IF(C8=1,'Scenario 1'!E47,'Scenario 2'!E47)","v":11538.757169999997},"kg/cow/Lactation"]
[null,"Milk performance, kg/cow/365 day",{"$f":"IF(C8=1,'Scenario 1'!E48,'Scenario 2'!E48)","v":9961.5169812949607},"Kg/cow/365-day"]
[null,"Milk composition"]
[null,"Fat, %",{"$f":"IF($C$8=1,'Scenario 1'!E50,'Scenario 2'!E50)","v":3.6},"%"]
[null,"Protein, %",{"$f":"IF($C$8=1,'Scenario 1'!E51,'Scenario 2'!E51)","v":3.1},"%"]
[null,"Other solid, %",{"$f":"IF($C$8=1,'Scenario 1'!E52,'Scenario 2'!E52)","v":5.7},"%"]
[]
["1.4 Herd Description: Summary"]
[null,"Items",null,null,"GROUP"]
[null,null,1,2,3,4,5]
[null,null,{"$f":"IF($C$8=1,'Scenario 1'!P43,'Scenario 2'!P43)","v":"Early lactation"},{"$f":"IF($C$8=1,'Scenario 1'!Q43,'Scenario 2'!Q43)","v":"Mid-late lac."},{"$f":"IF($C$8=1,'Scenario 1'!R43,'Scenario 2'!R43)","v":"Dry cows"},{"$f":"IF($C$8=1,'Scenario 1'!S43,'Scenario 2'!S43)","v":"Heifers<1yr old"},{"$f":"IF($C$8=1,'Scenario 1'!T43,'Scenario 2'!T43)","v":"Heifers>1yr old"}]
[null,"Total Days",{"$f":"IF($C$8=1,'Scenario 1'!P44,'Scenario 2'!P44)","v":152},{"$f":"IF($C$8=1,'Scenario 1'!Q44,'Scenario 2'!Q44)","v":211},{"$f":"IF($C$8=1,'Scenario 1'!R44,'Scenario 2'!R44)","v":60},{"$f":"IF($C$8=1,'Scenario 1'!S44,'Scenario 2'!S44)","v":319},{"$f":"IF($C$8=1,'Scenario 1'!T44,'Scenario 2'!T44)","v":426}]
[null,"Days in milk",{"$f":"IF($C$8=1,'Scenario 1'!P45,'Scenario 2'!P45)","v":76},{"$f":"IF($C$8=1,'Scenario 1'!Q45,'Scenario 2'!Q45)","v":257.5},{"$f":"IF($C$8=1,'Scenario 1'!R45,'Scenario 2'!R45)","v":"na"},{"$f":"IF($C$8=1,'Scenario 1'!S45,'Scenario 2'!S45)","v":"na"},{"$f":"IF($C$8=1,'Scenario 1'!T45,'Scenario 2'!T45)","v":"na"}]
[null,"BW, kg",{"$f":"IF($C$8=1,'Scenario 1'!P46,'Scenario 2'!P46)","v":624},{"$f":"IF($C$8=1,'Scenario 1'!Q46,'Scenario 2'!Q46)","v":624},{"$f":"IF($C$8=1,'Scenario 1'!R46,'Scenario 2'!R46)","v":624},{"$f":"IF($C$8=1,'Scenario 1'!S46,'Scenario 2'!S46)","v":188.91399999999999},{"$f":"IF($C$8=1,'Scenario 1'!T46,'Scenario 2'!T46)","v":517.43340000000001}]
[null,"Milk yield, kg/d",{"$f":"IF($C$8=1,'Scenario 1'!P47,'Scenario 2'!P47)","v":41.732999999999997},{"$f":"IF($C$8=1,'Scenario 1'!Q47,'Scenario 2'!Q47)","v":24.622469999999996},{"$f":"IF($C$8=1,'Scenario 1'!R47,'Scenario 2'!R47)","v":0},{"$f":"IF($C$8=1,'Scenario 1'!S47,'Scenario 2'!S47)","v":0},{"$f":"IF($C$8=1,'Scenario 1'!T47,'Scenario 2'!T47)","v":0}]
[null,"FCM, kg/d",{"$f":"IF($C$8=1,'Scenario 1'!P48,'Scenario 2'!P48)","v":35.848647},{"$f":"IF($C$8=1,'Scenario 1'!Q48,'Scenario 2'!Q48)","v":23.809928489999997},{"$f":"IF($C$8=1,'Scenario 1'!R48,'Scenario 2'!R48)","v":0},{"$f":"IF($C$8=1,'Scenario 1'!S48,'Scenario 2'!S48)","v":0},{"$f":"IF($C$8=1,'Scenario 1'!T48,'Scenario 2'!T48)","v":0}]
[null,"Milk fat, %",{"$f":"IF($C$8=1,'Scenario 1'!P49,'Scenario 2'!P49)","v":3.06},{"$f":"IF($C$8=1,'Scenario 1'!Q49,'Scenario 2'!Q49)","v":3.7800000000000002},{"$f":"IF($C$8=1,'Scenario 1'!R49,'Scenario 2'!R49)","v":0},{"$f":"IF($C$8=1,'Scenario 1'!S49,'Scenario 2'!S49)","v":0},{"$f":"IF($C$8=1,'Scenario 1'!T49,'Scenario 2'!T49)","v":0}]
[null,"Milk CP , %",{"$f":"IF($C$8=1,'Scenario 1'!P50,'Scenario 2'!P50)","v":2.6349999999999998},{"$f":"IF($C$8=1,'Scenario 1'!Q50,'Scenario 2'!Q50)","v":3.2550000000000003},{"$f":"IF($C$8=1,'Scenario 1'!R50,'Scenario 2'!Q50)","v":0},{"$f":"IF($C$8=1,'Scenario 1'!S50,'Scenario 2'!Q50)","v":0},{"$f":"IF($C$8=1,'Scenario 1'!T50,'Scenario 2'!Q50)","v":0}]
[null,"Pregnancy, Days",{"$f":"IF($C$8=1,'Scenario 1'!P51,'Scenario 2'!P51)","v":0},{"$f":"IF($C$8=1,'Scenario 1'!Q51,'Scenario 2'!Q51)","v":120.5},{"$f":"IF($C$8=1,'Scenario 1'!R51,'Scenario 2'!R51)","v":250},{"$f":"IF($C$8=1,'Scenario 1'!S51,'Scenario 2'!S51)","v":0},{"$f":"IF($C$8=1,'Scenario 1'!T51,'Scenario 2'!T51)","v":32}]
[null,"Growth, kg/d",{"$f":"IF($C$8=1,'Scenario 1'!P52,'Scenario 2'!P52)","v":0},{"$f":"IF($C$8=1,'Scenario 1'!Q52,'Scenario 2'!Q52)","v":0},{"$f":"IF($C$8=1,'Scenario 1'!R52,'Scenario 2'!R52)","v":0},{"$f":"IF($C$8=1,'Scenario 1'!S52,'Scenario 2'!S52)","v":0.8},{"$f":"IF($C$8=1,'Scenario 1'!T52,'Scenario 2'!T52)","v":0.8}]
[]
[]
["2. Economic inputs"]
["2.1. Milk Incomes"]
[null,"Milk sold",{"$f":"IF($C$8=1,'Scenario 1'!E57,'Scenario 2'!E57)","v":1012588.2011486328},"Kg/year"]
[null,"Milk sold",{"$f":"IF($C$8=1,'Scenario 1'!E58,'Scenario 2'!E58)","v":9830.9534092100275},"hl/year"]
[null,"Milk wasted (%)",{"$f":"IF($C$8=1,'Scenario 1'!E59,'Scenario 2'!E59)","v":5},"%"]
[null,null,null,null,"$/lb","$/cwt"]
[null,"Milk fat price",{"$f":"IF($C$8=1,'Scenario 1'!E61,'Scenario 2'!E61)","v":3.772109807036883},"S/kg",{"$f":"IF($C$8=1,'Scenario 1'!G61,'Scenario 2'!G61)","v":1.7110000000000001}]
[null,"Milk protein price",{"$f":"IF($C$8=1,'Scenario 1'!E62,'Scenario 2'!E62)","v":6.3559278630551335},"$/kg",{"$f":"IF($C$8=1,'Scenario 1'!G62,'Scenario 2'!G62)","v":2.883}]
[null,"Milk other solid price",{"$f":"IF($C$8=1,'Scenario 1'!E63,'Scenario 2'!E63)","v":0.46076618917049006},"S/kg",{"$f":"IF($C$8=1,'Scenario 1'!G63,'Scenario 2'!G63)","v":0.20899999999999999}]
[null,"Hauling cost",{"$f":"IF($C$8=1,'Scenario 1'!E64,'Scenario 2'!E64)","v":0.47619854957332947},"$/hl",null,{"$f":"IF($C$8=1,'Scenario 1'!H64,'Scenario 2'!H64)","v":0.216}]
[null,"Marketing cost",{"$f":"IF($C$8=1,'Scenario 1'!E65,'Scenario 2'!E65)","v":0.48722166414678619},"$/kg",null,{"$f":"IF($C$8=1,'Scenario 1'!H65,'Scenario 2'!H65)","v":0.221}]
[null,"Milk Price ($/hl)",null,{"$f":"IF($C$8=1,'Scenario 1'!E66,'Scenario 2'!E66)","v":36.008582264203234},{"$f":"IF($C$8=1,'Scenario 1'!G66,\"-\")","v":0.1636085943756338},{"$f":"IF($C$8=1,'Scenario 1'!H66,\"-\")","v":16.360859437563381}]
[]
["2.2. Other incomes",null,null,null,"$/lb","$/cwt"]
[null,"Livestock",{"$f":"IF($C$8=1,'Scenario 1'!E70,'Scenario 2'!E70)","v":2.8370320000000002},"$/hl",{"$f":"IF($C$8=1,'Scenario 1'!G70,'Scenario 2'!G69)","v":1.252E-2},{"$f":"IF($C$8=1,'Scenario 1'!H70,'Scenario 2'!H69)","v":1.252}]
[null,"Other Income",{"$f":"IF($C$8=1,'Scenario 1'!E71,'Scenario 2'!E71)","v":1.9714200000000002},"$/hl"]
[null,"Total ($/hl)",null,{"$f":"IF($C$8=1,'Scenario 1'!E72,'Scenario 2'!E72)","v":4.8084520000000008}]
[]
["2.3. Variable costs (other than feed purchased, crop-related expenses and storage costs)",null,null,null,null,"$/cwt"]
[null,"Breeding fees",{"$f":"IF($C$8=1,'Scenario 1'!E76,'Scenario 2'!E76)","v":"--"},"$/hl",null,{"$f":"IF($C$8=1,'Scenario 1'!H76,'Scenario 2'!H76)","v":"--"}]
[null,"Health",{"$f":"IF($C$8=1,'Scenario 1'!E77,'Scenario 2'!E77)","v":2.248715372985167},"$/hl",null,{"$f":"IF($C$8=1,'Scenario 1'!H77,'Scenario 2'!H77)","v":1.02}]
[null,"Bedding",{"$f":"IF($C$8=1,'Scenario 1'!E78,'Scenario 2'!E78)","v":0.66138687440740196},"$/hl",null,{"$f":"IF($C$8=1,'Scenario 1'!H78,'Scenario 2'!H78)","v":0.3}]
[null,"Supplies ",{"$f":"IF($C$8=1,'Scenario 1'!E79,'Scenario 2'!E79)","v":3.3289806011839236},"$/hl",null,{"$f":"IF($C$8=1,'Scenario 1'!H79,'Scenario 2'!H79)","v":1.51}]
[null,"DHI",{"$f":"IF($C$8=1,'Scenario 1'!E80,'Scenario 2'!E80)","v":0.85980293672962271},"$/hl",null,{"$f":"IF($C$8=1,'Scenario 1'!H80,'Scenario 2'!H80)","v":0.39}]
[null,"Other",{"$f":"IF($C$8=1,'Scenario 1'!E81,'Scenario 2'!E81)","v":8.8184916587653608E-2},"$/hl",null,{"$f":"IF($C$8=1,'Scenario 1'!H81,'Scenario 2'!H81)","v":0.04}]
[null,"Total ($/hl)",null,{"$f":"IF($C$8=1,'Scenario 1'!E82,'Scenario 2'!E82)","v":7.1870707018937692}]
[]
["2.4. Fixed costs",null,null,null,"$/lb","$/cwt"]
[null,"Labor",{"$f":"IF($C$8=1,'Scenario 1'!E86,'Scenario 2'!E86)","v":37950.377573772123},"$",{"$f":"IF($C$8=1,'Scenario 1'!G86,'Scenario 2'!G86)","v":1.7000000000000001E-2},{"$f":"IF($C$8=1,'Scenario 1'!H86,'Scenario 2'!H86)","v":1.7}]
[null,"Taxes and Insurance",{"$f":"IF($C$8=1,'Scenario 1'!E87,'Scenario 2'!E87)","v":6250.6504239154083},"$",{"$f":"IF($C$8=1,'Scenario 1'!G87,'Scenario 2'!G87)","v":2.8000000000000004E-3},{"$f":"IF($C$8=1,'Scenario 1'!H87,'Scenario 2'!H87)","v":0.28000000000000003}]
[null,"Depreciation",{"$f":"IF($C$8=1,'Scenario 1'!E88,'Scenario 2'!E88)","v":87509.1059348157},"$",{"$f":"IF($C$8=1,'Scenario 1'!G88,'Scenario 2'!G88)","v":3.9199999999999999E-2},{"$f":"IF($C$8=1,'Scenario 1'!H88,'Scenario 2'!H88)","v":3.92}]
[null,"Interest",{"$f":"IF($C$8=1,'Scenario 1'!E89,'Scenario 2'!E89)","v":0},"$"]
[null,"Other",{"$f":"IF($C$8=1,'Scenario 1'!E90,'Scenario 2'!E90)","v":17189.28866576737},"$",{"$f":"IF($C$8=1,'Scenario 1'!G90,'Scenario 2'!G90)","v":7.7000000000000002E-3},{"$f":"IF($C$8=1,'Scenario 1'!H90,'Scenario 2'!H90)","v":0.77}]
[null,"Total ($)",null,{"$f":"IF($C$8=1,'Scenario 1'!E91,'Scenario 2'!E91)","v":148899.42259827061}]
[]
[]
[]
[]
[]
[]
["3. Ration Composition"]
[]
[null,null,null,null,null,"GROUP"]
[null,null,null,1,2,3,4,5]
[null,null,null,{"$f":"IF($C$8=1,'Scenario 1'!P43,'Scenario 2'!P43)","v":"Early lactation"},{"$f":"IF($C$8=1,'Scenario 1'!Q43,'Scenario 2'!Q43)","v":"Mid-late lac."},{"$f":"IF($C$8=1,'Scenario 1'!R43,'Scenario 2'!R43)","v":"Dry cows"},{"$f":"IF($C$8=1,'Scenario 1'!S43,'Scenario 2'!S43)","v":"Heifers<1yr old"},{"$f":"IF($C$8=1,'Scenario 1'!T43,'Scenario 2'!T43)","v":"Heifers>1yr old"}]
["3.1 Amount of Feed Dry Matter (DM)"]
[null,"Animal","#",{"$f":"IF($C$8=1,'Scenario 1'!R98,'Scenario 2'!R98)","v":38},{"$f":"IF($C$8=1,'Scenario 1'!S98,'Scenario 2'!S98)","v":54},{"$f":"IF($C$8=1,'Scenario 1'!T98,'Scenario 2'!T98)","v":15},{"$f":"IF($C$8=1,'Scenario 1'!U98,'Scenario 2'!U98)","v":38.762482014388489},{"$f":"IF($C$8=1,'Scenario 1'!V98,'Scenario 2'!V98)","v":41.092041366906479}]
[]
[null,"Actual days","#",{"$f":"IF($C$8=1,'Scenario 1'!R99,'Scenario 2'!R99)","v":152},{"$f":"IF($C$8=1,'Scenario 1'!S99,'Scenario 2'!S99)","v":211},{"$f":"IF($C$8=1,'Scenario 1'!T99,'Scenario 2'!T99)","v":60},{"$f":"IF($C$8=1,'Scenario 1'!U99,'Scenario 2'!U99)","v":319},{"$f":"IF($C$8=1,'Scenario 1'!V99,'Scenario 2'!V99)","v":426}]
[null,"365-day basis","#",{"$f":"IF($C$8=1,'Scenario 1'!R100,'Scenario 2'!R100)","v":131.29496402877697},{"$f":"IF($C$8=1,'Scenario 1'!S100,'Scenario 2'!S100)","v":182.25814085573646},{"$f":"IF($C$8=1,'Scenario 1'!T100,'Scenario 2'!T100)","v":51.826959485043545},{"$f":"IF($C$8=1,'Scenario 1'!U100,'Scenario 2'!U100)","v":365},{"$f":"IF($C$8=1,'Scenario 1'!V100,'Scenario 2'!V100)","v":365}]
[]
[null,"DMI, Predicted (NRC 2001)","kg/d",{"$f":"IF($C$8=1,'Scenario 1'!E99,'Scenario 2'!E99)","v":23.583553277682984},{"$f":"IF($C$8=1,'Scenario 1'!F99,'Scenario 2'!F99)","v":20.64103003652512},{"$f":"IF($C$8=1,'Scenario 1'!G99,'Scenario 2'!G99)","v":11.231999999999999},{"$f":"IF($C$8=1,'Scenario 1'!H99,'Scenario 2'!H99)","v":5.0251124000000003},{"$f":"IF($C$8=1,'Scenario 1'!I99,'Scenario 2'!I99)","v":12.403697644762801}]
[null,"Adjustement factor","%",{"$f":"IF($C$8=1,'Scenario 1'!E100,'Scenario 2'!E100)","v":0},{"$f":"IF($C$8=1,'Scenario 1'!F100,'Scenario 2'!F100)","v":0},{"$f":"IF($C$8=1,'Scenario 1'!G100,'Scenario 2'!G100)","v":0},{"$f":"IF($C$8=1,'Scenario 1'!H100,'Scenario 2'!H100)","v":0},{"$f":"IF($C$8=1,'Scenario 1'!I100,'Scenario 2'!I100)","v":0}]
[null,"DM Consumed","kg/d",{"$f":"IF($C$8=1,'Scenario 1'!E101,'Scenario 2'!E101)","v":23.583553277682984},{"$f":"IF($C$8=1,'Scenario 1'!F101,'Scenario 2'!F101)","v":20.64103003652512},{"$f":"IF($C$8=1,'Scenario 1'!G101,'Scenario 2'!G101)","v":11.231999999999999},{"$f":"IF($C$8=1,'Scenario 1'!H101,'Scenario 2'!H101)","v":5.0251124000000003},{"$f":"IF($C$8=1,'Scenario 1'!I101,'Scenario 2'!I101)","v":12.403697644762801}]
[null,"DM Consumed","% BW",{"$f":"IF($C$8=1,'Scenario 1'!R102,'Scenario 2'!R102)","v":3.779415589372273},{"$f":"IF($C$8=1,'Scenario 1'!S102,'Scenario 2'!S102)","v":3.307857377648256},{"$f":"IF($C$8=1,'Scenario 1'!T102,'Scenario 2'!T102)","v":1.7999999999999998},{"$f":"IF($C$8=1,'Scenario 1'!U102,'Scenario 2'!U102)","v":2.6600000000000006},{"$f":"IF($C$8=1,'Scenario 1'!V102,'Scenario 2'!V102)","v":2.3971582902771256}]
[null,"DM Consumed","tonnes/yr",{"$f":"IF($C$8=1,'Scenario 1'!R103,'Scenario 2'!R103)","v":117.66326761203703},{"$f":"IF($C$8=1,'Scenario 1'!S103,'Scenario 2'!S103)","v":203.14777102944203},{"$f":"IF($C$8=1,'Scenario 1'!T103,'Scenario 2'!T103)","v":8.7318061340401361},{"$f":"IF($C$8=1,'Scenario 1'!U103,'Scenario 2'!U103)","v":71.09682759422742},{"$f":"IF($C$8=1,'Scenario 1'!V103,'Scenario 2'!V103)","v":186.03803870323563}]
[null,"DM Consumed","tonnes/yr",{"$f":"D122*D115/1000*365","v":327.10388396146294},{"$f":"E122*E115/1000*365","v":406.83470201991008},{"$f":"F122*F115/1000*365","v":61.495199999999997},{"$f":"G122*G115/1000*365","v":71.096827594227406},{"$f":"H122*H115/1000*365","v":186.03803870323563}]
[null,"DM consumed","tonnes/yr","per Cow:",{"$f":"IF($C$8=1,'Scenario 1'!S104,'Scenario 2'!S104)","v":7.4405179480046231},null,"per Heifer:",{"$f":"IF($C$8=1,'Scenario 1'!V104,'Scenario 2'!V104)","v":3.2200413377921935}]
[]
["3.2 Ration Composition"]
[null,"ENl, Mcal/kg DM","MINIMUM",{"$f":"IF($C$8=1,'Scenario 1'!E104,'Scenario 2'!E104)","v":1.6735160989983768},{"$f":"IF($C$8=1,'Scenario 1'!F104,'Scenario 2'!F104)","v":1.4786364631105882},{"$f":"IF($C$8=1,'Scenario 1'!G104,'Scenario 2'!G104)","v":1.3195023654956903},{"$f":"IF($C$8=1,'Scenario 1'!H104,'Scenario 2'!H104)","v":1.4298375156819263},{"$f":"IF($C$8=1,'Scenario 1'!I104,'Scenario 2'!I104)","v":1.3083445354109233},{"$f":"IF($C$8=1,'Scenario 1'!J104,'Scenario 2'!J104)","v":0.1},"Desired adjustment above NRC guidelines"]
[null,null,"MAXIMUM",{"$f":"IF($C$8=1,'Scenario 1'!E105,'Scenario 2'!E105)","v":2.0082193187980519},{"$f":"IF($C$8=1,'Scenario 1'!F105,'Scenario 2'!F105)","v":1.7743637557327057},{"$f":"IF($C$8=1,'Scenario 1'!G105,'Scenario 2'!G105)","v":1.5834028385948284},{"$f":"IF($C$8=1,'Scenario 1'!H105,'Scenario 2'!H105)","v":1.7158050188183116},{"$f":"IF($C$8=1,'Scenario 1'!I105,'Scenario 2'!I105)","v":1.570013442493108},{"$f":"IF($C$8=1,'Scenario 1'!J105,'Scenario 2'!J105)","v":0.2},"Maximum excess allowed in ration (Max/Min)"]
[]
[null,"EE, % of ration DM","MAXIMUM",{"$f":"IF($C$8=1,'Scenario 1'!E107,'Scenario 2'!E107)","v":6.5},{"$f":"IF($C$8=1,'Scenario 1'!F107,'Scenario 2'!F107)","v":6.5},{"$f":"IF($C$8=1,'Scenario 1'!G107,'Scenario 2'!G107)","v":5},{"$f":"IF($C$8=1,'Scenario 1'!H107,'Scenario 2'!H107)","v":4.5},{"$f":"IF($C$8=1,'Scenario 1'!I107,'Scenario 2'!I107)","v":4.5}]
[]
[null,"Forage NDF, % of ration DM","MINIMUM",{"$f":"IF($C$8=1,'Scenario 1'!E109,'Scenario 2'!E109)","v":17},{"$f":"IF($C$8=1,'Scenario 1'!F109,'Scenario 2'!F109)","v":18},{"$f":"IF($C$8=1,'Scenario 1'!G109,'Scenario 2'!G109)","v":24},{"$f":"IF($C$8=1,'Scenario 1'!H109,'Scenario 2'!H109)","v":18},{"$f":"IF($C$8=1,'Scenario 1'!I109,'Scenario 2'!I109)","v":18}]
[null,"NDF, % of Ration DM","MINIMUM",{"$f":"IF($C$8=1,'Scenario 1'!E110,'Scenario 2'!E110)","v":25},{"$f":"IF($C$8=1,'Scenario 1'!F110,'Scenario 2'!F110)","v":28},{"$f":"IF($C$8=1,'Scenario 1'!G110,'Scenario 2'!G110)","v":30},{"$f":"IF($C$8=1,'Scenario 1'!H110,'Scenario 2'!H110)","v":28},{"$f":"IF($C$8=1,'Scenario 1'!I110,'Scenario 2'!I110)","v":28}]
[null,null,"MAXIMUM",{"$f":"IF($C$8=1,'Scenario 1'!E111,'Scenario 2'!E111)","v":100},{"$f":"IF($C$8=1,'Scenario 1'!F111,'Scenario 2'!F111)","v":100},{"$f":"IF($C$8=1,'Scenario 1'!G111,'Scenario 2'!G111)","v":100},{"$f":"IF($C$8=1,'Scenario 1'!H111,'Scenario 2'!H111)","v":100},{"$f":"IF($C$8=1,'Scenario 1'!I111,'Scenario 2'!I111)","v":100}]
[]
[null,"NFC, % of ration DM","MINIMUM",{"$f":"IF($C$8=1,'Scenario 1'!E113,'Scenario 2'!E113)","v":0},{"$f":"IF($C$8=1,'Scenario 1'!F113,'Scenario 2'!F113)","v":0},{"$f":"IF($C$8=1,'Scenario 1'!G113,'Scenario 2'!G113)","v":0},{"$f":"IF($C$8=1,'Scenario 1'!H113,'Scenario 2'!H113)","v":0},{"$f":"IF($C$8=1,'Scenario 1'!I113,'Scenario 2'!I113)","v":0}]
[null,null,"MAXIMUM",{"$f":"IF($C$8=1,'Scenario 1'!E114,'Scenario 2'!E114)","v":42},{"$f":"IF($C$8=1,'Scenario 1'!F114,'Scenario 2'!F114)","v":40},{"$f":"IF($C$8=1,'Scenario 1'!G114,'Scenario 2'!G114)","v":38},{"$f":"IF($C$8=1,'Scenario 1'!H114,'Scenario 2'!H114)","v":42},{"$f":"IF($C$8=1,'Scenario 1'!I114,'Scenario 2'!I114)","v":40}]
[]
[null,"RDP, % of ration DM","MINIMUM",{"$f":"IF($C$8=1,'Scenario 1'!E116,'Scenario 2'!E116)","v":10.897078275688225},{"$f":"IF($C$8=1,'Scenario 1'!F116,'Scenario 2'!F116)","v":9.9449968588440516},{"$f":"IF($C$8=1,'Scenario 1'!G116,'Scenario 2'!G116)","v":9.1675497108380473},{"$f":"IF($C$8=1,'Scenario 1'!H116,'Scenario 2'!H116)","v":9.8616832107408001},{"$f":"IF($C$8=1,'Scenario 1'!I116,'Scenario 2'!I116)","v":9.1306007987892581},{"$f":"IF($C$8=1,'Scenario 1'!J116,'Scenario 2'!J116)","v":0.1},"Desired adjustment above NRC guidelines"]
[null,null,"MAXIMUM",{"$f":"IF($C$8=1,'Scenario 1'!E117,'Scenario 2'!E117)","v":13.62134784461028},{"$f":"IF($C$8=1,'Scenario 1'!F117,'Scenario 2'!F117)","v":12.431246073555064},{"$f":"IF($C$8=1,'Scenario 1'!G117,'Scenario 2'!G117)","v":11.459437138547559},{"$f":"IF($C$8=1,'Scenario 1'!H117,'Scenario 2'!H117)","v":12.327104013426},{"$f":"IF($C$8=1,'Scenario 1'!I117,'Scenario 2'!I117)","v":11.413250998486573},{"$f":"IF($C$8=1,'Scenario 1'!J117,'Scenario 2'!J117)","v":0.25},"Maximum excess allowed in ration (Max/Min)"]
[null,"RUP, % of ration DM","MINIMUM",{"$f":"IF($C$8=1,'Scenario 1'!E118,'Scenario 2'!E118)","v":5.6881075040668572},{"$f":"IF($C$8=1,'Scenario 1'!F118,'Scenario 2'!F118)","v":5.0247564785166521},{"$f":"IF($C$8=1,'Scenario 1'!G118,'Scenario 2'!G118)","v":2.5042048014535729},{"$f":"IF($C$8=1,'Scenario 1'!H118,'Scenario 2'!H118)","v":5.3141397747243362},{"$f":"IF($C$8=1,'Scenario 1'!I118,'Scenario 2'!I118)","v":2.8846451195328515},{"$f":"IF($C$8=1,'Scenario 1'!J118,'Scenario 2'!J118)","v":0.1},"Desired adjustment above NRC guidelines"]
[]
[null,"Crude Protein (CP)","MINIMUM",{"$f":"IF($C$8=1,'Scenario 1'!E120,'Scenario 2'!E120)","v":16.585185779755083},{"$f":"IF($C$8=1,'Scenario 1'!F120,'Scenario 2'!F120)","v":14.969753337360704},{"$f":"IF($C$8=1,'Scenario 1'!G120,'Scenario 2'!G120)","v":11.671754512291621},{"$f":"IF($C$8=1,'Scenario 1'!H120,'Scenario 2'!H120)","v":15.175822985465135},{"$f":"IF($C$8=1,'Scenario 1'!I120,'Scenario 2'!I120)","v":12.01524591832211}]
[null,null,"MAXIMUM",{"$f":"IF($C$8=1,'Scenario 1'!E121,'Scenario 2'!E121)","v":19.309455348677137},{"$f":"IF($C$8=1,'Scenario 1'!F121,'Scenario 2'!F121)","v":17.456002552071716},{"$f":"IF($C$8=1,'Scenario 1'!G121,'Scenario 2'!G121)","v":13.963641940001132},{"$f":"IF($C$8=1,'Scenario 1'!H121,'Scenario 2'!H121)","v":17.641243788150337},{"$f":"IF($C$8=1,'Scenario 1'!I121,'Scenario 2'!I121)","v":14.297896118019425}]
[null,null,"MAX/MIN",{"$f":"IF($C$8=1,'Scenario 1'!E122,'Scenario 2'!E122)","v":1.1642592133183982},{"$f":"IF($C$8=1,'Scenario 1'!F122,'Scenario 2'!F122)","v":1.1660848484728179},{"$f":"IF($C$8=1,'Scenario 1'!G122,'Scenario 2'!G122)","v":1.1963618601895634},{"$f":"IF($C$8=1,'Scenario 1'!H122,'Scenario 2'!H122)","v":1.1624571402187871},{"$f":"IF($C$8=1,'Scenario 1'!I122,'Scenario 2'!I122)","v":1.1899794823355625}]
[]
[null,"Available P","MINIMUM",{"$f":"IF($C$8=1,'Scenario 1'!E124,'Scenario 2'!E124)","v":0.27778178788503316},{"$f":"IF($C$8=1,'Scenario 1'!F124,'Scenario 2'!F124)","v":0.22541761208833672},{"$f":"IF($C$8=1,'Scenario 1'!G124,'Scenario 2'!G124)","v":0.15851844860778155},{"$f":"IF($C$8=1,'Scenario 1'!H124,'Scenario 2'!H124)","v":0.22835141053655411},{"$f":"IF($C$8=1,'Scenario 1'!I124,'Scenario 2'!I124)","v":0.15459622377101523},{"$f":"IF($C$8=1,'Scenario 1'!J124,'Scenario 2'!J124)","v":0.05},"Desired adjustment above NRC guidelines"]
[null,null,"MAXIMUM",{"$f":"IF($C$8=1,'Scenario 1'!E125,'Scenario 2'!E125)","v":0.41667268182754974},{"$f":"IF($C$8=1,'Scenario 1'!F125,'Scenario 2'!F125)","v":0.3381264181325051},{"$f":"IF($C$8=1,'Scenario 1'!G125,'Scenario 2'!G125)","v":0.23777767291167234},{"$f":"IF($C$8=1,'Scenario 1'!H125,'Scenario 2'!H125)","v":0.34252711580483119},{"$f":"IF($C$8=1,'Scenario 1'!I125,'Scenario 2'!I125)","v":0.23189433565652284},{"$f":"IF($C$8=1,'Scenario 1'!J125,'Scenario 2'!J125)","v":0.5},"Maximum excess allowed in ration (Max/Min)"]
[]
[null,"Available Mg required",null,{"$f":"IF($C$8=1,'Scenario 1'!E127,'Scenario 2'!E127)","v":3.4481445201454138E-2},{"$f":"IF($C$8=1,'Scenario 1'!F127,'Scenario 2'!F127)","v":2.8561416215992654E-2},{"$f":"IF($C$8=1,'Scenario 1'!G127,'Scenario 2'!G127)","v":1.9604700854700858E-2},{"$f":"IF($C$8=1,'Scenario 1'!H127,'Scenario 2'!H127)","v":1.8442214347285046E-2},{"$f":"IF($C$8=1,'Scenario 1'!I127,'Scenario 2'!I127)","v":1.5417178447649669E-2},{"$f":"IF($C$8=1,'Scenario 1'!J127,'Scenario 2'!J127)","v":0.05}]
[null,"Available desired Mg","% DM",{"$f":"IF($C$8=1,'Scenario 1'!E128,'Scenario 2'!E128)","v":3.6205517461526844E-2},{"$f":"IF($C$8=1,'Scenario 1'!F128,'Scenario 2'!F128)","v":2.9989487026792286E-2},{"$f":"IF($C$8=1,'Scenario 1'!G128,'Scenario 2'!G128)","v":2.0584935897435902E-2},{"$f":"IF($C$8=1,'Scenario 1'!H128,'Scenario 2'!H128)","v":1.9364325064649298E-2},{"$f":"IF($C$8=1,'Scenario 1'!I128,'Scenario 2'!I128)","v":1.6188037370032153E-2}]
[]
[null,"Available K required",null,{"$f":"IF($C$8=1,'Scenario 1'!E130,'Scenario 2'!E130)","v":0.97598174576888796},{"$f":"IF($C$8=1,'Scenario 1'!F130,'Scenario 2'!F130)","v":0.90878695438584056},{"$f":"IF($C$8=1,'Scenario 1'!G130,'Scenario 2'!G130)","v":0.48025462962962967},{"$f":"IF($C$8=1,'Scenario 1'!H130,'Scenario 2'!H130)","v":0.42832920990981216},{"$f":"IF($C$8=1,'Scenario 1'!I130,'Scenario 2'!I130)","v":0.42884053287805279},{"$f":"IF($C$8=1,'Scenario 1'!J130,'Scenario 2'!J130)","v":0.05}]
[null,"Available desired K","% DM",{"$f":"IF($C$8=1,'Scenario 1'!E131,'Scenario 2'!E131)","v":1.0247808330573323},{"$f":"IF($C$8=1,'Scenario 1'!F131,'Scenario 2'!F131)","v":0.9542263021051326},{"$f":"IF($C$8=1,'Scenario 1'!G131,'Scenario 2'!G131)","v":0.50426736111111115},{"$f":"IF($C$8=1,'Scenario 1'!H131,'Scenario 2'!H131)","v":0.44974567040530278},{"$f":"IF($C$8=1,'Scenario 1'!I131,'Scenario 2'!I131)","v":0.45028255952195545}]
[]
[null,"Available Ca required",null,{"$f":"IF($C$8=1,'Scenario 1'!E133,'Scenario 2'!E133)","v":0.29791210498582965},{"$f":"IF($C$8=1,'Scenario 1'!F133,'Scenario 2'!F133)","v":0.34175396089171745},{"$f":"IF($C$8=1,'Scenario 1'!G133,'Scenario 2'!G133)","v":0.15078309817638205},{"$f":"IF($C$8=1,'Scenario 1'!H133,'Scenario 2'!H133)","v":0.21438874879694234},{"$f":"IF($C$8=1,'Scenario 1'!I133,'Scenario 2'!I133)","v":0.13030979016526303},{"$f":"IF($C$8=1,'Scenario 1'!J133,'Scenario 2'!J133)","v":0.05}]
[null,"Available desired Ca","% DM",{"$f":"IF($C$8=1,'Scenario 1'!E134,'Scenario 2'!E134)","v":0.31280771023512111},{"$f":"IF($C$8=1,'Scenario 1'!F134,'Scenario 2'!F134)","v":0.35884165893630332},{"$f":"IF($C$8=1,'Scenario 1'!G134,'Scenario 2'!G134)","v":0.15832225308520115},{"$f":"IF($C$8=1,'Scenario 1'!H134,'Scenario 2'!H134)","v":0.22510818623678946},{"$f":"IF($C$8=1,'Scenario 1'!I134,'Scenario 2'!I134)","v":0.13682527967352617}]
[]
[null,"Available Na required",null,{"$f":"IF($C$8=1,'Scenario 1'!E136,'Scenario 2'!E136)","v":0.21202822751615794},{"$f":"IF($C$8=1,'Scenario 1'!F136,'Scenario 2'!F136)","v":0.19003003256422427},{"$f":"IF($C$8=1,'Scenario 1'!G136,'Scenario 2'!G136)","v":9.5708689458689461E-2},{"$f":"IF($C$8=1,'Scenario 1'!H136,'Scenario 2'!H136)","v":7.8679036114694664E-2},{"$f":"IF($C$8=1,'Scenario 1'!I136,'Scenario 2'!I136)","v":7.160365605775651E-2},{"$f":"IF($C$8=1,'Scenario 1'!J136,'Scenario 2'!J136)","v":0.05}]
[null,"Available desired Na","% DM",{"$f":"IF($C$8=1,'Scenario 1'!E137,'Scenario 2'!E137)","v":0.22262963889196583},{"$f":"IF($C$8=1,'Scenario 1'!F137,'Scenario 2'!F137)","v":0.19953153419243547},{"$f":"IF($C$8=1,'Scenario 1'!G137,'Scenario 2'!G137)","v":0.10049412393162394},{"$f":"IF($C$8=1,'Scenario 1'!H137,'Scenario 2'!H137)","v":8.2612987920429398E-2},{"$f":"IF($C$8=1,'Scenario 1'!I137,'Scenario 2'!I137)","v":7.5183838860644336E-2}]
[]
[null,"Available Cl required",null,{"$f":"IF($C$8=1,'Scenario 1'!E139,'Scenario 2'!E139)","v":0.26303479068483504},{"$f":"IF($C$8=1,'Scenario 1'!F139,'Scenario 2'!F139)","v":0.20520216493580823},{"$f":"IF($C$8=1,'Scenario 1'!G139,'Scenario 2'!G139)","v":0.13390313390313391},{"$f":"IF($C$8=1,'Scenario 1'!H139,'Scenario 2'!H139)","v":0.10050650807333185},{"$f":"IF($C$8=1,'Scenario 1'!I139,'Scenario 2'!I139)","v":0.10031082550011591},{"$f":"IF($C$8=1,'Scenario 1'!J139,'Scenario 2'!J139)","v":0.05}]
[null,"Available desired Cl","% DM",{"$f":"IF($C$8=1,'Scenario 1'!E140,'Scenario 2'!E140)","v":0.2761865302190768},{"$f":"IF($C$8=1,'Scenario 1'!F140,'Scenario 2'!F140)","v":0.21546227318259864},{"$f":"IF($C$8=1,'Scenario 1'!G140,'Scenario 2'!G140)","v":0.1405982905982906},{"$f":"IF($C$8=1,'Scenario 1'!H140,'Scenario 2'!H140)","v":0.10553183347699845},{"$f":"IF($C$8=1,'Scenario 1'!I140,'Scenario 2'!I140)","v":0.10532636677512171}]
[]
[null,"Available S required",null,{"$f":"IF($C$8=1,'Scenario 1'!E142,'Scenario 2'!E142)","v":0.2},{"$f":"IF($C$8=1,'Scenario 1'!F142,'Scenario 2'!F142)","v":0.2},{"$f":"IF($C$8=1,'Scenario 1'!G142,'Scenario 2'!G142)","v":0.2},{"$f":"IF($C$8=1,'Scenario 1'!H142,'Scenario 2'!H142)","v":0.2},{"$f":"IF($C$8=1,'Scenario 1'!I142,'Scenario 2'!I142)","v":0.2},{"$f":"IF($C$8=1,'Scenario 1'!J142,'Scenario 2'!J142)","v":0.05}]
[null,"Available desired S","% DM",{"$f":"IF($C$8=1,'Scenario 1'!E143,'Scenario 2'!E143)","v":0.21000000000000002},{"$f":"IF($C$8=1,'Scenario 1'!F143,'Scenario 2'!F143)","v":0.21000000000000002},{"$f":"IF($C$8=1,'Scenario 1'!G143,'Scenario 2'!G143)","v":0.21000000000000002},{"$f":"IF($C$8=1,'Scenario 1'!H143,'Scenario 2'!H143)","v":0.21000000000000002},{"$f":"IF($C$8=1,'Scenario 1'!I143,'Scenario 2'!I143)","v":0.21000000000000002}]
[]
[null,"DCAD","mEq/kg",{"$f":"IF($C$8=1,'Scenario 1'!E145,'Scenario 2'!E145)","v":0},{"$f":"IF($C$8=1,'Scenario 1'!F145,'Scenario 2'!F145)","v":0},{"$f":"IF($C$8=1,'Scenario 1'!G145,'Scenario 2'!G145)","v":0},{"$f":"IF($C$8=1,'Scenario 1'!H145,'Scenario 2'!H145)","v":0},{"$f":"IF($C$8=1,'Scenario 1'!I145,'Scenario 2'!I145)","v":0}]
[]
["3.3 Pasture management"]
[null,"Pasture period","d",{"$f":"IF($C$8=1,'Scenario 1'!E148,'Scenario 2'!E148)","v":0},{"$f":"IF($C$8=1,'Scenario 1'!F148,'Scenario 2'!F148)","v":0},{"$f":"IF($C$8=1,'Scenario 1'!G148,'Scenario 2'!G148)","v":0},{"$f":"IF($C$8=1,'Scenario 1'!H148,'Scenario 2'!H148)","v":0},{"$f":"IF($C$8=1,'Scenario 1'!I148,'Scenario 2'!I148)","v":0}]
[null,"Fraction of manure on pasture during pasture period","%",{"$f":"IF($C$8=1,'Scenario 1'!E149,'Scenario 2'!E149)","v":50},{"$f":"IF($C$8=1,'Scenario 1'!F149,'Scenario 2'!F149)","v":50},{"$f":"IF($C$8=1,'Scenario 1'!G149,'Scenario 2'!G149)","v":100},{"$f":"IF($C$8=1,'Scenario 1'!H149,'Scenario 2'!H149)","v":100},{"$f":"IF($C$8=1,'Scenario 1'!I149,'Scenario 2'!I149)","v":100}]
[null,"% of forages to be provided with pasture during pasture period","%",{"$f":"IF($C$8=1,'Scenario 1'!E150,'Scenario 2'!E150)","v":80},{"$f":"IF($C$8=1,'Scenario 1'!F150,'Scenario 2'!F150)","v":80},{"$f":"IF($C$8=1,'Scenario 1'!G150,'Scenario 2'!G150)","v":90},{"$f":"IF($C$8=1,'Scenario 1'!H150,'Scenario 2'!H150)","v":90},{"$f":"IF($C$8=1,'Scenario 1'!I150,'Scenario 2'!I150)","v":90}]
["4. Feed Inputs"]
[]
["4.1. Feed Composition:",null,"Feed analysis for up to 10 home-grown feeds and 15 purchased feeds"]
[null,null,"Pasture","Feeds produced / purchased",null,null,null,null,null,null,null,"Feeds purchased only"]
[null,null,1,2,3,4,5,6,7,8,9,"- - - - FORAGES - - - - ",null,null,null,null,null,"- - - - - - - - - - - - - - - - - - - - - - - - - - - - - - - - - CONCENTRATES - - - - - - - - - - - - - - - - - - - - - - - - - - - - - - ",null,null,null,null," - - - - - - - - - - - MINERALS - - - - - - - - - - - - -"]
[null,null,{"$f":"IF($C$8=1,'Scenario 1'!R156,'Scenario 2'!R156)","v":"GrPast-49"},{"$f":"IF($C$8=1,'Scenario 1'!S156,'Scenario 2'!S156)","v":"CoSi-35"},{"$f":"IF($C$8=1,'Scenario 1'!T156,'Scenario 2'!T156)","v":"AlSi-83"},{"$f":"IF($C$8=1,'Scenario 1'!U156,'Scenario 2'!U156)","v":"MxSi-74"},{"$f":"IF($C$8=1,'Scenario 1'!V156,'Scenario 2'!V156)","v":"GrHy-52"},{"$f":"IF($C$8=1,'Scenario 1'!W156,'Scenario 2'!W156)","v":"SBw-108"},{"$f":"IF($C$8=1,'Scenario 1'!X156,'Scenario 2'!X156)","v":"CoGr-27"},{"$f":"IF($C$8=1,'Scenario 1'!Y156,'Scenario 2'!Y156)","v":"Barley-8"},{"$f":"IF($C$8=1,'Scenario 1'!Z156,'Scenario 2'!Z156)","v":"Wheat-116"},{"$f":"IF($C$8=1,'Scenario 1'!AA156,'Scenario 2'!AA156)","v":"Brewers grains-16"},{"$f":"IF($C$8=1,'Scenario 1'!AB156,'Scenario 2'!AB156)","v":"Canola-19"},{"$f":"IF($C$8=1,'Scenario 1'!AC156,'Scenario 2'!AC156)","v":"FatCa-40"},{"$f":"IF($C$8=1,'Scenario 1'!AD156,'Scenario 2'!AD156)","v":"SBMx-104"},{"$f":"IF($C$8=1,'Scenario 1'!AE156,'Scenario 2'!AE156)","v":"SBM48-107"},{"$f":"IF($C$8=1,'Scenario 1'!AF156,'Scenario 2'!AF156)","v":"CGM-25"},{"$f":"IF($C$8=1,'Scenario 1'!AG156,'Scenario 2'!AG156)","v":"CoDi-23"},{"$f":"IF($C$8=1,'Scenario 1'!AH156,'Scenario 2'!AH156)","v":"Bld Meal-14"},{"$f":"IF($C$8=1,'Scenario 1'!AI156,'Scenario 2'!AI156)","v":"Urea"},{"$f":"IF($C$8=1,'Scenario 1'!AJ156,'Scenario 2'!AJ156)","v":"SoyHull-103"},{"$f":"IF($C$8=1,'Scenario 1'!AK156,'Scenario 2'!AK156)","v":"CottonSd-w-37"},{"$f":"IF($C$8=1,'Scenario 1'!AL156,'Scenario 2'!AL156)","v":"CaCO3"},{"$f":"IF($C$8=1,'Scenario 1'!AM156,'Scenario 2'!AM156)","v":"NaH2PO4.H20"},{"$f":"IF($C$8=1,'Scenario 1'!AN156,'Scenario 2'!AN156)","v":"MgO"},{"$f":"IF($C$8=1,'Scenario 1'!AO156,'Scenario 2'!AO156)","v":"CaSO4.2H20"},{"$f":"IF($C$8=1,'Scenario 1'!AP156,'Scenario 2'!AP156)","v":"NaCl"},{"$f":"IF($C$8=1,'Scenario 1'!AQ156,'Scenario 2'!AQ156)","v":"MgSO4.7H20"}]
[null,"Unit resource, t DM",{"$f":"IF($C$8=1,'Scenario 1'!R157,'Scenario 2'!R157)","v":1},{"$f":"IF($C$8=1,'Scenario 1'!S157,'Scenario 2'!S157)","v":1},{"$f":"IF($C$8=1,'Scenario 1'!T157,'Scenario 2'!T157)","v":1},{"$f":"IF($C$8=1,'Scenario 1'!U157,'Scenario 2'!U157)","v":1},{"$f":"IF($C$8=1,'Scenario 1'!V157,'Scenario 2'!V157)","v":1},{"$f":"IF($C$8=1,'Scenario 1'!W157,'Scenario 2'!W157)","v":1},{"$f":"IF($C$8=1,'Scenario 1'!X157,'Scenario 2'!X157)","v":1},{"$f":"IF($C$8=1,'Scenario 1'!Y157,'Scenario 2'!Y157)","v":0},{"$f":"IF($C$8=1,'Scenario 1'!Z157,'Scenario 2'!Z157)","v":1},{"$f":"IF($C$8=1,'Scenario 1'!AA157,'Scenario 2'!AA157)","v":1},{"$f":"IF($C$8=1,'Scenario 1'!AB157,'Scenario 2'!AB157)","v":1},{"$f":"IF($C$8=1,'Scenario 1'!AC157,'Scenario 2'!AC157)","v":1},{"$f":"IF($C$8=1,'Scenario 1'!AD157,'Scenario 2'!AD157)","v":1},{"$f":"IF($C$8=1,'Scenario 1'!AE157,'Scenario 2'!AE157)","v":1},{"$f":"IF($C$8=1,'Scenario 1'!AF157,'Scenario 2'!AF157)","v":1},{"$f":"IF($C$8=1,'Scenario 1'!AG157,'Scenario 2'!AG157)","v":1},{"$f":"IF($C$8=1,'Scenario 1'!AH157,'Scenario 2'!AH157)","v":1},{"$f":"IF($C$8=1,'Scenario 1'!AI157,'Scenario 2'!AI157)","v":1},{"$f":"IF($C$8=1,'Scenario 1'!AJ157,'Scenario 2'!AJ157)","v":1},{"$f":"IF($C$8=1,'Scenario 1'!AK157,'Scenario 2'!AK157)","v":1},{"$f":"IF($C$8=1,'Scenario 1'!AL157,'Scenario 2'!AL157)","v":1},{"$f":"IF($C$8=1,'Scenario 1'!AM157,'Scenario 2'!AM157)","v":1},{"$f":"IF($C$8=1,'Scenario 1'!AN157,'Scenario 2'!AN157)","v":1},{"$f":"IF($C$8=1,'Scenario 1'!AO157,'Scenario 2'!AO157)","v":1},{"$f":"IF($C$8=1,'Scenario 1'!AP157,'Scenario 2'!AP157)","v":1},{"$f":"IF($C$8=1,'Scenario 1'!AQ157,'Scenario 2'!AQ157)","v":1}]
[null,"Fd type (S=Silage, H=Hay, P=Pasture; C=Concentrate, AP=Animal protein, FA=Fatty acid, M=Mineral)",{"$f":"IF($C$8=1,'Scenario 1'!R158,'Scenario 2'!R158)","v":"P"},{"$f":"IF($C$8=1,'Scenario 1'!S158,'Scenario 2'!S158)","v":"S"},{"$f":"IF($C$8=1,'Scenario 1'!T158,'Scenario 2'!T158)","v":"S"},{"$f":"IF($C$8=1,'Scenario 1'!U158,'Scenario 2'!U158)","v":"S"},{"$f":"IF($C$8=1,'Scenario 1'!V158,'Scenario 2'!V158)","v":"H"},{"$f":"IF($C$8=1,'Scenario 1'!W158,'Scenario 2'!W158)","v":"C"},{"$f":"IF($C$8=1,'Scenario 1'!X158,'Scenario 2'!X158)","v":"C"},{"$f":"IF($C$8=1,'Scenario 1'!Y158,'Scenario 2'!Y158)","v":"C"},{"$f":"IF($C$8=1,'Scenario 1'!Z158,'Scenario 2'!Z158)","v":"C"},{"$f":"IF($C$8=1,'Scenario 1'!AA158,'Scenario 2'!AA158)","v":"C"},{"$f":"IF($C$8=1,'Scenario 1'!AB158,'Scenario 2'!AB158)","v":"C"},{"$f":"IF($C$8=1,'Scenario 1'!AC158,'Scenario 2'!AC158)","v":"FA"},{"$f":"IF($C$8=1,'Scenario 1'!AD158,'Scenario 2'!AD158)","v":"C"},{"$f":"IF($C$8=1,'Scenario 1'!AE158,'Scenario 2'!AE158)","v":"C"},{"$f":"IF($C$8=1,'Scenario 1'!AF158,'Scenario 2'!AF158)","v":"C"},{"$f":"IF($C$8=1,'Scenario 1'!AG158,'Scenario 2'!AG158)","v":"C"},{"$f":"IF($C$8=1,'Scenario 1'!AH158,'Scenario 2'!AH158)","v":"AP"},{"$f":"IF($C$8=1,'Scenario 1'!AI158,'Scenario 2'!AI158)","v":"M"},{"$f":"IF($C$8=1,'Scenario 1'!AJ158,'Scenario 2'!AJ158)","v":"C"},{"$f":"IF($C$8=1,'Scenario 1'!AK158,'Scenario 2'!AK158)","v":"C"},{"$f":"IF($C$8=1,'Scenario 1'!AL158,'Scenario 2'!AL158)","v":"M"},{"$f":"IF($C$8=1,'Scenario 1'!AM158,'Scenario 2'!AM158)","v":"M"},{"$f":"IF($C$8=1,'Scenario 1'!AN158,'Scenario 2'!AN158)","v":"M"},{"$f":"IF($C$8=1,'Scenario 1'!AO158,'Scenario 2'!AO158)","v":"M"},{"$f":"IF($C$8=1,'Scenario 1'!AP158,'Scenario 2'!AP158)","v":"M"},{"$f":"IF($C$8=1,'Scenario 1'!AQ158,'Scenario 2'!AQ158)","v":"M"}]
[null,"DM, (%)",{"$f":"IF($C$8=1,'Scenario 1'!R159,'Scenario 2'!R159)","v":20.100000000000001},{"$f":"IF($C$8=1,'Scenario 1'!S159,'Scenario 2'!S159)","v":35.200000000000003},{"$f":"IF($C$8=1,'Scenario 1'!T159,'Scenario 2'!T159)","v":43.5},{"$f":"IF($C$8=1,'Scenario 1'!U159,'Scenario 2'!U159)","v":45.5},{"$f":"IF($C$8=1,'Scenario 1'!V159,'Scenario 2'!V159)","v":85.8},{"$f":"IF($C$8=1,'Scenario 1'!W159,'Scenario 2'!W159)","v":90},{"$f":"IF($C$8=1,'Scenario 1'!X159,'Scenario 2'!X159)","v":88.1},{"$f":"IF($C$8=1,'Scenario 1'!Y159,'Scenario 2'!Y159)","v":91},{"$f":"IF($C$8=1,'Scenario 1'!Z159,'Scenario 2'!Z159)","v":89.4},{"$f":"IF($C$8=1,'Scenario 1'!AA159,'Scenario 2'!AA159)","v":90.7},{"$f":"IF($C$8=1,'Scenario 1'!AB159,'Scenario 2'!AB159)","v":90.3},{"$f":"IF($C$8=1,'Scenario 1'!AC159,'Scenario 2'!AC159)","v":95.3},{"$f":"IF($C$8=1,'Scenario 1'!AD159,'Scenario 2'!AD159)","v":89.6},{"$f":"IF($C$8=1,'Scenario 1'!AE159,'Scenario 2'!AE159)","v":89.5},{"$f":"IF($C$8=1,'Scenario 1'!AF159,'Scenario 2'!AF159)","v":86.4},{"$f":"IF($C$8=1,'Scenario 1'!AG159,'Scenario 2'!AG159)","v":90.2},{"$f":"IF($C$8=1,'Scenario 1'!AH159,'Scenario 2'!AH159)","v":90.2},{"$f":"IF($C$8=1,'Scenario 1'!AI159,'Scenario 2'!AI159)","v":100},{"$f":"IF($C$8=1,'Scenario 1'!AJ159,'Scenario 2'!AJ159)","v":90.9},{"$f":"IF($C$8=1,'Scenario 1'!AK159,'Scenario 2'!AK159)","v":90.1},{"$f":"IF($C$8=1,'Scenario 1'!AL159,'Scenario 2'!AL159)","v":100},{"$f":"IF($C$8=1,'Scenario 1'!AM159,'Scenario 2'!AM159)","v":97},{"$f":"IF($C$8=1,'Scenario 1'!AN159,'Scenario 2'!AN159)","v":98},{"$f":"IF($C$8=1,'Scenario 1'!AO159,'Scenario 2'!AO159)","v":97},{"$f":"IF($C$8=1,'Scenario 1'!AP159,'Scenario 2'!AP159)","v":100},{"$f":"IF($C$8=1,'Scenario 1'!AQ159,'Scenario 2'!AQ159)","v":98}]
[null,"EE, (%)",{"$f":"IF($C$8=1,'Scenario 1'!R160,'Scenario 2'!R160)","v":2.7},{"$f":"IF($C$8=1,'Scenario 1'!S160,'Scenario 2'!S160)","v":3.13},{"$f":"IF($C$8=1,'Scenario 1'!T160,'Scenario 2'!T160)","v":2.74},{"$f":"IF($C$8=1,'Scenario 1'!U160,'Scenario 2'!U160)","v":2.84},{"$f":"IF($C$8=1,'Scenario 1'!V160,'Scenario 2'!V160)","v":2.42},{"$f":"IF($C$8=1,'Scenario 1'!W160,'Scenario 2'!W160)","v":19.2},{"$f":"IF($C$8=1,'Scenario 1'!X160,'Scenario 2'!X160)","v":4.2},{"$f":"IF($C$8=1,'Scenario 1'!Y160,'Scenario 2'!Y160)","v":2.2000000000000002},{"$f":"IF($C$8=1,'Scenario 1'!Z160,'Scenario 2'!Z160)","v":2.2999999999999998},{"$f":"IF($C$8=1,'Scenario 1'!AA160,'Scenario 2'!AA160)","v":5.2},{"$f":"IF($C$8=1,'Scenario 1'!AB160,'Scenario 2'!AB160)","v":5.4},{"$f":"IF($C$8=1,'Scenario 1'!AC160,'Scenario 2'!AC160)","v":84.5},{"$f":"IF($C$8=1,'Scenario 1'!AD160,'Scenario 2'!AD160)","v":8.1},{"$f":"IF($C$8=1,'Scenario 1'!AE160,'Scenario 2'!AE160)","v":1.1000000000000001},{"$f":"IF($C$8=1,'Scenario 1'!AF160,'Scenario 2'!AF160)","v":2.5},{"$f":"IF($C$8=1,'Scenario 1'!AG160,'Scenario 2'!AG160)","v":10},{"$f":"IF($C$8=1,'Scenario 1'!AH160,'Scenario 2'!AH160)","v":1.2},{"$f":"IF($C$8=1,'Scenario 1'!AI160,'Scenario 2'!AI160)","v":0},{"$f":"IF($C$8=1,'Scenario 1'!AJ160,'Scenario 2'!AJ160)","v":2.7},{"$f":"IF($C$8=1,'Scenario 1'!AK160,'Scenario 2'!AK160)","v":19.3},{"$f":"IF($C$8=1,'Scenario 1'!AL160,'Scenario 2'!AL160)","v":0},{"$f":"IF($C$8=1,'Scenario 1'!AM160,'Scenario 2'!AM160)","v":0},{"$f":"IF($C$8=1,'Scenario 1'!AN160,'Scenario 2'!AN160)","v":0},{"$f":"IF($C$8=1,'Scenario 1'!AO160,'Scenario 2'!AO160)","v":0},{"$f":"IF($C$8=1,'Scenario 1'!AP160,'Scenario 2'!AP160)","v":0},{"$f":"IF($C$8=1,'Scenario 1'!AQ160,'Scenario 2'!AQ160)","v":0}]
[null,"FNDF, (%)",{"$f":"IF($C$8=1,'Scenario 1'!R161,'Scenario 2'!R161)","v":45.8},{"$f":"IF($C$8=1,'Scenario 1'!S161,'Scenario 2'!S161)","v":43.01},{"$f":"IF($C$8=1,'Scenario 1'!T161,'Scenario 2'!T161)","v":44.72},{"$f":"IF($C$8=1,'Scenario 1'!U161,'Scenario 2'!U161)","v":50.43},{"$f":"IF($C$8=1,'Scenario 1'!V161,'Scenario 2'!V161)","v":60.43},{"$f":"IF($C$8=1,'Scenario 1'!W161,'Scenario 2'!W161)","v":0},{"$f":"IF($C$8=1,'Scenario 1'!X161,'Scenario 2'!X161)","v":0},{"$f":"IF($C$8=1,'Scenario 1'!Y161,'Scenario 2'!Y161)","v":0},{"$f":"IF($C$8=1,'Scenario 1'!Z161,'Scenario 2'!Z161)","v":0},{"$f":"IF($C$8=1,'Scenario 1'!AA161,'Scenario 2'!AA161)","v":0},{"$f":"IF($C$8=1,'Scenario 1'!AB161,'Scenario 2'!AB161)","v":0},{"$f":"IF($C$8=1,'Scenario 1'!AC161,'Scenario 2'!AC161)","v":0},{"$f":"IF($C$8=1,'Scenario 1'!AD161,'Scenario 2'!AD161)","v":0},{"$f":"IF($C$8=1,'Scenario 1'!AE161,'Scenario 2'!AE161)","v":0},{"$f":"IF($C$8=1,'Scenario 1'!AF161,'Scenario 2'!AF161)","v":0},{"$f":"IF($C$8=1,'Scenario 1'!AG161,'Scenario 2'!AG161)","v":0},{"$f":"IF($C$8=1,'Scenario 1'!AH161,'Scenario 2'!AH161)","v":0},{"$f":"IF($C$8=1,'Scenario 1'!AI161,'Scenario 2'!AI161)","v":0},{"$f":"IF($C$8=1,'Scenario 1'!AJ161,'Scenario 2'!AJ161)","v":0},{"$f":"IF($C$8=1,'Scenario 1'!AK161,'Scenario 2'!AK161)","v":16.599},{"$f":"IF($C$8=1,'Scenario 1'!AL161,'Scenario 2'!AL161)","v":0},{"$f":"IF($C$8=1,'Scenario 1'!AM161,'Scenario 2'!AM161)","v":0},{"$f":"IF($C$8=1,'Scenario 1'!AN161,'Scenario 2'!AN161)","v":0},{"$f":"IF($C$8=1,'Scenario 1'!AO161,'Scenario 2'!AO161)","v":0},{"$f":"IF($C$8=1,'Scenario 1'!AP161,'Scenario 2'!AP161)","v":0},{"$f":"IF($C$8=1,'Scenario 1'!AQ161,'Scenario 2'!AQ161)","v":0}]
[null,"NDF, (%)",{"$f":"IF($C$8=1,'Scenario 1'!R162,'Scenario 2'!R162)","v":45.8},{"$f":"IF($C$8=1,'Scenario 1'!S162,'Scenario 2'!S162)","v":43.01},{"$f":"IF($C$8=1,'Scenario 1'!T162,'Scenario 2'!T162)","v":44.72},{"$f":"IF($C$8=1,'Scenario 1'!U162,'Scenario 2'!U162)","v":50.43},{"$f":"IF($C$8=1,'Scenario 1'!V162,'Scenario 2'!V162)","v":60.43},{"$f":"IF($C$8=1,'Scenario 1'!W162,'Scenario 2'!W162)","v":19.5},{"$f":"IF($C$8=1,'Scenario 1'!X162,'Scenario 2'!X162)","v":9.5},{"$f":"IF($C$8=1,'Scenario 1'!Y162,'Scenario 2'!Y162)","v":20.8},{"$f":"IF($C$8=1,'Scenario 1'!Z162,'Scenario 2'!Z162)","v":13.4},{"$f":"IF($C$8=1,'Scenario 1'!AA162,'Scenario 2'!AA162)","v":47.4},{"$f":"IF($C$8=1,'Scenario 1'!AB162,'Scenario 2'!AB162)","v":29.8},{"$f":"IF($C$8=1,'Scenario 1'!AC162,'Scenario 2'!AC162)","v":0},{"$f":"IF($C$8=1,'Scenario 1'!AD162,'Scenario 2'!AD162)","v":21.7},{"$f":"IF($C$8=1,'Scenario 1'!AE162,'Scenario 2'!AE162)","v":9.8000000000000007},{"$f":"IF($C$8=1,'Scenario 1'!AF162,'Scenario 2'!AF162)","v":11.1},{"$f":"IF($C$8=1,'Scenario 1'!AG162,'Scenario 2'!AG162)","v":38.799999999999997},{"$f":"IF($C$8=1,'Scenario 1'!AH162,'Scenario 2'!AH162)","v":0},{"$f":"IF($C$8=1,'Scenario 1'!AI162,'Scenario 2'!AI162)","v":0},{"$f":"IF($C$8=1,'Scenario 1'!AJ162,'Scenario 2'!AJ162)","v":60.3},{"$f":"IF($C$8=1,'Scenario 1'!AK162,'Scenario 2'!AK162)","v":50.3},{"$f":"IF($C$8=1,'Scenario 1'!AL162,'Scenario 2'!AL162)","v":0},{"$f":"IF($C$8=1,'Scenario 1'!AM162,'Scenario 2'!AM162)","v":0},{"$f":"IF($C$8=1,'Scenario 1'!AN162,'Scenario 2'!AN162)","v":0},{"$f":"IF($C$8=1,'Scenario 1'!AO162,'Scenario 2'!AO162)","v":0},{"$f":"IF($C$8=1,'Scenario 1'!AP162,'Scenario 2'!AP162)","v":0},{"$f":"IF($C$8=1,'Scenario 1'!AQ162,'Scenario 2'!AQ162)","v":0}]
[null,"NFC, (%)",{"$f":"IF($C$8=1,'Scenario 1'!R163,'Scenario 2'!R163)","v":25.499999999999996},{"$f":"IF($C$8=1,'Scenario 1'!S163,'Scenario 2'!S163)","v":42.63},{"$f":"IF($C$8=1,'Scenario 1'!T163,'Scenario 2'!T163)","v":25.580000000000002},{"$f":"IF($C$8=1,'Scenario 1'!U163,'Scenario 2'!U163)","v":24.21},{"$f":"IF($C$8=1,'Scenario 1'!V163,'Scenario 2'!V163)","v":20.419999999999998},{"$f":"IF($C$8=1,'Scenario 1'!W163,'Scenario 2'!W163)","v":18.499999999999993},{"$f":"IF($C$8=1,'Scenario 1'!X163,'Scenario 2'!X163)","v":76.099999999999994},{"$f":"IF($C$8=1,'Scenario 1'!Y163,'Scenario 2'!Y163)","v":63.499999999999993},{"$f":"IF($C$8=1,'Scenario 1'!Z163,'Scenario 2'!Z163)","v":69.8},{"$f":"IF($C$8=1,'Scenario 1'!AA163,'Scenario 2'!AA163)","v":23},{"$f":"IF($C$8=1,'Scenario 1'!AB163,'Scenario 2'!AB163)","v":25.900000000000006},{"$f":"IF($C$8=1,'Scenario 1'!AC163,'Scenario 2'!AC163)","v":0},{"$f":"IF($C$8=1,'Scenario 1'!AD163,'Scenario 2'!AD163)","v":28.000000000000007},{"$f":"IF($C$8=1,'Scenario 1'!AE163,'Scenario 2'!AE163)","v":29.600000000000009},{"$f":"IF($C$8=1,'Scenario 1'!AF163,'Scenario 2'!AF163)","v":21.7},{"$f":"IF($C$8=1,'Scenario 1'!AG163,'Scenario 2'!AG163)","v":24.900000000000009},{"$f":"IF($C$8=1,'Scenario 1'!AH163,'Scenario 2'!AH163)","v":0.79999999999999982},{"$f":"IF($C$8=1,'Scenario 1'!AI163,'Scenario 2'!AI163)","v":0},{"$f":"IF($C$8=1,'Scenario 1'!AJ163,'Scenario 2'!AJ163)","v":21.800000000000004},{"$f":"IF($C$8=1,'Scenario 1'!AK163,'Scenario 2'!AK163)","v":5.0999999999999996},{"$f":"IF($C$8=1,'Scenario 1'!AL163,'Scenario 2'!AL163)","v":0},{"$f":"IF($C$8=1,'Scenario 1'!AM163,'Scenario 2'!AM163)","v":0},{"$f":"IF($C$8=1,'Scenario 1'!AN163,'Scenario 2'!AN163)","v":0},{"$f":"IF($C$8=1,'Scenario 1'!AO163,'Scenario 2'!AO163)","v":0},{"$f":"IF($C$8=1,'Scenario 1'!AP163,'Scenario 2'!AP163)","v":0},{"$f":"IF($C$8=1,'Scenario 1'!AQ163,'Scenario 2'!AQ163)","v":0}]
[null,"ADL (lignin), (%)",{"$f":"IF($C$8=1,'Scenario 1'!R164,'Scenario 2'!R164)","v":2.1},{"$f":"IF($C$8=1,'Scenario 1'!S164,'Scenario 2'!S164)","v":2.83},{"$f":"IF($C$8=1,'Scenario 1'!T164,'Scenario 2'!T164)","v":6.86},{"$f":"IF($C$8=1,'Scenario 1'!U164,'Scenario 2'!U164)","v":5.97},{"$f":"IF($C$8=1,'Scenario 1'!V164,'Scenario 2'!V164)","v":5.26},{"$f":"IF($C$8=1,'Scenario 1'!W164,'Scenario 2'!W164)","v":1.2},{"$f":"IF($C$8=1,'Scenario 1'!X164,'Scenario 2'!X164)","v":0.9},{"$f":"IF($C$8=1,'Scenario 1'!Y164,'Scenario 2'!Y164)","v":2.1},{"$f":"IF($C$8=1,'Scenario 1'!Z164,'Scenario 2'!Z164)","v":1.7},{"$f":"IF($C$8=1,'Scenario 1'!AA164,'Scenario 2'!AA164)","v":5},{"$f":"IF($C$8=1,'Scenario 1'!AB164,'Scenario 2'!AB164)","v":9.5},{"$f":"IF($C$8=1,'Scenario 1'!AC164,'Scenario 2'!AC164)","v":0},{"$f":"IF($C$8=1,'Scenario 1'!AD164,'Scenario 2'!AD164)","v":1.5},{"$f":"IF($C$8=1,'Scenario 1'!AE164,'Scenario 2'!AE164)","v":0.5},{"$f":"IF($C$8=1,'Scenario 1'!AF164,'Scenario 2'!AF164)","v":1.5},{"$f":"IF($C$8=1,'Scenario 1'!AG164,'Scenario 2'!AG164)","v":4.3},{"$f":"IF($C$8=1,'Scenario 1'!AH164,'Scenario 2'!AH164)","v":0},{"$f":"IF($C$8=1,'Scenario 1'!AI164,'Scenario 2'!AI164)","v":0},{"$f":"IF($C$8=1,'Scenario 1'!AJ164,'Scenario 2'!AJ164)","v":2.5},{"$f":"IF($C$8=1,'Scenario 1'!AK164,'Scenario 2'!AK164)","v":7.9},{"$f":"IF($C$8=1,'Scenario 1'!AL164,'Scenario 2'!AL164)","v":0},{"$f":"IF($C$8=1,'Scenario 1'!AM164,'Scenario 2'!AM164)","v":0},{"$f":"IF($C$8=1,'Scenario 1'!AN164,'Scenario 2'!AN164)","v":0},{"$f":"IF($C$8=1,'Scenario 1'!AO164,'Scenario 2'!AO164)","v":0},{"$f":"IF($C$8=1,'Scenario 1'!AP164,'Scenario 2'!AP164)","v":0},{"$f":"IF($C$8=1,'Scenario 1'!AQ164,'Scenario 2'!AQ164)","v":0}]
[null,"NDICP, (%)",{"$f":"IF($C$8=1,'Scenario 1'!R165,'Scenario 2'!R165)","v":3.9},{"$f":"IF($C$8=1,'Scenario 1'!S165,'Scenario 2'!S165)","v":1.3},{"$f":"IF($C$8=1,'Scenario 1'!T165,'Scenario 2'!T165)","v":3.1},{"$f":"IF($C$8=1,'Scenario 1'!U165,'Scenario 2'!U165)","v":3.1},{"$f":"IF($C$8=1,'Scenario 1'!V165,'Scenario 2'!V165)","v":3.9},{"$f":"IF($C$8=1,'Scenario 1'!W165,'Scenario 2'!W165)","v":2.2999999999999998},{"$f":"IF($C$8=1,'Scenario 1'!X165,'Scenario 2'!X165)","v":0.7},{"$f":"IF($C$8=1,'Scenario 1'!Y165,'Scenario 2'!Y165)","v":1.8},{"$f":"IF($C$8=1,'Scenario 1'!Z165,'Scenario 2'!Z165)","v":1.7},{"$f":"IF($C$8=1,'Scenario 1'!AA165,'Scenario 2'!AA165)","v":9.1},{"$f":"IF($C$8=1,'Scenario 1'!AB165,'Scenario 2'!AB165)","v":6.3},{"$f":"IF($C$8=1,'Scenario 1'!AC165,'Scenario 2'!AC165)","v":0},{"$f":"IF($C$8=1,'Scenario 1'!AD165,'Scenario 2'!AD165)","v":9.6},{"$f":"IF($C$8=1,'Scenario 1'!AE165,'Scenario 2'!AE165)","v":0.7},{"$f":"IF($C$8=1,'Scenario 1'!AF165,'Scenario 2'!AF165)","v":3.6},{"$f":"IF($C$8=1,'Scenario 1'!AG165,'Scenario 2'!AG165)","v":8.6},{"$f":"IF($C$8=1,'Scenario 1'!AH165,'Scenario 2'!AH165)","v":0},{"$f":"IF($C$8=1,'Scenario 1'!AI165,'Scenario 2'!AI165)","v":0},{"$f":"IF($C$8=1,'Scenario 1'!AJ165,'Scenario 2'!AJ165)","v":3.5},{"$f":"IF($C$8=1,'Scenario 1'!AK165,'Scenario 2'!AK165)","v":2.4},{"$f":"IF($C$8=1,'Scenario 1'!AL165,'Scenario 2'!AL165)","v":0},{"$f":"IF($C$8=1,'Scenario 1'!AM165,'Scenario 2'!AM165)","v":0},{"$f":"IF($C$8=1,'Scenario 1'!AN165,'Scenario 2'!AN165)","v":0},{"$f":"IF($C$8=1,'Scenario 1'!AO165,'Scenario 2'!AO165)","v":0},{"$f":"IF($C$8=1,'Scenario 1'!AP165,'Scenario 2'!AP165)","v":0},{"$f":"IF($C$8=1,'Scenario 1'!AQ165,'Scenario 2'!AQ165)","v":0}]
[null,"ADICP, (%)",{"$f":"IF($C$8=1,'Scenario 1'!R166,'Scenario 2'!R166)","v":1.1000000000000001},{"$f":"IF($C$8=1,'Scenario 1'!S166,'Scenario 2'!S166)","v":0.8},{"$f":"IF($C$8=1,'Scenario 1'!T166,'Scenario 2'!T166)","v":1.8},{"$f":"IF($C$8=1,'Scenario 1'!U166,'Scenario 2'!U166)","v":1.6},{"$f":"IF($C$8=1,'Scenario 1'!V166,'Scenario 2'!V166)","v":1.2},{"$f":"IF($C$8=1,'Scenario 1'!W166,'Scenario 2'!W166)","v":0.6},{"$f":"IF($C$8=1,'Scenario 1'!X166,'Scenario 2'!X166)","v":0.3},{"$f":"IF($C$8=1,'Scenario 1'!Y166,'Scenario 2'!Y166)","v":0.5},{"$f":"IF($C$8=1,'Scenario 1'!Z166,'Scenario 2'!Z166)","v":0.2},{"$f":"IF($C$8=1,'Scenario 1'!AA166,'Scenario 2'!AA166)","v":3.5},{"$f":"IF($C$8=1,'Scenario 1'!AB166,'Scenario 2'!AB166)","v":2.4},{"$f":"IF($C$8=1,'Scenario 1'!AC166,'Scenario 2'!AC166)","v":0},{"$f":"IF($C$8=1,'Scenario 1'!AD166,'Scenario 2'!AD166)","v":0.4},{"$f":"IF($C$8=1,'Scenario 1'!AE166,'Scenario 2'!AE166)","v":0.4},{"$f":"IF($C$8=1,'Scenario 1'!AF166,'Scenario 2'!AF166)","v":3},{"$f":"IF($C$8=1,'Scenario 1'!AG166,'Scenario 2'!AG166)","v":5},{"$f":"IF($C$8=1,'Scenario 1'!AH166,'Scenario 2'!AH166)","v":0},{"$f":"IF($C$8=1,'Scenario 1'!AI166,'Scenario 2'!AI166)","v":0},{"$f":"IF($C$8=1,'Scenario 1'!AJ166,'Scenario 2'!AJ166)","v":1},{"$f":"IF($C$8=1,'Scenario 1'!AK166,'Scenario 2'!AK166)","v":1.9},{"$f":"IF($C$8=1,'Scenario 1'!AL166,'Scenario 2'!AL166)","v":0},{"$f":"IF($C$8=1,'Scenario 1'!AM166,'Scenario 2'!AM166)","v":0},{"$f":"IF($C$8=1,'Scenario 1'!AN166,'Scenario 2'!AN166)","v":0},{"$f":"IF($C$8=1,'Scenario 1'!AO166,'Scenario 2'!AO166)","v":0},{"$f":"IF($C$8=1,'Scenario 1'!AP166,'Scenario 2'!AP166)","v":0},{"$f":"IF($C$8=1,'Scenario 1'!AQ166,'Scenario 2'!AQ166)","v":0}]
[null,"CP, (%)",{"$f":"IF($C$8=1,'Scenario 1'!R167,'Scenario 2'!R167)","v":20.100000000000001},{"$f":"IF($C$8=1,'Scenario 1'!S167,'Scenario 2'!S167)","v":8.23},{"$f":"IF($C$8=1,'Scenario 1'!T167,'Scenario 2'!T167)","v":19.260000000000002},{"$f":"IF($C$8=1,'Scenario 1'!U167,'Scenario 2'!U167)","v":16.52},{"$f":"IF($C$8=1,'Scenario 1'!V167,'Scenario 2'!V167)","v":11.83},{"$f":"IF($C$8=1,'Scenario 1'!W167,'Scenario 2'!W167)","v":39.200000000000003},{"$f":"IF($C$8=1,'Scenario 1'!X167,'Scenario 2'!X167)","v":9.4},{"$f":"IF($C$8=1,'Scenario 1'!Y167,'Scenario 2'!Y167)","v":12.4},{"$f":"IF($C$8=1,'Scenario 1'!Z167,'Scenario 2'!Z167)","v":14.2},{"$f":"IF($C$8=1,'Scenario 1'!AA167,'Scenario 2'!AA167)","v":29.2},{"$f":"IF($C$8=1,'Scenario 1'!AB167,'Scenario 2'!AB167)","v":37.799999999999997},{"$f":"IF($C$8=1,'Scenario 1'!AC167,'Scenario 2'!AC167)","v":0},{"$f":"IF($C$8=1,'Scenario 1'!AD167,'Scenario 2'!AD167)","v":46.3},{"$f":"IF($C$8=1,'Scenario 1'!AE167,'Scenario 2'!AE167)","v":53.8},{"$f":"IF($C$8=1,'Scenario 1'!AF167,'Scenario 2'!AF167)","v":65},{"$f":"IF($C$8=1,'Scenario 1'!AG167,'Scenario 2'!AG167)","v":29.7},{"$f":"IF($C$8=1,'Scenario 1'!AH167,'Scenario 2'!AH167)","v":95.5},{"$f":"IF($C$8=1,'Scenario 1'!AI167,'Scenario 2'!AI167)","v":281},{"$f":"IF($C$8=1,'Scenario 1'!AJ167,'Scenario 2'!AJ167)","v":13.9},{"$f":"IF($C$8=1,'Scenario 1'!AK167,'Scenario 2'!AK167)","v":23.5},{"$f":"IF($C$8=1,'Scenario 1'!AL167,'Scenario 2'!AL167)","v":0},{"$f":"IF($C$8=1,'Scenario 1'!AM167,'Scenario 2'!AM167)","v":0},{"$f":"IF($C$8=1,'Scenario 1'!AN167,'Scenario 2'!AN167)","v":0},{"$f":"IF($C$8=1,'Scenario 1'!AO167,'Scenario 2'!AO167)","v":0},{"$f":"IF($C$8=1,'Scenario 1'!AP167,'Scenario 2'!AP167)","v":0},{"$f":"IF($C$8=1,'Scenario 1'!AQ167,'Scenario 2'!AQ167)","v":0}]
[null,"A fraction , %CP",{"$f":"IF($C$8=1,'Scenario 1'!R168,'Scenario 2'!R168)","v":30.7},{"$f":"IF($C$8=1,'Scenario 1'!S168,'Scenario 2'!S168)","v":51.3},{"$f":"IF($C$8=1,'Scenario 1'!T168,'Scenario 2'!T168)","v":57.3},{"$f":"IF($C$8=1,'Scenario 1'!U168,'Scenario 2'!U168)","v":42.4},{"$f":"IF($C$8=1,'Scenario 1'!V168,'Scenario 2'!V168)","v":36.700000000000003},{"$f":"IF($C$8=1,'Scenario 1'!W168,'Scenario 2'!W168)","v":27.8},{"$f":"IF($C$8=1,'Scenario 1'!X168,'Scenario 2'!X168)","v":23.9},{"$f":"IF($C$8=1,'Scenario 1'!Y168,'Scenario 2'!Y168)","v":30.2},{"$f":"IF($C$8=1,'Scenario 1'!Z168,'Scenario 2'!Z168)","v":27.1},{"$f":"IF($C$8=1,'Scenario 1'!AA168,'Scenario 2'!AA168)","v":18.3},{"$f":"IF($C$8=1,'Scenario 1'!AB168,'Scenario 2'!AB168)","v":23.2},{"$f":"IF($C$8=1,'Scenario 1'!AC168,'Scenario 2'!AC168)","v":0},{"$f":"IF($C$8=1,'Scenario 1'!AD168,'Scenario 2'!AD168)","v":8.6999999999999993},{"$f":"IF($C$8=1,'Scenario 1'!AE168,'Scenario 2'!AE168)","v":15},{"$f":"IF($C$8=1,'Scenario 1'!AF168,'Scenario 2'!AF168)","v":3.9},{"$f":"IF($C$8=1,'Scenario 1'!AG168,'Scenario 2'!AG168)","v":28.5},{"$f":"IF($C$8=1,'Scenario 1'!AH168,'Scenario 2'!AH168)","v":10.1},{"$f":"IF($C$8=1,'Scenario 1'!AI168,'Scenario 2'!AI168)","v":100},{"$f":"IF($C$8=1,'Scenario 1'!AJ168,'Scenario 2'!AJ168)","v":22.5},{"$f":"IF($C$8=1,'Scenario 1'!AK168,'Scenario 2'!AK168)","v":45.4},{"$f":"IF($C$8=1,'Scenario 1'!AL168,'Scenario 2'!AL168)","v":0},{"$f":"IF($C$8=1,'Scenario 1'!AM168,'Scenario 2'!AM168)","v":0},{"$f":"IF($C$8=1,'Scenario 1'!AN168,'Scenario 2'!AN168)","v":0},{"$f":"IF($C$8=1,'Scenario 1'!AO168,'Scenario 2'!AO168)","v":0},{"$f":"IF($C$8=1,'Scenario 1'!AP168,'Scenario 2'!AP168)","v":0},{"$f":"IF($C$8=1,'Scenario 1'!AQ168,'Scenario 2'!AQ168)","v":0}]
[null,"B fraction, % CP",{"$f":"IF($C$8=1,'Scenario 1'!R169,'Scenario 2'!R169)","v":63.5},{"$f":"IF($C$8=1,'Scenario 1'!S169,'Scenario 2'!S169)","v":30.2},{"$f":"IF($C$8=1,'Scenario 1'!T169,'Scenario 2'!T169)","v":35.299999999999997},{"$f":"IF($C$8=1,'Scenario 1'!U169,'Scenario 2'!U169)","v":48.1},{"$f":"IF($C$8=1,'Scenario 1'!V169,'Scenario 2'!V169)","v":51.7},{"$f":"IF($C$8=1,'Scenario 1'!W169,'Scenario 2'!W169)","v":70.2},{"$f":"IF($C$8=1,'Scenario 1'!X169,'Scenario 2'!X169)","v":72.5},{"$f":"IF($C$8=1,'Scenario 1'!Y169,'Scenario 2'!Y169)","v":61.2},{"$f":"IF($C$8=1,'Scenario 1'!Z169,'Scenario 2'!Z169)","v":65.099999999999994},{"$f":"IF($C$8=1,'Scenario 1'!AA169,'Scenario 2'!AA169)","v":64.599999999999994},{"$f":"IF($C$8=1,'Scenario 1'!AB169,'Scenario 2'!AB169)","v":70.400000000000006},{"$f":"IF($C$8=1,'Scenario 1'!AC169,'Scenario 2'!AC169)","v":0},{"$f":"IF($C$8=1,'Scenario 1'!AD169,'Scenario 2'!AD169)","v":91.3},{"$f":"IF($C$8=1,'Scenario 1'!AE169,'Scenario 2'!AE169)","v":84.4},{"$f":"IF($C$8=1,'Scenario 1'!AF169,'Scenario 2'!AF169)","v":90.9},{"$f":"IF($C$8=1,'Scenario 1'!AG169,'Scenario 2'!AG169)","v":63.3},{"$f":"IF($C$8=1,'Scenario 1'!AH169,'Scenario 2'!AH169)","v":60.9},{"$f":"IF($C$8=1,'Scenario 1'!AI169,'Scenario 2'!AI169)","v":0},{"$f":"IF($C$8=1,'Scenario 1'!AJ169,'Scenario 2'!AJ169)","v":72.2},{"$f":"IF($C$8=1,'Scenario 1'!AK169,'Scenario 2'!AK169)","v":46.7},{"$f":"IF($C$8=1,'Scenario 1'!AL169,'Scenario 2'!AL169)","v":0},{"$f":"IF($C$8=1,'Scenario 1'!AM169,'Scenario 2'!AM169)","v":0},{"$f":"IF($C$8=1,'Scenario 1'!AN169,'Scenario 2'!AN169)","v":0},{"$f":"IF($C$8=1,'Scenario 1'!AO169,'Scenario 2'!AO169)","v":0},{"$f":"IF($C$8=1,'Scenario 1'!AP169,'Scenario 2'!AP169)","v":0},{"$f":"IF($C$8=1,'Scenario 1'!AQ169,'Scenario 2'!AQ169)","v":0}]
[null,"C fraction, % CP",{"$f":"IF($C$8=1,'Scenario 1'!R170,'Scenario 2'!R170)","v":5.8},{"$f":"IF($C$8=1,'Scenario 1'!S170,'Scenario 2'!S170)","v":18.5},{"$f":"IF($C$8=1,'Scenario 1'!T170,'Scenario 2'!T170)","v":7.4},{"$f":"IF($C$8=1,'Scenario 1'!U170,'Scenario 2'!U170)","v":9.5},{"$f":"IF($C$8=1,'Scenario 1'!V170,'Scenario 2'!V170)","v":11.6},{"$f":"IF($C$8=1,'Scenario 1'!W170,'Scenario 2'!W170)","v":2},{"$f":"IF($C$8=1,'Scenario 1'!X170,'Scenario 2'!X170)","v":3.6},{"$f":"IF($C$8=1,'Scenario 1'!Y170,'Scenario 2'!Y170)","v":8.6},{"$f":"IF($C$8=1,'Scenario 1'!Z170,'Scenario 2'!Z170)","v":7.8},{"$f":"IF($C$8=1,'Scenario 1'!AA170,'Scenario 2'!AA170)","v":17.100000000000001},{"$f":"IF($C$8=1,'Scenario 1'!AB170,'Scenario 2'!AB170)","v":6.4},{"$f":"IF($C$8=1,'Scenario 1'!AC170,'Scenario 2'!AC170)","v":0},{"$f":"IF($C$8=1,'Scenario 1'!AD170,'Scenario 2'!AD170)","v":0},{"$f":"IF($C$8=1,'Scenario 1'!AE170,'Scenario 2'!AE170)","v":0.6},{"$f":"IF($C$8=1,'Scenario 1'!AF170,'Scenario 2'!AF170)","v":5.2},{"$f":"IF($C$8=1,'Scenario 1'!AG170,'Scenario 2'!AG170)","v":8.1999999999999993},{"$f":"IF($C$8=1,'Scenario 1'!AH170,'Scenario 2'!AH170)","v":29},{"$f":"IF($C$8=1,'Scenario 1'!AI170,'Scenario 2'!AI170)","v":0},{"$f":"IF($C$8=1,'Scenario 1'!AJ170,'Scenario 2'!AJ170)","v":5.3},{"$f":"IF($C$8=1,'Scenario 1'!AK170,'Scenario 2'!AK170)","v":7.9},{"$f":"IF($C$8=1,'Scenario 1'!AL170,'Scenario 2'!AL170)","v":0},{"$f":"IF($C$8=1,'Scenario 1'!AM170,'Scenario 2'!AM170)","v":0},{"$f":"IF($C$8=1,'Scenario 1'!AN170,'Scenario 2'!AN170)","v":0},{"$f":"IF($C$8=1,'Scenario 1'!AO170,'Scenario 2'!AO170)","v":0},{"$f":"IF($C$8=1,'Scenario 1'!AP170,'Scenario 2'!AP170)","v":0},{"$f":"IF($C$8=1,'Scenario 1'!AQ170,'Scenario 2'!AQ170)","v":0}]
[null,"Kd of fraction B, %/h",{"$f":"IF($C$8=1,'Scenario 1'!R171,'Scenario 2'!R171)","v":12.3},{"$f":"IF($C$8=1,'Scenario 1'!S171,'Scenario 2'!S171)","v":4.4000000000000004},{"$f":"IF($C$8=1,'Scenario 1'!T171,'Scenario 2'!T171)","v":12.2},{"$f":"IF($C$8=1,'Scenario 1'!U171,'Scenario 2'!U171)","v":15.5},{"$f":"IF($C$8=1,'Scenario 1'!V171,'Scenario 2'!V171)","v":8.1},{"$f":"IF($C$8=1,'Scenario 1'!W171,'Scenario 2'!W171)","v":10.9},{"$f":"IF($C$8=1,'Scenario 1'!X171,'Scenario 2'!X171)","v":4.9000000000000004},{"$f":"IF($C$8=1,'Scenario 1'!Y171,'Scenario 2'!Y171)","v":22.7},{"$f":"IF($C$8=1,'Scenario 1'!Z171,'Scenario 2'!Z171)","v":18.8},{"$f":"IF($C$8=1,'Scenario 1'!AA171,'Scenario 2'!AA171)","v":4.7},{"$f":"IF($C$8=1,'Scenario 1'!AB171,'Scenario 2'!AB171)","v":10.4},{"$f":"IF($C$8=1,'Scenario 1'!AC171,'Scenario 2'!AC171)","v":0},{"$f":"IF($C$8=1,'Scenario 1'!AD171,'Scenario 2'!AD171)","v":2.4},{"$f":"IF($C$8=1,'Scenario 1'!AE171,'Scenario 2'!AE171)","v":7.5},{"$f":"IF($C$8=1,'Scenario 1'!AF171,'Scenario 2'!AF171)","v":2.2999999999999998},{"$f":"IF($C$8=1,'Scenario 1'!AG171,'Scenario 2'!AG171)","v":3.6},{"$f":"IF($C$8=1,'Scenario 1'!AH171,'Scenario 2'!AH171)","v":1.9},{"$f":"IF($C$8=1,'Scenario 1'!AI171,'Scenario 2'!AI171)","v":0},{"$f":"IF($C$8=1,'Scenario 1'!AJ171,'Scenario 2'!AJ171)","v":6.2},{"$f":"IF($C$8=1,'Scenario 1'!AK171,'Scenario 2'!AK171)","v":15.7},{"$f":"IF($C$8=1,'Scenario 1'!AL171,'Scenario 2'!AL171)","v":0},{"$f":"IF($C$8=1,'Scenario 1'!AM171,'Scenario 2'!AM171)","v":0},{"$f":"IF($C$8=1,'Scenario 1'!AN171,'Scenario 2'!AN171)","v":0},{"$f":"IF($C$8=1,'Scenario 1'!AO171,'Scenario 2'!AO171)","v":0},{"$f":"IF($C$8=1,'Scenario 1'!AP171,'Scenario 2'!AP171)","v":0},{"$f":"IF($C$8=1,'Scenario 1'!AQ171,'Scenario 2'!AQ171)","v":0}]
[null,"Ca, (%)",{"$f":"IF($C$8=1,'Scenario 1'!R172,'Scenario 2'!R172)","v":0.56000000000000005},{"$f":"IF($C$8=1,'Scenario 1'!S172,'Scenario 2'!S172)","v":0.2},{"$f":"IF($C$8=1,'Scenario 1'!T172,'Scenario 2'!T172)","v":1.27},{"$f":"IF($C$8=1,'Scenario 1'!U172,'Scenario 2'!U172)","v":0.99},{"$f":"IF($C$8=1,'Scenario 1'!V172,'Scenario 2'!V172)","v":0.56999999999999995},{"$f":"IF($C$8=1,'Scenario 1'!W172,'Scenario 2'!W172)","v":0.32},{"$f":"IF($C$8=1,'Scenario 1'!X172,'Scenario 2'!X172)","v":0.04},{"$f":"IF($C$8=1,'Scenario 1'!Y172,'Scenario 2'!Y172)","v":0.06},{"$f":"IF($C$8=1,'Scenario 1'!Z172,'Scenario 2'!Z172)","v":0.05},{"$f":"IF($C$8=1,'Scenario 1'!AA172,'Scenario 2'!AA172)","v":0.3},{"$f":"IF($C$8=1,'Scenario 1'!AB172,'Scenario 2'!AB172)","v":0.75},{"$f":"IF($C$8=1,'Scenario 1'!AC172,'Scenario 2'!AC172)","v":12},{"$f":"IF($C$8=1,'Scenario 1'!AD172,'Scenario 2'!AD172)","v":0.36},{"$f":"IF($C$8=1,'Scenario 1'!AE172,'Scenario 2'!AE172)","v":0.35},{"$f":"IF($C$8=1,'Scenario 1'!AF172,'Scenario 2'!AF172)","v":0.06},{"$f":"IF($C$8=1,'Scenario 1'!AG172,'Scenario 2'!AG172)","v":0.22},{"$f":"IF($C$8=1,'Scenario 1'!AH172,'Scenario 2'!AH172)","v":0.3},{"$f":"IF($C$8=1,'Scenario 1'!AI172,'Scenario 2'!AI172)","v":0},{"$f":"IF($C$8=1,'Scenario 1'!AJ172,'Scenario 2'!AJ172)","v":0.63},{"$f":"IF($C$8=1,'Scenario 1'!AK172,'Scenario 2'!AK172)","v":0.17},{"$f":"IF($C$8=1,'Scenario 1'!AL172,'Scenario 2'!AL172)","v":39.39},{"$f":"IF($C$8=1,'Scenario 1'!AM172,'Scenario 2'!AM172)","v":0},{"$f":"IF($C$8=1,'Scenario 1'!AN172,'Scenario 2'!AN172)","v":0},{"$f":"IF($C$8=1,'Scenario 1'!AO172,'Scenario 2'!AO172)","v":23.28},{"$f":"IF($C$8=1,'Scenario 1'!AP172,'Scenario 2'!AP172)","v":0},{"$f":"IF($C$8=1,'Scenario 1'!AQ172,'Scenario 2'!AQ172)","v":0}]
[null,"Ca availibility (%)",{"$f":"IF($C$8=1,'Scenario 1'!R173,'Scenario 2'!R173)","v":0.3},{"$f":"IF($C$8=1,'Scenario 1'!S173,'Scenario 2'!S173)","v":0.6},{"$f":"IF($C$8=1,'Scenario 1'!T173,'Scenario 2'!T173)","v":0.3},{"$f":"IF($C$8=1,'Scenario 1'!U173,'Scenario 2'!U173)","v":0.3},{"$f":"IF($C$8=1,'Scenario 1'!V173,'Scenario 2'!V173)","v":0.3},{"$f":"IF($C$8=1,'Scenario 1'!W173,'Scenario 2'!W173)","v":0.6},{"$f":"IF($C$8=1,'Scenario 1'!X173,'Scenario 2'!X173)","v":0.6},{"$f":"IF($C$8=1,'Scenario 1'!Y173,'Scenario 2'!Y173)","v":0.6},{"$f":"IF($C$8=1,'Scenario 1'!Z173,'Scenario 2'!Z173)","v":0.6},{"$f":"IF($C$8=1,'Scenario 1'!AA173,'Scenario 2'!AA173)","v":0.6},{"$f":"IF($C$8=1,'Scenario 1'!AB173,'Scenario 2'!AB173)","v":0.6},{"$f":"IF($C$8=1,'Scenario 1'!AC173,'Scenario 2'!AC173)","v":0.8},{"$f":"IF($C$8=1,'Scenario 1'!AD173,'Scenario 2'!AD173)","v":0.6},{"$f":"IF($C$8=1,'Scenario 1'!AE173,'Scenario 2'!AE173)","v":0.6},{"$f":"IF($C$8=1,'Scenario 1'!AF173,'Scenario 2'!AF173)","v":0.6},{"$f":"IF($C$8=1,'Scenario 1'!AG173,'Scenario 2'!AG173)","v":0.6},{"$f":"IF($C$8=1,'Scenario 1'!AH173,'Scenario 2'!AH173)","v":0.6},{"$f":"IF($C$8=1,'Scenario 1'!AI173,'Scenario 2'!AI173)","v":0},{"$f":"IF($C$8=1,'Scenario 1'!AJ173,'Scenario 2'!AJ173)","v":0.6},{"$f":"IF($C$8=1,'Scenario 1'!AK173,'Scenario 2'!AK173)","v":0.6},{"$f":"IF($C$8=1,'Scenario 1'!AL173,'Scenario 2'!AL173)","v":0.75},{"$f":"IF($C$8=1,'Scenario 1'!AM173,'Scenario 2'!AM173)","v":0},{"$f":"IF($C$8=1,'Scenario 1'!AN173,'Scenario 2'!AN173)","v":0},{"$f":"IF($C$8=1,'Scenario 1'!AO173,'Scenario 2'!AO173)","v":0.7},{"$f":"IF($C$8=1,'Scenario 1'!AP173,'Scenario 2'!AP173)","v":0},{"$f":"IF($C$8=1,'Scenario 1'!AQ173,'Scenario 2'!AQ173)","v":0}]
[null,"P, (%)",{"$f":"IF($C$8=1,'Scenario 1'!R174,'Scenario 2'!R174)","v":0.44},{"$f":"IF($C$8=1,'Scenario 1'!S174,'Scenario 2'!S174)","v":0.26},{"$f":"IF($C$8=1,'Scenario 1'!T174,'Scenario 2'!T174)","v":0.35},{"$f":"IF($C$8=1,'Scenario 1'!U174,'Scenario 2'!U174)","v":0.34},{"$f":"IF($C$8=1,'Scenario 1'!V174,'Scenario 2'!V174)","v":0.25},{"$f":"IF($C$8=1,'Scenario 1'!W174,'Scenario 2'!W174)","v":0.6},{"$f":"IF($C$8=1,'Scenario 1'!X174,'Scenario 2'!X174)","v":0.3},{"$f":"IF($C$8=1,'Scenario 1'!Y174,'Scenario 2'!Y174)","v":0.39},{"$f":"IF($C$8=1,'Scenario 1'!Z174,'Scenario 2'!Z174)","v":0.43},{"$f":"IF($C$8=1,'Scenario 1'!AA174,'Scenario 2'!AA174)","v":0.67},{"$f":"IF($C$8=1,'Scenario 1'!AB174,'Scenario 2'!AB174)","v":1.1000000000000001},{"$f":"IF($C$8=1,'Scenario 1'!AC174,'Scenario 2'!AC174)","v":0},{"$f":"IF($C$8=1,'Scenario 1'!AD174,'Scenario 2'!AD174)","v":0.66},{"$f":"IF($C$8=1,'Scenario 1'!AE174,'Scenario 2'!AE174)","v":0.7},{"$f":"IF($C$8=1,'Scenario 1'!AF174,'Scenario 2'!AF174)","v":0.6},{"$f":"IF($C$8=1,'Scenario 1'!AG174,'Scenario 2'!AG174)","v":0.83},{"$f":"IF($C$8=1,'Scenario 1'!AH174,'Scenario 2'!AH174)","v":0.3},{"$f":"IF($C$8=1,'Scenario 1'!AI174,'Scenario 2'!AI174)","v":0},{"$f":"IF($C$8=1,'Scenario 1'!AJ174,'Scenario 2'!AJ174)","v":0.17},{"$f":"IF($C$8=1,'Scenario 1'!AK174,'Scenario 2'!AK174)","v":0.6},{"$f":"IF($C$8=1,'Scenario 1'!AL174,'Scenario 2'!AL174)","v":0.04},{"$f":"IF($C$8=1,'Scenario 1'!AM174,'Scenario 2'!AM174)","v":22.5},{"$f":"IF($C$8=1,'Scenario 1'!AN174,'Scenario 2'!AN174)","v":0},{"$f":"IF($C$8=1,'Scenario 1'!AO174,'Scenario 2'!AO174)","v":0},{"$f":"IF($C$8=1,'Scenario 1'!AP174,'Scenario 2'!AP174)","v":0},{"$f":"IF($C$8=1,'Scenario 1'!AQ174,'Scenario 2'!AQ174)","v":0}]
[null,"P availibility (%)",{"$f":"IF($C$8=1,'Scenario 1'!R175,'Scenario 2'!R175)","v":0.64},{"$f":"IF($C$8=1,'Scenario 1'!S175,'Scenario 2'!S175)","v":0.7},{"$f":"IF($C$8=1,'Scenario 1'!T175,'Scenario 2'!T175)","v":0.64},{"$f":"IF($C$8=1,'Scenario 1'!U175,'Scenario 2'!U175)","v":0.64},{"$f":"IF($C$8=1,'Scenario 1'!V175,'Scenario 2'!V175)","v":0.64},{"$f":"IF($C$8=1,'Scenario 1'!W175,'Scenario 2'!W175)","v":0.7},{"$f":"IF($C$8=1,'Scenario 1'!X175,'Scenario 2'!X175)","v":0.7},{"$f":"IF($C$8=1,'Scenario 1'!Y175,'Scenario 2'!Y175)","v":0.7},{"$f":"IF($C$8=1,'Scenario 1'!Z175,'Scenario 2'!Z175)","v":0.7},{"$f":"IF($C$8=1,'Scenario 1'!AA175,'Scenario 2'!AA175)","v":0.7},{"$f":"IF($C$8=1,'Scenario 1'!AB175,'Scenario 2'!AB175)","v":0.7},{"$f":"IF($C$8=1,'Scenario 1'!AC175,'Scenario 2'!AC175)","v":0},{"$f":"IF($C$8=1,'Scenario 1'!AD175,'Scenario 2'!AD175)","v":0.7},{"$f":"IF($C$8=1,'Scenario 1'!AE175,'Scenario 2'!AE175)","v":0.7},{"$f":"IF($C$8=1,'Scenario 1'!AF175,'Scenario 2'!AF175)","v":0.7},{"$f":"IF($C$8=1,'Scenario 1'!AG175,'Scenario 2'!AG175)","v":0.7},{"$f":"IF($C$8=1,'Scenario 1'!AH175,'Scenario 2'!AH175)","v":0.7},{"$f":"IF($C$8=1,'Scenario 1'!AI175,'Scenario 2'!AI175)","v":0},{"$f":"IF($C$8=1,'Scenario 1'!AJ175,'Scenario 2'!AJ175)","v":0.7},{"$f":"IF($C$8=1,'Scenario 1'!AK175,'Scenario 2'!AK175)","v":0.7},{"$f":"IF($C$8=1,'Scenario 1'!AL175,'Scenario 2'!AL175)","v":0.7},{"$f":"IF($C$8=1,'Scenario 1'!AM175,'Scenario 2'!AM175)","v":0.9},{"$f":"IF($C$8=1,'Scenario 1'!AN175,'Scenario 2'!AN175)","v":0},{"$f":"IF($C$8=1,'Scenario 1'!AO175,'Scenario 2'!AO175)","v":0},{"$f":"IF($C$8=1,'Scenario 1'!AP175,'Scenario 2'!AP175)","v":0},{"$f":"IF($C$8=1,'Scenario 1'!AQ175,'Scenario 2'!AQ175)","v":0}]
[null,"K, (%)",{"$f":"IF($C$8=1,'Scenario 1'!R176,'Scenario 2'!R176)","v":3.36},{"$f":"IF($C$8=1,'Scenario 1'!S176,'Scenario 2'!S176)","v":0.99},{"$f":"IF($C$8=1,'Scenario 1'!T176,'Scenario 2'!T176)","v":2.57},{"$f":"IF($C$8=1,'Scenario 1'!U176,'Scenario 2'!U176)","v":2.42},{"$f":"IF($C$8=1,'Scenario 1'!V176,'Scenario 2'!V176)","v":1.85},{"$f":"IF($C$8=1,'Scenario 1'!W176,'Scenario 2'!W176)","v":1.99},{"$f":"IF($C$8=1,'Scenario 1'!X176,'Scenario 2'!X176)","v":0.42},{"$f":"IF($C$8=1,'Scenario 1'!Y176,'Scenario 2'!Y176)","v":0.56000000000000005},{"$f":"IF($C$8=1,'Scenario 1'!Z176,'Scenario 2'!Z176)","v":0.5},{"$f":"IF($C$8=1,'Scenario 1'!AA176,'Scenario 2'!AA176)","v":0.5},{"$f":"IF($C$8=1,'Scenario 1'!AB176,'Scenario 2'!AB176)","v":1.41},{"$f":"IF($C$8=1,'Scenario 1'!AC176,'Scenario 2'!AC176)","v":0},{"$f":"IF($C$8=1,'Scenario 1'!AD176,'Scenario 2'!AD176)","v":2.12},{"$f":"IF($C$8=1,'Scenario 1'!AE176,'Scenario 2'!AE176)","v":2.41},{"$f":"IF($C$8=1,'Scenario 1'!AF176,'Scenario 2'!AF176)","v":0.46},{"$f":"IF($C$8=1,'Scenario 1'!AG176,'Scenario 2'!AG176)","v":1.1000000000000001},{"$f":"IF($C$8=1,'Scenario 1'!AH176,'Scenario 2'!AH176)","v":0.33},{"$f":"IF($C$8=1,'Scenario 1'!AI176,'Scenario 2'!AI176)","v":0},{"$f":"IF($C$8=1,'Scenario 1'!AJ176,'Scenario 2'!AJ176)","v":1.51},{"$f":"IF($C$8=1,'Scenario 1'!AK176,'Scenario 2'!AK176)","v":1.1299999999999999},{"$f":"IF($C$8=1,'Scenario 1'!AL176,'Scenario 2'!AL176)","v":0.06},{"$f":"IF($C$8=1,'Scenario 1'!AM176,'Scenario 2'!AM176)","v":0},{"$f":"IF($C$8=1,'Scenario 1'!AN176,'Scenario 2'!AN176)","v":0},{"$f":"IF($C$8=1,'Scenario 1'!AO176,'Scenario 2'!AO176)","v":0},{"$f":"IF($C$8=1,'Scenario 1'!AP176,'Scenario 2'!AP176)","v":0},{"$f":"IF($C$8=1,'Scenario 1'!AQ176,'Scenario 2'!AQ176)","v":0}]
[null,"K availibility (%)",{"$f":"IF($C$8=1,'Scenario 1'!R177,'Scenario 2'!R177)","v":0.9},{"$f":"IF($C$8=1,'Scenario 1'!S177,'Scenario 2'!S177)","v":0.9},{"$f":"IF($C$8=1,'Scenario 1'!T177,'Scenario 2'!T177)","v":0.9},{"$f":"IF($C$8=1,'Scenario 1'!U177,'Scenario 2'!U177)","v":0.9},{"$f":"IF($C$8=1,'Scenario 1'!V177,'Scenario 2'!V177)","v":0.9},{"$f":"IF($C$8=1,'Scenario 1'!W177,'Scenario 2'!W177)","v":0.9},{"$f":"IF($C$8=1,'Scenario 1'!X177,'Scenario 2'!X177)","v":0.9},{"$f":"IF($C$8=1,'Scenario 1'!Y177,'Scenario 2'!Y177)","v":0.9},{"$f":"IF($C$8=1,'Scenario 1'!Z177,'Scenario 2'!Z177)","v":0.9},{"$f":"IF($C$8=1,'Scenario 1'!AA177,'Scenario 2'!AA177)","v":0.9},{"$f":"IF($C$8=1,'Scenario 1'!AB177,'Scenario 2'!AB177)","v":0.9},{"$f":"IF($C$8=1,'Scenario 1'!AC177,'Scenario 2'!AC177)","v":0},{"$f":"IF($C$8=1,'Scenario 1'!AD177,'Scenario 2'!AD177)","v":0.9},{"$f":"IF($C$8=1,'Scenario 1'!AE177,'Scenario 2'!AE177)","v":0.9},{"$f":"IF($C$8=1,'Scenario 1'!AF177,'Scenario 2'!AF177)","v":0.9},{"$f":"IF($C$8=1,'Scenario 1'!AG177,'Scenario 2'!AG177)","v":0.9},{"$f":"IF($C$8=1,'Scenario 1'!AH177,'Scenario 2'!AH177)","v":0.9},{"$f":"IF($C$8=1,'Scenario 1'!AI177,'Scenario 2'!AI177)","v":0},{"$f":"IF($C$8=1,'Scenario 1'!AJ177,'Scenario 2'!AJ177)","v":0.9},{"$f":"IF($C$8=1,'Scenario 1'!AK177,'Scenario 2'!AK177)","v":0.9},{"$f":"IF($C$8=1,'Scenario 1'!AL177,'Scenario 2'!AL177)","v":0.9},{"$f":"IF($C$8=1,'Scenario 1'!AM177,'Scenario 2'!AM177)","v":0},{"$f":"IF($C$8=1,'Scenario 1'!AN177,'Scenario 2'!AN177)","v":0},{"$f":"IF($C$8=1,'Scenario 1'!AO177,'Scenario 2'!AO177)","v":0},{"$f":"IF($C$8=1,'Scenario 1'!AP177,'Scenario 2'!AP177)","v":0.9},{"$f":"IF($C$8=1,'Scenario 1'!AQ177,'Scenario 2'!AQ177)","v":0}]
[null,"Mg, (%)",{"$f":"IF($C$8=1,'Scenario 1'!R178,'Scenario 2'!R178)","v":0.2},{"$f":"IF($C$8=1,'Scenario 1'!S178,'Scenario 2'!S178)","v":0.15},{"$f":"IF($C$8=1,'Scenario 1'!T178,'Scenario 2'!T178)","v":0.26},{"$f":"IF($C$8=1,'Scenario 1'!U178,'Scenario 2'!U178)","v":0.24},{"$f":"IF($C$8=1,'Scenario 1'!V178,'Scenario 2'!V178)","v":0.17},{"$f":"IF($C$8=1,'Scenario 1'!W178,'Scenario 2'!W178)","v":0.25},{"$f":"IF($C$8=1,'Scenario 1'!X178,'Scenario 2'!X178)","v":0.12},{"$f":"IF($C$8=1,'Scenario 1'!Y178,'Scenario 2'!Y178)","v":0.14000000000000001},{"$f":"IF($C$8=1,'Scenario 1'!Z178,'Scenario 2'!Z178)","v":0.15},{"$f":"IF($C$8=1,'Scenario 1'!AA178,'Scenario 2'!AA178)","v":0.26},{"$f":"IF($C$8=1,'Scenario 1'!AB178,'Scenario 2'!AB178)","v":0.53},{"$f":"IF($C$8=1,'Scenario 1'!AC178,'Scenario 2'!AC178)","v":0},{"$f":"IF($C$8=1,'Scenario 1'!AD178,'Scenario 2'!AD178)","v":0.3},{"$f":"IF($C$8=1,'Scenario 1'!AE178,'Scenario 2'!AE178)","v":0.28999999999999998},{"$f":"IF($C$8=1,'Scenario 1'!AF178,'Scenario 2'!AF178)","v":0.14000000000000001},{"$f":"IF($C$8=1,'Scenario 1'!AG178,'Scenario 2'!AG178)","v":0.33},{"$f":"IF($C$8=1,'Scenario 1'!AH178,'Scenario 2'!AH178)","v":0.03},{"$f":"IF($C$8=1,'Scenario 1'!AI178,'Scenario 2'!AI178)","v":0},{"$f":"IF($C$8=1,'Scenario 1'!AJ178,'Scenario 2'!AJ178)","v":0.25},{"$f":"IF($C$8=1,'Scenario 1'!AK178,'Scenario 2'!AK178)","v":0.37},{"$f":"IF($C$8=1,'Scenario 1'!AL178,'Scenario 2'!AL178)","v":0.05},{"$f":"IF($C$8=1,'Scenario 1'!AM178,'Scenario 2'!AM178)","v":0},{"$f":"IF($C$8=1,'Scenario 1'!AN178,'Scenario 2'!AN178)","v":56.2},{"$f":"IF($C$8=1,'Scenario 1'!AO178,'Scenario 2'!AO178)","v":0},{"$f":"IF($C$8=1,'Scenario 1'!AP178,'Scenario 2'!AP178)","v":0},{"$f":"IF($C$8=1,'Scenario 1'!AQ178,'Scenario 2'!AQ178)","v":9.8000000000000007}]
[null,"Mg availibility (%)",{"$f":"IF($C$8=1,'Scenario 1'!R179,'Scenario 2'!R179)","v":0.16},{"$f":"IF($C$8=1,'Scenario 1'!S179,'Scenario 2'!S179)","v":0.16},{"$f":"IF($C$8=1,'Scenario 1'!T179,'Scenario 2'!T179)","v":0.16},{"$f":"IF($C$8=1,'Scenario 1'!U179,'Scenario 2'!U179)","v":0.16},{"$f":"IF($C$8=1,'Scenario 1'!V179,'Scenario 2'!V179)","v":0.16},{"$f":"IF($C$8=1,'Scenario 1'!W179,'Scenario 2'!W179)","v":0.16},{"$f":"IF($C$8=1,'Scenario 1'!X179,'Scenario 2'!X179)","v":0.16},{"$f":"IF($C$8=1,'Scenario 1'!Y179,'Scenario 2'!Y179)","v":0.16},{"$f":"IF($C$8=1,'Scenario 1'!Z179,'Scenario 2'!Z179)","v":0.16},{"$f":"IF($C$8=1,'Scenario 1'!AA179,'Scenario 2'!AA179)","v":0.16},{"$f":"IF($C$8=1,'Scenario 1'!AB179,'Scenario 2'!AB179)","v":0.16},{"$f":"IF($C$8=1,'Scenario 1'!AC179,'Scenario 2'!AC179)","v":0},{"$f":"IF($C$8=1,'Scenario 1'!AD179,'Scenario 2'!AD179)","v":0.16},{"$f":"IF($C$8=1,'Scenario 1'!AE179,'Scenario 2'!AE179)","v":0.16},{"$f":"IF($C$8=1,'Scenario 1'!AF179,'Scenario 2'!AF179)","v":0.16},{"$f":"IF($C$8=1,'Scenario 1'!AG179,'Scenario 2'!AG179)","v":0.16},{"$f":"IF($C$8=1,'Scenario 1'!AH179,'Scenario 2'!AH179)","v":0.16},{"$f":"IF($C$8=1,'Scenario 1'!AI179,'Scenario 2'!AI179)","v":0},{"$f":"IF($C$8=1,'Scenario 1'!AJ179,'Scenario 2'!AJ179)","v":0.16},{"$f":"IF($C$8=1,'Scenario 1'!AK179,'Scenario 2'!AK179)","v":0.16},{"$f":"IF($C$8=1,'Scenario 1'!AL179,'Scenario 2'!AL179)","v":0.16},{"$f":"IF($C$8=1,'Scenario 1'!AM179,'Scenario 2'!AM179)","v":0},{"$f":"IF($C$8=1,'Scenario 1'!AN179,'Scenario 2'!AN179)","v":0.7},{"$f":"IF($C$8=1,'Scenario 1'!AO179,'Scenario 2'!AO179)","v":0},{"$f":"IF($C$8=1,'Scenario 1'!AP179,'Scenario 2'!AP179)","v":0},{"$f":"IF($C$8=1,'Scenario 1'!AQ179,'Scenario 2'!AQ179)","v":0.9}]
[null,"Na, (%)",{"$f":"IF($C$8=1,'Scenario 1'!R180,'Scenario 2'!R180)","v":0.02},{"$f":"IF($C$8=1,'Scenario 1'!S180,'Scenario 2'!S180)","v":0.01},{"$f":"IF($C$8=1,'Scenario 1'!T180,'Scenario 2'!T180)","v":0.02},{"$f":"IF($C$8=1,'Scenario 1'!U180,'Scenario 2'!U180)","v":0.08},{"$f":"IF($C$8=1,'Scenario 1'!V180,'Scenario 2'!V180)","v":0.08},{"$f":"IF($C$8=1,'Scenario 1'!W180,'Scenario 2'!W180)","v":0.01},{"$f":"IF($C$8=1,'Scenario 1'!X180,'Scenario 2'!X180)","v":0.02},{"$f":"IF($C$8=1,'Scenario 1'!Y180,'Scenario 2'!Y180)","v":0.02},{"$f":"IF($C$8=1,'Scenario 1'!Z180,'Scenario 2'!Z180)","v":0.01},{"$f":"IF($C$8=1,'Scenario 1'!AA180,'Scenario 2'!AA180)","v":0.04},{"$f":"IF($C$8=1,'Scenario 1'!AB180,'Scenario 2'!AB180)","v":7.0000000000000007E-2},{"$f":"IF($C$8=1,'Scenario 1'!AC180,'Scenario 2'!AC180)","v":0},{"$f":"IF($C$8=1,'Scenario 1'!AD180,'Scenario 2'!AD180)","v":0.04},{"$f":"IF($C$8=1,'Scenario 1'!AE180,'Scenario 2'!AE180)","v":0.03},{"$f":"IF($C$8=1,'Scenario 1'!AF180,'Scenario 2'!AF180)","v":0.05},{"$f":"IF($C$8=1,'Scenario 1'!AG180,'Scenario 2'!AG180)","v":0.3},{"$f":"IF($C$8=1,'Scenario 1'!AH180,'Scenario 2'!AH180)","v":0.4},{"$f":"IF($C$8=1,'Scenario 1'!AI180,'Scenario 2'!AI180)","v":0},{"$f":"IF($C$8=1,'Scenario 1'!AJ180,'Scenario 2'!AJ180)","v":0.01},{"$f":"IF($C$8=1,'Scenario 1'!AK180,'Scenario 2'!AK180)","v":0.02},{"$f":"IF($C$8=1,'Scenario 1'!AL180,'Scenario 2'!AL180)","v":0.06},{"$f":"IF($C$8=1,'Scenario 1'!AM180,'Scenario 2'!AM180)","v":16.68},{"$f":"IF($C$8=1,'Scenario 1'!AN180,'Scenario 2'!AN180)","v":0},{"$f":"IF($C$8=1,'Scenario 1'!AO180,'Scenario 2'!AO180)","v":0},{"$f":"IF($C$8=1,'Scenario 1'!AP180,'Scenario 2'!AP180)","v":39.340000000000003},{"$f":"IF($C$8=1,'Scenario 1'!AQ180,'Scenario 2'!AQ180)","v":0}]
[null,"Na availibility (%)",{"$f":"IF($C$8=1,'Scenario 1'!R181,'Scenario 2'!R181)","v":0.9},{"$f":"IF($C$8=1,'Scenario 1'!S181,'Scenario 2'!S181)","v":0.9},{"$f":"IF($C$8=1,'Scenario 1'!T181,'Scenario 2'!T181)","v":0.9},{"$f":"IF($C$8=1,'Scenario 1'!U181,'Scenario 2'!U181)","v":0.9},{"$f":"IF($C$8=1,'Scenario 1'!V181,'Scenario 2'!V181)","v":0.9},{"$f":"IF($C$8=1,'Scenario 1'!W181,'Scenario 2'!W181)","v":0.9},{"$f":"IF($C$8=1,'Scenario 1'!X181,'Scenario 2'!X181)","v":0.9},{"$f":"IF($C$8=1,'Scenario 1'!Y181,'Scenario 2'!Y181)","v":0.9},{"$f":"IF($C$8=1,'Scenario 1'!Z181,'Scenario 2'!Z181)","v":0.9},{"$f":"IF($C$8=1,'Scenario 1'!AA181,'Scenario 2'!AA181)","v":0.9},{"$f":"IF($C$8=1,'Scenario 1'!AB181,'Scenario 2'!AB181)","v":0.9},{"$f":"IF($C$8=1,'Scenario 1'!AC181,'Scenario 2'!AC181)","v":0},{"$f":"IF($C$8=1,'Scenario 1'!AD181,'Scenario 2'!AD181)","v":0.9},{"$f":"IF($C$8=1,'Scenario 1'!AE181,'Scenario 2'!AE181)","v":0.9},{"$f":"IF($C$8=1,'Scenario 1'!AF181,'Scenario 2'!AF181)","v":0.9},{"$f":"IF($C$8=1,'Scenario 1'!AG181,'Scenario 2'!AG181)","v":0.9},{"$f":"IF($C$8=1,'Scenario 1'!AH181,'Scenario 2'!AH181)","v":0.9},{"$f":"IF($C$8=1,'Scenario 1'!AI181,'Scenario 2'!AI181)","v":0},{"$f":"IF($C$8=1,'Scenario 1'!AJ181,'Scenario 2'!AJ181)","v":0.9},{"$f":"IF($C$8=1,'Scenario 1'!AK181,'Scenario 2'!AK181)","v":0.9},{"$f":"IF($C$8=1,'Scenario 1'!AL181,'Scenario 2'!AL181)","v":0.9},{"$f":"IF($C$8=1,'Scenario 1'!AM181,'Scenario 2'!AM181)","v":0.9},{"$f":"IF($C$8=1,'Scenario 1'!AN181,'Scenario 2'!AN181)","v":0},{"$f":"IF($C$8=1,'Scenario 1'!AO181,'Scenario 2'!AO181)","v":0},{"$f":"IF($C$8=1,'Scenario 1'!AP181,'Scenario 2'!AP181)","v":0.9},{"$f":"IF($C$8=1,'Scenario 1'!AQ181,'Scenario 2'!AQ181)","v":0}]
[null,"Cl, (%)",{"$f":"IF($C$8=1,'Scenario 1'!R182,'Scenario 2'!R182)","v":0.56000000000000005},{"$f":"IF($C$8=1,'Scenario 1'!S182,'Scenario 2'!S182)","v":0.28999999999999998},{"$f":"IF($C$8=1,'Scenario 1'!T182,'Scenario 2'!T182)","v":0.61},{"$f":"IF($C$8=1,'Scenario 1'!U182,'Scenario 2'!U182)","v":0.43},{"$f":"IF($C$8=1,'Scenario 1'!V182,'Scenario 2'!V182)","v":0.92},{"$f":"IF($C$8=1,'Scenario 1'!W182,'Scenario 2'!W182)","v":0.04},{"$f":"IF($C$8=1,'Scenario 1'!X182,'Scenario 2'!X182)","v":0.08},{"$f":"IF($C$8=1,'Scenario 1'!Y182,'Scenario 2'!Y182)","v":0.13},{"$f":"IF($C$8=1,'Scenario 1'!Z182,'Scenario 2'!Z182)","v":0.11},{"$f":"IF($C$8=1,'Scenario 1'!AA182,'Scenario 2'!AA182)","v":7.0000000000000007E-2},{"$f":"IF($C$8=1,'Scenario 1'!AB182,'Scenario 2'!AB182)","v":0.04},{"$f":"IF($C$8=1,'Scenario 1'!AC182,'Scenario 2'!AC182)","v":0},{"$f":"IF($C$8=1,'Scenario 1'!AD182,'Scenario 2'!AD182)","v":0.1},{"$f":"IF($C$8=1,'Scenario 1'!AE182,'Scenario 2'!AE182)","v":0.13},{"$f":"IF($C$8=1,'Scenario 1'!AF182,'Scenario 2'!AF182)","v":0.11},{"$f":"IF($C$8=1,'Scenario 1'!AG182,'Scenario 2'!AG182)","v":0.26},{"$f":"IF($C$8=1,'Scenario 1'!AH182,'Scenario 2'!AH182)","v":0.33},{"$f":"IF($C$8=1,'Scenario 1'!AI182,'Scenario 2'!AI182)","v":0},{"$f":"IF($C$8=1,'Scenario 1'!AJ182,'Scenario 2'!AJ182)","v":0.05},{"$f":"IF($C$8=1,'Scenario 1'!AK182,'Scenario 2'!AK182)","v":0.06},{"$f":"IF($C$8=1,'Scenario 1'!AL182,'Scenario 2'!AL182)","v":0},{"$f":"IF($C$8=1,'Scenario 1'!AM182,'Scenario 2'!AM182)","v":0},{"$f":"IF($C$8=1,'Scenario 1'!AN182,'Scenario 2'!AN182)","v":0},{"$f":"IF($C$8=1,'Scenario 1'!AO182,'Scenario 2'!AO182)","v":0},{"$f":"IF($C$8=1,'Scenario 1'!AP182,'Scenario 2'!AP182)","v":60.662999999999997},{"$f":"IF($C$8=1,'Scenario 1'!AQ182,'Scenario 2'!AQ182)","v":0}]
[null,"Cl availibility (%)",{"$f":"IF($C$8=1,'Scenario 1'!R183,'Scenario 2'!R183)","v":0.9},{"$f":"IF($C$8=1,'Scenario 1'!S183,'Scenario 2'!S183)","v":0.9},{"$f":"IF($C$8=1,'Scenario 1'!T183,'Scenario 2'!T183)","v":0.9},{"$f":"IF($C$8=1,'Scenario 1'!U183,'Scenario 2'!U183)","v":0.9},{"$f":"IF($C$8=1,'Scenario 1'!V183,'Scenario 2'!V183)","v":0.9},{"$f":"IF($C$8=1,'Scenario 1'!W183,'Scenario 2'!W183)","v":0.9},{"$f":"IF($C$8=1,'Scenario 1'!X183,'Scenario 2'!X183)","v":0.9},{"$f":"IF($C$8=1,'Scenario 1'!Y183,'Scenario 2'!Y183)","v":0.9},{"$f":"IF($C$8=1,'Scenario 1'!Z183,'Scenario 2'!Z183)","v":0.9},{"$f":"IF($C$8=1,'Scenario 1'!AA183,'Scenario 2'!AA183)","v":0.9},{"$f":"IF($C$8=1,'Scenario 1'!AB183,'Scenario 2'!AB183)","v":0.9},{"$f":"IF($C$8=1,'Scenario 1'!AC183,'Scenario 2'!AC183)","v":0},{"$f":"IF($C$8=1,'Scenario 1'!AD183,'Scenario 2'!AD183)","v":0.9},{"$f":"IF($C$8=1,'Scenario 1'!AE183,'Scenario 2'!AE183)","v":0.9},{"$f":"IF($C$8=1,'Scenario 1'!AF183,'Scenario 2'!AF183)","v":0.9},{"$f":"IF($C$8=1,'Scenario 1'!AG183,'Scenario 2'!AG183)","v":0.9},{"$f":"IF($C$8=1,'Scenario 1'!AH183,'Scenario 2'!AH183)","v":0.9},{"$f":"IF($C$8=1,'Scenario 1'!AI183,'Scenario 2'!AI183)","v":0},{"$f":"IF($C$8=1,'Scenario 1'!AJ183,'Scenario 2'!AJ183)","v":0.9},{"$f":"IF($C$8=1,'Scenario 1'!AK183,'Scenario 2'!AK183)","v":0.9},{"$f":"IF($C$8=1,'Scenario 1'!AL183,'Scenario 2'!AL183)","v":0.9},{"$f":"IF($C$8=1,'Scenario 1'!AM183,'Scenario 2'!AM183)","v":0},{"$f":"IF($C$8=1,'Scenario 1'!AN183,'Scenario 2'!AN183)","v":0},{"$f":"IF($C$8=1,'Scenario 1'!AO183,'Scenario 2'!AO183)","v":0},{"$f":"IF($C$8=1,'Scenario 1'!AP183,'Scenario 2'!AP183)","v":0.9},{"$f":"IF($C$8=1,'Scenario 1'!AQ183,'Scenario 2'!AQ183)","v":0}]
[null,"S, (%)",{"$f":"IF($C$8=1,'Scenario 1'!R184,'Scenario 2'!R184)","v":0.2},{"$f":"IF($C$8=1,'Scenario 1'!S184,'Scenario 2'!S184)","v":0.14000000000000001},{"$f":"IF($C$8=1,'Scenario 1'!T184,'Scenario 2'!T184)","v":0.28000000000000003},{"$f":"IF($C$8=1,'Scenario 1'!U184,'Scenario 2'!U184)","v":0.26},{"$f":"IF($C$8=1,'Scenario 1'!V184,'Scenario 2'!V184)","v":0.24},{"$f":"IF($C$8=1,'Scenario 1'!W184,'Scenario 2'!W184)","v":0.31},{"$f":"IF($C$8=1,'Scenario 1'!X184,'Scenario 2'!X184)","v":0.1},{"$f":"IF($C$8=1,'Scenario 1'!Y184,'Scenario 2'!Y184)","v":0.12},{"$f":"IF($C$8=1,'Scenario 1'!Z184,'Scenario 2'!Z184)","v":0.15},{"$f":"IF($C$8=1,'Scenario 1'!AA184,'Scenario 2'!AA184)","v":0.38},{"$f":"IF($C$8=1,'Scenario 1'!AB184,'Scenario 2'!AB184)","v":0.73},{"$f":"IF($C$8=1,'Scenario 1'!AC184,'Scenario 2'!AC184)","v":0},{"$f":"IF($C$8=1,'Scenario 1'!AD184,'Scenario 2'!AD184)","v":0.34},{"$f":"IF($C$8=1,'Scenario 1'!AE184,'Scenario 2'!AE184)","v":0.39},{"$f":"IF($C$8=1,'Scenario 1'!AF184,'Scenario 2'!AF184)","v":0.86},{"$f":"IF($C$8=1,'Scenario 1'!AG184,'Scenario 2'!AG184)","v":0.44},{"$f":"IF($C$8=1,'Scenario 1'!AH184,'Scenario 2'!AH184)","v":0.77},{"$f":"IF($C$8=1,'Scenario 1'!AI184,'Scenario 2'!AI184)","v":0},{"$f":"IF($C$8=1,'Scenario 1'!AJ184,'Scenario 2'!AJ184)","v":0.12},{"$f":"IF($C$8=1,'Scenario 1'!AK184,'Scenario 2'!AK184)","v":0.23},{"$f":"IF($C$8=1,'Scenario 1'!AL184,'Scenario 2'!AL184)","v":0},{"$f":"IF($C$8=1,'Scenario 1'!AM184,'Scenario 2'!AM184)","v":0},{"$f":"IF($C$8=1,'Scenario 1'!AN184,'Scenario 2'!AN184)","v":0},{"$f":"IF($C$8=1,'Scenario 1'!AO184,'Scenario 2'!AO184)","v":18.62},{"$f":"IF($C$8=1,'Scenario 1'!AP184,'Scenario 2'!AP184)","v":0},{"$f":"IF($C$8=1,'Scenario 1'!AQ184,'Scenario 2'!AQ184)","v":13.31}]
[null,"DCAD (meq/kg)",{"$f":"IF($C$8=1,'Scenario 1'!R185,'Scenario 2'!R185)","v":585.62206726398017},{"$f":"IF($C$8=1,'Scenario 1'!S185,'Scenario 2'!S185)","v":88.613288229254522},{"$f":"IF($C$8=1,'Scenario 1'!T185,'Scenario 2'!T185)","v":319.6663707531103},{"$f":"IF($C$8=1,'Scenario 1'!U185,'Scenario 2'!U185)","v":370.62093011142207},{"$f":"IF($C$8=1,'Scenario 1'!V185,'Scenario 2'!V185)","v":99.072811842135138},{"$f":"IF($C$8=1,'Scenario 1'!W185,'Scenario 2'!W185)","v":309.0746726383469},{"$f":"IF($C$8=1,'Scenario 1'!X185,'Scenario 2'!X185)","v":31.308853274084726},{"$f":"IF($C$8=1,'Scenario 1'!Y185,'Scenario 2'!Y185)","v":40.563433635968153},{"$f":"IF($C$8=1,'Scenario 1'!Z185,'Scenario 2'!Z185)","v":7.8348779917937037},{"$f":"IF($C$8=1,'Scenario 1'!AA185,'Scenario 2'!AA185)","v":-111.00169205912886},{"$f":"IF($C$8=1,'Scenario 1'!AB185,'Scenario 2'!AB185)","v":-74.608750854704397},{"$f":"IF($C$8=1,'Scenario 1'!AC185,'Scenario 2'!AC185)","v":0},{"$f":"IF($C$8=1,'Scenario 1'!AD185,'Scenario 2'!AD185)","v":319.77551448875818},{"$f":"IF($C$8=1,'Scenario 1'!AE185,'Scenario 2'!AE185)","v":350.01231435525887},{"$f":"IF($C$8=1,'Scenario 1'!AF185,'Scenario 2'!AF185)","v":-426.95128501254027},{"$f":"IF($C$8=1,'Scenario 1'!AG185,'Scenario 2'!AG185)","v":64.610946040174554},{"$f":"IF($C$8=1,'Scenario 1'!AH185,'Scenario 2'!AH185)","v":-313.99096168312093},{"$f":"IF($C$8=1,'Scenario 1'!AI185,'Scenario 2'!AI185)","v":0},{"$f":"IF($C$8=1,'Scenario 1'!AJ185,'Scenario 2'!AJ185)","v":301.75608084689907},{"$f":"IF($C$8=1,'Scenario 1'!AK185,'Scenario 2'!AK185)","v":137.62244054694986},{"$f":"IF($C$8=1,'Scenario 1'!AL185,'Scenario 2'!AL185)","v":41.444466409521866},{"$f":"IF($C$8=1,'Scenario 1'!AM185,'Scenario 2'!AM185)","v":7255.3915214573426},{"$f":"IF($C$8=1,'Scenario 1'!AN185,'Scenario 2'!AN185)","v":0},{"$f":"IF($C$8=1,'Scenario 1'!AO185,'Scenario 2'!AO185)","v":-11590.413943355119},{"$f":"IF($C$8=1,'Scenario 1'!AP185,'Scenario 2'!AP185)","v":1.1138185150521167},{"$f":"IF($C$8=1,'Scenario 1'!AQ185,'Scenario 2'!AQ185)","v":-8285.0918145035794}]
[null,"Ash, (%)",{"$f":"IF($C$8=1,'Scenario 1'!R186,'Scenario 2'!R186)","v":9.8000000000000007},{"$f":"IF($C$8=1,'Scenario 1'!S186,'Scenario 2'!S186)","v":4.3},{"$f":"IF($C$8=1,'Scenario 1'!T186,'Scenario 2'!T186)","v":10.8},{"$f":"IF($C$8=1,'Scenario 1'!U186,'Scenario 2'!U186)","v":9.1},{"$f":"IF($C$8=1,'Scenario 1'!V186,'Scenario 2'!V186)","v":8.8000000000000007},{"$f":"IF($C$8=1,'Scenario 1'!W186,'Scenario 2'!W186)","v":5.9},{"$f":"IF($C$8=1,'Scenario 1'!X186,'Scenario 2'!X186)","v":1.5},{"$f":"IF($C$8=1,'Scenario 1'!Y186,'Scenario 2'!Y186)","v":2.9},{"$f":"IF($C$8=1,'Scenario 1'!Z186,'Scenario 2'!Z186)","v":2},{"$f":"IF($C$8=1,'Scenario 1'!AA186,'Scenario 2'!AA186)","v":4.3},{"$f":"IF($C$8=1,'Scenario 1'!AB186,'Scenario 2'!AB186)","v":7.4},{"$f":"IF($C$8=1,'Scenario 1'!AC186,'Scenario 2'!AC186)","v":15.5},{"$f":"IF($C$8=1,'Scenario 1'!AD186,'Scenario 2'!AD186)","v":5.5},{"$f":"IF($C$8=1,'Scenario 1'!AE186,'Scenario 2'!AE186)","v":6.4},{"$f":"IF($C$8=1,'Scenario 1'!AF186,'Scenario 2'!AF186)","v":3.3},{"$f":"IF($C$8=1,'Scenario 1'!AG186,'Scenario 2'!AG186)","v":5.2},{"$f":"IF($C$8=1,'Scenario 1'!AH186,'Scenario 2'!AH186)","v":2.5},{"$f":"IF($C$8=1,'Scenario 1'!AI186,'Scenario 2'!AI186)","v":100},{"$f":"IF($C$8=1,'Scenario 1'!AJ186,'Scenario 2'!AJ186)","v":4.8},{"$f":"IF($C$8=1,'Scenario 1'!AK186,'Scenario 2'!AK186)","v":4.2},{"$f":"IF($C$8=1,'Scenario 1'!AL186,'Scenario 2'!AL186)","v":100},{"$f":"IF($C$8=1,'Scenario 1'!AM186,'Scenario 2'!AM186)","v":100},{"$f":"IF($C$8=1,'Scenario 1'!AN186,'Scenario 2'!AN186)","v":100},{"$f":"IF($C$8=1,'Scenario 1'!AO186,'Scenario 2'!AO186)","v":100},{"$f":"IF($C$8=1,'Scenario 1'!AP186,'Scenario 2'!AP186)","v":100},{"$f":"IF($C$8=1,'Scenario 1'!AQ186,'Scenario 2'!AQ186)","v":100}]
[]
["4.2. Feed Costs"]
[null,"Price, $/t DM",{"$f":"IF($C$8=1,'Scenario 1'!R188,'Scenario 2'!R188)","v":122},{"$f":"IF($C$8=1,'Scenario 1'!S188,'Scenario 2'!S188)","v":110},{"$f":"IF($C$8=1,'Scenario 1'!T188,'Scenario 2'!T188)","v":205},{"$f":"IF($C$8=1,'Scenario 1'!U188,'Scenario 2'!U188)","v":157},{"$f":"IF($C$8=1,'Scenario 1'!V188,'Scenario 2'!V188)","v":160},{"$f":"IF($C$8=1,'Scenario 1'!W188,'Scenario 2'!W188)","v":425},{"$f":"IF($C$8=1,'Scenario 1'!X188,'Scenario 2'!X188)","v":200},{"$f":"IF($C$8=1,'Scenario 1'!Y188,'Scenario 2'!Y188)","v":171},{"$f":"IF($C$8=1,'Scenario 1'!Z188,'Scenario 2'!Z188)","v":262},{"$f":"IF($C$8=1,'Scenario 1'!AA188,'Scenario 2'!AA188)","v":353},{"$f":"IF($C$8=1,'Scenario 1'!AB188,'Scenario 2'!AB188)","v":346},{"$f":"IF($C$8=1,'Scenario 1'!AC188,'Scenario 2'!AC188)","v":1100},{"$f":"IF($C$8=1,'Scenario 1'!AD188,'Scenario 2'!AD188)","v":524},{"$f":"IF($C$8=1,'Scenario 1'!AE188,'Scenario 2'!AE188)","v":387},{"$f":"IF($C$8=1,'Scenario 1'!AF188,'Scenario 2'!AF188)","v":618},{"$f":"IF($C$8=1,'Scenario 1'!AG188,'Scenario 2'!AG188)","v":181},{"$f":"IF($C$8=1,'Scenario 1'!AH188,'Scenario 2'!AH188)","v":1026},{"$f":"IF($C$8=1,'Scenario 1'!AI188,'Scenario 2'!AI188)","v":631},{"$f":"IF($C$8=1,'Scenario 1'!AJ188,'Scenario 2'!AJ188)","v":225},{"$f":"IF($C$8=1,'Scenario 1'!AK188,'Scenario 2'!AK188)","v":288},{"$f":"IF($C$8=1,'Scenario 1'!AL188,'Scenario 2'!AL188)","v":253.2654},{"$f":"IF($C$8=1,'Scenario 1'!AM188,'Scenario 2'!AM188)","v":705.15899999999999},{"$f":"IF($C$8=1,'Scenario 1'!AN188,'Scenario 2'!AN188)","v":690.15600000000006},{"$f":"IF($C$8=1,'Scenario 1'!AO188,'Scenario 2'!AO188)","v":454.54500000000002},{"$f":"IF($C$8=1,'Scenario 1'!AP188,'Scenario 2'!AP188)","v":321.42599999999999},{"$f":"IF($C$8=1,'Scenario 1'!AQ188,'Scenario 2'!AQ188)","v":545.94000000000005}]
[null,"Transport costs, $/t DM",{"$f":"IF($C$8=1,'Scenario 1'!R189,'Scenario 2'!R189)","v":0},{"$f":"IF($C$8=1,'Scenario 1'!S189,'Scenario 2'!S189)","v":0},{"$f":"IF($C$8=1,'Scenario 1'!T189,'Scenario 2'!T189)","v":0},{"$f":"IF($C$8=1,'Scenario 1'!U189,'Scenario 2'!U189)","v":0},{"$f":"IF($C$8=1,'Scenario 1'!V189,'Scenario 2'!V189)","v":0},{"$f":"IF($C$8=1,'Scenario 1'!W189,'Scenario 2'!W189)","v":0},{"$f":"IF($C$8=1,'Scenario 1'!X189,'Scenario 2'!X189)","v":0},{"$f":"IF($C$8=1,'Scenario 1'!Y189,'Scenario 2'!Y189)","v":0},{"$f":"IF($C$8=1,'Scenario 1'!Z189,'Scenario 2'!Z189)","v":0},{"$f":"IF($C$8=1,'Scenario 1'!AA189,'Scenario 2'!AA189)","v":0},{"$f":"IF($C$8=1,'Scenario 1'!AB189,'Scenario 2'!AB189)","v":0},{"$f":"IF($C$8=1,'Scenario 1'!AC189,'Scenario 2'!AC189)","v":0},{"$f":"IF($C$8=1,'Scenario 1'!AD189,'Scenario 2'!AD189)","v":0},{"$f":"IF($C$8=1,'Scenario 1'!AE189,'Scenario 2'!AE189)","v":0},{"$f":"IF($C$8=1,'Scenario 1'!AF189,'Scenario 2'!AF189)","v":0},{"$f":"IF($C$8=1,'Scenario 1'!AG189,'Scenario 2'!AG189)","v":0},{"$f":"IF($C$8=1,'Scenario 1'!AH189,'Scenario 2'!AH189)","v":0},{"$f":"IF($C$8=1,'Scenario 1'!AI189,'Scenario 2'!AI189)","v":0},{"$f":"IF($C$8=1,'Scenario 1'!AJ189,'Scenario 2'!AJ189)","v":0},{"$f":"IF($C$8=1,'Scenario 1'!AK189,'Scenario 2'!AK189)","v":0},{"$f":"IF($C$8=1,'Scenario 1'!AL189,'Scenario 2'!AL189)","v":0},{"$f":"IF($C$8=1,'Scenario 1'!AM189,'Scenario 2'!AM189)","v":0},{"$f":"IF($C$8=1,'Scenario 1'!AN189,'Scenario 2'!AN189)","v":0},{"$f":"IF($C$8=1,'Scenario 1'!AO189,'Scenario 2'!AO189)","v":0},{"$f":"IF($C$8=1,'Scenario 1'!AP189,'Scenario 2'!AP189)","v":0},{"$f":"IF($C$8=1,'Scenario 1'!AQ189,'Scenario 2'!AQ189)","v":0}]
[null,"Storage costs, $/t DM",{"$f":"IF($C$8=1,'Scenario 1'!R190,'Scenario 2'!R190)","v":0},{"$f":"IF($C$8=1,'Scenario 1'!S190,'Scenario 2'!S190)","v":4.1900000000000004},{"$f":"IF($C$8=1,'Scenario 1'!T190,'Scenario 2'!T190)","v":4.1900000000000004},{"$f":"IF($C$8=1,'Scenario 1'!U190,'Scenario 2'!U190)","v":4.1900000000000004},{"$f":"IF($C$8=1,'Scenario 1'!V190,'Scenario 2'!V190)","v":4.1900000000000004},{"$f":"IF($C$8=1,'Scenario 1'!W190,'Scenario 2'!W190)","v":2},{"$f":"IF($C$8=1,'Scenario 1'!X190,'Scenario 2'!X190)","v":2},{"$f":"IF($C$8=1,'Scenario 1'!Y190,'Scenario 2'!Y190)","v":2},{"$f":"IF($C$8=1,'Scenario 1'!Z190,'Scenario 2'!Z190)","v":2},{"$f":"IF($C$8=1,'Scenario 1'!AA190,'Scenario 2'!AA190)","v":2},{"$f":"IF($C$8=1,'Scenario 1'!AB190,'Scenario 2'!AB190)","v":2},{"$f":"IF($C$8=1,'Scenario 1'!AC190,'Scenario 2'!AC190)","v":0},{"$f":"IF($C$8=1,'Scenario 1'!AD190,'Scenario 2'!AD190)","v":2},{"$f":"IF($C$8=1,'Scenario 1'!AE190,'Scenario 2'!AE190)","v":2},{"$f":"IF($C$8=1,'Scenario 1'!AF190,'Scenario 2'!AF190)","v":2},{"$f":"IF($C$8=1,'Scenario 1'!AG190,'Scenario 2'!AG190)","v":2},{"$f":"IF($C$8=1,'Scenario 1'!AH190,'Scenario 2'!AH190)","v":0},{"$f":"IF($C$8=1,'Scenario 1'!AI190,'Scenario 2'!AI190)","v":1.3},{"$f":"IF($C$8=1,'Scenario 1'!AJ190,'Scenario 2'!AJ190)","v":2},{"$f":"IF($C$8=1,'Scenario 1'!AK190,'Scenario 2'!AK190)","v":2},{"$f":"IF($C$8=1,'Scenario 1'!AL190,'Scenario 2'!AL190)","v":1.3},{"$f":"IF($C$8=1,'Scenario 1'!AM190,'Scenario 2'!AM190)","v":1.3},{"$f":"IF($C$8=1,'Scenario 1'!AN190,'Scenario 2'!AN190)","v":1.3},{"$f":"IF($C$8=1,'Scenario 1'!AO190,'Scenario 2'!AO190)","v":1.3},{"$f":"IF($C$8=1,'Scenario 1'!AP190,'Scenario 2'!AP190)","v":1.3},{"$f":"IF($C$8=1,'Scenario 1'!AQ190,'Scenario 2'!AQ190)","v":1.3}]
[null,"Field & storage losses, %",{"$f":"IF($C$8=1,'Scenario 1'!R191,'Scenario 2'!R191)","v":15},{"$f":"IF($C$8=1,'Scenario 1'!S191,'Scenario 2'!S191)","v":17},{"$f":"IF($C$8=1,'Scenario 1'!T191,'Scenario 2'!T191)","v":17},{"$f":"IF($C$8=1,'Scenario 1'!U191,'Scenario 2'!U191)","v":17},{"$f":"IF($C$8=1,'Scenario 1'!V191,'Scenario 2'!V191)","v":18},{"$f":"IF($C$8=1,'Scenario 1'!W191,'Scenario 2'!W191)","v":3},{"$f":"IF($C$8=1,'Scenario 1'!X191,'Scenario 2'!X191)","v":3},{"$f":"IF($C$8=1,'Scenario 1'!Y191,'Scenario 2'!Y191)","v":3},{"$f":"IF($C$8=1,'Scenario 1'!Z191,'Scenario 2'!Z191)","v":3}]
[null,"Refusals, % of used",{"$f":"IF($C$8=1,'Scenario 1'!R192,'Scenario 2'!R192)","v":0},{"$f":"IF($C$8=1,'Scenario 1'!S192,'Scenario 2'!S192)","v":5},{"$f":"IF($C$8=1,'Scenario 1'!T192,'Scenario 2'!T192)","v":5},{"$f":"IF($C$8=1,'Scenario 1'!U192,'Scenario 2'!U192)","v":5},{"$f":"IF($C$8=1,'Scenario 1'!V192,'Scenario 2'!V192)","v":10},{"$f":"IF($C$8=1,'Scenario 1'!W192,'Scenario 2'!W192)","v":2},{"$f":"IF($C$8=1,'Scenario 1'!X192,'Scenario 2'!X192)","v":2},{"$f":"IF($C$8=1,'Scenario 1'!Y192,'Scenario 2'!Y192)","v":2},{"$f":"IF($C$8=1,'Scenario 1'!Z192,'Scenario 2'!Z192)","v":2},{"$f":"IF($C$8=1,'Scenario 1'!AA192,'Scenario 2'!AA192)","v":2},{"$f":"IF($C$8=1,'Scenario 1'!AB192,'Scenario 2'!AB192)","v":2},{"$f":"IF($C$8=1,'Scenario 1'!AC192,'Scenario 2'!AC192)","v":2},{"$f":"IF($C$8=1,'Scenario 1'!AD192,'Scenario 2'!AD192)","v":2},{"$f":"IF($C$8=1,'Scenario 1'!AE192,'Scenario 2'!AE192)","v":2},{"$f":"IF($C$8=1,'Scenario 1'!AF192,'Scenario 2'!AF192)","v":2},{"$f":"IF($C$8=1,'Scenario 1'!AG192,'Scenario 2'!AG192)","v":2},{"$f":"IF($C$8=1,'Scenario 1'!AH192,'Scenario 2'!AH192)","v":2},{"$f":"IF($C$8=1,'Scenario 1'!AI192,'Scenario 2'!AI192)","v":1},{"$f":"IF($C$8=1,'Scenario 1'!AJ192,'Scenario 2'!AJ192)","v":2},{"$f":"IF($C$8=1,'Scenario 1'!AK192,'Scenario 2'!AK192)","v":2},{"$f":"IF($C$8=1,'Scenario 1'!AL192,'Scenario 2'!AL192)","v":1},{"$f":"IF($C$8=1,'Scenario 1'!AM192,'Scenario 2'!AM192)","v":1},{"$f":"IF($C$8=1,'Scenario 1'!AN192,'Scenario 2'!AN192)","v":1},{"$f":"IF($C$8=1,'Scenario 1'!AO192,'Scenario 2'!AO192)","v":1},{"$f":"IF($C$8=1,'Scenario 1'!AP192,'Scenario 2'!AP192)","v":1},{"$f":"IF($C$8=1,'Scenario 1'!AQ192,'Scenario 2'!AQ192)","v":1}]
[null,"*Inventory Change",null,null,null,null,"* If min = 0 and max = 0, then amount produced = amount used"]
[null,"Minimum, t",{"$f":"IF($C$8=1,'Scenario 1'!R194,'Scenario 2'!R194)","v":0},{"$f":"IF($C$8=1,'Scenario 1'!S194,'Scenario 2'!S194)","v":0},{"$f":"IF($C$8=1,'Scenario 1'!T194,'Scenario 2'!T194)","v":0},{"$f":"IF($C$8=1,'Scenario 1'!U194,'Scenario 2'!U194)","v":0},"* If min = 0 and max > 0 then amount produced > amount used and the excess is sold"]
[null,"Maximum, t",{"$f":"IF($C$8=1,'Scenario 1'!R195,'Scenario 2'!R195)","v":0},{"$f":"IF($C$8=1,'Scenario 1'!S195,'Scenario 2'!S195)","v":0},{"$f":"IF($C$8=1,'Scenario 1'!T195,'Scenario 2'!T195)","v":0},{"$f":"IF($C$8=1,'Scenario 1'!U195,'Scenario 2'!U195)","v":0},"* If min < 0 and max = 0 then amount produced < amount used and the deficit is purchased"]
[null,null,null,null,null,null,"* If min < 0 and max > 0 then N-CyCLE decides whether one should overproduce or underproduce"]
["4.3. Feed with limits in Rations"]
[null,null,{"$f":"C181","v":"GrPast-49"},"CoSi-35","AlSi-83","MxSi-74","GrHy-52","SBw-108","CoGr-27","Barley-8","Wheat-116","Brewers grains-16","Canola-19","FatCa-40","SBMx-104","SBM48-107","CGM-25","CoDi-23","Bld Meal-14","Urea","SoyHull-103","CottonSd-w-37","CaCO3","NaH2PO4.H20","MgO","CaSO4.2H20","NaCl","MgSO4.7H20"]
[null,{"$f":"IF($C$8=1,'Scenario 1'!O200,'Scenario 2'!O200)","v":"CoGr-27"},{"$f":"IF($C$8=1,'Scenario 1'!R200,'Scenario 2'!R200)","v":0},{"$f":"IF($C$8=1,'Scenario 1'!S200,'Scenario 2'!S200)","v":0},{"$f":"IF($C$8=1,'Scenario 1'!T200,'Scenario 2'!T200)","v":0},{"$f":"IF($C$8=1,'Scenario 1'!U200,'Scenario 2'!U200)","v":0},{"$f":"IF($C$8=1,'Scenario 1'!V200,'Scenario 2'!V200)","v":0},{"$f":"IF($C$8=1,'Scenario 1'!W200,'Scenario 2'!W200)","v":0},{"$f":"IF($C$8=1,'Scenario 1'!X200,'Scenario 2'!X200)","v":1},{"$f":"IF($C$8=1,'Scenario 1'!Y200,'Scenario 2'!Y200)","v":0},{"$f":"IF($C$8=1,'Scenario 1'!Z200,'Scenario 2'!Z200)","v":0},{"$f":"IF($C$8=1,'Scenario 1'!AA200,'Scenario 2'!AA200)","v":0},{"$f":"IF($C$8=1,'Scenario 1'!AB200,'Scenario 2'!AB200)","v":0},{"$f":"IF($C$8=1,'Scenario 1'!AC200,'Scenario 2'!AC200)","v":0},{"$f":"IF($C$8=1,'Scenario 1'!AD200,'Scenario 2'!AD200)","v":0},{"$f":"IF($C$8=1,'Scenario 1'!AE200,'Scenario 2'!AE200)","v":0},{"$f":"IF($C$8=1,'Scenario 1'!AF200,'Scenario 2'!AF200)","v":0},{"$f":"IF($C$8=1,'Scenario 1'!AG200,'Scenario 2'!AG200)","v":0},{"$f":"IF($C$8=1,'Scenario 1'!AH200,'Scenario 2'!AH200)","v":0},{"$f":"IF($C$8=1,'Scenario 1'!AI200,'Scenario 2'!AI200)","v":0},{"$f":"IF($C$8=1,'Scenario 1'!AJ200,'Scenario 2'!AJ200)","v":0},{"$f":"IF($C$8=1,'Scenario 1'!AK200,'Scenario 2'!AK200)","v":0},{"$f":"IF($C$8=1,'Scenario 1'!AL200,'Scenario 2'!AL200)","v":0},{"$f":"IF($C$8=1,'Scenario 1'!AM200,'Scenario 2'!AM200)","v":0},{"$f":"IF($C$8=1,'Scenario 1'!AN200,'Scenario 2'!AN200)","v":0},{"$f":"IF($C$8=1,'Scenario 1'!AO200,'Scenario 2'!AO200)","v":0},{"$f":"IF($C$8=1,'Scenario 1'!AP200,'Scenario 2'!AP200)","v":0},{"$f":"IF($C$8=1,'Scenario 1'!AQ200,'Scenario 2'!AQ200)","v":0}]
[null,{"$f":"IF($C$8=1,'Scenario 1'!O201,'Scenario 2'!O201)","v":"SoyHull-103"},{"$f":"IF($C$8=1,'Scenario 1'!R201,'Scenario 2'!R201)","v":0},{"$f":"IF($C$8=1,'Scenario 1'!S201,'Scenario 2'!S201)","v":0},{"$f":"IF($C$8=1,'Scenario 1'!T201,'Scenario 2'!T201)","v":0},{"$f":"IF($C$8=1,'Scenario 1'!U201,'Scenario 2'!U201)","v":0},{"$f":"IF($C$8=1,'Scenario 1'!V201,'Scenario 2'!V201)","v":0},{"$f":"IF($C$8=1,'Scenario 1'!W201,'Scenario 2'!W201)","v":0},{"$f":"IF($C$8=1,'Scenario 1'!X201,'Scenario 2'!X201)","v":0},{"$f":"IF($C$8=1,'Scenario 1'!Y201,'Scenario 2'!Y201)","v":0},{"$f":"IF($C$8=1,'Scenario 1'!Z201,'Scenario 2'!Z201)","v":0},{"$f":"IF($C$8=1,'Scenario 1'!AA201,'Scenario 2'!AA201)","v":0},{"$f":"IF($C$8=1,'Scenario 1'!AB201,'Scenario 2'!AB201)","v":0},{"$f":"IF($C$8=1,'Scenario 1'!AC201,'Scenario 2'!AC201)","v":0},{"$f":"IF($C$8=1,'Scenario 1'!AD201,'Scenario 2'!AD201)","v":0},{"$f":"IF($C$8=1,'Scenario 1'!AE201,'Scenario 2'!AE201)","v":0},{"$f":"IF($C$8=1,'Scenario 1'!AF201,'Scenario 2'!AF201)","v":0},{"$f":"IF($C$8=1,'Scenario 1'!AG201,'Scenario 2'!AG201)","v":0},{"$f":"IF($C$8=1,'Scenario 1'!AH201,'Scenario 2'!AH201)","v":0},{"$f":"IF($C$8=1,'Scenario 1'!AI201,'Scenario 2'!AI201)","v":0},{"$f":"IF($C$8=1,'Scenario 1'!AJ201,'Scenario 2'!AJ201)","v":1},{"$f":"IF($C$8=1,'Scenario 1'!AK201,'Scenario 2'!AK201)","v":0},{"$f":"IF($C$8=1,'Scenario 1'!AL201,'Scenario 2'!AL201)","v":0},{"$f":"IF($C$8=1,'Scenario 1'!AM201,'Scenario 2'!AM201)","v":0},{"$f":"IF($C$8=1,'Scenario 1'!AN201,'Scenario 2'!AN201)","v":0},{"$f":"IF($C$8=1,'Scenario 1'!AO201,'Scenario 2'!AO201)","v":0},{"$f":"IF($C$8=1,'Scenario 1'!AP201,'Scenario 2'!AP201)","v":0},{"$f":"IF($C$8=1,'Scenario 1'!AQ201,'Scenario 2'!AQ201)","v":0}]
[null,{"$f":"IF($C$8=1,'Scenario 1'!O202,'Scenario 2'!O202)","v":"Wheat-116"},{"$f":"IF($C$8=1,'Scenario 1'!R202,'Scenario 2'!R202)","v":0},{"$f":"IF($C$8=1,'Scenario 1'!S202,'Scenario 2'!S202)","v":0},{"$f":"IF($C$8=1,'Scenario 1'!T202,'Scenario 2'!T202)","v":0},{"$f":"IF($C$8=1,'Scenario 1'!U202,'Scenario 2'!U202)","v":0},{"$f":"IF($C$8=1,'Scenario 1'!V202,'Scenario 2'!V202)","v":0},{"$f":"IF($C$8=1,'Scenario 1'!W202,'Scenario 2'!W202)","v":0},{"$f":"IF($C$8=1,'Scenario 1'!X202,'Scenario 2'!X202)","v":0},{"$f":"IF($C$8=1,'Scenario 1'!Y202,'Scenario 2'!Y202)","v":0},{"$f":"IF($C$8=1,'Scenario 1'!Z202,'Scenario 2'!Z202)","v":1},{"$f":"IF($C$8=1,'Scenario 1'!AA202,'Scenario 2'!AA202)","v":0},{"$f":"IF($C$8=1,'Scenario 1'!AB202,'Scenario 2'!AB202)","v":0},{"$f":"IF($C$8=1,'Scenario 1'!AC202,'Scenario 2'!AC202)","v":0},{"$f":"IF($C$8=1,'Scenario 1'!AD202,'Scenario 2'!AD202)","v":0},{"$f":"IF($C$8=1,'Scenario 1'!AE202,'Scenario 2'!AE202)","v":0},{"$f":"IF($C$8=1,'Scenario 1'!AF202,'Scenario 2'!AF202)","v":0},{"$f":"IF($C$8=1,'Scenario 1'!AG202,'Scenario 2'!AG202)","v":0},{"$f":"IF($C$8=1,'Scenario 1'!AH202,'Scenario 2'!AH202)","v":0},{"$f":"IF($C$8=1,'Scenario 1'!AI202,'Scenario 2'!AI202)","v":0},{"$f":"IF($C$8=1,'Scenario 1'!AJ202,'Scenario 2'!AJ202)","v":0},{"$f":"IF($C$8=1,'Scenario 1'!AK202,'Scenario 2'!AK202)","v":0},{"$f":"IF($C$8=1,'Scenario 1'!AL202,'Scenario 2'!AL202)","v":0},{"$f":"IF($C$8=1,'Scenario 1'!AM202,'Scenario 2'!AM202)","v":0},{"$f":"IF($C$8=1,'Scenario 1'!AN202,'Scenario 2'!AN202)","v":0},{"$f":"IF($C$8=1,'Scenario 1'!AO202,'Scenario 2'!AO202)","v":0},{"$f":"IF($C$8=1,'Scenario 1'!AP202,'Scenario 2'!AP202)","v":0},{"$f":"IF($C$8=1,'Scenario 1'!AQ202,'Scenario 2'!AQ202)","v":0}]
[null,{"$f":"IF($C$8=1,'Scenario 1'!O203,'Scenario 2'!O203)","v":"CoSi-35"},{"$f":"IF($C$8=1,'Scenario 1'!R203,'Scenario 2'!R203)","v":0},{"$f":"IF($C$8=1,'Scenario 1'!S203,'Scenario 2'!S203)","v":1},{"$f":"IF($C$8=1,'Scenario 1'!T203,'Scenario 2'!T203)","v":0},{"$f":"IF($C$8=1,'Scenario 1'!U203,'Scenario 2'!U203)","v":0},{"$f":"IF($C$8=1,'Scenario 1'!V203,'Scenario 2'!V203)","v":0},{"$f":"IF($C$8=1,'Scenario 1'!W203,'Scenario 2'!W203)","v":0},{"$f":"IF($C$8=1,'Scenario 1'!X203,'Scenario 2'!X203)","v":0},{"$f":"IF($C$8=1,'Scenario 1'!Y203,'Scenario 2'!Y203)","v":0},{"$f":"IF($C$8=1,'Scenario 1'!Z203,'Scenario 2'!Z203)","v":0},{"$f":"IF($C$8=1,'Scenario 1'!AA203,'Scenario 2'!AA203)","v":0},{"$f":"IF($C$8=1,'Scenario 1'!AB203,'Scenario 2'!AB203)","v":0},{"$f":"IF($C$8=1,'Scenario 1'!AC203,'Scenario 2'!AC203)","v":0},{"$f":"IF($C$8=1,'Scenario 1'!AD203,'Scenario 2'!AD203)","v":0},{"$f":"IF($C$8=1,'Scenario 1'!AE203,'Scenario 2'!AE203)","v":0},{"$f":"IF($C$8=1,'Scenario 1'!AF203,'Scenario 2'!AF203)","v":0},{"$f":"IF($C$8=1,'Scenario 1'!AG203,'Scenario 2'!AG203)","v":0},{"$f":"IF($C$8=1,'Scenario 1'!AH203,'Scenario 2'!AH203)","v":0},{"$f":"IF($C$8=1,'Scenario 1'!AI203,'Scenario 2'!AI203)","v":0},{"$f":"IF($C$8=1,'Scenario 1'!AJ203,'Scenario 2'!AJ203)","v":0},{"$f":"IF($C$8=1,'Scenario 1'!AK203,'Scenario 2'!AK203)","v":0},{"$f":"IF($C$8=1,'Scenario 1'!AL203,'Scenario 2'!AL203)","v":0},{"$f":"IF($C$8=1,'Scenario 1'!AM203,'Scenario 2'!AM203)","v":0},{"$f":"IF($C$8=1,'Scenario 1'!AN203,'Scenario 2'!AN203)","v":0},{"$f":"IF($C$8=1,'Scenario 1'!AO203,'Scenario 2'!AO203)","v":0},{"$f":"IF($C$8=1,'Scenario 1'!AP203,'Scenario 2'!AP203)","v":0},{"$f":"IF($C$8=1,'Scenario 1'!AQ203,'Scenario 2'!AQ203)","v":0}]
[null,{"$f":"IF($C$8=1,'Scenario 1'!O204,'Scenario 2'!O204)","v":"GrHy-52"},{"$f":"IF($C$8=1,'Scenario 1'!R204,'Scenario 2'!R204)","v":0},{"$f":"IF($C$8=1,'Scenario 1'!S204,'Scenario 2'!S204)","v":0},{"$f":"IF($C$8=1,'Scenario 1'!T204,'Scenario 2'!T204)","v":0},{"$f":"IF($C$8=1,'Scenario 1'!U204,'Scenario 2'!U204)","v":0},{"$f":"IF($C$8=1,'Scenario 1'!V204,'Scenario 2'!V204)","v":1},{"$f":"IF($C$8=1,'Scenario 1'!W204,'Scenario 2'!W204)","v":0},{"$f":"IF($C$8=1,'Scenario 1'!X204,'Scenario 2'!X204)","v":0},{"$f":"IF($C$8=1,'Scenario 1'!Y204,'Scenario 2'!Y204)","v":0},{"$f":"IF($C$8=1,'Scenario 1'!Z204,'Scenario 2'!Z204)","v":0},{"$f":"IF($C$8=1,'Scenario 1'!AA204,'Scenario 2'!AA204)","v":0},{"$f":"IF($C$8=1,'Scenario 1'!AB204,'Scenario 2'!AB204)","v":0},{"$f":"IF($C$8=1,'Scenario 1'!AC204,'Scenario 2'!AC204)","v":0},{"$f":"IF($C$8=1,'Scenario 1'!AD204,'Scenario 2'!AD204)","v":0},{"$f":"IF($C$8=1,'Scenario 1'!AE204,'Scenario 2'!AE204)","v":0},{"$f":"IF($C$8=1,'Scenario 1'!AF204,'Scenario 2'!AF204)","v":0},{"$f":"IF($C$8=1,'Scenario 1'!AG204,'Scenario 2'!AG204)","v":0},{"$f":"IF($C$8=1,'Scenario 1'!AH204,'Scenario 2'!AH204)","v":0},{"$f":"IF($C$8=1,'Scenario 1'!AI204,'Scenario 2'!AI204)","v":0},{"$f":"IF($C$8=1,'Scenario 1'!AJ204,'Scenario 2'!AJ204)","v":0},{"$f":"IF($C$8=1,'Scenario 1'!AK204,'Scenario 2'!AK204)","v":0},{"$f":"IF($C$8=1,'Scenario 1'!AL204,'Scenario 2'!AL204)","v":0},{"$f":"IF($C$8=1,'Scenario 1'!AM204,'Scenario 2'!AM204)","v":0},{"$f":"IF($C$8=1,'Scenario 1'!AN204,'Scenario 2'!AN204)","v":0},{"$f":"IF($C$8=1,'Scenario 1'!AO204,'Scenario 2'!AO204)","v":0},{"$f":"IF($C$8=1,'Scenario 1'!AP204,'Scenario 2'!AP204)","v":0},{"$f":"IF($C$8=1,'Scenario 1'!AQ204,'Scenario 2'!AQ204)","v":0}]
[null,{"$f":"IF($C$8=1,'Scenario 1'!O205,'Scenario 2'!O205)","v":"CoDi-23"},{"$f":"IF($C$8=1,'Scenario 1'!R205,'Scenario 2'!R205)","v":0},{"$f":"IF($C$8=1,'Scenario 1'!S205,'Scenario 2'!S205)","v":0},{"$f":"IF($C$8=1,'Scenario 1'!T205,'Scenario 2'!T205)","v":0},{"$f":"IF($C$8=1,'Scenario 1'!U205,'Scenario 2'!U205)","v":0},{"$f":"IF($C$8=1,'Scenario 1'!V205,'Scenario 2'!V205)","v":0},{"$f":"IF($C$8=1,'Scenario 1'!W205,'Scenario 2'!W205)","v":0},{"$f":"IF($C$8=1,'Scenario 1'!X205,'Scenario 2'!X205)","v":0},{"$f":"IF($C$8=1,'Scenario 1'!Y205,'Scenario 2'!Y205)","v":0},{"$f":"IF($C$8=1,'Scenario 1'!Z205,'Scenario 2'!Z205)","v":0},{"$f":"IF($C$8=1,'Scenario 1'!AA205,'Scenario 2'!AA205)","v":0},{"$f":"IF($C$8=1,'Scenario 1'!AB205,'Scenario 2'!AB205)","v":0},{"$f":"IF($C$8=1,'Scenario 1'!AC205,'Scenario 2'!AC205)","v":0},{"$f":"IF($C$8=1,'Scenario 1'!AD205,'Scenario 2'!AD205)","v":0},{"$f":"IF($C$8=1,'Scenario 1'!AE205,'Scenario 2'!AE205)","v":0},{"$f":"IF($C$8=1,'Scenario 1'!AF205,'Scenario 2'!AF205)","v":0},{"$f":"IF($C$8=1,'Scenario 1'!AG205,'Scenario 2'!AG205)","v":1},{"$f":"IF($C$8=1,'Scenario 1'!AH205,'Scenario 2'!AH205)","v":0},{"$f":"IF($C$8=1,'Scenario 1'!AI205,'Scenario 2'!AI205)","v":0},{"$f":"IF($C$8=1,'Scenario 1'!AJ205,'Scenario 2'!AJ205)","v":0},{"$f":"IF($C$8=1,'Scenario 1'!AK205,'Scenario 2'!AK205)","v":0},{"$f":"IF($C$8=1,'Scenario 1'!AL205,'Scenario 2'!AL205)","v":0},{"$f":"IF($C$8=1,'Scenario 1'!AM205,'Scenario 2'!AM205)","v":0},{"$f":"IF($C$8=1,'Scenario 1'!AN205,'Scenario 2'!AN205)","v":0},{"$f":"IF($C$8=1,'Scenario 1'!AO205,'Scenario 2'!AO205)","v":0},{"$f":"IF($C$8=1,'Scenario 1'!AP205,'Scenario 2'!AP205)","v":0},{"$f":"IF($C$8=1,'Scenario 1'!AQ205,'Scenario 2'!AQ205)","v":0}]
[null,{"$f":"IF($C$8=1,'Scenario 1'!O206,'Scenario 2'!O206)","v":"Bld Meal-14"},{"$f":"IF($C$8=1,'Scenario 1'!R206,'Scenario 2'!R206)","v":0},{"$f":"IF($C$8=1,'Scenario 1'!S206,'Scenario 2'!S206)","v":0},{"$f":"IF($C$8=1,'Scenario 1'!T206,'Scenario 2'!T206)","v":0},{"$f":"IF($C$8=1,'Scenario 1'!U206,'Scenario 2'!U206)","v":0},{"$f":"IF($C$8=1,'Scenario 1'!V206,'Scenario 2'!V206)","v":0},{"$f":"IF($C$8=1,'Scenario 1'!W206,'Scenario 2'!W206)","v":0},{"$f":"IF($C$8=1,'Scenario 1'!X206,'Scenario 2'!X206)","v":0},{"$f":"IF($C$8=1,'Scenario 1'!Y206,'Scenario 2'!Y206)","v":0},{"$f":"IF($C$8=1,'Scenario 1'!Z206,'Scenario 2'!Z206)","v":0},{"$f":"IF($C$8=1,'Scenario 1'!AA206,'Scenario 2'!AA206)","v":0},{"$f":"IF($C$8=1,'Scenario 1'!AB206,'Scenario 2'!AB206)","v":0},{"$f":"IF($C$8=1,'Scenario 1'!AC206,'Scenario 2'!AC206)","v":0},{"$f":"IF($C$8=1,'Scenario 1'!AD206,'Scenario 2'!AD206)","v":0},{"$f":"IF($C$8=1,'Scenario 1'!AE206,'Scenario 2'!AE206)","v":0},{"$f":"IF($C$8=1,'Scenario 1'!AF206,'Scenario 2'!AF206)","v":0},{"$f":"IF($C$8=1,'Scenario 1'!AG206,'Scenario 2'!AG206)","v":0},{"$f":"IF($C$8=1,'Scenario 1'!AH206,'Scenario 2'!AH206)","v":1},{"$f":"IF($C$8=1,'Scenario 1'!AI206,'Scenario 2'!AI206)","v":0},{"$f":"IF($C$8=1,'Scenario 1'!AJ206,'Scenario 2'!AJ206)","v":0},{"$f":"IF($C$8=1,'Scenario 1'!AK206,'Scenario 2'!AK206)","v":0},{"$f":"IF($C$8=1,'Scenario 1'!AL206,'Scenario 2'!AL206)","v":0},{"$f":"IF($C$8=1,'Scenario 1'!AM206,'Scenario 2'!AM206)","v":0},{"$f":"IF($C$8=1,'Scenario 1'!AN206,'Scenario 2'!AN206)","v":0},{"$f":"IF($C$8=1,'Scenario 1'!AO206,'Scenario 2'!AO206)","v":0},{"$f":"IF($C$8=1,'Scenario 1'!AP206,'Scenario 2'!AP206)","v":0},{"$f":"IF($C$8=1,'Scenario 1'!AQ206,'Scenario 2'!AQ206)","v":0}]
[null,{"$f":"IF($C$8=1,'Scenario 1'!O207,'Scenario 2'!O207)","v":"CottonSd-w-37"},{"$f":"IF($C$8=1,'Scenario 1'!R207,'Scenario 2'!R207)","v":0},{"$f":"IF($C$8=1,'Scenario 1'!S207,'Scenario 2'!S207)","v":0},{"$f":"IF($C$8=1,'Scenario 1'!T207,'Scenario 2'!T207)","v":0},{"$f":"IF($C$8=1,'Scenario 1'!U207,'Scenario 2'!U207)","v":0},{"$f":"IF($C$8=1,'Scenario 1'!V207,'Scenario 2'!V207)","v":0},{"$f":"IF($C$8=1,'Scenario 1'!W207,'Scenario 2'!W207)","v":0},{"$f":"IF($C$8=1,'Scenario 1'!X207,'Scenario 2'!X207)","v":0},{"$f":"IF($C$8=1,'Scenario 1'!Y207,'Scenario 2'!Y207)","v":0},{"$f":"IF($C$8=1,'Scenario 1'!Z207,'Scenario 2'!Z207)","v":0},{"$f":"IF($C$8=1,'Scenario 1'!AA207,'Scenario 2'!AA207)","v":0},{"$f":"IF($C$8=1,'Scenario 1'!AB207,'Scenario 2'!AB207)","v":0},{"$f":"IF($C$8=1,'Scenario 1'!AC207,'Scenario 2'!AC207)","v":0},{"$f":"IF($C$8=1,'Scenario 1'!AD207,'Scenario 2'!AD207)","v":0},{"$f":"IF($C$8=1,'Scenario 1'!AE207,'Scenario 2'!AE207)","v":0},{"$f":"IF($C$8=1,'Scenario 1'!AF207,'Scenario 2'!AF207)","v":0},{"$f":"IF($C$8=1,'Scenario 1'!AG207,'Scenario 2'!AG207)","v":0},{"$f":"IF($C$8=1,'Scenario 1'!AH207,'Scenario 2'!AH207)","v":0},{"$f":"IF($C$8=1,'Scenario 1'!AI207,'Scenario 2'!AI207)","v":0},{"$f":"IF($C$8=1,'Scenario 1'!AJ207,'Scenario 2'!AJ207)","v":0},{"$f":"IF($C$8=1,'Scenario 1'!AK207,'Scenario 2'!AK207)","v":1},{"$f":"IF($C$8=1,'Scenario 1'!AL207,'Scenario 2'!AL207)","v":0},{"$f":"IF($C$8=1,'Scenario 1'!AM207,'Scenario 2'!AM207)","v":0},{"$f":"IF($C$8=1,'Scenario 1'!AN207,'Scenario 2'!AN207)","v":0},{"$f":"IF($C$8=1,'Scenario 1'!AO207,'Scenario 2'!AO207)","v":0},{"$f":"IF($C$8=1,'Scenario 1'!AP207,'Scenario 2'!AP207)","v":0},{"$f":"IF($C$8=1,'Scenario 1'!AQ207,'Scenario 2'!AQ207)","v":0}]
[null,{"$f":"IF($C$8=1,'Scenario 1'!O208,'Scenario 2'!O208)","v":"Urea"},{"$f":"IF($C$8=1,'Scenario 1'!R208,'Scenario 2'!R208)","v":0},{"$f":"IF($C$8=1,'Scenario 1'!S208,'Scenario 2'!S208)","v":0},{"$f":"IF($C$8=1,'Scenario 1'!T208,'Scenario 2'!T208)","v":0},{"$f":"IF($C$8=1,'Scenario 1'!U208,'Scenario 2'!U208)","v":0},{"$f":"IF($C$8=1,'Scenario 1'!V208,'Scenario 2'!V208)","v":0},{"$f":"IF($C$8=1,'Scenario 1'!W208,'Scenario 2'!W208)","v":0},{"$f":"IF($C$8=1,'Scenario 1'!X208,'Scenario 2'!X208)","v":0},{"$f":"IF($C$8=1,'Scenario 1'!Y208,'Scenario 2'!Y208)","v":0},{"$f":"IF($C$8=1,'Scenario 1'!Z208,'Scenario 2'!Z208)","v":0},{"$f":"IF($C$8=1,'Scenario 1'!AA208,'Scenario 2'!AA208)","v":0},{"$f":"IF($C$8=1,'Scenario 1'!AB208,'Scenario 2'!AB208)","v":0},{"$f":"IF($C$8=1,'Scenario 1'!AC208,'Scenario 2'!AC208)","v":0},{"$f":"IF($C$8=1,'Scenario 1'!AD208,'Scenario 2'!AD208)","v":0},{"$f":"IF($C$8=1,'Scenario 1'!AE208,'Scenario 2'!AE208)","v":0},{"$f":"IF($C$8=1,'Scenario 1'!AF208,'Scenario 2'!AF208)","v":0},{"$f":"IF($C$8=1,'Scenario 1'!AG208,'Scenario 2'!AG208)","v":0},{"$f":"IF($C$8=1,'Scenario 1'!AH208,'Scenario 2'!AH208)","v":0},{"$f":"IF($C$8=1,'Scenario 1'!AI208,'Scenario 2'!AI208)","v":1},{"$f":"IF($C$8=1,'Scenario 1'!AJ208,'Scenario 2'!AJ208)","v":0},{"$f":"IF($C$8=1,'Scenario 1'!AK208,'Scenario 2'!AK208)","v":0},{"$f":"IF($C$8=1,'Scenario 1'!AL208,'Scenario 2'!AL208)","v":0},{"$f":"IF($C$8=1,'Scenario 1'!AM208,'Scenario 2'!AM208)","v":0},{"$f":"IF($C$8=1,'Scenario 1'!AN208,'Scenario 2'!AN208)","v":0},{"$f":"IF($C$8=1,'Scenario 1'!AO208,'Scenario 2'!AO208)","v":0},{"$f":"IF($C$8=1,'Scenario 1'!AP208,'Scenario 2'!AP208)","v":0},{"$f":"IF($C$8=1,'Scenario 1'!AQ208,'Scenario 2'!AQ208)","v":0}]
[null,{"$f":"IF($C$8=1,'Scenario 1'!O209,'Scenario 2'!O209)","v":"NaCl"},{"$f":"IF($C$8=1,'Scenario 1'!R209,'Scenario 2'!R209)","v":0},{"$f":"IF($C$8=1,'Scenario 1'!S209,'Scenario 2'!S209)","v":0},{"$f":"IF($C$8=1,'Scenario 1'!T209,'Scenario 2'!T209)","v":0},{"$f":"IF($C$8=1,'Scenario 1'!U209,'Scenario 2'!U209)","v":0},{"$f":"IF($C$8=1,'Scenario 1'!V209,'Scenario 2'!V209)","v":0},{"$f":"IF($C$8=1,'Scenario 1'!W209,'Scenario 2'!W209)","v":0},{"$f":"IF($C$8=1,'Scenario 1'!X209,'Scenario 2'!X209)","v":0},{"$f":"IF($C$8=1,'Scenario 1'!Y209,'Scenario 2'!Y209)","v":0},{"$f":"IF($C$8=1,'Scenario 1'!Z209,'Scenario 2'!Z209)","v":0},{"$f":"IF($C$8=1,'Scenario 1'!AA209,'Scenario 2'!AA209)","v":0},{"$f":"IF($C$8=1,'Scenario 1'!AB209,'Scenario 2'!AB209)","v":0},{"$f":"IF($C$8=1,'Scenario 1'!AC209,'Scenario 2'!AC209)","v":0},{"$f":"IF($C$8=1,'Scenario 1'!AD209,'Scenario 2'!AD209)","v":0},{"$f":"IF($C$8=1,'Scenario 1'!AE209,'Scenario 2'!AE209)","v":0},{"$f":"IF($C$8=1,'Scenario 1'!AF209,'Scenario 2'!AF209)","v":0},{"$f":"IF($C$8=1,'Scenario 1'!AG209,'Scenario 2'!AG209)","v":0},{"$f":"IF($C$8=1,'Scenario 1'!AH209,'Scenario 2'!AH209)","v":0},{"$f":"IF($C$8=1,'Scenario 1'!AI209,'Scenario 2'!AI209)","v":0},{"$f":"IF($C$8=1,'Scenario 1'!AJ209,'Scenario 2'!AJ209)","v":0},{"$f":"IF($C$8=1,'Scenario 1'!AK209,'Scenario 2'!AK209)","v":0},{"$f":"IF($C$8=1,'Scenario 1'!AL209,'Scenario 2'!AL209)","v":0},{"$f":"IF($C$8=1,'Scenario 1'!AM209,'Scenario 2'!AM209)","v":0},{"$f":"IF($C$8=1,'Scenario 1'!AN209,'Scenario 2'!AN209)","v":0},{"$f":"IF($C$8=1,'Scenario 1'!AO209,'Scenario 2'!AO209)","v":0},{"$f":"IF($C$8=1,'Scenario 1'!AP209,'Scenario 2'!AP209)","v":1},{"$f":"IF($C$8=1,'Scenario 1'!AQ209,'Scenario 2'!AQ209)","v":0}]
[null,"Desired Limit (% of ration DM)",{"$f":"IF($C$8=1,IF('Scenario 1'!R210=\"\",\"\",'Scenario 1'!R210),IF('Scenario 2'!R210=\"\",\"\",'Scenario 2'!R210))","v":0},{"$f":"IF($C$8=1,IF('Scenario 1'!S210=\"\",\"\",'Scenario 1'!S210),IF('Scenario 2'!S210=\"\",\"\",'Scenario 2'!S210))","v":40},{"$f":"IF($C$8=1,IF('Scenario 1'!T210=\"\",\"\",'Scenario 1'!T210),IF('Scenario 2'!T210=\"\",\"\",'Scenario 2'!T210))","v":0},{"$f":"IF($C$8=1,IF('Scenario 1'!U210=\"\",\"\",'Scenario 1'!U210),IF('Scenario 2'!U210=\"\",\"\",'Scenario 2'!U210))","v":0},{"$f":"IF($C$8=1,IF('Scenario 1'!V210=\"\",\"\",'Scenario 1'!V210),IF('Scenario 2'!V210=\"\",\"\",'Scenario 2'!V210))","v":10},{"$f":"IF($C$8=1,IF('Scenario 1'!W210=\"\",\"\",'Scenario 1'!W210),IF('Scenario 2'!W210=\"\",\"\",'Scenario 2'!W210))","v":0},{"$f":"IF($C$8=1,IF('Scenario 1'!X210=\"\",\"\",'Scenario 1'!X210),IF('Scenario 2'!X210=\"\",\"\",'Scenario 2'!X210))","v":40},{"$f":"IF($C$8=1,IF('Scenario 1'!Y210=\"\",\"\",'Scenario 1'!Y210),IF('Scenario 2'!Y210=\"\",\"\",'Scenario 2'!Y210))","v":0},{"$f":"IF($C$8=1,IF('Scenario 1'!Z210=\"\",\"\",'Scenario 1'!Z210),IF('Scenario 2'!Z210=\"\",\"\",'Scenario 2'!Z210))","v":20},{"$f":"IF($C$8=1,IF('Scenario 1'!AA210=\"\",\"\",'Scenario 1'!AA210),IF('Scenario 2'!AA210=\"\",\"\",'Scenario 2'!AA210))","v":0},{"$f":"IF($C$8=1,IF('Scenario 1'!AB210=\"\",\"\",'Scenario 1'!AB210),IF('Scenario 2'!AB210=\"\",\"\",'Scenario 2'!AB210))","v":0},{"$f":"IF($C$8=1,IF('Scenario 1'!AC210=\"\",\"\",'Scenario 1'!AC210),IF('Scenario 2'!AC210=\"\",\"\",'Scenario 2'!AC210))","v":0},{"$f":"IF($C$8=1,IF('Scenario 1'!AD210=\"\",\"\",'Scenario 1'!AD210),IF('Scenario 2'!AD210=\"\",\"\",'Scenario 2'!AD210))","v":0},{"$f":"IF($C$8=1,IF('Scenario 1'!AE210=\"\",\"\",'Scenario 1'!AE210),IF('Scenario 2'!AE210=\"\",\"\",'Scenario 2'!AE210))","v":0},{"$f":"IF($C$8=1,IF('Scenario 1'!AF210=\"\",\"\",'Scenario 1'!AF210),IF('Scenario 2'!AF210=\"\",\"\",'Scenario 2'!AF210))","v":0},{"$f":"IF($C$8=1,IF('Scenario 1'!AG210=\"\",\"\",'Scenario 1'!AG210),IF('Scenario 2'!AG210=\"\",\"\",'Scenario 2'!AG210))","v":15},{"$f":"IF($C$8=1,IF('Scenario 1'!AH210=\"\",\"\",'Scenario 1'!AH210),IF('Scenario 2'!AH210=\"\",\"\",'Scenario 2'!AH210))","v":5},{"$f":"IF($C$8=1,IF('Scenario 1'!AI210=\"\",\"\",'Scenario 1'!AI210),IF('Scenario 2'!AI210=\"\",\"\",'Scenario 2'!AI210))","v":1.5},{"$f":"IF($C$8=1,IF('Scenario 1'!AJ210=\"\",\"\",'Scenario 1'!AJ210),IF('Scenario 2'!AJ210=\"\",\"\",'Scenario 2'!AJ210))","v":10},{"$f":"IF($C$8=1,IF('Scenario 1'!AK210=\"\",\"\",'Scenario 1'!AK210),IF('Scenario 2'!AK210=\"\",\"\",'Scenario 2'!AK210))","v":20},{"$f":"IF($C$8=1,IF('Scenario 1'!AL210=\"\",\"\",'Scenario 1'!AL210),IF('Scenario 2'!AL210=\"\",\"\",'Scenario 2'!AL210))","v":0},{"$f":"IF($C$8=1,IF('Scenario 1'!AM210=\"\",\"\",'Scenario 1'!AM210),IF('Scenario 2'!AM210=\"\",\"\",'Scenario 2'!AM210))","v":0},{"$f":"IF($C$8=1,IF('Scenario 1'!AN210=\"\",\"\",'Scenario 1'!AN210),IF('Scenario 2'!AP210=\"\",\"\",'Scenario 2'!AP210))","v":0},{"$f":"IF($C$8=1,IF('Scenario 1'!AO210=\"\",\"\",'Scenario 1'!AO210),IF('Scenario 2'!AQ210=\"\",\"\",'Scenario 2'!AQ210))","v":0},{"$f":"IF($C$8=1,IF('Scenario 1'!AP210=\"\",\"\",'Scenario 1'!AP210),IF('Scenario 2'!AP210=\"\",\"\",'Scenario 2'!AP210))","v":3.5},{"$f":"IF($C$8=1,IF('Scenario 1'!AQ210=\"\",\"\",'Scenario 1'!AQ210),IF('Scenario 2'!AQ210=\"\",\"\",'Scenario 2'!AQ210))","v":0}]
[]
["4.4. Drinking Water Composition"]
[null,null,"Water composition"]
[null,"K, mg/l",{"$f":"IF($C$8=1,'Scenario 1'!H215,'Scenario 2'!H215)","v":5}]
[null,"Na, mg/l",{"$f":"IF($C$8=1,'Scenario 1'!H216,'Scenario 2'!H216)","v":74}]
[null,"Cl, mg/l",{"$f":"IF($C$8=1,'Scenario 1'!H217,'Scenario 2'!H217)","v":75}]
[null,"S, mg/l",{"$f":"IF($C$8=1,'Scenario 1'!H218,'Scenario 2'!H218)","v":19}]
[]
[]
[]
[]
["5. Manure and Fertilizers"]
["5.1. Manure Production and Nutrient Excretion"]
[null,null,null,null,null,null,"GROUP"]
[null,null,null,null,1,2,3,4,5]
[null,null,null,null,{"$f":"C57","v":"Early lactation"},{"$f":"D57","v":"Mid-late lac."},{"$f":"E57","v":"Dry cows"},{"$f":"F57","v":"Heifers<1yr old"},{"$f":"G57","v":"Heifers>1yr old"},null,null,null,null,null,null,null,null,null,"Maximum Frequency of Spreading N-containing commercial Fertilizers"]
[null,"As Described in ASAE, 2005",null,null,{"$f":"(C61*0.954)+(C60*0.037)+(C59*0.017)+(C63/100*186.72)+(C64/100*0.94*1141.48)-33.06","v":65.120232119999997},{"$f":"(D61*0.954)+(D60*0.037)+(D59*0.017)+(D63/100*186.72)+(D64/100*0.94*1141.48)-33.06","v":59.879215939999995},{"$f":"E60*0.022+21.844","v":35.572000000000003},{"$f":"IF($E$27=4,0,0)","v":0},null,null,null,null,null,null,null,null,null,null,null,null,null,null,null,null,"ROTATION"]
[null,null,null,"Daily manure excretion, kg as-is",{"$f":"IF($C$8=1,'Scenario 1'!S226,'Scenario 2'!S226)","v":68.830999473846333},{"$f":"IF($C$8=1,'Scenario 1'!T226,'Scenario 2'!T226)","v":63.575962200610931},{"$f":"IF($C$8=1,'Scenario 1'!U226,'Scenario 2'!U226)","v":35.572000000000003},{"$f":"IF($C$8=1,'Scenario 1'!V226,'Scenario 2'!V226)","v":19.690080786400003},{"$f":"IF($C$8=1,'Scenario 1'!W226,'Scenario 2'!W226)","v":38.836200447548244},null,null,null,null,null,null,null,null,null,null,null,null,null,{"$f":"AC243","v":0},{"$f":"AD243","v":0},{"$f":"AE243","v":0},{"$f":"AF243","v":0},{"$f":"AG243","v":0}]
[null,null,null,"Daily N excretion (based on minimum dietary CP), g/d",{"$f":"IF($C$8=1,'Scenario 1'!S227,'Scenario 2'!S227)","v":446.33119762517782},{"$f":"IF($C$8=1,'Scenario 1'!T227,'Scenario 2'!T227)","v":378.1682459601048},{"$f":"IF($C$8=1,'Scenario 1'!U227,'Scenario 2'!U227)","v":213.15652955548904},{"$f":"IF($C$8=1,'Scenario 1'!V227,'Scenario 2'!V227)","v":111.13038352971481},{"$f":"IF($C$8=1,'Scenario 1'!W227,'Scenario 2'!W227)","v":168.17734301094703},null,null,null,null,null,null,null,null,null,null,null,null,"Max. frequency of N application, yr",{"$f":"IF($C$8=1,'Scenario 1'!AH258,'Scenario 2'!AH258)","v":3},{"$f":"IF($C$8=1,'Scenario 1'!AI258,'Scenario 2'!AI258)","v":3},{"$f":"IF($C$8=1,'Scenario 1'!AJ258,'Scenario 2'!AJ258)","v":3},{"$f":"IF($C$8=1,'Scenario 1'!AK258,'Scenario 2'!AK258)","v":2},{"$f":"IF($C$8=1,'Scenario 1'!AL258,'Scenario 2'!AL258)","v":2}]
[null,null,null,"Daily N excretion (based on maximum dietary CP), g/d",{"$f":"IF($C$8=1,'Scenario 1'!S228,'Scenario 2'!S228)","v":491.39342937018802},{"$f":"IF($C$8=1,'Scenario 1'!T228,'Scenario 2'!T228)","v":414.1621871312131},{"$f":"IF($C$8=1,'Scenario 1'!U228,'Scenario 2'!U228)","v":249.97088811804417},{"$f":"IF($C$8=1,'Scenario 1'!V228,'Scenario 2'!V228)","v":120.84213367913455},{"$f":"IF($C$8=1,'Scenario 1'!W228,'Scenario 2'!W228)","v":190.37214115880593},null,null,null,null,null,null,null,null,null,null,null,null,"years in the rotation",{"$f":"IF($C$8=1,'Scenario 1'!AH259,'Scenario 2'!AH259)","v":1},{"$f":"IF($C$8=1,'Scenario 1'!AI259,'Scenario 2'!AI259)","v":3},{"$f":"IF($C$8=1,'Scenario 1'!AJ259,'Scenario 2'!AJ259)","v":5},{"$f":"IF($C$8=1,'Scenario 1'!AK259,'Scenario 2'!AK259)","v":8},{"$f":"IF($C$8=1,'Scenario 1'!AL259,'Scenario 2'!AL259)","v":8}]
[null,null,null,"Daily P excretion (based on minimum dietary P), g/d",{"$f":"IF($C$8=1,'Scenario 1'!S229,'Scenario 2'!S229)","v":56.027179916524481},{"$f":"IF($C$8=1,'Scenario 1'!T229,'Scenario 2'!T229)","v":44.309087026816087},{"$f":"IF($C$8=1,'Scenario 1'!U229,'Scenario 2'!U229)","v":21.028984020418132},{"$f":"IF($C$8=1,'Scenario 1'!V229,'Scenario 2'!V229)","v":16.392735780638983},{"$f":"IF($C$8=1,'Scenario 1'!W229,'Scenario 2'!W229)","v":27.393783095396635}]
[null,null,null,"Daily P excretion (based on maximum dietary P), g/d",{"$f":"IF($C$8=1,'Scenario 1'!S230,'Scenario 2'!S230)","v":102.82061987478676},{"$f":"IF($C$8=1,'Scenario 1'!T230,'Scenario 2'!T230)","v":77.543742040224132},{"$f":"IF($C$8=1,'Scenario 1'!U230,'Scenario 2'!U230)","v":33.746692697293867},{"$f":"IF($C$8=1,'Scenario 1'!V230,'Scenario 2'!V230)","v":24.589103670958476},{"$f":"IF($C$8=1,'Scenario 1'!W230,'Scenario 2'!W230)","v":41.090674643094957}]
[null,null,null,"Daily K excretion (based on required dietary K), g/d",{"$f":"IF($C$8=1,'Scenario 1'!S231,'Scenario 2'!S231)","v":93.024284293752004},{"$f":"IF($C$8=1,'Scenario 1'!T231,'Scenario 2'!T231)","v":69.722433098771944},{"$f":"IF($C$8=1,'Scenario 1'!U231,'Scenario 2'!U231)","v":62.932566666666673},{"$f":"IF($C$8=1,'Scenario 1'!V231,'Scenario 2'!V231)","v":25.111361613333333},{"$f":"IF($C$8=1,'Scenario 1'!W231,'Scenario 2'!W231)","v":62.057430255780488}]
[null,"As Described in Nennich et al., 2005"]
[null,null,null,"Daily manure excretion, kg as-is",{"$f":"IF($C$8=1,'Scenario 1'!S233,'Scenario 2'!S233)","v":71.424745120306255},{"$f":"IF($C$8=1,'Scenario 1'!T233,'Scenario 2'!T233)","v":63.685908996061059},{"$f":"IF($C$8=1,'Scenario 1'!U233,'Scenario 2'!U233)","v":25.666639999999997},{"$f":"IF($C$8=1,'Scenario 1'!V233,'Scenario 2'!V233)","v":15.3209254},{"$f":"IF($C$8=1,'Scenario 1'!W233,'Scenario 2'!W233)","v":27.165544539999999}]
[null,null,null,"Daily N excretion (based on minimum dietary CP), g/d",{"$f":"(E122*E145/100*84.1)+(C60*0.196)","v":382.16553887997679},{"$f":"(F122*F145/100*84.1)+(D60*0.196)","v":232.55670035961202},"na",{"$f":"IF($C$8=1,'Scenario 1'!V234,'Scenario 2'!V234)","v":85.830873405656348},{"$f":"IF($C$8=1,'Scenario 1'!W234,'Scenario 2'!W234)","v":168.22734301094701}]
[null,null,null,"Daily N excretion (based on maximum dietary CP), g/d",{"$f":"(E122*E146/100*84.1)+(C60*0.196)","v":425.32460318877099},{"$f":"(F122*F146/100*84.1)+(D60*0.196)","v":254.20612569314795},"na",{"$f":"IF($C$8=1,'Scenario 1'!V235,'Scenario 2'!V235)","v":99.77471164162003},{"$f":"IF($C$8=1,'Scenario 1'!W235,'Scenario 2'!W235)","v":190.42214115880594}]
[null,null,null,"Daily P excretion (based on minimum dietary P), g/d",{"$f":"E122*E149/0.7/100*1000-(C61*0.9)","v":28.90961002681609},{"$f":"F122*F149/0.7/100*1000-(D61*0.9)","v":3.2751943537514663},"na",{"$f":"IF($C$8=1,'Scenario 1'!V236,'Scenario 2'!V236)","v":10.196773437630865},"na"]
[null,null,null,"Daily P excretion (based on maximum dietary P), g/d",{"$f":"E122*E150/0.7/100*1000-(C61*0.9)","v":62.144265040224134},{"$f":"F122*F150/0.7/100*1000-(D61*0.9)","v":15.9929030306272},"na",{"$f":"IF($C$8=1,'Scenario 1'!V237,'Scenario 2'!V237)","v":15.2951601564463},"na"]
[null,null,null,"Daily K excretion (based on required dietary K), g/d",{"$f":"E122*7.21+(E156/0.9/100*15944)-164.5","v":153.36831723850429},{"$f":"F122*7.21+(F156/0.9/100*15944)-164.5","v":5.8164845061728556},"na","na","na"]
[]
[]
[]
["5.2 Manure Mangement (Handling)",null,null,null,null,null,null,null,"5.3. Composition and cost of commercial fertilizers and manure",null,null,null,null,null,null,null,null,null,"For advance users: Process-based model (Proportions of N entering a management level)"]
[null,null,"Method of collection/storage by animal category:",null,null,null,null,null,null,null,"Purchased fertilizer",null,null,null,null,"Manures",null,null,"Method of collection/storage:",null,null,"N","P2O5","K2O","Na","Cl","S"]
[null,null,null,"DM %",null,"Suggested DM%",null,null,null,null,{"$f":"IF($C$8=1,'Scenario 1'!D248,'Scenario 2'!D248)","v":"18-46-0"},{"$f":"IF($C$8=1,'Scenario 1'!E248,'Scenario 2'!E248)","v":"27-0-0"},{"$f":"IF($C$8=1,'Scenario 1'!F248,'Scenario 2'!F248)","v":"0-46-0"},{"$f":"IF($C$8=1,'Scenario 1'!G248,'Scenario 2'!G248)","v":"0-0-60"},{"$f":"IF($C$8=1,'Scenario 1'!H248,'Scenario 2'!H248)","v":"11-52-0"},{"$f":"IF($C$8=1,'Scenario 1'!I248,'Scenario 2'!I248)","v":"Solid"},{"$f":"IF($C$8=1,'Scenario 1'!J248,'Scenario 2'!J248)","v":"Liquid"},null,{"$f":"IF($C$8=1,'Scenario 1'!AD224,'Scenario 2'!AD224)","v":"Liquid manure (L)"},null,null,{"$f":"IF($C$8=1,'Scenario 1'!AG224,'Scenario 2'!AG224)","v":0.7},{"$f":"IF($C$8=1,'Scenario 1'!AH224,'Scenario 2'!AH224)","v":1},{"$f":"IF($C$8=1,'Scenario 1'!AI224,'Scenario 2'!AI224)","v":1},{"$f":"IF($C$8=1,'Scenario 1'!AJ224,'Scenario 2'!AJ224)","v":1},{"$f":"IF($C$8=1,'Scenario 1'!AK224,'Scenario 2'!AK224)","v":1},{"$f":"IF($C$8=1,'Scenario 1'!AL224,'Scenario 2'!AL224)","v":1}]
[null,1,{"$f":"IF($C$8=1,'Scenario 1'!C232,'Scenario 2'!C232)","v":"Early lactation"},{"$f":"IF($C$8=1,'Scenario 1'!F232,'Scenario 2'!F232)","v":8.9},{"$f":"IF($C$8=1,'Scenario 1'!D232,'Scenario 2'!D232)","v":"Liquid"},{"$f":"IF($C$8=1,'Scenario 1'!E232,'Scenario 2'!E232)","v":8.9},null,null,"Compostion",null,null,null,null,null,null,null,null,null,{"$f":"IF($C$8=1,'Scenario 1'!AD225,'Scenario 2'!AD225)","v":"Solid manure (S)"},null,null,{"$f":"IF($C$8=1,'Scenario 1'!AG225,'Scenario 2'!AG225)","v":0.65},{"$f":"IF($C$8=1,'Scenario 1'!AH225,'Scenario 2'!AH225)","v":1},{"$f":"IF($C$8=1,'Scenario 1'!AI225,'Scenario 2'!AI225)","v":1},{"$f":"IF($C$8=1,'Scenario 1'!AJ225,'Scenario 2'!AJ225)","v":1},{"$f":"IF($C$8=1,'Scenario 1'!AK225,'Scenario 2'!AK225)","v":1},{"$f":"IF($C$8=1,'Scenario 1'!AL225,'Scenario 2'!AL225)","v":1}]
[null,2,{"$f":"IF($C$8=1,'Scenario 1'!C233,'Scenario 2'!C233)","v":"Mid-late lac."},{"$f":"IF($C$8=1,'Scenario 1'!F233,'Scenario 2'!F233)","v":8.9},{"$f":"IF($C$8=1,'Scenario 1'!D233,'Scenario 2'!D233)","v":"Liquid"},{"$f":"IF($C$8=1,'Scenario 1'!E233,'Scenario 2'!E233)","v":8.9},null,null,"Unit resource, t",null,{"$f":"IF($C$8=1,'Scenario 1'!D249,'Scenario 2'!D249)","v":1},{"$f":"IF($C$8=1,'Scenario 1'!E249,'Scenario 2'!E249)","v":1},{"$f":"IF($C$8=1,'Scenario 1'!F249,'Scenario 2'!F249)","v":1},{"$f":"IF($C$8=1,'Scenario 1'!G249,'Scenario 2'!G249)","v":1},{"$f":"IF($C$8=1,'Scenario 1'!H249,'Scenario 2'!H249)","v":1},{"$f":"IF($C$8=1,'Scenario 1'!I249,'Scenario 2'!I249)","v":1},{"$f":"IF($C$8=1,'Scenario 1'!J249,'Scenario 2'!J249)","v":1},null,"Type of storage facility:"]
[null,3,{"$f":"IF($C$8=1,'Scenario 1'!C234,'Scenario 2'!C234)","v":"Dry cows"},{"$f":"IF($C$8=1,'Scenario 1'!F234,'Scenario 2'!F234)","v":8.9},{"$f":"IF($C$8=1,'Scenario 1'!D234,'Scenario 2'!D234)","v":"Liquid"},{"$f":"IF($C$8=1,'Scenario 1'!E234,'Scenario 2'!E234)","v":8.9},null,null,"N,  %",null,{"$f":"IF($C$8=1,'Scenario 1'!D250,'Scenario 2'!D250)","v":18},{"$f":"IF($C$8=1,'Scenario 1'!E250,'Scenario 2'!E250)","v":27},{"$f":"IF($C$8=1,'Scenario 1'!F250,'Scenario 2'!F250)","v":0},{"$f":"IF($C$8=1,'Scenario 1'!G250,'Scenario 2'!G250)","v":0},{"$f":"IF($C$8=1,'Scenario 1'!H250,'Scenario 2'!H250)","v":11},null,null,null,{"$f":"IF($C$8=1,'Scenario 1'!AD227,'Scenario 2'!AD227)","v":"Daily Haul (DH)"},null,null,{"$f":"IF($C$8=1,'Scenario 1'!AG227,'Scenario 2'!AG227)","v":1},{"$f":"IF($C$8=1,'Scenario 1'!AH227,'Scenario 2'!AH227)","v":1},{"$f":"IF($C$8=1,'Scenario 1'!AI227,'Scenario 2'!AI227)","v":1},{"$f":"IF($C$8=1,'Scenario 1'!AJ227,'Scenario 2'!AJ227)","v":1},{"$f":"IF($C$8=1,'Scenario 1'!AK227,'Scenario 2'!AK227)","v":1},{"$f":"IF($C$8=1,'Scenario 1'!AL227,'Scenario 2'!AL227)","v":1}]
[null,4,{"$f":"IF($C$8=1,'Scenario 1'!C235,'Scenario 2'!C235)","v":"Heifers<1yr old"},{"$f":"IF($C$8=1,'Scenario 1'!F235,'Scenario 2'!F235)","v":8.9},{"$f":"IF($C$8=1,'Scenario 1'!D235,'Scenario 2'!D235)","v":"Liquid"},{"$f":"IF($C$8=1,'Scenario 1'!E235,'Scenario 2'!E235)","v":8.9},null,null,"P2O5,  %",null,{"$f":"IF($C$8=1,'Scenario 1'!D251,'Scenario 2'!D251)","v":46},{"$f":"IF($C$8=1,'Scenario 1'!E251,'Scenario 2'!E251)","v":0},{"$f":"IF($C$8=1,'Scenario 1'!F251,'Scenario 2'!F251)","v":46},{"$f":"IF($C$8=1,'Scenario 1'!G251,'Scenario 2'!G251)","v":0},{"$f":"IF($C$8=1,'Scenario 1'!H251,'Scenario 2'!H251)","v":52},null,null,null,{"$f":"IF($C$8=1,'Scenario 1'!AD228,'Scenario 2'!AD228)","v":"Liquid Storage (LS)"},null,null,{"$f":"IF($C$8=1,'Scenario 1'!AG228,'Scenario 2'!AG228)","v":1},{"$f":"IF($C$8=1,'Scenario 1'!AH228,'Scenario 2'!AH228)","v":1},{"$f":"IF($C$8=1,'Scenario 1'!AI228,'Scenario 2'!AI228)","v":1},{"$f":"IF($C$8=1,'Scenario 1'!AJ228,'Scenario 2'!AJ228)","v":1},{"$f":"IF($C$8=1,'Scenario 1'!AK228,'Scenario 2'!AK228)","v":1},{"$f":"IF($C$8=1,'Scenario 1'!AL228,'Scenario 2'!AL228)","v":1}]
[null,5,{"$f":"IF($C$8=1,'Scenario 1'!C236,'Scenario 2'!C236)","v":"Heifers>1yr old"},{"$f":"IF($C$8=1,'Scenario 1'!F236,'Scenario 2'!F236)","v":8.9},{"$f":"IF($C$8=1,'Scenario 1'!D236,'Scenario 2'!D236)","v":"Liquid"},{"$f":"IF($C$8=1,'Scenario 1'!E236,'Scenario 2'!E236)","v":8.9},null,null,"K2O, %",null,{"$f":"IF($C$8=1,'Scenario 1'!D252,'Scenario 2'!D252)","v":0},{"$f":"IF($C$8=1,'Scenario 1'!E252,'Scenario 2'!E252)","v":0},{"$f":"IF($C$8=1,'Scenario 1'!F252,'Scenario 2'!F252)","v":0},{"$f":"IF($C$8=1,'Scenario 1'!G252,'Scenario 2'!G252)","v":60},{"$f":"IF($C$8=1,'Scenario 1'!H252,'Scenario 2'!H252)","v":0},null,null,null,{"$f":"IF($C$8=1,'Scenario 1'!AD229,'Scenario 2'!AD229)","v":"Bedded Pack (BP)"},null,null,{"$f":"IF($C$8=1,'Scenario 1'!AG229,'Scenario 2'!AG229)","v":0.92200000000000004},{"$f":"IF($C$8=1,'Scenario 1'!AH229,'Scenario 2'!AH229)","v":1},{"$f":"IF($C$8=1,'Scenario 1'!AI229,'Scenario 2'!AI229)","v":1},{"$f":"IF($C$8=1,'Scenario 1'!AJ229,'Scenario 2'!AJ229)","v":1},{"$f":"IF($C$8=1,'Scenario 1'!AK229,'Scenario 2'!AK229)","v":1},{"$f":"IF($C$8=1,'Scenario 1'!AL229,'Scenario 2'!AL229)","v":1}]
[null,null,null,null,null,null,null,null,"Na",null,{"$f":"IF($C$8=1,'Scenario 1'!D253,'Scenario 2'!D253)","v":0},{"$f":"IF($C$8=1,'Scenario 1'!E253,'Scenario 2'!E253)","v":0},{"$f":"IF($C$8=1,'Scenario 1'!F253,'Scenario 2'!F253)","v":0},{"$f":"IF($C$8=1,'Scenario 1'!G253,'Scenario 2'!G253)","v":0},{"$f":"IF($C$8=1,'Scenario 1'!H253,'Scenario 2'!H253)","v":0},null,null,null,{"$f":"IF($C$8=1,'Scenario 1'!AD230,'Scenario 2'!AD230)","v":"Stack (S)"},null,null,{"$f":"IF($C$8=1,'Scenario 1'!AG230,'Scenario 2'!AG230)","v":1},{"$f":"IF($C$8=1,'Scenario 1'!AH230,'Scenario 2'!AH230)","v":1},{"$f":"IF($C$8=1,'Scenario 1'!AI230,'Scenario 2'!AI230)","v":1},{"$f":"IF($C$8=1,'Scenario 1'!AJ230,'Scenario 2'!AJ230)","v":1},{"$f":"IF($C$8=1,'Scenario 1'!AK230,'Scenario 2'!AK230)","v":1},{"$f":"IF($C$8=1,'Scenario 1'!AL230,'Scenario 2'!AL230)","v":1}]
[null,null,"Type of storage facility by animal category:",null,null,null,null,null,"Cl",null,{"$f":"IF($C$8=1,'Scenario 1'!D254,'Scenario 2'!D254)","v":0},{"$f":"IF($C$8=1,'Scenario 1'!E254,'Scenario 2'!E254)","v":0},{"$f":"IF($C$8=1,'Scenario 1'!F254,'Scenario 2'!F254)","v":0},{"$f":"IF($C$8=1,'Scenario 1'!G254,'Scenario 2'!G254)","v":47.5},{"$f":"IF($C$8=1,'Scenario 1'!H254,'Scenario 2'!H254)","v":0},null,null,null,{"$f":"IF($C$8=1,'Scenario 1'!AD231,'Scenario 2'!AD231)","v":"Compost (C) "},null,null,{"$f":"IF($C$8=1,'Scenario 1'!AG231,'Scenario 2'!AG231)","v":0.48759999999999998},{"$f":"IF($C$8=1,'Scenario 1'!AH231,'Scenario 2'!AH231)","v":1},{"$f":"IF($C$8=1,'Scenario 1'!AI231,'Scenario 2'!AI231)","v":1},{"$f":"IF($C$8=1,'Scenario 1'!AJ231,'Scenario 2'!AJ231)","v":1},{"$f":"IF($C$8=1,'Scenario 1'!AK231,'Scenario 2'!AK231)","v":1},{"$f":"IF($C$8=1,'Scenario 1'!AL231,'Scenario 2'!AL231)","v":1}]
[null,null,null,null,null,null,null,null,"S",null,{"$f":"IF($C$8=1,'Scenario 1'!D255,'Scenario 2'!D255)","v":0},{"$f":"IF($C$8=1,'Scenario 1'!E255,'Scenario 2'!E255)","v":0},{"$f":"IF($C$8=1,'Scenario 1'!F255,'Scenario 2'!F255)","v":0},{"$f":"IF($C$8=1,'Scenario 1'!G255,'Scenario 2'!G255)","v":0},{"$f":"IF($C$8=1,'Scenario 1'!H255,'Scenario 2'!H255)","v":0},null,null,null,"Type of management of liquid storage facility:"]
[null,1,{"$f":"C272","v":"Early lactation"},{"$f":"IF($C$8=1,'Scenario 1'!J232,'Scenario 2'!J232)","v":"LS"},{"$f":"IF($C$8=1,'Scenario 1'!K232,'Scenario 2'!K232)","v":"Liquid Storage"},{"$f":"IF($C$8=1,'Scenario 1'!L232,'Scenario 2'!L232)","v":"Uncov. Top Loaded"},null,null,"Purchase price, $/t",null,{"$f":"IF($C$8=1,'Scenario 1'!D259,'Scenario 2'!D259)","v":755},{"$f":"IF($C$8=1,'Scenario 1'!E259,'Scenario 2'!E259)","v":381},{"$f":"IF($C$8=1,'Scenario 1'!F259,'Scenario 2'!F259)","v":715},{"$f":"IF($C$8=1,'Scenario 1'!G259,'Scenario 2'!G259)","v":700},{"$f":"IF($C$8=1,'Scenario 1'!H259,'Scenario 2'!H259)","v":755},{"$f":"IF($C$8=1,'Scenario 1'!I259,'Scenario 2'!I259)","v":0},{"$f":"IF($C$8=1,'Scenario 1'!J259,'Scenario 2'!J259)","v":0},null,{"$f":"IF($C$8=1,'Scenario 1'!AD233,'Scenario 2'!AD233)","v":"Covered"},null,null,{"$f":"IF($C$8=1,'Scenario 1'!AG233,'Scenario 2'!AG233)","v":1.0927},{"$f":"IF($C$8=1,'Scenario 1'!AH233,'Scenario 2'!AH233)","v":1},{"$f":"IF($C$8=1,'Scenario 1'!AI233,'Scenario 2'!AI233)","v":1},{"$f":"IF($C$8=1,'Scenario 1'!AJ233,'Scenario 2'!AJ233)","v":1},{"$f":"IF($C$8=1,'Scenario 1'!AK233,'Scenario 2'!AK233)","v":1},{"$f":"IF($C$8=1,'Scenario 1'!AL233,'Scenario 2'!AL233)","v":1}]
[null,2,{"$f":"C273","v":"Mid-late lac."},{"$f":"IF($C$8=1,'Scenario 1'!J233,'Scenario 2'!J233)","v":"LS"},{"$f":"IF($C$8=1,'Scenario 1'!K233,'Scenario 2'!K233)","v":"Liquid Storage"},{"$f":"IF($C$8=1,'Scenario 1'!L233,'Scenario 2'!L233)","v":"Uncov. Top Loaded"},null,null,"Fertilzer spreading cost, $/ha",null,null,null,null,null,null,null,null,null,{"$f":"IF($C$8=1,'Scenario 1'!AD234,'Scenario 2'!AD234)","v":"Uncov. Bottom Loaded"},null,null,{"$f":"IF($C$8=1,'Scenario 1'!AG234,'Scenario 2'!AG234)","v":1.0927},{"$f":"IF($C$8=1,'Scenario 1'!AH234,'Scenario 2'!AH234)","v":1},{"$f":"IF($C$8=1,'Scenario 1'!AI234,'Scenario 2'!AI234)","v":1},{"$f":"IF($C$8=1,'Scenario 1'!AJ234,'Scenario 2'!AJ234)","v":1},{"$f":"IF($C$8=1,'Scenario 1'!AK234,'Scenario 2'!AK234)","v":1},{"$f":"IF($C$8=1,'Scenario 1'!AL234,'Scenario 2'!AL234)","v":1}]
[null,3,{"$f":"C274","v":"Dry cows"},{"$f":"IF($C$8=1,'Scenario 1'!J234,'Scenario 2'!J234)","v":"LS"},{"$f":"IF($C$8=1,'Scenario 1'!K234,'Scenario 2'!K234)","v":"Liquid Storage"},{"$f":"IF($C$8=1,'Scenario 1'!L234,'Scenario 2'!L234)","v":"Uncov. Top Loaded"},null,null,null,{"$f":"IF($C$8=1,'Scenario 1'!F261,'Scenario 2'!F261)","v":0},null,null,null,null,null,null,null,null,{"$f":"IF($C$8=1,'Scenario 1'!AD235,'Scenario 2'!AD235)","v":"Uncov. Top Loaded"},null,null,{"$f":"IF($C$8=1,'Scenario 1'!AG235,'Scenario 2'!AG235)","v":0.96640000000000004},{"$f":"IF($C$8=1,'Scenario 1'!AH235,'Scenario 2'!AH235)","v":1},{"$f":"IF($C$8=1,'Scenario 1'!AI235,'Scenario 2'!AI235)","v":1},{"$f":"IF($C$8=1,'Scenario 1'!AJ235,'Scenario 2'!AJ235)","v":1},{"$f":"IF($C$8=1,'Scenario 1'!AK235,'Scenario 2'!AK235)","v":1},{"$f":"IF($C$8=1,'Scenario 1'!AL235,'Scenario 2'!AL235)","v":1}]
[null,4,{"$f":"C275","v":"Heifers<1yr old"},{"$f":"IF($C$8=1,'Scenario 1'!J235,'Scenario 2'!J235)","v":"LS"},{"$f":"IF($C$8=1,'Scenario 1'!K235,'Scenario 2'!K235)","v":"Liquid Storage"},{"$f":"IF($C$8=1,'Scenario 1'!L235,'Scenario 2'!L235)","v":"Uncov. Top Loaded"},null,null,"Manure spreading cost, $/t",null,null,null,null,null,null,null,null,null,"Method of Manure Spreading:"]
[null,5,{"$f":"C276","v":"Heifers>1yr old"},{"$f":"IF($C$8=1,'Scenario 1'!J236,'Scenario 2'!J236)","v":"LS"},{"$f":"IF($C$8=1,'Scenario 1'!K236,'Scenario 2'!K236)","v":"Liquid Storage"},{"$f":"IF($C$8=1,'Scenario 1'!L236,'Scenario 2'!L236)","v":"Uncov. Top Loaded"},null,null,"Land Unit 1",null,null,null,null,null,null,{"$f":"IF($C$8=1,'Scenario 1'!I263,'Scenario 2'!I263)","v":1.5},{"$f":"IF($C$8=1,'Scenario 1'!J263,'Scenario 2'!J263)","v":1.5},null,{"$f":"IF($C$8=1,'Scenario 1'!AD237,'Scenario 2'!AD237)","v":"Broadcast, no incorporation"},null,null,{"$f":"IF($C$8=1,'Scenario 1'!AG237,'Scenario 2'!AG237)","v":0.71},{"$f":"IF($C$8=1,'Scenario 1'!AH237,'Scenario 2'!AH237)","v":1},{"$f":"IF($C$8=1,'Scenario 1'!AI237,'Scenario 2'!AI237)","v":1},{"$f":"IF($C$8=1,'Scenario 1'!AJ237,'Scenario 2'!AJ237)","v":1},{"$f":"IF($C$8=1,'Scenario 1'!AK237,'Scenario 2'!AK237)","v":1},{"$f":"IF($C$8=1,'Scenario 1'!AL237,'Scenario 2'!AL237)","v":1}]
[null,null,null,null,null,null,null,null,"Land Unit 2",null,null,null,null,null,null,{"$f":"IF($C$8=1,'Scenario 1'!I264,'Scenario 2'!I264)","v":1.5},{"$f":"IF($C$8=1,'Scenario 1'!J264,'Scenario 2'!J264)","v":1.5},null,{"$f":"IF($C$8=1,'Scenario 1'!AD238,'Scenario 2'!AD238)","v":"Broadcast, incorporated within 48h"},null,null,{"$f":"IF($C$8=1,'Scenario 1'!AG238,'Scenario 2'!AG238)","v":0.77},{"$f":"IF($C$8=1,'Scenario 1'!AH238,'Scenario 2'!AH238)","v":1},{"$f":"IF($C$8=1,'Scenario 1'!AI238,'Scenario 2'!AI238)","v":1},{"$f":"IF($C$8=1,'Scenario 1'!AJ238,'Scenario 2'!AJ238)","v":1},{"$f":"IF($C$8=1,'Scenario 1'!AK238,'Scenario 2'!AK238)","v":1},{"$f":"IF($C$8=1,'Scenario 1'!AL238,'Scenario 2'!AL238)","v":1}]
[null,null,"Method of manure spreading by animal category:",null,null,null,null,null,"Land Unit 3",null,null,null,null,null,null,{"$f":"IF($C$8=1,'Scenario 1'!I265,'Scenario 2'!I265)","v":1.5},{"$f":"IF($C$8=1,'Scenario 1'!J265,'Scenario 2'!J265)","v":1.5},null,{"$f":"IF($C$8=1,'Scenario 1'!AD239,'Scenario 2'!AD239)","v":"Spray bar misting, no incorporation"},null,null,{"$f":"IF($C$8=1,'Scenario 1'!AG239,'Scenario 2'!AG239)","v":0.77},{"$f":"IF($C$8=1,'Scenario 1'!AH239,'Scenario 2'!AH239)","v":1},{"$f":"IF($C$8=1,'Scenario 1'!AI239,'Scenario 2'!AI239)","v":1},{"$f":"IF($C$8=1,'Scenario 1'!AJ239,'Scenario 2'!AJ239)","v":1},{"$f":"IF($C$8=1,'Scenario 1'!AK239,'Scenario 2'!AK239)","v":1},{"$f":"IF($C$8=1,'Scenario 1'!AL239,'Scenario 2'!AL239)","v":1}]
[null,null,null,null,null,null,null,null,"Land Unit 4",null,null,null,null,null,null,{"$f":"IF($C$8=1,'Scenario 1'!I266,'Scenario 2'!I266)","v":1.5},{"$f":"IF($C$8=1,'Scenario 1'!J266,'Scenario 2'!J266)","v":1.5},null,{"$f":"IF($C$8=1,'Scenario 1'!AD240,'Scenario 2'!AD240)","v":"Spray bar misting, incorporated within 48h"},null,null,{"$f":"IF($C$8=1,'Scenario 1'!AG240,'Scenario 2'!AG240)","v":0.83},{"$f":"IF($C$8=1,'Scenario 1'!AH240,'Scenario 2'!AH240)","v":1},{"$f":"IF($C$8=1,'Scenario 1'!AI240,'Scenario 2'!AI240)","v":1},{"$f":"IF($C$8=1,'Scenario 1'!AJ240,'Scenario 2'!AJ240)","v":1},{"$f":"IF($C$8=1,'Scenario 1'!AK240,'Scenario 2'!AK240)","v":1},{"$f":"IF($C$8=1,'Scenario 1'!AL240,'Scenario 2'!AL240)","v":1}]
[null,1,{"$f":"C280","v":"Early lactation"},{"$f":"IF($C$8=1,'Scenario 1'!D240,'Scenario 2'!D240:G240)","v":"Broadcast, no incorporation"},null,null,null,null,"Land Unit 5",null,null,null,null,null,null,{"$f":"IF($C$8=1,'Scenario 1'!I267,'Scenario 2'!I267)","v":1.5},{"$f":"IF($C$8=1,'Scenario 1'!J267,'Scenario 2'!J267)","v":1.5},null,{"$f":"IF($C$8=1,'Scenario 1'!AD241,'Scenario 2'!AD241)","v":"Knifing in"},null,null,{"$f":"IF($C$8=1,'Scenario 1'!AG241,'Scenario 2'!AG241)","v":1},{"$f":"IF($C$8=1,'Scenario 1'!AH241,'Scenario 2'!AH241)","v":1},{"$f":"IF($C$8=1,'Scenario 1'!AI241,'Scenario 2'!AI241)","v":1},{"$f":"IF($C$8=1,'Scenario 1'!AJ241,'Scenario 2'!AJ241)","v":1},{"$f":"IF($C$8=1,'Scenario 1'!AK241,'Scenario 2'!AK241)","v":1},{"$f":"IF($C$8=1,'Scenario 1'!AL241,'Scenario 2'!AL241)","v":1}]
[null,2,{"$f":"C281","v":"Mid-late lac."},{"$f":"IF($C$8=1,'Scenario 1'!D241,'Scenario 2'!D241:G241)","v":"Broadcast, no incorporation"},null,null,null,null,null,null,null,null,null,null,null,null,null,null,{"$f":"IF($C$8=1,'Scenario 1'!AD242,'Scenario 2'!AD242)","v":"Box spreader, no incorporation"},null,null,{"$f":"IF($C$8=1,'Scenario 1'!AG242,'Scenario 2'!AG242)","v":0.77},{"$f":"IF($C$8=1,'Scenario 1'!AH242,'Scenario 2'!AH242)","v":1},{"$f":"IF($C$8=1,'Scenario 1'!AI242,'Scenario 2'!AI242)","v":1},{"$f":"IF($C$8=1,'Scenario 1'!AJ242,'Scenario 2'!AJ242)","v":1},{"$f":"IF($C$8=1,'Scenario 1'!AK242,'Scenario 2'!AK242)","v":1},{"$f":"IF($C$8=1,'Scenario 1'!AL242,'Scenario 2'!AL242)","v":1}]
[null,3,{"$f":"C282","v":"Dry cows"},{"$f":"IF($C$8=1,'Scenario 1'!D242,'Scenario 2'!D242:G242)","v":"Broadcast, no incorporation"},null,null,null,null,null,null,null,null,null,null,null,null,null,null,{"$f":"IF($C$8=1,'Scenario 1'!AD243,'Scenario 2'!AD243)","v":"Box spreader, incorporated within 48h"},null,null,{"$f":"IF($C$8=1,'Scenario 1'!AG243,'Scenario 2'!AG243)","v":0.83},{"$f":"IF($C$8=1,'Scenario 1'!AH243,'Scenario 2'!AH243)","v":1},{"$f":"IF($C$8=1,'Scenario 1'!AI243,'Scenario 2'!AI243)","v":1},{"$f":"IF($C$8=1,'Scenario 1'!AJ243,'Scenario 2'!AJ243)","v":1},{"$f":"IF($C$8=1,'Scenario 1'!AK243,'Scenario 2'!AK243)","v":1},{"$f":"IF($C$8=1,'Scenario 1'!AL243,'Scenario 2'!AL243)","v":1}]
[null,4,{"$f":"C283","v":"Heifers<1yr old"},{"$f":"IF($C$8=1,'Scenario 1'!D243,'Scenario 2'!D243:G243)","v":"Broadcast, no incorporation"},null,null,null,null,"5.4 Maximum Manure Exported",null,null,null,null,null,null,"Solid","Liquid",null,"Pasture",null,null,{"$f":"IF($C$8=1,'Scenario 1'!AG244,'Scenario 2'!AG244)","v":0.77},{"$f":"IF($C$8=1,'Scenario 1'!AH244,'Scenario 2'!AH244)","v":1},{"$f":"IF($C$8=1,'Scenario 1'!AI244,'Scenario 2'!AI244)","v":1},{"$f":"IF($C$8=1,'Scenario 1'!AJ244,'Scenario 2'!AJ244)","v":1},{"$f":"IF($C$8=1,'Scenario 1'!AK244,'Scenario 2'!AK244)","v":1},{"$f":"IF($C$8=1,'Scenario 1'!AL244,'Scenario 2'!AL244)","v":1}]
[null,5,{"$f":"C284","v":"Heifers>1yr old"},{"$f":"IF($C$8=1,'Scenario 1'!D244,'Scenario 2'!D244:G244)","v":"Broadcast, no incorporation"},null,null,null,null,"Cost to export manure, $/t",null,null,null,null,null,null,{"$f":"IF($C$8=1,'Scenario 1'!I272,'Scenario 2'!I272)","v":6},{"$f":"IF($C$8=1,'Scenario 1'!J272,'Scenario 2'!J272)","v":6},null,"Moment of Manure Spreading"]
[null,null,null,null,null,null,null,null,"Maximum manure exported, t/yr",null,null,null,null,null,null,{"$f":"IF($C$8=1,'Scenario 1'!I271,IF($C$8=2,'Scenario 2'!I271))","v":0},{"$f":"IF($C$8=1,'Scenario 1'!J271,IF($C$8=2,'Scenario 2'!J271))","v":0},null,"Liquid Manure Spread in Spring and Summer",null,null,{"$f":"IF($C$8=1,'Scenario 1'!AG246,'Scenario 2'!AG246)","v":0.91},{"$f":"IF($C$8=1,'Scenario 1'!AH246,'Scenario 2'!AH246)","v":1},{"$f":"IF($C$8=1,'Scenario 1'!AI246,'Scenario 2'!AI246)","v":1},{"$f":"IF($C$8=1,'Scenario 1'!AJ246,'Scenario 2'!AJ246)","v":1},{"$f":"IF($C$8=1,'Scenario 1'!AK246,'Scenario 2'!AK246)","v":1},{"$f":"IF($C$8=1,'Scenario 1'!AL246,'Scenario 2'!AL246)","v":1}]
[null,null,"% of Manure spread after harvest",null,null,null,null,null,null,null,null,null,null,null,null,null,null,null,"Liquid Manure Spread after Harvest",null,null,{"$f":"IF($C$8=1,'Scenario 1'!AG247,'Scenario 2'!AG247)","v":0.63},{"$f":"IF($C$8=1,'Scenario 1'!AH247,'Scenario 2'!AH247)","v":0.625},{"$f":"IF($C$8=1,'Scenario 1'!AI247,'Scenario 2'!AI247)","v":0.77},{"$f":"IF($C$8=1,'Scenario 1'!AJ247,'Scenario 2'!AJ247)","v":1},{"$f":"IF($C$8=1,'Scenario 1'!AK247,'Scenario 2'!AK247)","v":1},{"$f":"IF($C$8=1,'Scenario 1'!AL247,'Scenario 2'!AL247)","v":1}]
[null,null,null,null,"%",null,null,null,null,null,null,null,null,null,null,null,null,null,"Solid Manure Spread in Spring and Summer",null,null,{"$f":"IF($C$8=1,'Scenario 1'!AG248,'Scenario 2'!AG248)","v":1},{"$f":"IF($C$8=1,'Scenario 1'!AH248,'Scenario 2'!AH248)","v":1},{"$f":"IF($C$8=1,'Scenario 1'!AI248,'Scenario 2'!AI248)","v":1},{"$f":"IF($C$8=1,'Scenario 1'!AJ248,'Scenario 2'!AJ248)","v":1},{"$f":"IF($C$8=1,'Scenario 1'!AK248,'Scenario 2'!AK248)","v":1},{"$f":"IF($C$8=1,'Scenario 1'!AL248,'Scenario 2'!AL248)","v":1}]
[null,1,{"$f":"C288","v":"Early lactation"},{"$f":"IF($C$8=1,'Scenario 1'!J240,'Scenario 2'!J240)","v":"Liquid"},{"$f":"IF($C$8=1,'Scenario 1'!K240,'Scenario 2'!K240)","v":20},null,null,null,null,null,null,null,null,null,null,null,null,null,"Solid Manure Spread after Harvest",null,null,{"$f":"IF($C$8=1,'Scenario 1'!AG249,'Scenario 2'!AG249)","v":0.77},{"$f":"IF($C$8=1,'Scenario 1'!AH249,'Scenario 2'!AH249)","v":0.625},{"$f":"IF($C$8=1,'Scenario 1'!AI249,'Scenario 2'!AI249)","v":0.77},{"$f":"IF($C$8=1,'Scenario 1'!AJ249,'Scenario 2'!AJ249)","v":1},{"$f":"IF($C$8=1,'Scenario 1'!AK249,'Scenario 2'!AK249)","v":1},{"$f":"IF($C$8=1,'Scenario 1'!AL249,'Scenario 2'!AL249)","v":1}]
[null,2,{"$f":"C289","v":"Mid-late lac."},{"$f":"IF($C$8=1,'Scenario 1'!J241,'Scenario 2'!J241)","v":"Liquid"},{"$f":"IF($C$8=1,'Scenario 1'!K241,'Scenario 2'!K241)","v":20},null,null,null,null,null,null,null,null,null,null,null,null,null,"Crop efficiency ratio:"]
[null,3,{"$f":"C290","v":"Dry cows"},{"$f":"IF($C$8=1,'Scenario 1'!J242,'Scenario 2'!J242)","v":"Liquid"},{"$f":"IF($C$8=1,'Scenario 1'!K242,'Scenario 2'!K242)","v":20},null,null,null,null,null,null,null,null,null,null,null,null,null,"Liquid Manure",null,null,{"$f":"IF($C$8=1,'Scenario 1'!AG251,'Scenario 2'!AG251)","v":0.6},{"$f":"IF($C$8=1,'Scenario 1'!AH251,'Scenario 2'!AH251)","v":0.8},{"$f":"IF($C$8=1,'Scenario 1'!AI251,'Scenario 2'!AI251)","v":0.9},{"$f":"IF($C$8=1,'Scenario 1'!AJ251,'Scenario 2'!AJ251)","v":1},{"$f":"IF($C$8=1,'Scenario 1'!AK251,'Scenario 2'!AK251)","v":1},{"$f":"IF($C$8=1,'Scenario 1'!AL251,'Scenario 2'!AL251)","v":1}]
[null,4,{"$f":"C291","v":"Heifers<1yr old"},{"$f":"IF($C$8=1,'Scenario 1'!J243,'Scenario 2'!J243)","v":"Liquid"},{"$f":"IF($C$8=1,'Scenario 1'!K243,'Scenario 2'!K243)","v":20},null,null,null,null,null,null,null,null,null,null,null,null,null,"Solid Manure",null,null,{"$f":"IF($C$8=1,'Scenario 1'!AG252,'Scenario 2'!AG252)","v":0.55000000000000004},{"$f":"IF($C$8=1,'Scenario 1'!AH252,'Scenario 2'!AH252)","v":0.65},{"$f":"IF($C$8=1,'Scenario 1'!AI252,'Scenario 2'!AI252)","v":0.9},{"$f":"IF($C$8=1,'Scenario 1'!AJ252,'Scenario 2'!AJ252)","v":1},{"$f":"IF($C$8=1,'Scenario 1'!AK252,'Scenario 2'!AK252)","v":1},{"$f":"IF($C$8=1,'Scenario 1'!AL252,'Scenario 2'!AL252)","v":1}]
[null,5,{"$f":"C292","v":"Heifers>1yr old"},{"$f":"IF($C$8=1,'Scenario 1'!J244,'Scenario 2'!J244)","v":"Liquid"},{"$f":"IF($C$8=1,'Scenario 1'!K244,'Scenario 2'!K244)","v":20},null,null,null,null,null,null,null,null,null,null,null,null,null,"Pasture",null,null,{"$f":"IF($C$8=1,'Scenario 1'!AG253,'Scenario 2'!AG253)","v":0.6},{"$f":"IF($C$8=1,'Scenario 1'!AH253,'Scenario 2'!AH253)","v":0.8},{"$f":"IF($C$8=1,'Scenario 1'!AI253,'Scenario 2'!AI253)","v":0.9},{"$f":"IF($C$8=1,'Scenario 1'!AJ253,'Scenario 2'!AJ253)","v":1},{"$f":"IF($C$8=1,'Scenario 1'!AK253,'Scenario 2'!AK253)","v":1},{"$f":"IF($C$8=1,'Scenario 1'!AL253,'Scenario 2'!AL253)","v":1}]
[]
[]
[]
[]
[]
[]
[]
[]
[]
["6. Crop Requirement inputs"]
["6.1 Areas of Land Units:"]
[null,null,"ha"]
[null,{"$f":"IF($C$8=1,'Scenario 1'!B278,'Scenario 2'!B278)","v":"LU 1"},{"$f":"IF($C$8=1,'Scenario 1'!E278,'Scenario 2'!E278)","v":50.4}]
[null,{"$f":"IF($C$8=1,'Scenario 1'!B279,'Scenario 2'!B279)","v":"LU 2"},{"$f":"IF($C$8=1,'Scenario 1'!E279,'Scenario 2'!E279)","v":0}]
[null,{"$f":"IF($C$8=1,'Scenario 1'!B280,'Scenario 2'!B280)","v":"LU 3"},{"$f":"IF($C$8=1,'Scenario 1'!E280,'Scenario 2'!E280)","v":50.4}]
[null,{"$f":"IF($C$8=1,'Scenario 1'!B281,'Scenario 2'!B281)","v":"LU 4"},{"$f":"IF($C$8=1,'Scenario 1'!E281,'Scenario 2'!E281)","v":0}]
[null,{"$f":"IF($C$8=1,'Scenario 1'!B282,'Scenario 2'!B282)","v":"LU 5"},{"$f":"IF($C$8=1,'Scenario 1'!E282,'Scenario 2'!E282)","v":50.4}]
[null,"Total",{"$f":"IF($C$8=1,'Scenario 1'!E283,'Scenario 2'!E283)","v":151.19999999999999}]
[]
[]
[]
[]
[]
[]
[]
[]
["6.2 Rotations, Crop Yields, N-Fixation, NPK Required and Cost of Production in each Land Units"]
[null,"Land Unit 1","Rotation 1 name:",null,{"$f":"IF($C$8=1,'Scenario 1'!T278,'Scenario 2'!T278)","v":"CCC"},null,null,null,null,null,null,null,"Rotation 2 name:",null,{"$f":"IF($C$8=1,'Scenario 1'!AD278,'Scenario 2'!AD278)","v":"SCC"},null,null,null,null,null,null,null,"Rotation 3 name:",null,{"$f":"IF($C$8=1,'Scenario 1'!AN278,'Scenario 2'!AN278)","v":"CCAAA"},null,null,null,null,null,null,null,"Rotation 4 name:",null,{"$f":"IF($C$8=1,'Scenario 1'!AX278,'Scenario 2'!AX278)","v":"CCCSCAAA"},null,null,null,null,null,null,null,"Rotation 5 name:",null,{"$f":"IF($C$8=1,'Scenario 1'!BH278,'Scenario 2'!BH278)","v":"       CCCSWAAA"}]
[null,"Crops:",{"$f":"IF($C$8=1,'Scenario 1'!R279,'Scenario 2'!R279)","v":"CoGr-27"},{"$f":"IF($C$8=1,'Scenario 1'!S279,'Scenario 2'!S279)","v":0},{"$f":"IF($C$8=1,'Scenario 1'!T279,'Scenario 2'!T279)","v":0},{"$f":"IF($C$8=1,'Scenario 1'!U279,'Scenario 2'!U279)","v":0},{"$f":"IF($C$8=1,'Scenario 1'!V279,'Scenario 2'!V279)","v":0},{"$f":"IF($C$8=1,'Scenario 1'!W279,'Scenario 2'!W279)","v":0},{"$f":"IF($C$8=1,'Scenario 1'!X279,'Scenario 2'!X279)","v":0},{"$f":"IF($C$8=1,'Scenario 1'!Y279,'Scenario 2'!Y279)","v":0},{"$f":"IF($C$8=1,'Scenario 1'!Z279,'Scenario 2'!Z279)","v":0},{"$f":"IF($C$8=1,'Scenario 1'!AA279,'Scenario 2'!AA279)","v":0},{"$f":"IF($C$8=1,'Scenario 1'!AB279,'Scenario 2'!AB279)","v":"SBw-108"},{"$f":"IF($C$8=1,'Scenario 1'!AC279,'Scenario 2'!AC279)","v":"CoGr-27"},{"$f":"IF($C$8=1,'Scenario 1'!AD279,'Scenario 2'!AD279)","v":0},{"$f":"IF($C$8=1,'Scenario 1'!AE279,'Scenario 2'!AE279)","v":"CoSi-35"},{"$f":"IF($C$8=1,'Scenario 1'!AF279,'Scenario 2'!AF279)","v":0},{"$f":"IF($C$8=1,'Scenario 1'!AG279,'Scenario 2'!AG279)","v":0},{"$f":"IF($C$8=1,'Scenario 1'!AH279,'Scenario 2'!AH279)","v":0},{"$f":"IF($C$8=1,'Scenario 1'!AI279,'Scenario 2'!AI279)","v":0},{"$f":"IF($C$8=1,'Scenario 1'!AJ279,'Scenario 2'!AJ279)","v":0},{"$f":"IF($C$8=1,'Scenario 1'!AK279,'Scenario 2'!AK279)","v":0},{"$f":"IF($C$8=1,'Scenario 1'!AL279,'Scenario 2'!AL279)","v":"CoSi-35"},{"$f":"IF($C$8=1,'Scenario 1'!AM279,'Scenario 2'!AM279)","v":"CoGr-27"},{"$f":"IF($C$8=1,'Scenario 1'!AN279,'Scenario 2'!AN279)","v":0},{"$f":"IF($C$8=1,'Scenario 1'!AO279,'Scenario 2'!AO279)","v":"AlSi-83"},{"$f":"IF($C$8=1,'Scenario 1'!AP279,'Scenario 2'!AP279)","v":"AlSi-83"},{"$f":"IF($C$8=1,'Scenario 1'!AQ279,'Scenario 2'!AQ279)","v":"MxSi-74"},{"$f":"IF($C$8=1,'Scenario 1'!AR279,'Scenario 2'!AR279)","v":0},{"$f":"IF($C$8=1,'Scenario 1'!AS279,'Scenario 2'!AS279)","v":0},{"$f":"IF($C$8=1,'Scenario 1'!AT279,'Scenario 2'!AT279)","v":0},{"$f":"IF($C$8=1,'Scenario 1'!AU279,'Scenario 2'!AU279)","v":0},{"$f":"IF($C$8=1,'Scenario 1'!AV279,'Scenario 2'!AV279)","v":"CoSi-35"},{"$f":"IF($C$8=1,'Scenario 1'!AW279,'Scenario 2'!AW279)","v":"CoGr-27"},{"$f":"IF($C$8=1,'Scenario 1'!AX279,'Scenario 2'!AX279)","v":0},{"$f":"IF($C$8=1,'Scenario 1'!AY279,'Scenario 2'!AY279)","v":"CoSi-35"},{"$f":"IF($C$8=1,'Scenario 1'!AZ279,'Scenario 2'!AZ279)","v":"SBw-108"},{"$f":"IF($C$8=1,'Scenario 1'!BA279,'Scenario 2'!BA279)","v":"CoGr-27"},{"$f":"IF($C$8=1,'Scenario 1'!BB279,'Scenario 2'!BB279)","v":0},{"$f":"IF($C$8=1,'Scenario 1'!BC279,'Scenario 2'!BC279)","v":"AlSi-83"},{"$f":"IF($C$8=1,'Scenario 1'!BD279,'Scenario 2'!BD279)","v":"AlSi-83"},{"$f":"IF($C$8=1,'Scenario 1'!BE279,'Scenario 2'!BE279)","v":"MxSi-74"},{"$f":"IF($C$8=1,'Scenario 1'!BF279,'Scenario 2'!BF279)","v":"CoSi-35"},{"$f":"IF($C$8=1,'Scenario 1'!BG279,'Scenario 2'!BG279)","v":"CoGr-27"},{"$f":"IF($C$8=1,'Scenario 1'!BH279,'Scenario 2'!BH279)","v":0},{"$f":"IF($C$8=1,'Scenario 1'!BI279,'Scenario 2'!BI279)","v":"CoSi-35"},{"$f":"IF($C$8=1,'Scenario 1'!BJ279,'Scenario 2'!BJ279)","v":"SBw-108"},{"$f":"IF($C$8=1,'Scenario 1'!BK279,'Scenario 2'!BK279)","v":"Wheat-116"},{"$f":"IF($C$8=1,'Scenario 1'!BL279,'Scenario 2'!BL279)","v":"Straw-120"},{"$f":"IF($C$8=1,'Scenario 1'!BM279,'Scenario 2'!BM279)","v":"AlSi-83"},{"$f":"IF($C$8=1,'Scenario 1'!BN279,'Scenario 2'!BN279)","v":"AlSi-83"},{"$f":"IF($C$8=1,'Scenario 1'!BO279,'Scenario 2'!BO279)","v":"MxSi-74"}]
[null,"Year",{"$f":"IF($C$8=1,'Scenario 1'!R280,'Scenario 2'!R280)","v":1},{"$f":"IF($C$8=1,'Scenario 1'!S280,'Scenario 2'!S280)","v":0},{"$f":"IF($C$8=1,'Scenario 1'!T280,'Scenario 2'!T280)","v":0},{"$f":"IF($C$8=1,'Scenario 1'!U280,'Scenario 2'!U280)","v":0},{"$f":"IF($C$8=1,'Scenario 1'!V280,'Scenario 2'!V280)","v":0},{"$f":"IF($C$8=1,'Scenario 1'!W280,'Scenario 2'!W280)","v":0},{"$f":"IF($C$8=1,'Scenario 1'!X280,'Scenario 2'!X280)","v":0},{"$f":"IF($C$8=1,'Scenario 1'!Y280,'Scenario 2'!Y280)","v":0},{"$f":"IF($C$8=1,'Scenario 1'!Z280,'Scenario 2'!Z280)","v":0},{"$f":"IF($C$8=1,'Scenario 1'!AA280,'Scenario 2'!AA280)","v":0},{"$f":"IF($C$8=1,'Scenario 1'!AB280,'Scenario 2'!AB280)","v":1},{"$f":"IF($C$8=1,'Scenario 1'!AC280,'Scenario 2'!AC280)","v":2},{"$f":"IF($C$8=1,'Scenario 1'!AD280,'Scenario 2'!AD280)","v":0},{"$f":"IF($C$8=1,'Scenario 1'!AE280,'Scenario 2'!AE280)","v":3},{"$f":"IF($C$8=1,'Scenario 1'!AF280,'Scenario 2'!AF280)","v":0},{"$f":"IF($C$8=1,'Scenario 1'!AG280,'Scenario 2'!AG280)","v":0},{"$f":"IF($C$8=1,'Scenario 1'!AH280,'Scenario 2'!AH280)","v":0},{"$f":"IF($C$8=1,'Scenario 1'!AI280,'Scenario 2'!AI280)","v":0},{"$f":"IF($C$8=1,'Scenario 1'!AJ280,'Scenario 2'!AJ280)","v":0},{"$f":"IF($C$8=1,'Scenario 1'!AK280,'Scenario 2'!AK280)","v":0},{"$f":"IF($C$8=1,'Scenario 1'!AL280,'Scenario 2'!AL280)","v":1},{"$f":"IF($C$8=1,'Scenario 1'!AM280,'Scenario 2'!AM280)","v":2},{"$f":"IF($C$8=1,'Scenario 1'!AN280,'Scenario 2'!AN280)","v":0},{"$f":"IF($C$8=1,'Scenario 1'!AO280,'Scenario 2'!AO280)","v":3},{"$f":"IF($C$8=1,'Scenario 1'!AP280,'Scenario 2'!AP280)","v":4},{"$f":"IF($C$8=1,'Scenario 1'!AQ280,'Scenario 2'!AQ280)","v":5},{"$f":"IF($C$8=1,'Scenario 1'!AR280,'Scenario 2'!AR280)","v":0},{"$f":"IF($C$8=1,'Scenario 1'!AS280,'Scenario 2'!AS280)","v":0},{"$f":"IF($C$8=1,'Scenario 1'!AT280,'Scenario 2'!AT280)","v":0},{"$f":"IF($C$8=1,'Scenario 1'!AU280,'Scenario 2'!AU280)","v":0},{"$f":"IF($C$8=1,'Scenario 1'!AV280,'Scenario 2'!AV280)","v":1},{"$f":"IF($C$8=1,'Scenario 1'!AW280,'Scenario 2'!AW280)","v":2},{"$f":"IF($C$8=1,'Scenario 1'!AX280,'Scenario 2'!AX280)","v":0},{"$f":"IF($C$8=1,'Scenario 1'!AY280,'Scenario 2'!AY280)","v":3},{"$f":"IF($C$8=1,'Scenario 1'!AZ280,'Scenario 2'!AZ280)","v":4},{"$f":"IF($C$8=1,'Scenario 1'!BA280,'Scenario 2'!BA280)","v":5},{"$f":"IF($C$8=1,'Scenario 1'!BB280,'Scenario 2'!BB280)","v":0},{"$f":"IF($C$8=1,'Scenario 1'!BC280,'Scenario 2'!BC280)","v":6},{"$f":"IF($C$8=1,'Scenario 1'!BD280,'Scenario 2'!BD280)","v":7},{"$f":"IF($C$8=1,'Scenario 1'!BE280,'Scenario 2'!BE280)","v":8},{"$f":"IF($C$8=1,'Scenario 1'!BF280,'Scenario 2'!BF280)","v":1},{"$f":"IF($C$8=1,'Scenario 1'!BG280,'Scenario 2'!BG280)","v":2},{"$f":"IF($C$8=1,'Scenario 1'!BH280,'Scenario 2'!BH280)","v":0},{"$f":"IF($C$8=1,'Scenario 1'!BI280,'Scenario 2'!BI280)","v":3},{"$f":"IF($C$8=1,'Scenario 1'!BJ280,'Scenario 2'!BJ280)","v":4},{"$f":"IF($C$8=1,'Scenario 1'!BK280,'Scenario 2'!BK280)","v":5},{"$f":"IF($C$8=1,'Scenario 1'!BL280,'Scenario 2'!BL280)","v":5},{"$f":"IF($C$8=1,'Scenario 1'!BM280,'Scenario 2'!BM280)","v":6},{"$f":"IF($C$8=1,'Scenario 1'!BN280,'Scenario 2'!BN280)","v":7},{"$f":"IF($C$8=1,'Scenario 1'!BO280,'Scenario 2'!BO280)","v":8}]
[null,"Yield, t DM/yr",{"$f":"IF($C$8=1,'Scenario 1'!R281,'Scenario 2'!R281)","v":8.3505154639175263},{"$f":"IF($C$8=1,'Scenario 1'!S281,'Scenario 2'!S281)","v":0},{"$f":"IF($C$8=1,'Scenario 1'!T281,'Scenario 2'!T281)","v":0},{"$f":"IF($C$8=1,'Scenario 1'!U281,'Scenario 2'!U281)","v":0},{"$f":"IF($C$8=1,'Scenario 1'!V281,'Scenario 2'!V281)","v":0},{"$f":"IF($C$8=1,'Scenario 1'!W281,'Scenario 2'!W281)","v":0},{"$f":"IF($C$8=1,'Scenario 1'!X281,'Scenario 2'!X281)","v":0},{"$f":"IF($C$8=1,'Scenario 1'!Y281,'Scenario 2'!Y281)","v":0},{"$f":"IF($C$8=1,'Scenario 1'!Z281,'Scenario 2'!Z281)","v":0},{"$f":"IF($C$8=1,'Scenario 1'!AA281,'Scenario 2'!AA281)","v":0},{"$f":"IF($C$8=1,'Scenario 1'!AB281,'Scenario 2'!AB281)","v":2.9484536082474224},{"$f":"IF($C$8=1,'Scenario 1'!AC281,'Scenario 2'!AC281)","v":9.2783505154639183},{"$f":"IF($C$8=1,'Scenario 1'!AD281,'Scenario 2'!AD281)","v":0},{"$f":"IF($C$8=1,'Scenario 1'!AE281,'Scenario 2'!AE281)","v":18.470588235294116},{"$f":"IF($C$8=1,'Scenario 1'!AF281,'Scenario 2'!AF281)","v":0},{"$f":"IF($C$8=1,'Scenario 1'!AG281,'Scenario 2'!AG281)","v":0},{"$f":"IF($C$8=1,'Scenario 1'!AH281,'Scenario 2'!AH281)","v":0},{"$f":"IF($C$8=1,'Scenario 1'!AI281,'Scenario 2'!AI281)","v":0},{"$f":"IF($C$8=1,'Scenario 1'!AJ281,'Scenario 2'!AJ281)","v":0},{"$f":"IF($C$8=1,'Scenario 1'!AK281,'Scenario 2'!AK281)","v":0},{"$f":"IF($C$8=1,'Scenario 1'!AL281,'Scenario 2'!AL281)","v":19.411764705882355},{"$f":"IF($C$8=1,'Scenario 1'!AM281,'Scenario 2'!AM281)","v":8.7628865979381452},{"$f":"IF($C$8=1,'Scenario 1'!AN281,'Scenario 2'!AN281)","v":0},{"$f":"IF($C$8=1,'Scenario 1'!AO281,'Scenario 2'!AO281)","v":4.625},{"$f":"IF($C$8=1,'Scenario 1'!AP281,'Scenario 2'!AP281)","v":10.874999999999998},{"$f":"IF($C$8=1,'Scenario 1'!AQ281,'Scenario 2'!AQ281)","v":9.4999999999999982},{"$f":"IF($C$8=1,'Scenario 1'!AR281,'Scenario 2'!AR281)","v":0},{"$f":"IF($C$8=1,'Scenario 1'!AS281,'Scenario 2'!AS281)","v":0},{"$f":"IF($C$8=1,'Scenario 1'!AT281,'Scenario 2'!AT281)","v":0},{"$f":"IF($C$8=1,'Scenario 1'!AU281,'Scenario 2'!AU281)","v":0},{"$f":"IF($C$8=1,'Scenario 1'!AV281,'Scenario 2'!AV281)","v":19.411764705882355},{"$f":"IF($C$8=1,'Scenario 1'!AW281,'Scenario 2'!AW281)","v":8.8041237113402051},{"$f":"IF($C$8=1,'Scenario 1'!AX281,'Scenario 2'!AX281)","v":0},{"$f":"IF($C$8=1,'Scenario 1'!AY281,'Scenario 2'!AY281)","v":18.470588235294116},{"$f":"IF($C$8=1,'Scenario 1'!AZ281,'Scenario 2'!AZ281)","v":2.9896907216494846},{"$f":"IF($C$8=1,'Scenario 1'!BA281,'Scenario 2'!BA281)","v":9.2783505154639183},{"$f":"IF($C$8=1,'Scenario 1'!BB281,'Scenario 2'!BB281)","v":0},{"$f":"IF($C$8=1,'Scenario 1'!BC281,'Scenario 2'!BC281)","v":4.625},{"$f":"IF($C$8=1,'Scenario 1'!BD281,'Scenario 2'!BD281)","v":10.874999999999998},{"$f":"IF($C$8=1,'Scenario 1'!BE281,'Scenario 2'!BE281)","v":9.4999999999999982},{"$f":"IF($C$8=1,'Scenario 1'!BF281,'Scenario 2'!BF281)","v":19.411764705882355},{"$f":"IF($C$8=1,'Scenario 1'!BG281,'Scenario 2'!BG281)","v":8.7628865979381452},{"$f":"IF($C$8=1,'Scenario 1'!BH281,'Scenario 2'!BH281)","v":0},{"$f":"IF($C$8=1,'Scenario 1'!BI281,'Scenario 2'!BI281)","v":18.470588235294116},{"$f":"IF($C$8=1,'Scenario 1'!BJ281,'Scenario 2'!BJ281)","v":2.9896907216494846},{"$f":"IF($C$8=1,'Scenario 1'!BK281,'Scenario 2'!BK281)","v":3.5051546391752577},{"$f":"IF($C$8=1,'Scenario 1'!BL281,'Scenario 2'!BL281)","v":1.6},{"$f":"IF($C$8=1,'Scenario 1'!BM281,'Scenario 2'!BM281)","v":4.625},{"$f":"IF($C$8=1,'Scenario 1'!BN281,'Scenario 2'!BN281)","v":10.874999999999998},{"$f":"IF($C$8=1,'Scenario 1'!BO281,'Scenario 2'!BO281)","v":9.4999999999999982}]
[null,"N,  kg/ha",{"$f":"IF($C$8=1,'Scenario 1'!R282,'Scenario 2'!R282)","v":159},{"$f":"IF($C$8=1,'Scenario 1'!S282,'Scenario 2'!S282)","v":0},{"$f":"IF($C$8=1,'Scenario 1'!T282,'Scenario 2'!T282)","v":0},{"$f":"IF($C$8=1,'Scenario 1'!U282,'Scenario 2'!U282)","v":0},{"$f":"IF($C$8=1,'Scenario 1'!V282,'Scenario 2'!V282)","v":0},{"$f":"IF($C$8=1,'Scenario 1'!W282,'Scenario 2'!W282)","v":0},{"$f":"IF($C$8=1,'Scenario 1'!X282,'Scenario 2'!X282)","v":0},{"$f":"IF($C$8=1,'Scenario 1'!Y282,'Scenario 2'!Y282)","v":0},{"$f":"IF($C$8=1,'Scenario 1'!Z282,'Scenario 2'!Z282)","v":0},{"$f":"IF($C$8=1,'Scenario 1'!AA282,'Scenario 2'!AA282)","v":0},{"$f":"IF($C$8=1,'Scenario 1'!AB282,'Scenario 2'!AB282)","v":0},{"$f":"IF($C$8=1,'Scenario 1'!AC282,'Scenario 2'!AC282)","v":114.2},{"$f":"IF($C$8=1,'Scenario 1'!AD282,'Scenario 2'!AD282)","v":0},{"$f":"IF($C$8=1,'Scenario 1'!AE282,'Scenario 2'!AE282)","v":159},{"$f":"IF($C$8=1,'Scenario 1'!AF282,'Scenario 2'!AF282)","v":0},{"$f":"IF($C$8=1,'Scenario 1'!AG282,'Scenario 2'!AG282)","v":0},{"$f":"IF($C$8=1,'Scenario 1'!AH282,'Scenario 2'!AH282)","v":0},{"$f":"IF($C$8=1,'Scenario 1'!AI282,'Scenario 2'!AI282)","v":0},{"$f":"IF($C$8=1,'Scenario 1'!AJ282,'Scenario 2'!AJ282)","v":0},{"$f":"IF($C$8=1,'Scenario 1'!AK282,'Scenario 2'!AK282)","v":0},{"$f":"IF($C$8=1,'Scenario 1'!AL282,'Scenario 2'!AL282)","v":23},{"$f":"IF($C$8=1,'Scenario 1'!AM282,'Scenario 2'!AM282)","v":103},{"$f":"IF($C$8=1,'Scenario 1'!AN282,'Scenario 2'!AN282)","v":0},{"$f":"IF($C$8=1,'Scenario 1'!AO282,'Scenario 2'!AO282)","v":0},{"$f":"IF($C$8=1,'Scenario 1'!AP282,'Scenario 2'!AP282)","v":0},{"$f":"IF($C$8=1,'Scenario 1'!AQ282,'Scenario 2'!AQ282)","v":0},{"$f":"IF($C$8=1,'Scenario 1'!AR282,'Scenario 2'!AR282)","v":0},{"$f":"IF($C$8=1,'Scenario 1'!AS282,'Scenario 2'!AS282)","v":0},{"$f":"IF($C$8=1,'Scenario 1'!AT282,'Scenario 2'!AT282)","v":0},{"$f":"IF($C$8=1,'Scenario 1'!AU282,'Scenario 2'!AU282)","v":0},{"$f":"IF($C$8=1,'Scenario 1'!AV282,'Scenario 2'!AV282)","v":23},{"$f":"IF($C$8=1,'Scenario 1'!AW282,'Scenario 2'!AW282)","v":103},{"$f":"IF($C$8=1,'Scenario 1'!AX282,'Scenario 2'!AX282)","v":0},{"$f":"IF($C$8=1,'Scenario 1'!AY282,'Scenario 2'!AY282)","v":159},{"$f":"IF($C$8=1,'Scenario 1'!AZ282,'Scenario 2'!AZ282)","v":0},{"$f":"IF($C$8=1,'Scenario 1'!BA282,'Scenario 2'!BA282)","v":114.2},{"$f":"IF($C$8=1,'Scenario 1'!BB282,'Scenario 2'!BB282)","v":0},{"$f":"IF($C$8=1,'Scenario 1'!BC282,'Scenario 2'!BC282)","v":0},{"$f":"IF($C$8=1,'Scenario 1'!BD282,'Scenario 2'!BD282)","v":0},{"$f":"IF($C$8=1,'Scenario 1'!BE282,'Scenario 2'!BE282)","v":0},{"$f":"IF($C$8=1,'Scenario 1'!BF282,'Scenario 2'!BF282)","v":23},{"$f":"IF($C$8=1,'Scenario 1'!BG282,'Scenario 2'!BG282)","v":103},{"$f":"IF($C$8=1,'Scenario 1'!BH282,'Scenario 2'!BH282)","v":0},{"$f":"IF($C$8=1,'Scenario 1'!BI282,'Scenario 2'!BI282)","v":159},{"$f":"IF($C$8=1,'Scenario 1'!BJ282,'Scenario 2'!BJ282)","v":0},{"$f":"IF($C$8=1,'Scenario 1'!BK282,'Scenario 2'!BK282)","v":22.200000000000003},{"$f":"IF($C$8=1,'Scenario 1'!BL282,'Scenario 2'!BL282)","v":0},{"$f":"IF($C$8=1,'Scenario 1'!BM282,'Scenario 2'!BM282)","v":0},{"$f":"IF($C$8=1,'Scenario 1'!BN282,'Scenario 2'!BN282)","v":0},{"$f":"IF($C$8=1,'Scenario 1'!BO282,'Scenario 2'!BO282)","v":0}]
[null,"P2O5,  kg/ha",{"$f":"IF($C$8=1,'Scenario 1'!R283,'Scenario 2'!R283)","v":34},{"$f":"IF($C$8=1,'Scenario 1'!S283,'Scenario 2'!S283)","v":0},{"$f":"IF($C$8=1,'Scenario 1'!T283,'Scenario 2'!T283)","v":0},{"$f":"IF($C$8=1,'Scenario 1'!U283,'Scenario 2'!U283)","v":0},{"$f":"IF($C$8=1,'Scenario 1'!V283,'Scenario 2'!V283)","v":0},{"$f":"IF($C$8=1,'Scenario 1'!W283,'Scenario 2'!W283)","v":0},{"$f":"IF($C$8=1,'Scenario 1'!X283,'Scenario 2'!X283)","v":0},{"$f":"IF($C$8=1,'Scenario 1'!Y283,'Scenario 2'!Y283)","v":0},{"$f":"IF($C$8=1,'Scenario 1'!Z283,'Scenario 2'!Z283)","v":0},{"$f":"IF($C$8=1,'Scenario 1'!AA283,'Scenario 2'!AA283)","v":0},{"$f":"IF($C$8=1,'Scenario 1'!AB283,'Scenario 2'!AB283)","v":22},{"$f":"IF($C$8=1,'Scenario 1'!AC283,'Scenario 2'!AC283)","v":34},{"$f":"IF($C$8=1,'Scenario 1'!AD283,'Scenario 2'!AD283)","v":0},{"$f":"IF($C$8=1,'Scenario 1'!AE283,'Scenario 2'!AE283)","v":39},{"$f":"IF($C$8=1,'Scenario 1'!AF283,'Scenario 2'!AF283)","v":0},{"$f":"IF($C$8=1,'Scenario 1'!AG283,'Scenario 2'!AG283)","v":0},{"$f":"IF($C$8=1,'Scenario 1'!AH283,'Scenario 2'!AH283)","v":0},{"$f":"IF($C$8=1,'Scenario 1'!AI283,'Scenario 2'!AI283)","v":0},{"$f":"IF($C$8=1,'Scenario 1'!AJ283,'Scenario 2'!AJ283)","v":0},{"$f":"IF($C$8=1,'Scenario 1'!AK283,'Scenario 2'!AK283)","v":0},{"$f":"IF($C$8=1,'Scenario 1'!AL283,'Scenario 2'!AL283)","v":39},{"$f":"IF($C$8=1,'Scenario 1'!AM283,'Scenario 2'!AM283)","v":34},{"$f":"IF($C$8=1,'Scenario 1'!AN283,'Scenario 2'!AN283)","v":0},{"$f":"IF($C$8=1,'Scenario 1'!AO283,'Scenario 2'!AO283)","v":12},{"$f":"IF($C$8=1,'Scenario 1'!AP283,'Scenario 2'!AP283)","v":28.021262036675218},{"$f":"IF($C$8=1,'Scenario 1'!AQ283,'Scenario 2'!AQ283)","v":28.021262036675218},{"$f":"IF($C$8=1,'Scenario 1'!AR283,'Scenario 2'!AR283)","v":0},{"$f":"IF($C$8=1,'Scenario 1'!AS283,'Scenario 2'!AS283)","v":0},{"$f":"IF($C$8=1,'Scenario 1'!AT283,'Scenario 2'!AT283)","v":0},{"$f":"IF($C$8=1,'Scenario 1'!AU283,'Scenario 2'!AU283)","v":0},{"$f":"IF($C$8=1,'Scenario 1'!AV283,'Scenario 2'!AV283)","v":39},{"$f":"IF($C$8=1,'Scenario 1'!AW283,'Scenario 2'!AW283)","v":34},{"$f":"IF($C$8=1,'Scenario 1'!AX283,'Scenario 2'!AX283)","v":0},{"$f":"IF($C$8=1,'Scenario 1'!AY283,'Scenario 2'!AY283)","v":39},{"$f":"IF($C$8=1,'Scenario 1'!AZ283,'Scenario 2'!AZ283)","v":22},{"$f":"IF($C$8=1,'Scenario 1'!BA283,'Scenario 2'!BA283)","v":34},{"$f":"IF($C$8=1,'Scenario 1'!BB283,'Scenario 2'!BB283)","v":0},{"$f":"IF($C$8=1,'Scenario 1'!BC283,'Scenario 2'!BC283)","v":12},{"$f":"IF($C$8=1,'Scenario 1'!BD283,'Scenario 2'!BD283)","v":28.021262036675218},{"$f":"IF($C$8=1,'Scenario 1'!BE283,'Scenario 2'!BE283)","v":28.021262036675218},{"$f":"IF($C$8=1,'Scenario 1'!BF283,'Scenario 2'!BF283)","v":39},{"$f":"IF($C$8=1,'Scenario 1'!BG283,'Scenario 2'!BG283)","v":34},{"$f":"IF($C$8=1,'Scenario 1'!BH283,'Scenario 2'!BH283)","v":0},{"$f":"IF($C$8=1,'Scenario 1'!BI283,'Scenario 2'!BI283)","v":39},{"$f":"IF($C$8=1,'Scenario 1'!BJ283,'Scenario 2'!BJ283)","v":22},{"$f":"IF($C$8=1,'Scenario 1'!BK283,'Scenario 2'!BK283)","v":28},{"$f":"IF($C$8=1,'Scenario 1'!BL283,'Scenario 2'!BL283)","v":0},{"$f":"IF($C$8=1,'Scenario 1'!BM283,'Scenario 2'!BM283)","v":12},{"$f":"IF($C$8=1,'Scenario 1'!BN283,'Scenario 2'!BN283)","v":28.021262036675218},{"$f":"IF($C$8=1,'Scenario 1'!BO283,'Scenario 2'!BO283)","v":28.021262036675218}]
[null,"K2O,  kg/ha",{"$f":"IF($C$8=1,'Scenario 1'!R284,'Scenario 2'!R284)","v":22},{"$f":"IF($C$8=1,'Scenario 1'!S284,'Scenario 2'!S284)","v":0},{"$f":"IF($C$8=1,'Scenario 1'!T284,'Scenario 2'!T284)","v":0},{"$f":"IF($C$8=1,'Scenario 1'!U284,'Scenario 2'!U284)","v":0},{"$f":"IF($C$8=1,'Scenario 1'!V284,'Scenario 2'!V284)","v":0},{"$f":"IF($C$8=1,'Scenario 1'!W284,'Scenario 2'!W284)","v":0},{"$f":"IF($C$8=1,'Scenario 1'!X284,'Scenario 2'!X284)","v":0},{"$f":"IF($C$8=1,'Scenario 1'!Y284,'Scenario 2'!Y284)","v":0},{"$f":"IF($C$8=1,'Scenario 1'!Z284,'Scenario 2'!Z284)","v":0},{"$f":"IF($C$8=1,'Scenario 1'!AA284,'Scenario 2'!AA284)","v":0},{"$f":"IF($C$8=1,'Scenario 1'!AB284,'Scenario 2'!AB284)","v":28},{"$f":"IF($C$8=1,'Scenario 1'!AC284,'Scenario 2'!AC284)","v":22},{"$f":"IF($C$8=1,'Scenario 1'!AD284,'Scenario 2'!AD284)","v":0},{"$f":"IF($C$8=1,'Scenario 1'!AE284,'Scenario 2'!AE284)","v":73},{"$f":"IF($C$8=1,'Scenario 1'!AF284,'Scenario 2'!AF284)","v":0},{"$f":"IF($C$8=1,'Scenario 1'!AG284,'Scenario 2'!AG284)","v":0},{"$f":"IF($C$8=1,'Scenario 1'!AH284,'Scenario 2'!AH284)","v":0},{"$f":"IF($C$8=1,'Scenario 1'!AI284,'Scenario 2'!AI284)","v":0},{"$f":"IF($C$8=1,'Scenario 1'!AJ284,'Scenario 2'!AJ284)","v":0},{"$f":"IF($C$8=1,'Scenario 1'!AK284,'Scenario 2'!AK284)","v":0},{"$f":"IF($C$8=1,'Scenario 1'!AL284,'Scenario 2'!AL284)","v":73},{"$f":"IF($C$8=1,'Scenario 1'!AM284,'Scenario 2'!AM284)","v":22},{"$f":"IF($C$8=1,'Scenario 1'!AN284,'Scenario 2'!AN284)","v":0},{"$f":"IF($C$8=1,'Scenario 1'!AO284,'Scenario 2'!AO284)","v":48},{"$f":"IF($C$8=1,'Scenario 1'!AP284,'Scenario 2'!AP284)","v":112},{"$f":"IF($C$8=1,'Scenario 1'!AQ284,'Scenario 2'!AQ284)","v":112},{"$f":"IF($C$8=1,'Scenario 1'!AR284,'Scenario 2'!AR284)","v":0},{"$f":"IF($C$8=1,'Scenario 1'!AS284,'Scenario 2'!AS284)","v":0},{"$f":"IF($C$8=1,'Scenario 1'!AT284,'Scenario 2'!AT284)","v":0},{"$f":"IF($C$8=1,'Scenario 1'!AU284,'Scenario 2'!AU284)","v":0},{"$f":"IF($C$8=1,'Scenario 1'!AV284,'Scenario 2'!AV284)","v":73},{"$f":"IF($C$8=1,'Scenario 1'!AW284,'Scenario 2'!AW284)","v":22},{"$f":"IF($C$8=1,'Scenario 1'!AX284,'Scenario 2'!AX284)","v":0},{"$f":"IF($C$8=1,'Scenario 1'!AY284,'Scenario 2'!AY284)","v":73},{"$f":"IF($C$8=1,'Scenario 1'!AZ284,'Scenario 2'!AZ284)","v":28},{"$f":"IF($C$8=1,'Scenario 1'!BA284,'Scenario 2'!BA284)","v":22},{"$f":"IF($C$8=1,'Scenario 1'!BB284,'Scenario 2'!BB284)","v":0},{"$f":"IF($C$8=1,'Scenario 1'!BC284,'Scenario 2'!BC284)","v":48},{"$f":"IF($C$8=1,'Scenario 1'!BD284,'Scenario 2'!BD284)","v":112},{"$f":"IF($C$8=1,'Scenario 1'!BE284,'Scenario 2'!BE284)","v":112},{"$f":"IF($C$8=1,'Scenario 1'!BF284,'Scenario 2'!BF284)","v":73},{"$f":"IF($C$8=1,'Scenario 1'!BG284,'Scenario 2'!BG284)","v":22},{"$f":"IF($C$8=1,'Scenario 1'!BH284,'Scenario 2'!BH284)","v":0},{"$f":"IF($C$8=1,'Scenario 1'!BI284,'Scenario 2'!BI284)","v":73},{"$f":"IF($C$8=1,'Scenario 1'!BJ284,'Scenario 2'!BJ284)","v":28},{"$f":"IF($C$8=1,'Scenario 1'!BK284,'Scenario 2'!BK284)","v":48},{"$f":"IF($C$8=1,'Scenario 1'!BL284,'Scenario 2'!BL284)","v":0},{"$f":"IF($C$8=1,'Scenario 1'!BM284,'Scenario 2'!BM284)","v":48},{"$f":"IF($C$8=1,'Scenario 1'!BN284,'Scenario 2'!BN284)","v":112},{"$f":"IF($C$8=1,'Scenario 1'!BO284,'Scenario 2'!BO284)","v":112}]
[null,"P removal, kg/ha",{"$f":"IF($C$8=1,'Scenario 1'!R285,'Scenario 2'!R285)","v":25.051546391752581},{"$f":"IF($C$8=1,'Scenario 1'!S285,'Scenario 2'!S285)","v":0},{"$f":"IF($C$8=1,'Scenario 1'!T285,'Scenario 2'!T285)","v":0},{"$f":"IF($C$8=1,'Scenario 1'!U285,'Scenario 2'!U285)","v":0},{"$f":"IF($C$8=1,'Scenario 1'!V285,'Scenario 2'!V285)","v":0},{"$f":"IF($C$8=1,'Scenario 1'!W285,'Scenario 2'!W285)","v":0},{"$f":"IF($C$8=1,'Scenario 1'!X285,'Scenario 2'!X285)","v":0},{"$f":"IF($C$8=1,'Scenario 1'!Y285,'Scenario 2'!Y285)","v":0},{"$f":"IF($C$8=1,'Scenario 1'!Z285,'Scenario 2'!Z285)","v":0},{"$f":"IF($C$8=1,'Scenario 1'!AA285,'Scenario 2'!AA285)","v":0},{"$f":"IF($C$8=1,'Scenario 1'!AB285,'Scenario 2'!AB285)","v":17.690721649484534},{"$f":"IF($C$8=1,'Scenario 1'!AC285,'Scenario 2'!AC285)","v":27.835051546391757},{"$f":"IF($C$8=1,'Scenario 1'!AD285,'Scenario 2'!AD285)","v":0},{"$f":"IF($C$8=1,'Scenario 1'!AE285,'Scenario 2'!AE285)","v":48.023529411764706},{"$f":"IF($C$8=1,'Scenario 1'!AF285,'Scenario 2'!AF285)","v":0},{"$f":"IF($C$8=1,'Scenario 1'!AG285,'Scenario 2'!AG285)","v":0},{"$f":"IF($C$8=1,'Scenario 1'!AH285,'Scenario 2'!AH285)","v":0},{"$f":"IF($C$8=1,'Scenario 1'!AI285,'Scenario 2'!AI285)","v":0},{"$f":"IF($C$8=1,'Scenario 1'!AJ285,'Scenario 2'!AJ285)","v":0},{"$f":"IF($C$8=1,'Scenario 1'!AK285,'Scenario 2'!AK285)","v":0},{"$f":"IF($C$8=1,'Scenario 1'!AL285,'Scenario 2'!AL285)","v":50.470588235294123},{"$f":"IF($C$8=1,'Scenario 1'!AM285,'Scenario 2'!AM285)","v":26.288659793814432},{"$f":"IF($C$8=1,'Scenario 1'!AN285,'Scenario 2'!AN285)","v":0},{"$f":"IF($C$8=1,'Scenario 1'!AO285,'Scenario 2'!AO285)","v":16.1875},{"$f":"IF($C$8=1,'Scenario 1'!AP285,'Scenario 2'!AP285)","v":38.062499999999993},{"$f":"IF($C$8=1,'Scenario 1'!AQ285,'Scenario 2'!AQ285)","v":32.299999999999997},{"$f":"IF($C$8=1,'Scenario 1'!AR285,'Scenario 2'!AR285)","v":0},{"$f":"IF($C$8=1,'Scenario 1'!AS285,'Scenario 2'!AS285)","v":0},{"$f":"IF($C$8=1,'Scenario 1'!AT285,'Scenario 2'!AT285)","v":0},{"$f":"IF($C$8=1,'Scenario 1'!AU285,'Scenario 2'!AU285)","v":0},{"$f":"IF($C$8=1,'Scenario 1'!AV285,'Scenario 2'!AV285)","v":50.470588235294123},{"$f":"IF($C$8=1,'Scenario 1'!AW285,'Scenario 2'!AW285)","v":26.412371134020617},{"$f":"IF($C$8=1,'Scenario 1'!AX285,'Scenario 2'!AX285)","v":0},{"$f":"IF($C$8=1,'Scenario 1'!AY285,'Scenario 2'!AY285)","v":48.023529411764706},{"$f":"IF($C$8=1,'Scenario 1'!AZ285,'Scenario 2'!AZ285)","v":17.938144329896907},{"$f":"IF($C$8=1,'Scenario 1'!BA285,'Scenario 2'!BA285)","v":27.835051546391757},{"$f":"IF($C$8=1,'Scenario 1'!BB285,'Scenario 2'!BB285)","v":0},{"$f":"IF($C$8=1,'Scenario 1'!BC285,'Scenario 2'!BC285)","v":16.1875},{"$f":"IF($C$8=1,'Scenario 1'!BD285,'Scenario 2'!BD285)","v":38.062499999999993},{"$f":"IF($C$8=1,'Scenario 1'!BE285,'Scenario 2'!BE285)","v":32.299999999999997},{"$f":"IF($C$8=1,'Scenario 1'!BF285,'Scenario 2'!BF285)","v":50.470588235294123},{"$f":"IF($C$8=1,'Scenario 1'!BG285,'Scenario 2'!BG285)","v":26.288659793814432},{"$f":"IF($C$8=1,'Scenario 1'!BH285,'Scenario 2'!BH285)","v":0},{"$f":"IF($C$8=1,'Scenario 1'!BI285,'Scenario 2'!BI285)","v":48.023529411764706},{"$f":"IF($C$8=1,'Scenario 1'!BJ285,'Scenario 2'!BJ285)","v":17.938144329896907},{"$f":"IF($C$8=1,'Scenario 1'!BK285,'Scenario 2'!BK285)","v":15.072164948453608},{"$f":"IF($C$8=1,'Scenario 1'!BL285,'Scenario 2'!BL285)","v":1.6},{"$f":"IF($C$8=1,'Scenario 1'!BM285,'Scenario 2'!BM285)","v":16.1875},{"$f":"IF($C$8=1,'Scenario 1'!BN285,'Scenario 2'!BN285)","v":38.062499999999993},{"$f":"IF($C$8=1,'Scenario 1'!BO285,'Scenario 2'!BO285)","v":32.299999999999997}]
[null,"K removal, kg/ha"]
[null,"Cl,  kg/ha",{"$f":"IF($C$8=1,'Scenario 1'!R287,'Scenario 2'!R287)","v":0},{"$f":"IF($C$8=1,'Scenario 1'!S287,'Scenario 2'!S287)","v":0},{"$f":"IF($C$8=1,'Scenario 1'!T287,'Scenario 2'!T287)","v":0},{"$f":"IF($C$8=1,'Scenario 1'!U287,'Scenario 2'!U287)","v":0},{"$f":"IF($C$8=1,'Scenario 1'!V287,'Scenario 2'!V287)","v":0},{"$f":"IF($C$8=1,'Scenario 1'!W287,'Scenario 2'!W287)","v":0},{"$f":"IF($C$8=1,'Scenario 1'!X287,'Scenario 2'!X287)","v":0},{"$f":"IF($C$8=1,'Scenario 1'!Y287,'Scenario 2'!Y287)","v":0},{"$f":"IF($C$8=1,'Scenario 1'!Z287,'Scenario 2'!Z287)","v":0},{"$f":"IF($C$8=1,'Scenario 1'!AA287,'Scenario 2'!AA287)","v":0},{"$f":"IF($C$8=1,'Scenario 1'!AB287,'Scenario 2'!AB287)","v":0},{"$f":"IF($C$8=1,'Scenario 1'!AC287,'Scenario 2'!AC287)","v":0},{"$f":"IF($C$8=1,'Scenario 1'!AD287,'Scenario 2'!AD287)","v":0},{"$f":"IF($C$8=1,'Scenario 1'!AE287,'Scenario 2'!AE287)","v":0},{"$f":"IF($C$8=1,'Scenario 1'!AF287,'Scenario 2'!AF287)","v":0},{"$f":"IF($C$8=1,'Scenario 1'!AG287,'Scenario 2'!AG287)","v":0},{"$f":"IF($C$8=1,'Scenario 1'!AH287,'Scenario 2'!AH287)","v":0},{"$f":"IF($C$8=1,'Scenario 1'!AI287,'Scenario 2'!AI287)","v":0},{"$f":"IF($C$8=1,'Scenario 1'!AJ287,'Scenario 2'!AJ287)","v":0},{"$f":"IF($C$8=1,'Scenario 1'!AK287,'Scenario 2'!AK287)","v":0},{"$f":"IF($C$8=1,'Scenario 1'!AL287,'Scenario 2'!AL287)","v":0},{"$f":"IF($C$8=1,'Scenario 1'!AM287,'Scenario 2'!AM287)","v":0},{"$f":"IF($C$8=1,'Scenario 1'!AN287,'Scenario 2'!AN287)","v":0},{"$f":"IF($C$8=1,'Scenario 1'!AO287,'Scenario 2'!AO287)","v":0},{"$f":"IF($C$8=1,'Scenario 1'!AP287,'Scenario 2'!AP287)","v":0},{"$f":"IF($C$8=1,'Scenario 1'!AQ287,'Scenario 2'!AQ287)","v":0},{"$f":"IF($C$8=1,'Scenario 1'!AR287,'Scenario 2'!AR287)","v":0},{"$f":"IF($C$8=1,'Scenario 1'!AS287,'Scenario 2'!AS287)","v":0},{"$f":"IF($C$8=1,'Scenario 1'!AT287,'Scenario 2'!AT287)","v":0},{"$f":"IF($C$8=1,'Scenario 1'!AU287,'Scenario 2'!AU287)","v":0},{"$f":"IF($C$8=1,'Scenario 1'!AV287,'Scenario 2'!AV287)","v":0},{"$f":"IF($C$8=1,'Scenario 1'!AW287,'Scenario 2'!AW287)","v":0},{"$f":"IF($C$8=1,'Scenario 1'!AX287,'Scenario 2'!AX287)","v":0},{"$f":"IF($C$8=1,'Scenario 1'!AY287,'Scenario 2'!AY287)","v":0},{"$f":"IF($C$8=1,'Scenario 1'!AZ287,'Scenario 2'!AZ287)","v":0},{"$f":"IF($C$8=1,'Scenario 1'!BA287,'Scenario 2'!BA287)","v":0},{"$f":"IF($C$8=1,'Scenario 1'!BB287,'Scenario 2'!BB287)","v":0},{"$f":"IF($C$8=1,'Scenario 1'!BC287,'Scenario 2'!BC287)","v":0},{"$f":"IF($C$8=1,'Scenario 1'!BD287,'Scenario 2'!BD287)","v":0},{"$f":"IF($C$8=1,'Scenario 1'!BE287,'Scenario 2'!BE287)","v":0},{"$f":"IF($C$8=1,'Scenario 1'!BF287,'Scenario 2'!BF287)","v":0},{"$f":"IF($C$8=1,'Scenario 1'!BG287,'Scenario 2'!BG287)","v":0},{"$f":"IF($C$8=1,'Scenario 1'!BH287,'Scenario 2'!BH287)","v":0},{"$f":"IF($C$8=1,'Scenario 1'!BI287,'Scenario 2'!BI287)","v":0},{"$f":"IF($C$8=1,'Scenario 1'!BJ287,'Scenario 2'!BJ287)","v":0},{"$f":"IF($C$8=1,'Scenario 1'!BK287,'Scenario 2'!BK287)","v":0},{"$f":"IF($C$8=1,'Scenario 1'!BL287,'Scenario 2'!BL287)","v":0},{"$f":"IF($C$8=1,'Scenario 1'!BM287,'Scenario 2'!BM287)","v":0},{"$f":"IF($C$8=1,'Scenario 1'!BN287,'Scenario 2'!BN287)","v":0},{"$f":"IF($C$8=1,'Scenario 1'!BO287,'Scenario 2'!BO287)","v":0}]
[null,"N fixation, kg/t",{"$f":"IF($C$8=1,'Scenario 1'!R288,'Scenario 2'!R288)","v":0},{"$f":"IF($C$8=1,'Scenario 1'!S288,'Scenario 2'!S288)","v":0},{"$f":"IF($C$8=1,'Scenario 1'!T288,'Scenario 2'!T288)","v":0},{"$f":"IF($C$8=1,'Scenario 1'!U288,'Scenario 2'!U288)","v":0},{"$f":"IF($C$8=1,'Scenario 1'!V288,'Scenario 2'!V288)","v":0},{"$f":"IF($C$8=1,'Scenario 1'!W288,'Scenario 2'!W288)","v":0},{"$f":"IF($C$8=1,'Scenario 1'!X288,'Scenario 2'!X288)","v":0},{"$f":"IF($C$8=1,'Scenario 1'!Y288,'Scenario 2'!Y288)","v":0},{"$f":"IF($C$8=1,'Scenario 1'!Z288,'Scenario 2'!Z288)","v":0},{"$f":"IF($C$8=1,'Scenario 1'!AA288,'Scenario 2'!AA288)","v":0},{"$f":"IF($C$8=1,'Scenario 1'!AB288,'Scenario 2'!AB288)","v":25.088000000000001},{"$f":"IF($C$8=1,'Scenario 1'!AC288,'Scenario 2'!AC288)","v":0},{"$f":"IF($C$8=1,'Scenario 1'!AD288,'Scenario 2'!AD288)","v":0},{"$f":"IF($C$8=1,'Scenario 1'!AE288,'Scenario 2'!AE288)","v":0},{"$f":"IF($C$8=1,'Scenario 1'!AF288,'Scenario 2'!AF288)","v":0},{"$f":"IF($C$8=1,'Scenario 1'!AG288,'Scenario 2'!AG288)","v":0},{"$f":"IF($C$8=1,'Scenario 1'!AH288,'Scenario 2'!AH288)","v":0},{"$f":"IF($C$8=1,'Scenario 1'!AI288,'Scenario 2'!AI288)","v":0},{"$f":"IF($C$8=1,'Scenario 1'!AJ288,'Scenario 2'!AJ288)","v":0},{"$f":"IF($C$8=1,'Scenario 1'!AK288,'Scenario 2'!AK288)","v":0},{"$f":"IF($C$8=1,'Scenario 1'!AL288,'Scenario 2'!AL288)","v":0},{"$f":"IF($C$8=1,'Scenario 1'!AM288,'Scenario 2'!AM288)","v":0},{"$f":"IF($C$8=1,'Scenario 1'!AN288,'Scenario 2'!AN288)","v":0},{"$f":"IF($C$8=1,'Scenario 1'!AO288,'Scenario 2'!AO288)","v":24.655999999999999},{"$f":"IF($C$8=1,'Scenario 1'!AP288,'Scenario 2'!AP288)","v":24.655999999999999},{"$f":"IF($C$8=1,'Scenario 1'!AQ288,'Scenario 2'!AQ288)","v":20.367999999999999},{"$f":"IF($C$8=1,'Scenario 1'!AR288,'Scenario 2'!AR288)","v":0},{"$f":"IF($C$8=1,'Scenario 1'!AS288,'Scenario 2'!AS288)","v":0},{"$f":"IF($C$8=1,'Scenario 1'!AT288,'Scenario 2'!AT288)","v":0},{"$f":"IF($C$8=1,'Scenario 1'!AU288,'Scenario 2'!AU288)","v":0},{"$f":"IF($C$8=1,'Scenario 1'!AV288,'Scenario 2'!AV288)","v":0},{"$f":"IF($C$8=1,'Scenario 1'!AW288,'Scenario 2'!AW288)","v":0},{"$f":"IF($C$8=1,'Scenario 1'!AX288,'Scenario 2'!AX288)","v":0},{"$f":"IF($C$8=1,'Scenario 1'!AY288,'Scenario 2'!AY288)","v":0},{"$f":"IF($C$8=1,'Scenario 1'!AZ288,'Scenario 2'!AZ288)","v":25.088000000000001},{"$f":"IF($C$8=1,'Scenario 1'!BA288,'Scenario 2'!BA288)","v":0},{"$f":"IF($C$8=1,'Scenario 1'!BB288,'Scenario 2'!BB288)","v":0},{"$f":"IF($C$8=1,'Scenario 1'!BC288,'Scenario 2'!BC288)","v":24.655999999999999},{"$f":"IF($C$8=1,'Scenario 1'!BD288,'Scenario 2'!BD288)","v":24.655999999999999},{"$f":"IF($C$8=1,'Scenario 1'!BE288,'Scenario 2'!BE288)","v":24.655999999999999},{"$f":"IF($C$8=1,'Scenario 1'!BF288,'Scenario 2'!BF288)","v":0},{"$f":"IF($C$8=1,'Scenario 1'!BG288,'Scenario 2'!BG288)","v":0},{"$f":"IF($C$8=1,'Scenario 1'!BH288,'Scenario 2'!BH288)","v":0},{"$f":"IF($C$8=1,'Scenario 1'!BI288,'Scenario 2'!BI288)","v":0},{"$f":"IF($C$8=1,'Scenario 1'!BJ288,'Scenario 2'!BJ288)","v":25.088000000000001},{"$f":"IF($C$8=1,'Scenario 1'!BK288,'Scenario 2'!BK288)","v":0},{"$f":"IF($C$8=1,'Scenario 1'!BL288,'Scenario 2'!BL288)","v":0},{"$f":"IF($C$8=1,'Scenario 1'!BM288,'Scenario 2'!BM288)","v":24.655999999999999},{"$f":"IF($C$8=1,'Scenario 1'!BN288,'Scenario 2'!BN288)","v":24.655999999999999},{"$f":"IF($C$8=1,'Scenario 1'!BO288,'Scenario 2'!BO288)","v":24.655999999999999}]
[null,"Above ground residue, %",{"$f":"IF($C$8=1,'Scenario 1'!R289,'Scenario 2'!R289)","v":38},{"$f":"IF($C$8=1,'Scenario 1'!S289,'Scenario 2'!S289)","v":0},{"$f":"IF($C$8=1,'Scenario 1'!T289,'Scenario 2'!T289)","v":0},{"$f":"IF($C$8=1,'Scenario 1'!U289,'Scenario 2'!U289)","v":0},{"$f":"IF($C$8=1,'Scenario 1'!V289,'Scenario 2'!V289)","v":0},{"$f":"IF($C$8=1,'Scenario 1'!W289,'Scenario 2'!W289)","v":0},{"$f":"IF($C$8=1,'Scenario 1'!X289,'Scenario 2'!X289)","v":0},{"$f":"IF($C$8=1,'Scenario 1'!Y289,'Scenario 2'!Y289)","v":0},{"$f":"IF($C$8=1,'Scenario 1'!Z289,'Scenario 2'!Z289)","v":0},{"$f":"IF($C$8=1,'Scenario 1'!AA289,'Scenario 2'!AA289)","v":0},{"$f":"IF($C$8=1,'Scenario 1'!AB289,'Scenario 2'!AB289)","v":45},{"$f":"IF($C$8=1,'Scenario 1'!AC289,'Scenario 2'!AC289)","v":38},{"$f":"IF($C$8=1,'Scenario 1'!AD289,'Scenario 2'!AD289)","v":0},{"$f":"IF($C$8=1,'Scenario 1'!AE289,'Scenario 2'!AE289)","v":8},{"$f":"IF($C$8=1,'Scenario 1'!AF289,'Scenario 2'!AF289)","v":0},{"$f":"IF($C$8=1,'Scenario 1'!AG289,'Scenario 2'!AG289)","v":0},{"$f":"IF($C$8=1,'Scenario 1'!AH289,'Scenario 2'!AH289)","v":0},{"$f":"IF($C$8=1,'Scenario 1'!AI289,'Scenario 2'!AI289)","v":0},{"$f":"IF($C$8=1,'Scenario 1'!AJ289,'Scenario 2'!AJ289)","v":0},{"$f":"IF($C$8=1,'Scenario 1'!AK289,'Scenario 2'!AK289)","v":0},{"$f":"IF($C$8=1,'Scenario 1'!AL289,'Scenario 2'!AL289)","v":8},{"$f":"IF($C$8=1,'Scenario 1'!AM289,'Scenario 2'!AM289)","v":38},{"$f":"IF($C$8=1,'Scenario 1'!AN289,'Scenario 2'!AN289)","v":0},{"$f":"IF($C$8=1,'Scenario 1'!AO289,'Scenario 2'!AO289)","v":0},{"$f":"IF($C$8=1,'Scenario 1'!AP289,'Scenario 2'!AP289)","v":0},{"$f":"IF($C$8=1,'Scenario 1'!AQ289,'Scenario 2'!AQ289)","v":0},{"$f":"IF($C$8=1,'Scenario 1'!AR289,'Scenario 2'!AR289)","v":0},{"$f":"IF($C$8=1,'Scenario 1'!AS289,'Scenario 2'!AS289)","v":0},{"$f":"IF($C$8=1,'Scenario 1'!AT289,'Scenario 2'!AT289)","v":0},{"$f":"IF($C$8=1,'Scenario 1'!AU289,'Scenario 2'!AU289)","v":0},{"$f":"IF($C$8=1,'Scenario 1'!AV289,'Scenario 2'!AV289)","v":8},{"$f":"IF($C$8=1,'Scenario 1'!AW289,'Scenario 2'!AW289)","v":38},{"$f":"IF($C$8=1,'Scenario 1'!AX289,'Scenario 2'!AX289)","v":0},{"$f":"IF($C$8=1,'Scenario 1'!AY289,'Scenario 2'!AY289)","v":8},{"$f":"IF($C$8=1,'Scenario 1'!AZ289,'Scenario 2'!AZ289)","v":45},{"$f":"IF($C$8=1,'Scenario 1'!BA289,'Scenario 2'!BA289)","v":38},{"$f":"IF($C$8=1,'Scenario 1'!BB289,'Scenario 2'!BB289)","v":0},{"$f":"IF($C$8=1,'Scenario 1'!BC289,'Scenario 2'!BC289)","v":0},{"$f":"IF($C$8=1,'Scenario 1'!BD289,'Scenario 2'!BD289)","v":0},{"$f":"IF($C$8=1,'Scenario 1'!BE289,'Scenario 2'!BE289)","v":0},{"$f":"IF($C$8=1,'Scenario 1'!BF289,'Scenario 2'!BF289)","v":8},{"$f":"IF($C$8=1,'Scenario 1'!BG289,'Scenario 2'!BG289)","v":38},{"$f":"IF($C$8=1,'Scenario 1'!BH289,'Scenario 2'!BH289)","v":0},{"$f":"IF($C$8=1,'Scenario 1'!BI289,'Scenario 2'!BI289)","v":8},{"$f":"IF($C$8=1,'Scenario 1'!BJ289,'Scenario 2'!BJ289)","v":45},{"$f":"IF($C$8=1,'Scenario 1'!BK289,'Scenario 2'!BK289)","v":0},{"$f":"IF($C$8=1,'Scenario 1'!BL289,'Scenario 2'!BL289)","v":0},{"$f":"IF($C$8=1,'Scenario 1'!BM289,'Scenario 2'!BM289)","v":0},{"$f":"IF($C$8=1,'Scenario 1'!BN289,'Scenario 2'!BN289)","v":0},{"$f":"IF($C$8=1,'Scenario 1'!BO289,'Scenario 2'!BO289)","v":0}]
[null,"N Above ground residue, g N/kg",{"$f":"IF($C$8=1,'Scenario 1'!R290,'Scenario 2'!R290)","v":5},{"$f":"IF($C$8=1,'Scenario 1'!S290,'Scenario 2'!S290)","v":0},{"$f":"IF($C$8=1,'Scenario 1'!T290,'Scenario 2'!T290)","v":0},{"$f":"IF($C$8=1,'Scenario 1'!U290,'Scenario 2'!U290)","v":0},{"$f":"IF($C$8=1,'Scenario 1'!V290,'Scenario 2'!V290)","v":0},{"$f":"IF($C$8=1,'Scenario 1'!W290,'Scenario 2'!W290)","v":0},{"$f":"IF($C$8=1,'Scenario 1'!X290,'Scenario 2'!X290)","v":0},{"$f":"IF($C$8=1,'Scenario 1'!Y290,'Scenario 2'!Y290)","v":0},{"$f":"IF($C$8=1,'Scenario 1'!Z290,'Scenario 2'!Z290)","v":0},{"$f":"IF($C$8=1,'Scenario 1'!AA290,'Scenario 2'!AA290)","v":0},{"$f":"IF($C$8=1,'Scenario 1'!AB290,'Scenario 2'!AB290)","v":6},{"$f":"IF($C$8=1,'Scenario 1'!AC290,'Scenario 2'!AC290)","v":5},{"$f":"IF($C$8=1,'Scenario 1'!AD290,'Scenario 2'!AD290)","v":0},{"$f":"IF($C$8=1,'Scenario 1'!AE290,'Scenario 2'!AE290)","v":13},{"$f":"IF($C$8=1,'Scenario 1'!AF290,'Scenario 2'!AF290)","v":0},{"$f":"IF($C$8=1,'Scenario 1'!AG290,'Scenario 2'!AG290)","v":0},{"$f":"IF($C$8=1,'Scenario 1'!AH290,'Scenario 2'!AH290)","v":0},{"$f":"IF($C$8=1,'Scenario 1'!AI290,'Scenario 2'!AI290)","v":0},{"$f":"IF($C$8=1,'Scenario 1'!AJ290,'Scenario 2'!AJ290)","v":0},{"$f":"IF($C$8=1,'Scenario 1'!AK290,'Scenario 2'!AK290)","v":0},{"$f":"IF($C$8=1,'Scenario 1'!AL290,'Scenario 2'!AL290)","v":13},{"$f":"IF($C$8=1,'Scenario 1'!AM290,'Scenario 2'!AM290)","v":5},{"$f":"IF($C$8=1,'Scenario 1'!AN290,'Scenario 2'!AN290)","v":0},{"$f":"IF($C$8=1,'Scenario 1'!AO290,'Scenario 2'!AO290)","v":0},{"$f":"IF($C$8=1,'Scenario 1'!AP290,'Scenario 2'!AP290)","v":0},{"$f":"IF($C$8=1,'Scenario 1'!AQ290,'Scenario 2'!AQ290)","v":0},{"$f":"IF($C$8=1,'Scenario 1'!AR290,'Scenario 2'!AR290)","v":0},{"$f":"IF($C$8=1,'Scenario 1'!AS290,'Scenario 2'!AS290)","v":0},{"$f":"IF($C$8=1,'Scenario 1'!AT290,'Scenario 2'!AT290)","v":0},{"$f":"IF($C$8=1,'Scenario 1'!AU290,'Scenario 2'!AU290)","v":0},{"$f":"IF($C$8=1,'Scenario 1'!AV290,'Scenario 2'!AV290)","v":13},{"$f":"IF($C$8=1,'Scenario 1'!AW290,'Scenario 2'!AW290)","v":5},{"$f":"IF($C$8=1,'Scenario 1'!AX290,'Scenario 2'!AX290)","v":0},{"$f":"IF($C$8=1,'Scenario 1'!AY290,'Scenario 2'!AY290)","v":13},{"$f":"IF($C$8=1,'Scenario 1'!AZ290,'Scenario 2'!AZ290)","v":6},{"$f":"IF($C$8=1,'Scenario 1'!BA290,'Scenario 2'!BA290)","v":5},{"$f":"IF($C$8=1,'Scenario 1'!BB290,'Scenario 2'!BB290)","v":0},{"$f":"IF($C$8=1,'Scenario 1'!BC290,'Scenario 2'!BC290)","v":0},{"$f":"IF($C$8=1,'Scenario 1'!BD290,'Scenario 2'!BD290)","v":0},{"$f":"IF($C$8=1,'Scenario 1'!BE290,'Scenario 2'!BE290)","v":0},{"$f":"IF($C$8=1,'Scenario 1'!BF290,'Scenario 2'!BF290)","v":13},{"$f":"IF($C$8=1,'Scenario 1'!BG290,'Scenario 2'!BG290)","v":5},{"$f":"IF($C$8=1,'Scenario 1'!BH290,'Scenario 2'!BH290)","v":0},{"$f":"IF($C$8=1,'Scenario 1'!BI290,'Scenario 2'!BI290)","v":13},{"$f":"IF($C$8=1,'Scenario 1'!BJ290,'Scenario 2'!BJ290)","v":6},{"$f":"IF($C$8=1,'Scenario 1'!BK290,'Scenario 2'!BK290)","v":6},{"$f":"IF($C$8=1,'Scenario 1'!BL290,'Scenario 2'!BL290)","v":0},{"$f":"IF($C$8=1,'Scenario 1'!BM290,'Scenario 2'!BM290)","v":0},{"$f":"IF($C$8=1,'Scenario 1'!BN290,'Scenario 2'!BN290)","v":0},{"$f":"IF($C$8=1,'Scenario 1'!BO290,'Scenario 2'!BO290)","v":0}]
[null,"Below ground residue, %",{"$f":"IF($C$8=1,'Scenario 1'!R291,'Scenario 2'!R291)","v":15},{"$f":"IF($C$8=1,'Scenario 1'!S291,'Scenario 2'!S291)","v":0},{"$f":"IF($C$8=1,'Scenario 1'!T291,'Scenario 2'!T291)","v":0},{"$f":"IF($C$8=1,'Scenario 1'!U291,'Scenario 2'!U291)","v":0},{"$f":"IF($C$8=1,'Scenario 1'!V291,'Scenario 2'!V291)","v":0},{"$f":"IF($C$8=1,'Scenario 1'!W291,'Scenario 2'!W291)","v":0},{"$f":"IF($C$8=1,'Scenario 1'!X291,'Scenario 2'!X291)","v":0},{"$f":"IF($C$8=1,'Scenario 1'!Y291,'Scenario 2'!Y291)","v":0},{"$f":"IF($C$8=1,'Scenario 1'!Z291,'Scenario 2'!Z291)","v":0},{"$f":"IF($C$8=1,'Scenario 1'!AA291,'Scenario 2'!AA291)","v":0},{"$f":"IF($C$8=1,'Scenario 1'!AB291,'Scenario 2'!AB291)","v":25},{"$f":"IF($C$8=1,'Scenario 1'!AC291,'Scenario 2'!AC291)","v":15},{"$f":"IF($C$8=1,'Scenario 1'!AD291,'Scenario 2'!AD291)","v":0},{"$f":"IF($C$8=1,'Scenario 1'!AE291,'Scenario 2'!AE291)","v":20},{"$f":"IF($C$8=1,'Scenario 1'!AF291,'Scenario 2'!AF291)","v":0},{"$f":"IF($C$8=1,'Scenario 1'!AG291,'Scenario 2'!AG291)","v":0},{"$f":"IF($C$8=1,'Scenario 1'!AH291,'Scenario 2'!AH291)","v":0},{"$f":"IF($C$8=1,'Scenario 1'!AI291,'Scenario 2'!AI291)","v":0},{"$f":"IF($C$8=1,'Scenario 1'!AJ291,'Scenario 2'!AJ291)","v":0},{"$f":"IF($C$8=1,'Scenario 1'!AK291,'Scenario 2'!AK291)","v":0},{"$f":"IF($C$8=1,'Scenario 1'!AL291,'Scenario 2'!AL291)","v":20},{"$f":"IF($C$8=1,'Scenario 1'!AM291,'Scenario 2'!AM291)","v":15},{"$f":"IF($C$8=1,'Scenario 1'!AN291,'Scenario 2'!AN291)","v":0},{"$f":"IF($C$8=1,'Scenario 1'!AO291,'Scenario 2'!AO291)","v":0},{"$f":"IF($C$8=1,'Scenario 1'!AP291,'Scenario 2'!AP291)","v":0},{"$f":"IF($C$8=1,'Scenario 1'!AQ291,'Scenario 2'!AQ291)","v":0},{"$f":"IF($C$8=1,'Scenario 1'!AR291,'Scenario 2'!AR291)","v":0},{"$f":"IF($C$8=1,'Scenario 1'!AS291,'Scenario 2'!AS291)","v":0},{"$f":"IF($C$8=1,'Scenario 1'!AT291,'Scenario 2'!AT291)","v":0},{"$f":"IF($C$8=1,'Scenario 1'!AU291,'Scenario 2'!AU291)","v":0},{"$f":"IF($C$8=1,'Scenario 1'!AV291,'Scenario 2'!AV291)","v":20},{"$f":"IF($C$8=1,'Scenario 1'!AW291,'Scenario 2'!AW291)","v":15},{"$f":"IF($C$8=1,'Scenario 1'!AX291,'Scenario 2'!AX291)","v":0},{"$f":"IF($C$8=1,'Scenario 1'!AY291,'Scenario 2'!AY291)","v":20},{"$f":"IF($C$8=1,'Scenario 1'!AZ291,'Scenario 2'!AZ291)","v":25},{"$f":"IF($C$8=1,'Scenario 1'!BA291,'Scenario 2'!BA291)","v":15},{"$f":"IF($C$8=1,'Scenario 1'!BB291,'Scenario 2'!BB291)","v":0},{"$f":"IF($C$8=1,'Scenario 1'!BC291,'Scenario 2'!BC291)","v":0},{"$f":"IF($C$8=1,'Scenario 1'!BD291,'Scenario 2'!BD291)","v":0},{"$f":"IF($C$8=1,'Scenario 1'!BE291,'Scenario 2'!BE291)","v":0},{"$f":"IF($C$8=1,'Scenario 1'!BF291,'Scenario 2'!BF291)","v":20},{"$f":"IF($C$8=1,'Scenario 1'!BG291,'Scenario 2'!BG291)","v":15},{"$f":"IF($C$8=1,'Scenario 1'!BH291,'Scenario 2'!BH291)","v":0},{"$f":"IF($C$8=1,'Scenario 1'!BI291,'Scenario 2'!BI291)","v":20},{"$f":"IF($C$8=1,'Scenario 1'!BJ291,'Scenario 2'!BJ291)","v":25},{"$f":"IF($C$8=1,'Scenario 1'!BK291,'Scenario 2'!BK291)","v":15},{"$f":"IF($C$8=1,'Scenario 1'!BL291,'Scenario 2'!BL291)","v":0},{"$f":"IF($C$8=1,'Scenario 1'!BM291,'Scenario 2'!BM291)","v":0},{"$f":"IF($C$8=1,'Scenario 1'!BN291,'Scenario 2'!BN291)","v":0},{"$f":"IF($C$8=1,'Scenario 1'!BO291,'Scenario 2'!BO291)","v":0}]
[null,"N Below ground residue, g N/kg",{"$f":"IF($C$8=1,'Scenario 1'!R292,'Scenario 2'!R292)","v":7},{"$f":"IF($C$8=1,'Scenario 1'!S292,'Scenario 2'!S292)","v":0},{"$f":"IF($C$8=1,'Scenario 1'!T292,'Scenario 2'!T292)","v":0},{"$f":"IF($C$8=1,'Scenario 1'!U292,'Scenario 2'!U292)","v":0},{"$f":"IF($C$8=1,'Scenario 1'!V292,'Scenario 2'!V292)","v":0},{"$f":"IF($C$8=1,'Scenario 1'!W292,'Scenario 2'!W292)","v":0},{"$f":"IF($C$8=1,'Scenario 1'!X292,'Scenario 2'!X292)","v":0},{"$f":"IF($C$8=1,'Scenario 1'!Y292,'Scenario 2'!Y292)","v":0},{"$f":"IF($C$8=1,'Scenario 1'!Z292,'Scenario 2'!Z292)","v":0},{"$f":"IF($C$8=1,'Scenario 1'!AA292,'Scenario 2'!AA292)","v":0},{"$f":"IF($C$8=1,'Scenario 1'!AB292,'Scenario 2'!AB292)","v":10},{"$f":"IF($C$8=1,'Scenario 1'!AC292,'Scenario 2'!AC292)","v":7},{"$f":"IF($C$8=1,'Scenario 1'!AD292,'Scenario 2'!AD292)","v":0},{"$f":"IF($C$8=1,'Scenario 1'!AE292,'Scenario 2'!AE292)","v":7},{"$f":"IF($C$8=1,'Scenario 1'!AF292,'Scenario 2'!AF292)","v":0},{"$f":"IF($C$8=1,'Scenario 1'!AG292,'Scenario 2'!AG292)","v":0},{"$f":"IF($C$8=1,'Scenario 1'!AH292,'Scenario 2'!AH292)","v":0},{"$f":"IF($C$8=1,'Scenario 1'!AI292,'Scenario 2'!AI292)","v":0},{"$f":"IF($C$8=1,'Scenario 1'!AJ292,'Scenario 2'!AJ292)","v":0},{"$f":"IF($C$8=1,'Scenario 1'!AK292,'Scenario 2'!AK292)","v":0},{"$f":"IF($C$8=1,'Scenario 1'!AL292,'Scenario 2'!AL292)","v":7},{"$f":"IF($C$8=1,'Scenario 1'!AM292,'Scenario 2'!AM292)","v":7},{"$f":"IF($C$8=1,'Scenario 1'!AN292,'Scenario 2'!AN292)","v":0},{"$f":"IF($C$8=1,'Scenario 1'!AO292,'Scenario 2'!AO292)","v":0},{"$f":"IF($C$8=1,'Scenario 1'!AP292,'Scenario 2'!AP292)","v":0},{"$f":"IF($C$8=1,'Scenario 1'!AQ292,'Scenario 2'!AQ292)","v":0},{"$f":"IF($C$8=1,'Scenario 1'!AR292,'Scenario 2'!AR292)","v":0},{"$f":"IF($C$8=1,'Scenario 1'!AS292,'Scenario 2'!AS292)","v":0},{"$f":"IF($C$8=1,'Scenario 1'!AT292,'Scenario 2'!AT292)","v":0},{"$f":"IF($C$8=1,'Scenario 1'!AU292,'Scenario 2'!AU292)","v":0},{"$f":"IF($C$8=1,'Scenario 1'!AV292,'Scenario 2'!AV292)","v":7},{"$f":"IF($C$8=1,'Scenario 1'!AW292,'Scenario 2'!AW292)","v":7},{"$f":"IF($C$8=1,'Scenario 1'!AX292,'Scenario 2'!AX292)","v":0},{"$f":"IF($C$8=1,'Scenario 1'!AY292,'Scenario 2'!AY292)","v":7},{"$f":"IF($C$8=1,'Scenario 1'!AZ292,'Scenario 2'!AZ292)","v":10},{"$f":"IF($C$8=1,'Scenario 1'!BA292,'Scenario 2'!BA292)","v":7},{"$f":"IF($C$8=1,'Scenario 1'!BB292,'Scenario 2'!BB292)","v":0},{"$f":"IF($C$8=1,'Scenario 1'!BC292,'Scenario 2'!BC292)","v":0},{"$f":"IF($C$8=1,'Scenario 1'!BD292,'Scenario 2'!BD292)","v":0},{"$f":"IF($C$8=1,'Scenario 1'!BE292,'Scenario 2'!BE292)","v":0},{"$f":"IF($C$8=1,'Scenario 1'!BF292,'Scenario 2'!BF292)","v":7},{"$f":"IF($C$8=1,'Scenario 1'!BG292,'Scenario 2'!BG292)","v":7},{"$f":"IF($C$8=1,'Scenario 1'!BH292,'Scenario 2'!BH292)","v":0},{"$f":"IF($C$8=1,'Scenario 1'!BI292,'Scenario 2'!BI292)","v":7},{"$f":"IF($C$8=1,'Scenario 1'!BJ292,'Scenario 2'!BJ292)","v":10},{"$f":"IF($C$8=1,'Scenario 1'!BK292,'Scenario 2'!BK292)","v":10},{"$f":"IF($C$8=1,'Scenario 1'!BL292,'Scenario 2'!BL292)","v":0},{"$f":"IF($C$8=1,'Scenario 1'!BM292,'Scenario 2'!BM292)","v":0},{"$f":"IF($C$8=1,'Scenario 1'!BN292,'Scenario 2'!BN292)","v":0},{"$f":"IF($C$8=1,'Scenario 1'!BO292,'Scenario 2'!BO292)","v":0}]
[null,"Fuel consumption (L/ha) (w/o fertilizers application)",{"$f":"IF($C$8=1,'Scenario 1'!R293,'Scenario 2'!R293)","v":58.6},{"$f":"IF($C$8=1,'Scenario 1'!S293,'Scenario 2'!S293)","v":0},{"$f":"IF($C$8=1,'Scenario 1'!T293,'Scenario 2'!T293)","v":0},{"$f":"IF($C$8=1,'Scenario 1'!U293,'Scenario 2'!U293)","v":0},{"$f":"IF($C$8=1,'Scenario 1'!V293,'Scenario 2'!V293)","v":0},{"$f":"IF($C$8=1,'Scenario 1'!W293,'Scenario 2'!W293)","v":0},{"$f":"IF($C$8=1,'Scenario 1'!X293,'Scenario 2'!X293)","v":0},{"$f":"IF($C$8=1,'Scenario 1'!Y293,'Scenario 2'!Y293)","v":0},{"$f":"IF($C$8=1,'Scenario 1'!Z293,'Scenario 2'!Z293)","v":0},{"$f":"IF($C$8=1,'Scenario 1'!AA293,'Scenario 2'!AA293)","v":0},{"$f":"IF($C$8=1,'Scenario 1'!AB293,'Scenario 2'!AB293)","v":60.1},{"$f":"IF($C$8=1,'Scenario 1'!AC293,'Scenario 2'!AC293)","v":58.6},{"$f":"IF($C$8=1,'Scenario 1'!AD293,'Scenario 2'!AD293)","v":0},{"$f":"IF($C$8=1,'Scenario 1'!AE293,'Scenario 2'!AE293)","v":101.1},{"$f":"IF($C$8=1,'Scenario 1'!AF293,'Scenario 2'!AF293)","v":0},{"$f":"IF($C$8=1,'Scenario 1'!AG293,'Scenario 2'!AG293)","v":0},{"$f":"IF($C$8=1,'Scenario 1'!AH293,'Scenario 2'!AH293)","v":0},{"$f":"IF($C$8=1,'Scenario 1'!AI293,'Scenario 2'!AI293)","v":0},{"$f":"IF($C$8=1,'Scenario 1'!AJ293,'Scenario 2'!AJ293)","v":0},{"$f":"IF($C$8=1,'Scenario 1'!AK293,'Scenario 2'!AK293)","v":0},{"$f":"IF($C$8=1,'Scenario 1'!AL293,'Scenario 2'!AL293)","v":101.1},{"$f":"IF($C$8=1,'Scenario 1'!AM293,'Scenario 2'!AM293)","v":58.6},{"$f":"IF($C$8=1,'Scenario 1'!AN293,'Scenario 2'!AN293)","v":0},{"$f":"IF($C$8=1,'Scenario 1'!AO293,'Scenario 2'!AO293)","v":49.3},{"$f":"IF($C$8=1,'Scenario 1'!AP293,'Scenario 2'!AP293)","v":123.3},{"$f":"IF($C$8=1,'Scenario 1'!AQ293,'Scenario 2'!AQ293)","v":123.3},{"$f":"IF($C$8=1,'Scenario 1'!AR293,'Scenario 2'!AR293)","v":0},{"$f":"IF($C$8=1,'Scenario 1'!AS293,'Scenario 2'!AS293)","v":0},{"$f":"IF($C$8=1,'Scenario 1'!AT293,'Scenario 2'!AT293)","v":0},{"$f":"IF($C$8=1,'Scenario 1'!AU293,'Scenario 2'!AU293)","v":0},{"$f":"IF($C$8=1,'Scenario 1'!AV293,'Scenario 2'!AV293)","v":101.1},{"$f":"IF($C$8=1,'Scenario 1'!AW293,'Scenario 2'!AW293)","v":58.6},{"$f":"IF($C$8=1,'Scenario 1'!AX293,'Scenario 2'!AX293)","v":0},{"$f":"IF($C$8=1,'Scenario 1'!AY293,'Scenario 2'!AY293)","v":101.1},{"$f":"IF($C$8=1,'Scenario 1'!AZ293,'Scenario 2'!AZ293)","v":60.1},{"$f":"IF($C$8=1,'Scenario 1'!BA293,'Scenario 2'!BA293)","v":58.6},{"$f":"IF($C$8=1,'Scenario 1'!BB293,'Scenario 2'!BB293)","v":0},{"$f":"IF($C$8=1,'Scenario 1'!BC293,'Scenario 2'!BC293)","v":49.3},{"$f":"IF($C$8=1,'Scenario 1'!BD293,'Scenario 2'!BD293)","v":123.3},{"$f":"IF($C$8=1,'Scenario 1'!BE293,'Scenario 2'!BE293)","v":123.3},{"$f":"IF($C$8=1,'Scenario 1'!BF293,'Scenario 2'!BF293)","v":101.1},{"$f":"IF($C$8=1,'Scenario 1'!BG293,'Scenario 2'!BG293)","v":58.6},{"$f":"IF($C$8=1,'Scenario 1'!BH293,'Scenario 2'!BH293)","v":0},{"$f":"IF($C$8=1,'Scenario 1'!BI293,'Scenario 2'!BI293)","v":101.1},{"$f":"IF($C$8=1,'Scenario 1'!BJ293,'Scenario 2'!BJ293)","v":60.1},{"$f":"IF($C$8=1,'Scenario 1'!BK293,'Scenario 2'!BK293)","v":46.3},{"$f":"IF($C$8=1,'Scenario 1'!BL293,'Scenario 2'!BL293)","v":0},{"$f":"IF($C$8=1,'Scenario 1'!BM293,'Scenario 2'!BM293)","v":49.3},{"$f":"IF($C$8=1,'Scenario 1'!BN293,'Scenario 2'!BN293)","v":123.3},{"$f":"IF($C$8=1,'Scenario 1'!BO293,'Scenario 2'!BO293)","v":123.3}]
[null,"Variable costs  w/o fertilizer, $/ha",{"$f":"IF($C$8=1,'Scenario 1'!R294,'Scenario 2'!R294)","v":800.65},{"$f":"IF($C$8=1,'Scenario 1'!S294,'Scenario 2'!S294)","v":0},{"$f":"IF($C$8=1,'Scenario 1'!T294,'Scenario 2'!T294)","v":0},{"$f":"IF($C$8=1,'Scenario 1'!U294,'Scenario 2'!U294)","v":0},{"$f":"IF($C$8=1,'Scenario 1'!V294,'Scenario 2'!V294)","v":0},{"$f":"IF($C$8=1,'Scenario 1'!W294,'Scenario 2'!W294)","v":0},{"$f":"IF($C$8=1,'Scenario 1'!X294,'Scenario 2'!X294)","v":0},{"$f":"IF($C$8=1,'Scenario 1'!Y294,'Scenario 2'!Y294)","v":0},{"$f":"IF($C$8=1,'Scenario 1'!Z294,'Scenario 2'!Z294)","v":0},{"$f":"IF($C$8=1,'Scenario 1'!AA294,'Scenario 2'!AA294)","v":0},{"$f":"IF($C$8=1,'Scenario 1'!AB294,'Scenario 2'!AB294)","v":454.48},{"$f":"IF($C$8=1,'Scenario 1'!AC294,'Scenario 2'!AC294)","v":724.41},{"$f":"IF($C$8=1,'Scenario 1'!AD294,'Scenario 2'!AD294)","v":0},{"$f":"IF($C$8=1,'Scenario 1'!AE294,'Scenario 2'!AE294)","v":505.43},{"$f":"IF($C$8=1,'Scenario 1'!AF294,'Scenario 2'!AF294)","v":0},{"$f":"IF($C$8=1,'Scenario 1'!AG294,'Scenario 2'!AG294)","v":0},{"$f":"IF($C$8=1,'Scenario 1'!AH294,'Scenario 2'!AH294)","v":0},{"$f":"IF($C$8=1,'Scenario 1'!AI294,'Scenario 2'!AI294)","v":0},{"$f":"IF($C$8=1,'Scenario 1'!AJ294,'Scenario 2'!AJ294)","v":0},{"$f":"IF($C$8=1,'Scenario 1'!AK294,'Scenario 2'!AK294)","v":0},{"$f":"IF($C$8=1,'Scenario 1'!AL294,'Scenario 2'!AL294)","v":486.38},{"$f":"IF($C$8=1,'Scenario 1'!AM294,'Scenario 2'!AM294)","v":800.65},{"$f":"IF($C$8=1,'Scenario 1'!AN294,'Scenario 2'!AN294)","v":0},{"$f":"IF($C$8=1,'Scenario 1'!AO294,'Scenario 2'!AO294)","v":578.94000000000005},{"$f":"IF($C$8=1,'Scenario 1'!AP294,'Scenario 2'!AP294)","v":387.44},{"$f":"IF($C$8=1,'Scenario 1'!AQ294,'Scenario 2'!AQ294)","v":387.44},{"$f":"IF($C$8=1,'Scenario 1'!AR294,'Scenario 2'!AR294)","v":0},{"$f":"IF($C$8=1,'Scenario 1'!AS294,'Scenario 2'!AS294)","v":0},{"$f":"IF($C$8=1,'Scenario 1'!AT294,'Scenario 2'!AT294)","v":0},{"$f":"IF($C$8=1,'Scenario 1'!AU294,'Scenario 2'!AU294)","v":0},{"$f":"IF($C$8=1,'Scenario 1'!AV294,'Scenario 2'!AV294)","v":486.38},{"$f":"IF($C$8=1,'Scenario 1'!AW294,'Scenario 2'!AW294)","v":800.65},{"$f":"IF($C$8=1,'Scenario 1'!AX294,'Scenario 2'!AX294)","v":0},{"$f":"IF($C$8=1,'Scenario 1'!AY294,'Scenario 2'!AY294)","v":505.43},{"$f":"IF($C$8=1,'Scenario 1'!AZ294,'Scenario 2'!AZ294)","v":454.48},{"$f":"IF($C$8=1,'Scenario 1'!BA294,'Scenario 2'!BA294)","v":724.41},{"$f":"IF($C$8=1,'Scenario 1'!BB294,'Scenario 2'!BB294)","v":0},{"$f":"IF($C$8=1,'Scenario 1'!BC294,'Scenario 2'!BC294)","v":578.94000000000005},{"$f":"IF($C$8=1,'Scenario 1'!BD294,'Scenario 2'!BD294)","v":387.44},{"$f":"IF($C$8=1,'Scenario 1'!BE294,'Scenario 2'!BE294)","v":387.44},{"$f":"IF($C$8=1,'Scenario 1'!BF294,'Scenario 2'!BF294)","v":486.38},{"$f":"IF($C$8=1,'Scenario 1'!BG294,'Scenario 2'!BG294)","v":800.65},{"$f":"IF($C$8=1,'Scenario 1'!BH294,'Scenario 2'!BH294)","v":0},{"$f":"IF($C$8=1,'Scenario 1'!BI294,'Scenario 2'!BI294)","v":505.43},{"$f":"IF($C$8=1,'Scenario 1'!BJ294,'Scenario 2'!BJ294)","v":454.48},{"$f":"IF($C$8=1,'Scenario 1'!BK294,'Scenario 2'!BK294)","v":360.95},{"$f":"IF($C$8=1,'Scenario 1'!BL294,'Scenario 2'!BL294)","v":360.95},{"$f":"IF($C$8=1,'Scenario 1'!BM294,'Scenario 2'!BM294)","v":578.94000000000005},{"$f":"IF($C$8=1,'Scenario 1'!BN294,'Scenario 2'!BN294)","v":387.44},{"$f":"IF($C$8=1,'Scenario 1'!BO294,'Scenario 2'!BO294)","v":387.44}]
[null,"Variable costs, $/ha",{"$f":"IF($C$8=1,'Scenario 1'!R295,'Scenario 2'!R295)","v":0},{"$f":"IF($C$8=1,'Scenario 1'!S295,'Scenario 2'!S295)","v":0},{"$f":"IF($C$8=1,'Scenario 1'!T295,'Scenario 2'!T295)","v":0},{"$f":"IF($C$8=1,'Scenario 1'!U295,'Scenario 2'!U295)","v":0},{"$f":"IF($C$8=1,'Scenario 1'!V295,'Scenario 2'!V295)","v":0},{"$f":"IF($C$8=1,'Scenario 1'!W295,'Scenario 2'!W295)","v":0},{"$f":"IF($C$8=1,'Scenario 1'!X295,'Scenario 2'!X295)","v":0},{"$f":"IF($C$8=1,'Scenario 1'!Y295,'Scenario 2'!Y295)","v":0},{"$f":"IF($C$8=1,'Scenario 1'!Z295,'Scenario 2'!Z295)","v":0},{"$f":"IF($C$8=1,'Scenario 1'!AA295,'Scenario 2'!AA295)","v":0},{"$f":"IF($C$8=1,'Scenario 1'!AB295,'Scenario 2'!AB295)","v":0},{"$f":"IF($C$8=1,'Scenario 1'!AC295,'Scenario 2'!AC295)","v":0},{"$f":"IF($C$8=1,'Scenario 1'!AD295,'Scenario 2'!AD295)","v":0},{"$f":"IF($C$8=1,'Scenario 1'!AE295,'Scenario 2'!AE295)","v":0},{"$f":"IF($C$8=1,'Scenario 1'!AF295,'Scenario 2'!AF295)","v":0},{"$f":"IF($C$8=1,'Scenario 1'!AG295,'Scenario 2'!AG295)","v":0},{"$f":"IF($C$8=1,'Scenario 1'!AH295,'Scenario 2'!AH295)","v":0},{"$f":"IF($C$8=1,'Scenario 1'!AI295,'Scenario 2'!AI295)","v":0},{"$f":"IF($C$8=1,'Scenario 1'!AJ295,'Scenario 2'!AJ295)","v":0},{"$f":"IF($C$8=1,'Scenario 1'!AK295,'Scenario 2'!AK295)","v":0},{"$f":"IF($C$8=1,'Scenario 1'!AL295,'Scenario 2'!AL295)","v":0},{"$f":"IF($C$8=1,'Scenario 1'!AM295,'Scenario 2'!AM295)","v":0},{"$f":"IF($C$8=1,'Scenario 1'!AN295,'Scenario 2'!AN295)","v":0},{"$f":"IF($C$8=1,'Scenario 1'!AO295,'Scenario 2'!AO295)","v":0},{"$f":"IF($C$8=1,'Scenario 1'!AP295,'Scenario 2'!AP295)","v":0},{"$f":"IF($C$8=1,'Scenario 1'!AQ295,'Scenario 2'!AQ295)","v":0},{"$f":"IF($C$8=1,'Scenario 1'!AR295,'Scenario 2'!AR295)","v":0},{"$f":"IF($C$8=1,'Scenario 1'!AS295,'Scenario 2'!AS295)","v":0},{"$f":"IF($C$8=1,'Scenario 1'!AT295,'Scenario 2'!AT295)","v":0},{"$f":"IF($C$8=1,'Scenario 1'!AU295,'Scenario 2'!AU295)","v":0},{"$f":"IF($C$8=1,'Scenario 1'!AV295,'Scenario 2'!AV295)","v":0},{"$f":"IF($C$8=1,'Scenario 1'!AW295,'Scenario 2'!AW295)","v":0},{"$f":"IF($C$8=1,'Scenario 1'!AX295,'Scenario 2'!AX295)","v":0},{"$f":"IF($C$8=1,'Scenario 1'!AY295,'Scenario 2'!AY295)","v":0},{"$f":"IF($C$8=1,'Scenario 1'!AZ295,'Scenario 2'!AZ295)","v":0},{"$f":"IF($C$8=1,'Scenario 1'!BA295,'Scenario 2'!BA295)","v":0},{"$f":"IF($C$8=1,'Scenario 1'!BB295,'Scenario 2'!BB295)","v":0},{"$f":"IF($C$8=1,'Scenario 1'!BC295,'Scenario 2'!BC295)","v":0},{"$f":"IF($C$8=1,'Scenario 1'!BD295,'Scenario 2'!BD295)","v":0},{"$f":"IF($C$8=1,'Scenario 1'!BE295,'Scenario 2'!BE295)","v":0},{"$f":"IF($C$8=1,'Scenario 1'!BF295,'Scenario 2'!BF295)","v":0},{"$f":"IF($C$8=1,'Scenario 1'!BG295,'Scenario 2'!BG295)","v":0},{"$f":"IF($C$8=1,'Scenario 1'!BH295,'Scenario 2'!BH295)","v":0},{"$f":"IF($C$8=1,'Scenario 1'!BI295,'Scenario 2'!BI295)","v":0},{"$f":"IF($C$8=1,'Scenario 1'!BJ295,'Scenario 2'!BJ295)","v":0},{"$f":"IF($C$8=1,'Scenario 1'!BK295,'Scenario 2'!BK295)","v":0},{"$f":"IF($C$8=1,'Scenario 1'!BL295,'Scenario 2'!BL295)","v":0},{"$f":"IF($C$8=1,'Scenario 1'!BM295,'Scenario 2'!BM295)","v":0},{"$f":"IF($C$8=1,'Scenario 1'!BN295,'Scenario 2'!BN295)","v":0},{"$f":"IF($C$8=1,'Scenario 1'!BO295,'Scenario 2'!BO295)","v":0}]
[null,"Cost $/ha",{"$f":"IF($C$8=1,'Scenario 1'!R296,'Scenario 2'!R296)","v":800.65},{"$f":"IF($C$8=1,'Scenario 1'!S296,'Scenario 2'!S296)","v":0},{"$f":"IF($C$8=1,'Scenario 1'!T296,'Scenario 2'!T296)","v":0},{"$f":"IF($C$8=1,'Scenario 1'!U296,'Scenario 2'!U296)","v":0},{"$f":"IF($C$8=1,'Scenario 1'!V296,'Scenario 2'!V296)","v":0},{"$f":"IF($C$8=1,'Scenario 1'!W296,'Scenario 2'!W296)","v":0},{"$f":"IF($C$8=1,'Scenario 1'!X296,'Scenario 2'!X296)","v":0},{"$f":"IF($C$8=1,'Scenario 1'!Y296,'Scenario 2'!Y296)","v":0},{"$f":"IF($C$8=1,'Scenario 1'!Z296,'Scenario 2'!Z296)","v":0},{"$f":"IF($C$8=1,'Scenario 1'!AA296,'Scenario 2'!AA296)","v":0},{"$f":"IF($C$8=1,'Scenario 1'!AB296,'Scenario 2'!AB296)","v":454.48},{"$f":"IF($C$8=1,'Scenario 1'!AC296,'Scenario 2'!AC296)","v":724.41},{"$f":"IF($C$8=1,'Scenario 1'!AD296,'Scenario 2'!AD296)","v":0},{"$f":"IF($C$8=1,'Scenario 1'!AE296,'Scenario 2'!AE296)","v":505.43},{"$f":"IF($C$8=1,'Scenario 1'!AF296,'Scenario 2'!AF296)","v":0},{"$f":"IF($C$8=1,'Scenario 1'!AG296,'Scenario 2'!AG296)","v":0},{"$f":"IF($C$8=1,'Scenario 1'!AH296,'Scenario 2'!AH296)","v":0},{"$f":"IF($C$8=1,'Scenario 1'!AI296,'Scenario 2'!AI296)","v":0},{"$f":"IF($C$8=1,'Scenario 1'!AJ296,'Scenario 2'!AJ296)","v":0},{"$f":"IF($C$8=1,'Scenario 1'!AK296,'Scenario 2'!AK296)","v":0},{"$f":"IF($C$8=1,'Scenario 1'!AL296,'Scenario 2'!AL296)","v":486.38},{"$f":"IF($C$8=1,'Scenario 1'!AM296,'Scenario 2'!AM296)","v":800.65},{"$f":"IF($C$8=1,'Scenario 1'!AN296,'Scenario 2'!AN296)","v":0},{"$f":"IF($C$8=1,'Scenario 1'!AO296,'Scenario 2'!AO296)","v":578.94000000000005},{"$f":"IF($C$8=1,'Scenario 1'!AP296,'Scenario 2'!AP296)","v":387.44},{"$f":"IF($C$8=1,'Scenario 1'!AQ296,'Scenario 2'!AQ296)","v":387.44},{"$f":"IF($C$8=1,'Scenario 1'!AR296,'Scenario 2'!AR296)","v":0},{"$f":"IF($C$8=1,'Scenario 1'!AS296,'Scenario 2'!AS296)","v":0},{"$f":"IF($C$8=1,'Scenario 1'!AT296,'Scenario 2'!AT296)","v":0},{"$f":"IF($C$8=1,'Scenario 1'!AU296,'Scenario 2'!AU296)","v":0},{"$f":"IF($C$8=1,'Scenario 1'!AV296,'Scenario 2'!AV296)","v":486.38},{"$f":"IF($C$8=1,'Scenario 1'!AW296,'Scenario 2'!AW296)","v":800.65},{"$f":"IF($C$8=1,'Scenario 1'!AX296,'Scenario 2'!AX296)","v":0},{"$f":"IF($C$8=1,'Scenario 1'!AY296,'Scenario 2'!AY296)","v":505.43},{"$f":"IF($C$8=1,'Scenario 1'!AZ296,'Scenario 2'!AZ296)","v":454.48},{"$f":"IF($C$8=1,'Scenario 1'!BA296,'Scenario 2'!BA296)","v":724.41},{"$f":"IF($C$8=1,'Scenario 1'!BB296,'Scenario 2'!BB296)","v":0},{"$f":"IF($C$8=1,'Scenario 1'!BC296,'Scenario 2'!BC296)","v":578.94000000000005},{"$f":"IF($C$8=1,'Scenario 1'!BD296,'Scenario 2'!BD296)","v":387.44},{"$f":"IF($C$8=1,'Scenario 1'!BE296,'Scenario 2'!BE296)","v":387.44},{"$f":"IF($C$8=1,'Scenario 1'!BF296,'Scenario 2'!BF296)","v":486.38},{"$f":"IF($C$8=1,'Scenario 1'!BG296,'Scenario 2'!BG296)","v":800.65},{"$f":"IF($C$8=1,'Scenario 1'!BH296,'Scenario 2'!BH296)","v":0},{"$f":"IF($C$8=1,'Scenario 1'!BI296,'Scenario 2'!BI296)","v":505.43},{"$f":"IF($C$8=1,'Scenario 1'!BJ296,'Scenario 2'!BJ296)","v":454.48},{"$f":"IF($C$8=1,'Scenario 1'!BK296,'Scenario 2'!BK296)","v":360.95},{"$f":"IF($C$8=1,'Scenario 1'!BL296,'Scenario 2'!BL296)","v":160.94999999999999},{"$f":"IF($C$8=1,'Scenario 1'!BM296,'Scenario 2'!BM296)","v":578.94000000000005},{"$f":"IF($C$8=1,'Scenario 1'!BN296,'Scenario 2'!BN296)","v":387.44},{"$f":"IF($C$8=1,'Scenario 1'!BO296,'Scenario 2'!BO296)","v":387.44}]
[]
[null,"Land Unit 2","Rotation 1 name:",null,{"$f":"IF($C$8=1,'Scenario 1'!T298,'Scenario 2'!T298)","v":"CCC"},null,null,null,null,null,null,null,"Rotation 2 name:",null,{"$f":"IF($C$8=1,'Scenario 1'!AD298,'Scenario 2'!AD298)","v":"SCC"},null,null,null,null,null,null,null,"Rotation 3 name:",null,{"$f":"IF($C$8=1,'Scenario 1'!AN298,'Scenario 2'!AN298)","v":"CCAAA"},null,null,null,null,null,null,null,"Rotation 4 name:",null,{"$f":"IF($C$8=1,'Scenario 1'!AX298,'Scenario 2'!AX298)","v":"CCCSCAAA"},null,null,null,null,null,null,null,"Rotation 5 name:",null,{"$f":"IF($C$8=1,'Scenario 1'!BH298,'Scenario 2'!BH298)","v":"CCCSWAAA"}]
[null,"Crops:",{"$f":"IF($C$8=1,'Scenario 1'!R299,'Scenario 2'!R299)","v":0},{"$f":"IF($C$8=1,'Scenario 1'!S299,'Scenario 2'!S299)","v":"CoGr-27"},{"$f":"IF($C$8=1,'Scenario 1'!T299,'Scenario 2'!T299)","v":0},{"$f":"IF($C$8=1,'Scenario 1'!U299,'Scenario 2'!U299)","v":0},{"$f":"IF($C$8=1,'Scenario 1'!V299,'Scenario 2'!V299)","v":0},{"$f":"IF($C$8=1,'Scenario 1'!W299,'Scenario 2'!W299)","v":0},{"$f":"IF($C$8=1,'Scenario 1'!X299,'Scenario 2'!X299)","v":0},{"$f":"IF($C$8=1,'Scenario 1'!Y299,'Scenario 2'!Y299)","v":0},{"$f":"IF($C$8=1,'Scenario 1'!Z299,'Scenario 2'!Z299)","v":0},{"$f":"IF($C$8=1,'Scenario 1'!AA299,'Scenario 2'!AA299)","v":0},{"$f":"IF($C$8=1,'Scenario 1'!AB299,'Scenario 2'!AB299)","v":"SBw-108"},{"$f":"IF($C$8=1,'Scenario 1'!AC299,'Scenario 2'!AC299)","v":"CoGr-27"},{"$f":"IF($C$8=1,'Scenario 1'!AD299,'Scenario 2'!AD299)","v":0},{"$f":"IF($C$8=1,'Scenario 1'!AE299,'Scenario 2'!AE299)","v":"CoSi-35"},{"$f":"IF($C$8=1,'Scenario 1'!AF299,'Scenario 2'!AF299)","v":0},{"$f":"IF($C$8=1,'Scenario 1'!AG299,'Scenario 2'!AG299)","v":0},{"$f":"IF($C$8=1,'Scenario 1'!AH299,'Scenario 2'!AH299)","v":0},{"$f":"IF($C$8=1,'Scenario 1'!AI299,'Scenario 2'!AI299)","v":0},{"$f":"IF($C$8=1,'Scenario 1'!AJ299,'Scenario 2'!AJ299)","v":0},{"$f":"IF($C$8=1,'Scenario 1'!AK299,'Scenario 2'!AK299)","v":0},{"$f":"IF($C$8=1,'Scenario 1'!AL299,'Scenario 2'!AL299)","v":"CoSi-35"},{"$f":"IF($C$8=1,'Scenario 1'!AM299,'Scenario 2'!AM299)","v":"CoGr-27"},{"$f":"IF($C$8=1,'Scenario 1'!AN299,'Scenario 2'!AN299)","v":0},{"$f":"IF($C$8=1,'Scenario 1'!AO299,'Scenario 2'!AO299)","v":"AlSi-83"},{"$f":"IF($C$8=1,'Scenario 1'!AP299,'Scenario 2'!AP299)","v":"AlSi-83"},{"$f":"IF($C$8=1,'Scenario 1'!AQ299,'Scenario 2'!AQ299)","v":"MxSi-74"},{"$f":"IF($C$8=1,'Scenario 1'!AR299,'Scenario 2'!AR299)","v":0},{"$f":"IF($C$8=1,'Scenario 1'!AS299,'Scenario 2'!AS299)","v":0},{"$f":"IF($C$8=1,'Scenario 1'!AT299,'Scenario 2'!AT299)","v":0},{"$f":"IF($C$8=1,'Scenario 1'!AU299,'Scenario 2'!AU299)","v":0},{"$f":"IF($C$8=1,'Scenario 1'!AV299,'Scenario 2'!AV299)","v":"CoSi-35"},{"$f":"IF($C$8=1,'Scenario 1'!AW299,'Scenario 2'!AW299)","v":"CoGr-27"},{"$f":"IF($C$8=1,'Scenario 1'!AX299,'Scenario 2'!AX299)","v":0},{"$f":"IF($C$8=1,'Scenario 1'!AY299,'Scenario 2'!AY299)","v":"CoSi-35"},{"$f":"IF($C$8=1,'Scenario 1'!AZ299,'Scenario 2'!AZ299)","v":"SBw-108"},{"$f":"IF($C$8=1,'Scenario 1'!BA299,'Scenario 2'!BA299)","v":"CoGr-27"},{"$f":"IF($C$8=1,'Scenario 1'!BB299,'Scenario 2'!BB299)","v":0},{"$f":"IF($C$8=1,'Scenario 1'!BC299,'Scenario 2'!BC299)","v":"AlSi-83"},{"$f":"IF($C$8=1,'Scenario 1'!BD299,'Scenario 2'!BD299)","v":"AlSi-83"},{"$f":"IF($C$8=1,'Scenario 1'!BE299,'Scenario 2'!BE299)","v":"MxSi-74"},{"$f":"IF($C$8=1,'Scenario 1'!BF299,'Scenario 2'!BF299)","v":"CoSi-35"},{"$f":"IF($C$8=1,'Scenario 1'!BG299,'Scenario 2'!BG299)","v":"CoGr-27"},{"$f":"IF($C$8=1,'Scenario 1'!BH299,'Scenario 2'!BH299)","v":0},{"$f":"IF($C$8=1,'Scenario 1'!BI299,'Scenario 2'!BI299)","v":"CoSi-35"},{"$f":"IF($C$8=1,'Scenario 1'!BJ299,'Scenario 2'!BJ299)","v":"SBw-108"},{"$f":"IF($C$8=1,'Scenario 1'!BK299,'Scenario 2'!BK299)","v":"Wheat-116"},{"$f":"IF($C$8=1,'Scenario 1'!BL299,'Scenario 2'!BL299)","v":"Straw-120"},{"$f":"IF($C$8=1,'Scenario 1'!BM299,'Scenario 2'!BM299)","v":"AlSi-83"},{"$f":"IF($C$8=1,'Scenario 1'!BN299,'Scenario 2'!BN299)","v":"AlSi-83"},{"$f":"IF($C$8=1,'Scenario 1'!BO299,'Scenario 2'!BO299)","v":"MxSi-74"}]
[null,"Year",{"$f":"IF($C$8=1,'Scenario 1'!R300,'Scenario 2'!R300)","v":0},{"$f":"IF($C$8=1,'Scenario 1'!S300,'Scenario 2'!S300)","v":1},{"$f":"IF($C$8=1,'Scenario 1'!T300,'Scenario 2'!T300)","v":0},{"$f":"IF($C$8=1,'Scenario 1'!U300,'Scenario 2'!U300)","v":0},{"$f":"IF($C$8=1,'Scenario 1'!V300,'Scenario 2'!V300)","v":0},{"$f":"IF($C$8=1,'Scenario 1'!W300,'Scenario 2'!W300)","v":0},{"$f":"IF($C$8=1,'Scenario 1'!X300,'Scenario 2'!X300)","v":0},{"$f":"IF($C$8=1,'Scenario 1'!Y300,'Scenario 2'!Y300)","v":0},{"$f":"IF($C$8=1,'Scenario 1'!Z300,'Scenario 2'!Z300)","v":0},{"$f":"IF($C$8=1,'Scenario 1'!AA300,'Scenario 2'!AA300)","v":0},{"$f":"IF($C$8=1,'Scenario 1'!AB300,'Scenario 2'!AB300)","v":1},{"$f":"IF($C$8=1,'Scenario 1'!AC300,'Scenario 2'!AC300)","v":2},{"$f":"IF($C$8=1,'Scenario 1'!AD300,'Scenario 2'!AD300)","v":0},{"$f":"IF($C$8=1,'Scenario 1'!AE300,'Scenario 2'!AE300)","v":3},{"$f":"IF($C$8=1,'Scenario 1'!AF300,'Scenario 2'!AF300)","v":0},{"$f":"IF($C$8=1,'Scenario 1'!AG300,'Scenario 2'!AG300)","v":0},{"$f":"IF($C$8=1,'Scenario 1'!AH300,'Scenario 2'!AH300)","v":0},{"$f":"IF($C$8=1,'Scenario 1'!AI300,'Scenario 2'!AI300)","v":0},{"$f":"IF($C$8=1,'Scenario 1'!AJ300,'Scenario 2'!AJ300)","v":0},{"$f":"IF($C$8=1,'Scenario 1'!AK300,'Scenario 2'!AK300)","v":0},{"$f":"IF($C$8=1,'Scenario 1'!AL300,'Scenario 2'!AL300)","v":1},{"$f":"IF($C$8=1,'Scenario 1'!AM300,'Scenario 2'!AM300)","v":2},{"$f":"IF($C$8=1,'Scenario 1'!AN300,'Scenario 2'!AN300)","v":0},{"$f":"IF($C$8=1,'Scenario 1'!AO300,'Scenario 2'!AO300)","v":3},{"$f":"IF($C$8=1,'Scenario 1'!AP300,'Scenario 2'!AP300)","v":4},{"$f":"IF($C$8=1,'Scenario 1'!AQ300,'Scenario 2'!AQ300)","v":5},{"$f":"IF($C$8=1,'Scenario 1'!AR300,'Scenario 2'!AR300)","v":0},{"$f":"IF($C$8=1,'Scenario 1'!AS300,'Scenario 2'!AS300)","v":0},{"$f":"IF($C$8=1,'Scenario 1'!AT300,'Scenario 2'!AT300)","v":0},{"$f":"IF($C$8=1,'Scenario 1'!AU300,'Scenario 2'!AU300)","v":0},{"$f":"IF($C$8=1,'Scenario 1'!AV300,'Scenario 2'!AV300)","v":1},{"$f":"IF($C$8=1,'Scenario 1'!AW300,'Scenario 2'!AW300)","v":2},{"$f":"IF($C$8=1,'Scenario 1'!AX300,'Scenario 2'!AX300)","v":0},{"$f":"IF($C$8=1,'Scenario 1'!AY300,'Scenario 2'!AY300)","v":3},{"$f":"IF($C$8=1,'Scenario 1'!AZ300,'Scenario 2'!AZ300)","v":4},{"$f":"IF($C$8=1,'Scenario 1'!BA300,'Scenario 2'!BA300)","v":5},{"$f":"IF($C$8=1,'Scenario 1'!BB300,'Scenario 2'!BB300)","v":0},{"$f":"IF($C$8=1,'Scenario 1'!BC300,'Scenario 2'!BC300)","v":6},{"$f":"IF($C$8=1,'Scenario 1'!BD300,'Scenario 2'!BD300)","v":7},{"$f":"IF($C$8=1,'Scenario 1'!BE300,'Scenario 2'!BE300)","v":8},{"$f":"IF($C$8=1,'Scenario 1'!BF300,'Scenario 2'!BF300)","v":1},{"$f":"IF($C$8=1,'Scenario 1'!BG300,'Scenario 2'!BG300)","v":2},{"$f":"IF($C$8=1,'Scenario 1'!BH300,'Scenario 2'!BH300)","v":0},{"$f":"IF($C$8=1,'Scenario 1'!BI300,'Scenario 2'!BI300)","v":3},{"$f":"IF($C$8=1,'Scenario 1'!BJ300,'Scenario 2'!BJ300)","v":4},{"$f":"IF($C$8=1,'Scenario 1'!BK300,'Scenario 2'!BK300)","v":5},{"$f":"IF($C$8=1,'Scenario 1'!BL300,'Scenario 2'!BL300)","v":5},{"$f":"IF($C$8=1,'Scenario 1'!BM300,'Scenario 2'!BM300)","v":6},{"$f":"IF($C$8=1,'Scenario 1'!BN300,'Scenario 2'!BN300)","v":7},{"$f":"IF($C$8=1,'Scenario 1'!BO300,'Scenario 2'!BO300)","v":8}]
[null,"Yield, t DM/yr",{"$f":"IF($C$8=1,'Scenario 1'!R301,'Scenario 2'!R301)","v":0},{"$f":"IF($C$8=1,'Scenario 1'!S301,'Scenario 2'!S301)","v":8.3505154639175263},{"$f":"IF($C$8=1,'Scenario 1'!T301,'Scenario 2'!T301)","v":0},{"$f":"IF($C$8=1,'Scenario 1'!U301,'Scenario 2'!U301)","v":0},{"$f":"IF($C$8=1,'Scenario 1'!V301,'Scenario 2'!V301)","v":0},{"$f":"IF($C$8=1,'Scenario 1'!W301,'Scenario 2'!W301)","v":0},{"$f":"IF($C$8=1,'Scenario 1'!X301,'Scenario 2'!X301)","v":0},{"$f":"IF($C$8=1,'Scenario 1'!Y301,'Scenario 2'!Y301)","v":0},{"$f":"IF($C$8=1,'Scenario 1'!Z301,'Scenario 2'!Z301)","v":0},{"$f":"IF($C$8=1,'Scenario 1'!AA301,'Scenario 2'!AA301)","v":0},{"$f":"IF($C$8=1,'Scenario 1'!AB301,'Scenario 2'!AB301)","v":2.9484536082474224},{"$f":"IF($C$8=1,'Scenario 1'!AC301,'Scenario 2'!AC301)","v":9.2783505154639183},{"$f":"IF($C$8=1,'Scenario 1'!AD301,'Scenario 2'!AD301)","v":0},{"$f":"IF($C$8=1,'Scenario 1'!AE301,'Scenario 2'!AE301)","v":18.470588235294116},{"$f":"IF($C$8=1,'Scenario 1'!AF301,'Scenario 2'!AF301)","v":0},{"$f":"IF($C$8=1,'Scenario 1'!AG301,'Scenario 2'!AG301)","v":0},{"$f":"IF($C$8=1,'Scenario 1'!AH301,'Scenario 2'!AH301)","v":0},{"$f":"IF($C$8=1,'Scenario 1'!AI301,'Scenario 2'!AI301)","v":0},{"$f":"IF($C$8=1,'Scenario 1'!AJ301,'Scenario 2'!AJ301)","v":0},{"$f":"IF($C$8=1,'Scenario 1'!AK301,'Scenario 2'!AK301)","v":0},{"$f":"IF($C$8=1,'Scenario 1'!AL301,'Scenario 2'!AL301)","v":19.411764705882355},{"$f":"IF($C$8=1,'Scenario 1'!AM301,'Scenario 2'!AM301)","v":8.7628865979381452},{"$f":"IF($C$8=1,'Scenario 1'!AN301,'Scenario 2'!AN301)","v":0},{"$f":"IF($C$8=1,'Scenario 1'!AO301,'Scenario 2'!AO301)","v":4.625},{"$f":"IF($C$8=1,'Scenario 1'!AP301,'Scenario 2'!AP301)","v":10.874999999999998},{"$f":"IF($C$8=1,'Scenario 1'!AQ301,'Scenario 2'!AQ301)","v":9.4999999999999982},{"$f":"IF($C$8=1,'Scenario 1'!AR301,'Scenario 2'!AR301)","v":0},{"$f":"IF($C$8=1,'Scenario 1'!AS301,'Scenario 2'!AS301)","v":0},{"$f":"IF($C$8=1,'Scenario 1'!AT301,'Scenario 2'!AT301)","v":0},{"$f":"IF($C$8=1,'Scenario 1'!AU301,'Scenario 2'!AU301)","v":0},{"$f":"IF($C$8=1,'Scenario 1'!AV301,'Scenario 2'!AV301)","v":19.411764705882355},{"$f":"IF($C$8=1,'Scenario 1'!AW301,'Scenario 2'!AW301)","v":8.8041237113402051},{"$f":"IF($C$8=1,'Scenario 1'!AX301,'Scenario 2'!AX301)","v":0},{"$f":"IF($C$8=1,'Scenario 1'!AY301,'Scenario 2'!AY301)","v":18.470588235294116},{"$f":"IF($C$8=1,'Scenario 1'!AZ301,'Scenario 2'!AZ301)","v":2.9896907216494846},{"$f":"IF($C$8=1,'Scenario 1'!BA301,'Scenario 2'!BA301)","v":9.2783505154639183},{"$f":"IF($C$8=1,'Scenario 1'!BB301,'Scenario 2'!BB301)","v":0},{"$f":"IF($C$8=1,'Scenario 1'!BC301,'Scenario 2'!BC301)","v":4.625},{"$f":"IF($C$8=1,'Scenario 1'!BD301,'Scenario 2'!BD301)","v":10.874999999999998},{"$f":"IF($C$8=1,'Scenario 1'!BE301,'Scenario 2'!BE301)","v":9.4999999999999982},{"$f":"IF($C$8=1,'Scenario 1'!BF301,'Scenario 2'!BF301)","v":19.411764705882355},{"$f":"IF($C$8=1,'Scenario 1'!BG301,'Scenario 2'!BG301)","v":8.7628865979381452},{"$f":"IF($C$8=1,'Scenario 1'!BH301,'Scenario 2'!BH301)","v":0},{"$f":"IF($C$8=1,'Scenario 1'!BI301,'Scenario 2'!BI301)","v":18.470588235294116},{"$f":"IF($C$8=1,'Scenario 1'!BJ301,'Scenario 2'!BJ301)","v":2.9896907216494846},{"$f":"IF($C$8=1,'Scenario 1'!BK301,'Scenario 2'!BK301)","v":3.5051546391752577},{"$f":"IF($C$8=1,'Scenario 1'!BL301,'Scenario 2'!BL301)","v":1.6},{"$f":"IF($C$8=1,'Scenario 1'!BM301,'Scenario 2'!BM301)","v":4.625},{"$f":"IF($C$8=1,'Scenario 1'!BN301,'Scenario 2'!BN301)","v":10.874999999999998},{"$f":"IF($C$8=1,'Scenario 1'!BO301,'Scenario 2'!BO301)","v":9.4999999999999982}]
[null,"N,  kg/ha",{"$f":"IF($C$8=1,'Scenario 1'!R302,'Scenario 2'!R302)","v":0},{"$f":"IF($C$8=1,'Scenario 1'!S302,'Scenario 2'!S302)","v":164},{"$f":"IF($C$8=1,'Scenario 1'!T302,'Scenario 2'!T302)","v":0},{"$f":"IF($C$8=1,'Scenario 1'!U302,'Scenario 2'!U302)","v":0},{"$f":"IF($C$8=1,'Scenario 1'!V302,'Scenario 2'!V302)","v":0},{"$f":"IF($C$8=1,'Scenario 1'!W302,'Scenario 2'!W302)","v":0},{"$f":"IF($C$8=1,'Scenario 1'!X302,'Scenario 2'!X302)","v":0},{"$f":"IF($C$8=1,'Scenario 1'!Y302,'Scenario 2'!Y302)","v":0},{"$f":"IF($C$8=1,'Scenario 1'!Z302,'Scenario 2'!Z302)","v":0},{"$f":"IF($C$8=1,'Scenario 1'!AA302,'Scenario 2'!AA302)","v":0},{"$f":"IF($C$8=1,'Scenario 1'!AB302,'Scenario 2'!AB302)","v":0},{"$f":"IF($C$8=1,'Scenario 1'!AC302,'Scenario 2'!AC302)","v":119.2},{"$f":"IF($C$8=1,'Scenario 1'!AD302,'Scenario 2'!AD302)","v":0},{"$f":"IF($C$8=1,'Scenario 1'!AE302,'Scenario 2'!AE302)","v":164},{"$f":"IF($C$8=1,'Scenario 1'!AF302,'Scenario 2'!AF302)","v":0},{"$f":"IF($C$8=1,'Scenario 1'!AG302,'Scenario 2'!AG302)","v":0},{"$f":"IF($C$8=1,'Scenario 1'!AH302,'Scenario 2'!AH302)","v":0},{"$f":"IF($C$8=1,'Scenario 1'!AI302,'Scenario 2'!AI302)","v":0},{"$f":"IF($C$8=1,'Scenario 1'!AJ302,'Scenario 2'!AJ302)","v":0},{"$f":"IF($C$8=1,'Scenario 1'!AK302,'Scenario 2'!AK302)","v":0},{"$f":"IF($C$8=1,'Scenario 1'!AL302,'Scenario 2'!AL302)","v":23},{"$f":"IF($C$8=1,'Scenario 1'!AM302,'Scenario 2'!AM302)","v":108},{"$f":"IF($C$8=1,'Scenario 1'!AN302,'Scenario 2'!AN302)","v":0},{"$f":"IF($C$8=1,'Scenario 1'!AO302,'Scenario 2'!AO302)","v":0},{"$f":"IF($C$8=1,'Scenario 1'!AP302,'Scenario 2'!AP302)","v":0},{"$f":"IF($C$8=1,'Scenario 1'!AQ302,'Scenario 2'!AQ302)","v":0},{"$f":"IF($C$8=1,'Scenario 1'!AR302,'Scenario 2'!AR302)","v":0},{"$f":"IF($C$8=1,'Scenario 1'!AS302,'Scenario 2'!AS302)","v":0},{"$f":"IF($C$8=1,'Scenario 1'!AT302,'Scenario 2'!AT302)","v":0},{"$f":"IF($C$8=1,'Scenario 1'!AU302,'Scenario 2'!AU302)","v":0},{"$f":"IF($C$8=1,'Scenario 1'!AV302,'Scenario 2'!AV302)","v":23},{"$f":"IF($C$8=1,'Scenario 1'!AW302,'Scenario 2'!AW302)","v":108},{"$f":"IF($C$8=1,'Scenario 1'!AX302,'Scenario 2'!AX302)","v":0},{"$f":"IF($C$8=1,'Scenario 1'!AY302,'Scenario 2'!AY302)","v":164},{"$f":"IF($C$8=1,'Scenario 1'!AZ302,'Scenario 2'!AZ302)","v":0},{"$f":"IF($C$8=1,'Scenario 1'!BA302,'Scenario 2'!BA302)","v":119.2},{"$f":"IF($C$8=1,'Scenario 1'!BB302,'Scenario 2'!BB302)","v":0},{"$f":"IF($C$8=1,'Scenario 1'!BC302,'Scenario 2'!BC302)","v":0},{"$f":"IF($C$8=1,'Scenario 1'!BD302,'Scenario 2'!BD302)","v":0},{"$f":"IF($C$8=1,'Scenario 1'!BE302,'Scenario 2'!BE302)","v":0},{"$f":"IF($C$8=1,'Scenario 1'!BF302,'Scenario 2'!BF302)","v":23},{"$f":"IF($C$8=1,'Scenario 1'!BG302,'Scenario 2'!BG302)","v":103},{"$f":"IF($C$8=1,'Scenario 1'!BH302,'Scenario 2'!BH302)","v":0},{"$f":"IF($C$8=1,'Scenario 1'!BI302,'Scenario 2'!BI302)","v":159},{"$f":"IF($C$8=1,'Scenario 1'!BJ302,'Scenario 2'!BJ302)","v":0},{"$f":"IF($C$8=1,'Scenario 1'!BK302,'Scenario 2'!BK302)","v":22.200000000000003},{"$f":"IF($C$8=1,'Scenario 1'!BL302,'Scenario 2'!BL302)","v":0},{"$f":"IF($C$8=1,'Scenario 1'!BM302,'Scenario 2'!BM302)","v":0},{"$f":"IF($C$8=1,'Scenario 1'!BN302,'Scenario 2'!BN302)","v":0},{"$f":"IF($C$8=1,'Scenario 1'!BO302,'Scenario 2'!BO302)","v":0}]
[null,"P2O5,  kg/ha",{"$f":"IF($C$8=1,'Scenario 1'!R303,'Scenario 2'!R303)","v":0},{"$f":"IF($C$8=1,'Scenario 1'!S303,'Scenario 2'!S303)","v":50},{"$f":"IF($C$8=1,'Scenario 1'!T303,'Scenario 2'!T303)","v":0},{"$f":"IF($C$8=1,'Scenario 1'!U303,'Scenario 2'!U303)","v":0},{"$f":"IF($C$8=1,'Scenario 1'!V303,'Scenario 2'!V303)","v":0},{"$f":"IF($C$8=1,'Scenario 1'!W303,'Scenario 2'!W303)","v":0},{"$f":"IF($C$8=1,'Scenario 1'!X303,'Scenario 2'!X303)","v":0},{"$f":"IF($C$8=1,'Scenario 1'!Y303,'Scenario 2'!Y303)","v":0},{"$f":"IF($C$8=1,'Scenario 1'!Z303,'Scenario 2'!Z303)","v":0},{"$f":"IF($C$8=1,'Scenario 1'!AA303,'Scenario 2'!AA303)","v":0},{"$f":"IF($C$8=1,'Scenario 1'!AB303,'Scenario 2'!AB303)","v":32},{"$f":"IF($C$8=1,'Scenario 1'!AC303,'Scenario 2'!AC303)","v":50},{"$f":"IF($C$8=1,'Scenario 1'!AD303,'Scenario 2'!AD303)","v":0},{"$f":"IF($C$8=1,'Scenario 1'!AE303,'Scenario 2'!AE303)","v":59},{"$f":"IF($C$8=1,'Scenario 1'!AF303,'Scenario 2'!AF303)","v":0},{"$f":"IF($C$8=1,'Scenario 1'!AG303,'Scenario 2'!AG303)","v":0},{"$f":"IF($C$8=1,'Scenario 1'!AH303,'Scenario 2'!AH303)","v":0},{"$f":"IF($C$8=1,'Scenario 1'!AI303,'Scenario 2'!AI303)","v":0},{"$f":"IF($C$8=1,'Scenario 1'!AJ303,'Scenario 2'!AJ303)","v":0},{"$f":"IF($C$8=1,'Scenario 1'!AK303,'Scenario 2'!AK303)","v":0},{"$f":"IF($C$8=1,'Scenario 1'!AL303,'Scenario 2'!AL303)","v":59},{"$f":"IF($C$8=1,'Scenario 1'!AM303,'Scenario 2'!AM303)","v":50},{"$f":"IF($C$8=1,'Scenario 1'!AN303,'Scenario 2'!AN303)","v":0},{"$f":"IF($C$8=1,'Scenario 1'!AO303,'Scenario 2'!AO303)","v":21},{"$f":"IF($C$8=1,'Scenario 1'!AP303,'Scenario 2'!AP303)","v":49},{"$f":"IF($C$8=1,'Scenario 1'!AQ303,'Scenario 2'!AQ303)","v":49},{"$f":"IF($C$8=1,'Scenario 1'!AR303,'Scenario 2'!AR303)","v":0},{"$f":"IF($C$8=1,'Scenario 1'!AS303,'Scenario 2'!AS303)","v":0},{"$f":"IF($C$8=1,'Scenario 1'!AT303,'Scenario 2'!AT303)","v":0},{"$f":"IF($C$8=1,'Scenario 1'!AU303,'Scenario 2'!AU303)","v":0},{"$f":"IF($C$8=1,'Scenario 1'!AV303,'Scenario 2'!AV303)","v":59},{"$f":"IF($C$8=1,'Scenario 1'!AW303,'Scenario 2'!AW303)","v":50},{"$f":"IF($C$8=1,'Scenario 1'!AX303,'Scenario 2'!AX303)","v":0},{"$f":"IF($C$8=1,'Scenario 1'!AY303,'Scenario 2'!AY303)","v":59},{"$f":"IF($C$8=1,'Scenario 1'!AZ303,'Scenario 2'!AZ303)","v":32},{"$f":"IF($C$8=1,'Scenario 1'!BA303,'Scenario 2'!BA303)","v":50},{"$f":"IF($C$8=1,'Scenario 1'!BB303,'Scenario 2'!BB303)","v":0},{"$f":"IF($C$8=1,'Scenario 1'!BC303,'Scenario 2'!BC303)","v":21},{"$f":"IF($C$8=1,'Scenario 1'!BD303,'Scenario 2'!BD303)","v":49},{"$f":"IF($C$8=1,'Scenario 1'!BE303,'Scenario 2'!BE303)","v":49},{"$f":"IF($C$8=1,'Scenario 1'!BF303,'Scenario 2'!BF303)","v":39},{"$f":"IF($C$8=1,'Scenario 1'!BG303,'Scenario 2'!BG303)","v":34},{"$f":"IF($C$8=1,'Scenario 1'!BH303,'Scenario 2'!BH303)","v":0},{"$f":"IF($C$8=1,'Scenario 1'!BI303,'Scenario 2'!BI303)","v":39},{"$f":"IF($C$8=1,'Scenario 1'!BJ303,'Scenario 2'!BJ303)","v":22},{"$f":"IF($C$8=1,'Scenario 1'!BK303,'Scenario 2'!BK303)","v":28},{"$f":"IF($C$8=1,'Scenario 1'!BL303,'Scenario 2'!BL303)","v":0},{"$f":"IF($C$8=1,'Scenario 1'!BM303,'Scenario 2'!BM303)","v":12},{"$f":"IF($C$8=1,'Scenario 1'!BN303,'Scenario 2'!BN303)","v":28.021262036675218},{"$f":"IF($C$8=1,'Scenario 1'!BO303,'Scenario 2'!BO303)","v":28.021262036675218}]
[null,"K2O, kg/ha",{"$f":"IF($C$8=1,'Scenario 1'!R304,'Scenario 2'!R304)","v":0},{"$f":"IF($C$8=1,'Scenario 1'!S304,'Scenario 2'!S304)","v":45},{"$f":"IF($C$8=1,'Scenario 1'!T304,'Scenario 2'!T304)","v":0},{"$f":"IF($C$8=1,'Scenario 1'!U304,'Scenario 2'!U304)","v":0},{"$f":"IF($C$8=1,'Scenario 1'!V304,'Scenario 2'!V304)","v":0},{"$f":"IF($C$8=1,'Scenario 1'!W304,'Scenario 2'!W304)","v":0},{"$f":"IF($C$8=1,'Scenario 1'!X304,'Scenario 2'!X304)","v":0},{"$f":"IF($C$8=1,'Scenario 1'!Y304,'Scenario 2'!Y304)","v":0},{"$f":"IF($C$8=1,'Scenario 1'!Z304,'Scenario 2'!Z304)","v":0},{"$f":"IF($C$8=1,'Scenario 1'!AA304,'Scenario 2'!AA304)","v":0},{"$f":"IF($C$8=1,'Scenario 1'!AB304,'Scenario 2'!AB304)","v":50},{"$f":"IF($C$8=1,'Scenario 1'!AC304,'Scenario 2'!AC304)","v":45},{"$f":"IF($C$8=1,'Scenario 1'!AD304,'Scenario 2'!AD304)","v":0},{"$f":"IF($C$8=1,'Scenario 1'!AE304,'Scenario 2'!AE304)","v":106},{"$f":"IF($C$8=1,'Scenario 1'!AF304,'Scenario 2'!AF304)","v":0},{"$f":"IF($C$8=1,'Scenario 1'!AG304,'Scenario 2'!AG304)","v":0},{"$f":"IF($C$8=1,'Scenario 1'!AH304,'Scenario 2'!AH304)","v":0},{"$f":"IF($C$8=1,'Scenario 1'!AI304,'Scenario 2'!AI304)","v":0},{"$f":"IF($C$8=1,'Scenario 1'!AJ304,'Scenario 2'!AJ304)","v":0},{"$f":"IF($C$8=1,'Scenario 1'!AK304,'Scenario 2'!AK304)","v":0},{"$f":"IF($C$8=1,'Scenario 1'!AL304,'Scenario 2'!AL304)","v":106},{"$f":"IF($C$8=1,'Scenario 1'!AM304,'Scenario 2'!AM304)","v":45},{"$f":"IF($C$8=1,'Scenario 1'!AN304,'Scenario 2'!AN304)","v":0},{"$f":"IF($C$8=1,'Scenario 1'!AO304,'Scenario 2'!AO304)","v":66},{"$f":"IF($C$8=1,'Scenario 1'!AP304,'Scenario 2'!AP304)","v":154},{"$f":"IF($C$8=1,'Scenario 1'!AQ304,'Scenario 2'!AQ304)","v":154},{"$f":"IF($C$8=1,'Scenario 1'!AR304,'Scenario 2'!AR304)","v":0},{"$f":"IF($C$8=1,'Scenario 1'!AS304,'Scenario 2'!AS304)","v":0},{"$f":"IF($C$8=1,'Scenario 1'!AT304,'Scenario 2'!AT304)","v":0},{"$f":"IF($C$8=1,'Scenario 1'!AU304,'Scenario 2'!AU304)","v":0},{"$f":"IF($C$8=1,'Scenario 1'!AV304,'Scenario 2'!AV304)","v":106},{"$f":"IF($C$8=1,'Scenario 1'!AW304,'Scenario 2'!AW304)","v":45},{"$f":"IF($C$8=1,'Scenario 1'!AX304,'Scenario 2'!AX304)","v":0},{"$f":"IF($C$8=1,'Scenario 1'!AY304,'Scenario 2'!AY304)","v":106},{"$f":"IF($C$8=1,'Scenario 1'!AZ304,'Scenario 2'!AZ304)","v":50},{"$f":"IF($C$8=1,'Scenario 1'!BA304,'Scenario 2'!BA304)","v":45},{"$f":"IF($C$8=1,'Scenario 1'!BB304,'Scenario 2'!BB304)","v":0},{"$f":"IF($C$8=1,'Scenario 1'!BC304,'Scenario 2'!BC304)","v":66},{"$f":"IF($C$8=1,'Scenario 1'!BD304,'Scenario 2'!BD304)","v":154},{"$f":"IF($C$8=1,'Scenario 1'!BE304,'Scenario 2'!BE304)","v":154},{"$f":"IF($C$8=1,'Scenario 1'!BF304,'Scenario 2'!BF304)","v":73},{"$f":"IF($C$8=1,'Scenario 1'!BG304,'Scenario 2'!BG304)","v":22},{"$f":"IF($C$8=1,'Scenario 1'!BH304,'Scenario 2'!BH304)","v":0},{"$f":"IF($C$8=1,'Scenario 1'!BI304,'Scenario 2'!BI304)","v":73},{"$f":"IF($C$8=1,'Scenario 1'!BJ304,'Scenario 2'!BJ304)","v":28},{"$f":"IF($C$8=1,'Scenario 1'!BK304,'Scenario 2'!BK304)","v":48},{"$f":"IF($C$8=1,'Scenario 1'!BL304,'Scenario 2'!BL304)","v":0},{"$f":"IF($C$8=1,'Scenario 1'!BM304,'Scenario 2'!BM304)","v":48},{"$f":"IF($C$8=1,'Scenario 1'!BN304,'Scenario 2'!BN304)","v":112},{"$f":"IF($C$8=1,'Scenario 1'!BO304,'Scenario 2'!BO304)","v":112}]
[null,"P removal, kg/ha",{"$f":"IF($C$8=1,'Scenario 1'!R305,'Scenario 2'!R305)","v":0},{"$f":"IF($C$8=1,'Scenario 1'!S305,'Scenario 2'!S305)","v":25.051546391752581},{"$f":"IF($C$8=1,'Scenario 1'!T305,'Scenario 2'!T305)","v":0},{"$f":"IF($C$8=1,'Scenario 1'!U305,'Scenario 2'!U305)","v":0},{"$f":"IF($C$8=1,'Scenario 1'!V305,'Scenario 2'!V305)","v":0},{"$f":"IF($C$8=1,'Scenario 1'!W305,'Scenario 2'!W305)","v":0},{"$f":"IF($C$8=1,'Scenario 1'!X305,'Scenario 2'!X305)","v":0},{"$f":"IF($C$8=1,'Scenario 1'!Y305,'Scenario 2'!Y305)","v":0},{"$f":"IF($C$8=1,'Scenario 1'!Z305,'Scenario 2'!Z305)","v":0},{"$f":"IF($C$8=1,'Scenario 1'!AA305,'Scenario 2'!AA305)","v":0},{"$f":"IF($C$8=1,'Scenario 1'!AB305,'Scenario 2'!AB305)","v":17.690721649484534},{"$f":"IF($C$8=1,'Scenario 1'!AC305,'Scenario 2'!AC305)","v":27.835051546391757},{"$f":"IF($C$8=1,'Scenario 1'!AD305,'Scenario 2'!AD305)","v":0},{"$f":"IF($C$8=1,'Scenario 1'!AE305,'Scenario 2'!AE305)","v":48.023529411764706},{"$f":"IF($C$8=1,'Scenario 1'!AF305,'Scenario 2'!AF305)","v":0},{"$f":"IF($C$8=1,'Scenario 1'!AG305,'Scenario 2'!AG305)","v":0},{"$f":"IF($C$8=1,'Scenario 1'!AH305,'Scenario 2'!AH305)","v":0},{"$f":"IF($C$8=1,'Scenario 1'!AI305,'Scenario 2'!AI305)","v":0},{"$f":"IF($C$8=1,'Scenario 1'!AJ305,'Scenario 2'!AJ305)","v":0},{"$f":"IF($C$8=1,'Scenario 1'!AK305,'Scenario 2'!AK305)","v":0},{"$f":"IF($C$8=1,'Scenario 1'!AL305,'Scenario 2'!AL305)","v":50.470588235294123},{"$f":"IF($C$8=1,'Scenario 1'!AM305,'Scenario 2'!AM305)","v":26.288659793814432},{"$f":"IF($C$8=1,'Scenario 1'!AN305,'Scenario 2'!AN305)","v":0},{"$f":"IF($C$8=1,'Scenario 1'!AO305,'Scenario 2'!AO305)","v":16.1875},{"$f":"IF($C$8=1,'Scenario 1'!AP305,'Scenario 2'!AP305)","v":38.062499999999993},{"$f":"IF($C$8=1,'Scenario 1'!AQ305,'Scenario 2'!AQ305)","v":32.299999999999997},{"$f":"IF($C$8=1,'Scenario 1'!AR305,'Scenario 2'!AR305)","v":0},{"$f":"IF($C$8=1,'Scenario 1'!AS305,'Scenario 2'!AS305)","v":0},{"$f":"IF($C$8=1,'Scenario 1'!AT305,'Scenario 2'!AT305)","v":0},{"$f":"IF($C$8=1,'Scenario 1'!AU305,'Scenario 2'!AU305)","v":0},{"$f":"IF($C$8=1,'Scenario 1'!AV305,'Scenario 2'!AV305)","v":50.470588235294123},{"$f":"IF($C$8=1,'Scenario 1'!AW305,'Scenario 2'!AW305)","v":26.412371134020617},{"$f":"IF($C$8=1,'Scenario 1'!AX305,'Scenario 2'!AX305)","v":0},{"$f":"IF($C$8=1,'Scenario 1'!AY305,'Scenario 2'!AY305)","v":48.023529411764706},{"$f":"IF($C$8=1,'Scenario 1'!AZ305,'Scenario 2'!AZ305)","v":17.938144329896907},{"$f":"IF($C$8=1,'Scenario 1'!BA305,'Scenario 2'!BA305)","v":27.835051546391757},{"$f":"IF($C$8=1,'Scenario 1'!BB305,'Scenario 2'!BB305)","v":0},{"$f":"IF($C$8=1,'Scenario 1'!BC305,'Scenario 2'!BC305)","v":16.1875},{"$f":"IF($C$8=1,'Scenario 1'!BD305,'Scenario 2'!BD305)","v":38.062499999999993},{"$f":"IF($C$8=1,'Scenario 1'!BE305,'Scenario 2'!BE305)","v":32.299999999999997},{"$f":"IF($C$8=1,'Scenario 1'!BF305,'Scenario 2'!BF305)","v":50.470588235294123},{"$f":"IF($C$8=1,'Scenario 1'!BG305,'Scenario 2'!BG305)","v":26.288659793814432},{"$f":"IF($C$8=1,'Scenario 1'!BH305,'Scenario 2'!BH305)","v":0},{"$f":"IF($C$8=1,'Scenario 1'!BI305,'Scenario 2'!BI305)","v":48.023529411764706},{"$f":"IF($C$8=1,'Scenario 1'!BJ305,'Scenario 2'!BJ305)","v":17.938144329896907},{"$f":"IF($C$8=1,'Scenario 1'!BK305,'Scenario 2'!BK305)","v":15.072164948453608},{"$f":"IF($C$8=1,'Scenario 1'!BL305,'Scenario 2'!BL305)","v":1.6},{"$f":"IF($C$8=1,'Scenario 1'!BM305,'Scenario 2'!BM305)","v":16.1875},{"$f":"IF($C$8=1,'Scenario 1'!BN305,'Scenario 2'!BN305)","v":38.062499999999993},{"$f":"IF($C$8=1,'Scenario 1'!BO305,'Scenario 2'!BO305)","v":32.299999999999997}]
[null,"K removal, kg/ha"]
[null,"Cl, kg/ha",{"$f":"IF($C$8=1,'Scenario 1'!R307,'Scenario 2'!R307)","v":0},{"$f":"IF($C$8=1,'Scenario 1'!S307,'Scenario 2'!S307)","v":0},{"$f":"IF($C$8=1,'Scenario 1'!T307,'Scenario 2'!T307)","v":0},{"$f":"IF($C$8=1,'Scenario 1'!U307,'Scenario 2'!U307)","v":0},{"$f":"IF($C$8=1,'Scenario 1'!V307,'Scenario 2'!V307)","v":0},{"$f":"IF($C$8=1,'Scenario 1'!W307,'Scenario 2'!W307)","v":0},{"$f":"IF($C$8=1,'Scenario 1'!X307,'Scenario 2'!X307)","v":0},{"$f":"IF($C$8=1,'Scenario 1'!Y307,'Scenario 2'!Y307)","v":0},{"$f":"IF($C$8=1,'Scenario 1'!Z307,'Scenario 2'!Z307)","v":0},{"$f":"IF($C$8=1,'Scenario 1'!AA307,'Scenario 2'!AA307)","v":0},{"$f":"IF($C$8=1,'Scenario 1'!AB307,'Scenario 2'!AB307)","v":0},{"$f":"IF($C$8=1,'Scenario 1'!AC307,'Scenario 2'!AC307)","v":0},{"$f":"IF($C$8=1,'Scenario 1'!AD307,'Scenario 2'!AD307)","v":0},{"$f":"IF($C$8=1,'Scenario 1'!AE307,'Scenario 2'!AE307)","v":0},{"$f":"IF($C$8=1,'Scenario 1'!AF307,'Scenario 2'!AF307)","v":0},{"$f":"IF($C$8=1,'Scenario 1'!AG307,'Scenario 2'!AG307)","v":0},{"$f":"IF($C$8=1,'Scenario 1'!AH307,'Scenario 2'!AH307)","v":0},{"$f":"IF($C$8=1,'Scenario 1'!AI307,'Scenario 2'!AI307)","v":0},{"$f":"IF($C$8=1,'Scenario 1'!AJ307,'Scenario 2'!AJ307)","v":0},{"$f":"IF($C$8=1,'Scenario 1'!AK307,'Scenario 2'!AK307)","v":0},{"$f":"IF($C$8=1,'Scenario 1'!AL307,'Scenario 2'!AL307)","v":0},{"$f":"IF($C$8=1,'Scenario 1'!AM307,'Scenario 2'!AM307)","v":0},{"$f":"IF($C$8=1,'Scenario 1'!AN307,'Scenario 2'!AN307)","v":0},{"$f":"IF($C$8=1,'Scenario 1'!AO307,'Scenario 2'!AO307)","v":0},{"$f":"IF($C$8=1,'Scenario 1'!AP307,'Scenario 2'!AP307)","v":0},{"$f":"IF($C$8=1,'Scenario 1'!AQ307,'Scenario 2'!AQ307)","v":0},{"$f":"IF($C$8=1,'Scenario 1'!AR307,'Scenario 2'!AR307)","v":0},{"$f":"IF($C$8=1,'Scenario 1'!AS307,'Scenario 2'!AS307)","v":0},{"$f":"IF($C$8=1,'Scenario 1'!AT307,'Scenario 2'!AT307)","v":0},{"$f":"IF($C$8=1,'Scenario 1'!AU307,'Scenario 2'!AU307)","v":0},{"$f":"IF($C$8=1,'Scenario 1'!AV307,'Scenario 2'!AV307)","v":0},{"$f":"IF($C$8=1,'Scenario 1'!AW307,'Scenario 2'!AW307)","v":0},{"$f":"IF($C$8=1,'Scenario 1'!AX307,'Scenario 2'!AX307)","v":0},{"$f":"IF($C$8=1,'Scenario 1'!AY307,'Scenario 2'!AY307)","v":0},{"$f":"IF($C$8=1,'Scenario 1'!AZ307,'Scenario 2'!AZ307)","v":0},{"$f":"IF($C$8=1,'Scenario 1'!BA307,'Scenario 2'!BA307)","v":0},{"$f":"IF($C$8=1,'Scenario 1'!BB307,'Scenario 2'!BB307)","v":0},{"$f":"IF($C$8=1,'Scenario 1'!BC307,'Scenario 2'!BC307)","v":0},{"$f":"IF($C$8=1,'Scenario 1'!BD307,'Scenario 2'!BD307)","v":0},{"$f":"IF($C$8=1,'Scenario 1'!BE307,'Scenario 2'!BE307)","v":0},{"$f":"IF($C$8=1,'Scenario 1'!BF307,'Scenario 2'!BF307)","v":0},{"$f":"IF($C$8=1,'Scenario 1'!BG307,'Scenario 2'!BG307)","v":0},{"$f":"IF($C$8=1,'Scenario 1'!BH307,'Scenario 2'!BH307)","v":0},{"$f":"IF($C$8=1,'Scenario 1'!BI307,'Scenario 2'!BI307)","v":0},{"$f":"IF($C$8=1,'Scenario 1'!BJ307,'Scenario 2'!BJ307)","v":0},{"$f":"IF($C$8=1,'Scenario 1'!BK307,'Scenario 2'!BK307)","v":0},{"$f":"IF($C$8=1,'Scenario 1'!BL307,'Scenario 2'!BL307)","v":0},{"$f":"IF($C$8=1,'Scenario 1'!BM307,'Scenario 2'!BM307)","v":0},{"$f":"IF($C$8=1,'Scenario 1'!BN307,'Scenario 2'!BN307)","v":0},{"$f":"IF($C$8=1,'Scenario 1'!BO307,'Scenario 2'!BO307)","v":0}]
[null,"N fixation, kg/t",{"$f":"IF($C$8=1,'Scenario 1'!R308,'Scenario 2'!R308)","v":0},{"$f":"IF($C$8=1,'Scenario 1'!S308,'Scenario 2'!S308)","v":0},{"$f":"IF($C$8=1,'Scenario 1'!T308,'Scenario 2'!T308)","v":0},{"$f":"IF($C$8=1,'Scenario 1'!U308,'Scenario 2'!U308)","v":0},{"$f":"IF($C$8=1,'Scenario 1'!V308,'Scenario 2'!V308)","v":0},{"$f":"IF($C$8=1,'Scenario 1'!W308,'Scenario 2'!W308)","v":0},{"$f":"IF($C$8=1,'Scenario 1'!X308,'Scenario 2'!X308)","v":0},{"$f":"IF($C$8=1,'Scenario 1'!Y308,'Scenario 2'!Y308)","v":0},{"$f":"IF($C$8=1,'Scenario 1'!Z308,'Scenario 2'!Z308)","v":0},{"$f":"IF($C$8=1,'Scenario 1'!AA308,'Scenario 2'!AA308)","v":0},{"$f":"IF($C$8=1,'Scenario 1'!AB308,'Scenario 2'!AB308)","v":25.088000000000001},{"$f":"IF($C$8=1,'Scenario 1'!AC308,'Scenario 2'!AC308)","v":0},{"$f":"IF($C$8=1,'Scenario 1'!AD308,'Scenario 2'!AD308)","v":0},{"$f":"IF($C$8=1,'Scenario 1'!AE308,'Scenario 2'!AE308)","v":0},{"$f":"IF($C$8=1,'Scenario 1'!AF308,'Scenario 2'!AF308)","v":0},{"$f":"IF($C$8=1,'Scenario 1'!AG308,'Scenario 2'!AG308)","v":0},{"$f":"IF($C$8=1,'Scenario 1'!AH308,'Scenario 2'!AH308)","v":0},{"$f":"IF($C$8=1,'Scenario 1'!AI308,'Scenario 2'!AI308)","v":0},{"$f":"IF($C$8=1,'Scenario 1'!AJ308,'Scenario 2'!AJ308)","v":0},{"$f":"IF($C$8=1,'Scenario 1'!AK308,'Scenario 2'!AK308)","v":0},{"$f":"IF($C$8=1,'Scenario 1'!AL308,'Scenario 2'!AL308)","v":0},{"$f":"IF($C$8=1,'Scenario 1'!AM308,'Scenario 2'!AM308)","v":0},{"$f":"IF($C$8=1,'Scenario 1'!AN308,'Scenario 2'!AN308)","v":0},{"$f":"IF($C$8=1,'Scenario 1'!AO308,'Scenario 2'!AO308)","v":24.655999999999999},{"$f":"IF($C$8=1,'Scenario 1'!AP308,'Scenario 2'!AP308)","v":24.655999999999999},{"$f":"IF($C$8=1,'Scenario 1'!AQ308,'Scenario 2'!AQ308)","v":20.367999999999999},{"$f":"IF($C$8=1,'Scenario 1'!AR308,'Scenario 2'!AR308)","v":0},{"$f":"IF($C$8=1,'Scenario 1'!AS308,'Scenario 2'!AS308)","v":0},{"$f":"IF($C$8=1,'Scenario 1'!AT308,'Scenario 2'!AT308)","v":0},{"$f":"IF($C$8=1,'Scenario 1'!AU308,'Scenario 2'!AU308)","v":0},{"$f":"IF($C$8=1,'Scenario 1'!AV308,'Scenario 2'!AV308)","v":0},{"$f":"IF($C$8=1,'Scenario 1'!AW308,'Scenario 2'!AW308)","v":0},{"$f":"IF($C$8=1,'Scenario 1'!AX308,'Scenario 2'!AX308)","v":0},{"$f":"IF($C$8=1,'Scenario 1'!AY308,'Scenario 2'!AY308)","v":0},{"$f":"IF($C$8=1,'Scenario 1'!AZ308,'Scenario 2'!AZ308)","v":25.088000000000001},{"$f":"IF($C$8=1,'Scenario 1'!BA308,'Scenario 2'!BA308)","v":0},{"$f":"IF($C$8=1,'Scenario 1'!BB308,'Scenario 2'!BB308)","v":0},{"$f":"IF($C$8=1,'Scenario 1'!BC308,'Scenario 2'!BC308)","v":24.655999999999999},{"$f":"IF($C$8=1,'Scenario 1'!BD308,'Scenario 2'!BD308)","v":24.655999999999999},{"$f":"IF($C$8=1,'Scenario 1'!BE308,'Scenario 2'!BE308)","v":24.655999999999999},{"$f":"IF($C$8=1,'Scenario 1'!BF308,'Scenario 2'!BF308)","v":0},{"$f":"IF($C$8=1,'Scenario 1'!BG308,'Scenario 2'!BG308)","v":0},{"$f":"IF($C$8=1,'Scenario 1'!BH308,'Scenario 2'!BH308)","v":0},{"$f":"IF($C$8=1,'Scenario 1'!BI308,'Scenario 2'!BI308)","v":0},{"$f":"IF($C$8=1,'Scenario 1'!BJ308,'Scenario 2'!BJ308)","v":25.088000000000001},{"$f":"IF($C$8=1,'Scenario 1'!BK308,'Scenario 2'!BK308)","v":0},{"$f":"IF($C$8=1,'Scenario 1'!BL308,'Scenario 2'!BL308)","v":0},{"$f":"IF($C$8=1,'Scenario 1'!BM308,'Scenario 2'!BM308)","v":24.655999999999999},{"$f":"IF($C$8=1,'Scenario 1'!BN308,'Scenario 2'!BN308)","v":24.655999999999999},{"$f":"IF($C$8=1,'Scenario 1'!BO308,'Scenario 2'!BO308)","v":24.655999999999999}]
[null,"Above ground residue, %",{"$f":"IF($C$8=1,'Scenario 1'!R309,'Scenario 2'!R309)","v":0},{"$f":"IF($C$8=1,'Scenario 1'!S309,'Scenario 2'!S309)","v":38},{"$f":"IF($C$8=1,'Scenario 1'!T309,'Scenario 2'!T309)","v":0},{"$f":"IF($C$8=1,'Scenario 1'!U309,'Scenario 2'!U309)","v":0},{"$f":"IF($C$8=1,'Scenario 1'!V309,'Scenario 2'!V309)","v":0},{"$f":"IF($C$8=1,'Scenario 1'!W309,'Scenario 2'!W309)","v":0},{"$f":"IF($C$8=1,'Scenario 1'!X309,'Scenario 2'!X309)","v":0},{"$f":"IF($C$8=1,'Scenario 1'!Y309,'Scenario 2'!Y309)","v":0},{"$f":"IF($C$8=1,'Scenario 1'!Z309,'Scenario 2'!Z309)","v":0},{"$f":"IF($C$8=1,'Scenario 1'!AA309,'Scenario 2'!AA309)","v":0},{"$f":"IF($C$8=1,'Scenario 1'!AB309,'Scenario 2'!AB309)","v":45},{"$f":"IF($C$8=1,'Scenario 1'!AC309,'Scenario 2'!AC309)","v":38},{"$f":"IF($C$8=1,'Scenario 1'!AD309,'Scenario 2'!AD309)","v":0},{"$f":"IF($C$8=1,'Scenario 1'!AE309,'Scenario 2'!AE309)","v":8},{"$f":"IF($C$8=1,'Scenario 1'!AF309,'Scenario 2'!AF309)","v":0},{"$f":"IF($C$8=1,'Scenario 1'!AG309,'Scenario 2'!AG309)","v":0},{"$f":"IF($C$8=1,'Scenario 1'!AH309,'Scenario 2'!AH309)","v":0},{"$f":"IF($C$8=1,'Scenario 1'!AI309,'Scenario 2'!AI309)","v":0},{"$f":"IF($C$8=1,'Scenario 1'!AJ309,'Scenario 2'!AJ309)","v":0},{"$f":"IF($C$8=1,'Scenario 1'!AK309,'Scenario 2'!AK309)","v":0},{"$f":"IF($C$8=1,'Scenario 1'!AL309,'Scenario 2'!AL309)","v":8},{"$f":"IF($C$8=1,'Scenario 1'!AM309,'Scenario 2'!AM309)","v":38},{"$f":"IF($C$8=1,'Scenario 1'!AN309,'Scenario 2'!AN309)","v":0},{"$f":"IF($C$8=1,'Scenario 1'!AO309,'Scenario 2'!AO309)","v":0},{"$f":"IF($C$8=1,'Scenario 1'!AP309,'Scenario 2'!AP309)","v":0},{"$f":"IF($C$8=1,'Scenario 1'!AQ309,'Scenario 2'!AQ309)","v":0},{"$f":"IF($C$8=1,'Scenario 1'!AR309,'Scenario 2'!AR309)","v":0},{"$f":"IF($C$8=1,'Scenario 1'!AS309,'Scenario 2'!AS309)","v":0},{"$f":"IF($C$8=1,'Scenario 1'!AT309,'Scenario 2'!AT309)","v":0},{"$f":"IF($C$8=1,'Scenario 1'!AU309,'Scenario 2'!AU309)","v":0},{"$f":"IF($C$8=1,'Scenario 1'!AV309,'Scenario 2'!AV309)","v":8},{"$f":"IF($C$8=1,'Scenario 1'!AW309,'Scenario 2'!AW309)","v":38},{"$f":"IF($C$8=1,'Scenario 1'!AX309,'Scenario 2'!AX309)","v":0},{"$f":"IF($C$8=1,'Scenario 1'!AY309,'Scenario 2'!AY309)","v":8},{"$f":"IF($C$8=1,'Scenario 1'!AZ309,'Scenario 2'!AZ309)","v":45},{"$f":"IF($C$8=1,'Scenario 1'!BA309,'Scenario 2'!BA309)","v":38},{"$f":"IF($C$8=1,'Scenario 1'!BB309,'Scenario 2'!BB309)","v":0},{"$f":"IF($C$8=1,'Scenario 1'!BC309,'Scenario 2'!BC309)","v":0},{"$f":"IF($C$8=1,'Scenario 1'!BD309,'Scenario 2'!BD309)","v":0},{"$f":"IF($C$8=1,'Scenario 1'!BE309,'Scenario 2'!BE309)","v":0},{"$f":"IF($C$8=1,'Scenario 1'!BF309,'Scenario 2'!BF309)","v":8},{"$f":"IF($C$8=1,'Scenario 1'!BG309,'Scenario 2'!BG309)","v":38},{"$f":"IF($C$8=1,'Scenario 1'!BH309,'Scenario 2'!BH309)","v":0},{"$f":"IF($C$8=1,'Scenario 1'!BI309,'Scenario 2'!BI309)","v":8},{"$f":"IF($C$8=1,'Scenario 1'!BJ309,'Scenario 2'!BJ309)","v":45},{"$f":"IF($C$8=1,'Scenario 1'!BK309,'Scenario 2'!BK309)","v":0},{"$f":"IF($C$8=1,'Scenario 1'!BL309,'Scenario 2'!BL309)","v":0},{"$f":"IF($C$8=1,'Scenario 1'!BM309,'Scenario 2'!BM309)","v":0},{"$f":"IF($C$8=1,'Scenario 1'!BN309,'Scenario 2'!BN309)","v":0},{"$f":"IF($C$8=1,'Scenario 1'!BO309,'Scenario 2'!BO309)","v":0}]
[null,"N Above ground residue, g N/kg",{"$f":"IF($C$8=1,'Scenario 1'!R310,'Scenario 2'!R310)","v":0},{"$f":"IF($C$8=1,'Scenario 1'!S310,'Scenario 2'!S310)","v":5},{"$f":"IF($C$8=1,'Scenario 1'!T310,'Scenario 2'!T310)","v":0},{"$f":"IF($C$8=1,'Scenario 1'!U310,'Scenario 2'!U310)","v":0},{"$f":"IF($C$8=1,'Scenario 1'!V310,'Scenario 2'!V310)","v":0},{"$f":"IF($C$8=1,'Scenario 1'!W310,'Scenario 2'!W310)","v":0},{"$f":"IF($C$8=1,'Scenario 1'!X310,'Scenario 2'!X310)","v":0},{"$f":"IF($C$8=1,'Scenario 1'!Y310,'Scenario 2'!Y310)","v":0},{"$f":"IF($C$8=1,'Scenario 1'!Z310,'Scenario 2'!Z310)","v":0},{"$f":"IF($C$8=1,'Scenario 1'!AA310,'Scenario 2'!AA310)","v":0},{"$f":"IF($C$8=1,'Scenario 1'!AB310,'Scenario 2'!AB310)","v":6},{"$f":"IF($C$8=1,'Scenario 1'!AC310,'Scenario 2'!AC310)","v":5},{"$f":"IF($C$8=1,'Scenario 1'!AD310,'Scenario 2'!AD310)","v":0},{"$f":"IF($C$8=1,'Scenario 1'!AE310,'Scenario 2'!AE310)","v":13},{"$f":"IF($C$8=1,'Scenario 1'!AF310,'Scenario 2'!AF310)","v":0},{"$f":"IF($C$8=1,'Scenario 1'!AG310,'Scenario 2'!AG310)","v":0},{"$f":"IF($C$8=1,'Scenario 1'!AH310,'Scenario 2'!AH310)","v":0},{"$f":"IF($C$8=1,'Scenario 1'!AI310,'Scenario 2'!AI310)","v":0},{"$f":"IF($C$8=1,'Scenario 1'!AJ310,'Scenario 2'!AJ310)","v":0},{"$f":"IF($C$8=1,'Scenario 1'!AK310,'Scenario 2'!AK310)","v":0},{"$f":"IF($C$8=1,'Scenario 1'!AL310,'Scenario 2'!AL310)","v":13},{"$f":"IF($C$8=1,'Scenario 1'!AM310,'Scenario 2'!AM310)","v":5},{"$f":"IF($C$8=1,'Scenario 1'!AN310,'Scenario 2'!AN310)","v":0},{"$f":"IF($C$8=1,'Scenario 1'!AO310,'Scenario 2'!AO310)","v":0},{"$f":"IF($C$8=1,'Scenario 1'!AP310,'Scenario 2'!AP310)","v":0},{"$f":"IF($C$8=1,'Scenario 1'!AQ310,'Scenario 2'!AQ310)","v":0},{"$f":"IF($C$8=1,'Scenario 1'!AR310,'Scenario 2'!AR310)","v":0},{"$f":"IF($C$8=1,'Scenario 1'!AS310,'Scenario 2'!AS310)","v":0},{"$f":"IF($C$8=1,'Scenario 1'!AT310,'Scenario 2'!AT310)","v":0},{"$f":"IF($C$8=1,'Scenario 1'!AU310,'Scenario 2'!AU310)","v":0},{"$f":"IF($C$8=1,'Scenario 1'!AV310,'Scenario 2'!AV310)","v":13},{"$f":"IF($C$8=1,'Scenario 1'!AW310,'Scenario 2'!AW310)","v":5},{"$f":"IF($C$8=1,'Scenario 1'!AX310,'Scenario 2'!AX310)","v":0},{"$f":"IF($C$8=1,'Scenario 1'!AY310,'Scenario 2'!AY310)","v":13},{"$f":"IF($C$8=1,'Scenario 1'!AZ310,'Scenario 2'!AZ310)","v":6},{"$f":"IF($C$8=1,'Scenario 1'!BA310,'Scenario 2'!BA310)","v":5},{"$f":"IF($C$8=1,'Scenario 1'!BB310,'Scenario 2'!BB310)","v":0},{"$f":"IF($C$8=1,'Scenario 1'!BC310,'Scenario 2'!BC310)","v":0},{"$f":"IF($C$8=1,'Scenario 1'!BD310,'Scenario 2'!BD310)","v":0},{"$f":"IF($C$8=1,'Scenario 1'!BE310,'Scenario 2'!BE310)","v":0},{"$f":"IF($C$8=1,'Scenario 1'!BF310,'Scenario 2'!BF310)","v":13},{"$f":"IF($C$8=1,'Scenario 1'!BG310,'Scenario 2'!BG310)","v":5},{"$f":"IF($C$8=1,'Scenario 1'!BH310,'Scenario 2'!BH310)","v":0},{"$f":"IF($C$8=1,'Scenario 1'!BI310,'Scenario 2'!BI310)","v":13},{"$f":"IF($C$8=1,'Scenario 1'!BJ310,'Scenario 2'!BJ310)","v":6},{"$f":"IF($C$8=1,'Scenario 1'!BK310,'Scenario 2'!BK310)","v":6},{"$f":"IF($C$8=1,'Scenario 1'!BL310,'Scenario 2'!BL310)","v":0},{"$f":"IF($C$8=1,'Scenario 1'!BM310,'Scenario 2'!BM310)","v":0},{"$f":"IF($C$8=1,'Scenario 1'!BN310,'Scenario 2'!BN310)","v":0},{"$f":"IF($C$8=1,'Scenario 1'!BO310,'Scenario 2'!BO310)","v":0}]
[null,"Below ground residue, %",{"$f":"IF($C$8=1,'Scenario 1'!R311,'Scenario 2'!R311)","v":0},{"$f":"IF($C$8=1,'Scenario 1'!S311,'Scenario 2'!S311)","v":15},{"$f":"IF($C$8=1,'Scenario 1'!T311,'Scenario 2'!T311)","v":0},{"$f":"IF($C$8=1,'Scenario 1'!U311,'Scenario 2'!U311)","v":0},{"$f":"IF($C$8=1,'Scenario 1'!V311,'Scenario 2'!V311)","v":0},{"$f":"IF($C$8=1,'Scenario 1'!W311,'Scenario 2'!W311)","v":0},{"$f":"IF($C$8=1,'Scenario 1'!X311,'Scenario 2'!X311)","v":0},{"$f":"IF($C$8=1,'Scenario 1'!Y311,'Scenario 2'!Y311)","v":0},{"$f":"IF($C$8=1,'Scenario 1'!Z311,'Scenario 2'!Z311)","v":0},{"$f":"IF($C$8=1,'Scenario 1'!AA311,'Scenario 2'!AA311)","v":0},{"$f":"IF($C$8=1,'Scenario 1'!AB311,'Scenario 2'!AB311)","v":25},{"$f":"IF($C$8=1,'Scenario 1'!AC311,'Scenario 2'!AC311)","v":15},{"$f":"IF($C$8=1,'Scenario 1'!AD311,'Scenario 2'!AD311)","v":0},{"$f":"IF($C$8=1,'Scenario 1'!AE311,'Scenario 2'!AE311)","v":20},{"$f":"IF($C$8=1,'Scenario 1'!AF311,'Scenario 2'!AF311)","v":0},{"$f":"IF($C$8=1,'Scenario 1'!AG311,'Scenario 2'!AG311)","v":0},{"$f":"IF($C$8=1,'Scenario 1'!AH311,'Scenario 2'!AH311)","v":0},{"$f":"IF($C$8=1,'Scenario 1'!AI311,'Scenario 2'!AI311)","v":0},{"$f":"IF($C$8=1,'Scenario 1'!AJ311,'Scenario 2'!AJ311)","v":0},{"$f":"IF($C$8=1,'Scenario 1'!AK311,'Scenario 2'!AK311)","v":0},{"$f":"IF($C$8=1,'Scenario 1'!AL311,'Scenario 2'!AL311)","v":20},{"$f":"IF($C$8=1,'Scenario 1'!AM311,'Scenario 2'!AM311)","v":15},{"$f":"IF($C$8=1,'Scenario 1'!AN311,'Scenario 2'!AN311)","v":0},{"$f":"IF($C$8=1,'Scenario 1'!AO311,'Scenario 2'!AO311)","v":0},{"$f":"IF($C$8=1,'Scenario 1'!AP311,'Scenario 2'!AP311)","v":0},{"$f":"IF($C$8=1,'Scenario 1'!AQ311,'Scenario 2'!AQ311)","v":0},{"$f":"IF($C$8=1,'Scenario 1'!AR311,'Scenario 2'!AR311)","v":0},{"$f":"IF($C$8=1,'Scenario 1'!AS311,'Scenario 2'!AS311)","v":0},{"$f":"IF($C$8=1,'Scenario 1'!AT311,'Scenario 2'!AT311)","v":0},{"$f":"IF($C$8=1,'Scenario 1'!AU311,'Scenario 2'!AU311)","v":0},{"$f":"IF($C$8=1,'Scenario 1'!AV311,'Scenario 2'!AV311)","v":20},{"$f":"IF($C$8=1,'Scenario 1'!AW311,'Scenario 2'!AW311)","v":15},{"$f":"IF($C$8=1,'Scenario 1'!AX311,'Scenario 2'!AX311)","v":0},{"$f":"IF($C$8=1,'Scenario 1'!AY311,'Scenario 2'!AY311)","v":20},{"$f":"IF($C$8=1,'Scenario 1'!AZ311,'Scenario 2'!AZ311)","v":25},{"$f":"IF($C$8=1,'Scenario 1'!BA311,'Scenario 2'!BA311)","v":15},{"$f":"IF($C$8=1,'Scenario 1'!BB311,'Scenario 2'!BB311)","v":0},{"$f":"IF($C$8=1,'Scenario 1'!BC311,'Scenario 2'!BC311)","v":0},{"$f":"IF($C$8=1,'Scenario 1'!BD311,'Scenario 2'!BD311)","v":0},{"$f":"IF($C$8=1,'Scenario 1'!BE311,'Scenario 2'!BE311)","v":0},{"$f":"IF($C$8=1,'Scenario 1'!BF311,'Scenario 2'!BF311)","v":20},{"$f":"IF($C$8=1,'Scenario 1'!BG311,'Scenario 2'!BG311)","v":15},{"$f":"IF($C$8=1,'Scenario 1'!BH311,'Scenario 2'!BH311)","v":0},{"$f":"IF($C$8=1,'Scenario 1'!BI311,'Scenario 2'!BI311)","v":20},{"$f":"IF($C$8=1,'Scenario 1'!BJ311,'Scenario 2'!BJ311)","v":25},{"$f":"IF($C$8=1,'Scenario 1'!BK311,'Scenario 2'!BK311)","v":15},{"$f":"IF($C$8=1,'Scenario 1'!BL311,'Scenario 2'!BL311)","v":0},{"$f":"IF($C$8=1,'Scenario 1'!BM311,'Scenario 2'!BM311)","v":0},{"$f":"IF($C$8=1,'Scenario 1'!BN311,'Scenario 2'!BN311)","v":0},{"$f":"IF($C$8=1,'Scenario 1'!BO311,'Scenario 2'!BO311)","v":0}]
[null,"N Below ground residue, g N/kg",{"$f":"IF($C$8=1,'Scenario 1'!R312,'Scenario 2'!R312)","v":0},{"$f":"IF($C$8=1,'Scenario 1'!S312,'Scenario 2'!S312)","v":7},{"$f":"IF($C$8=1,'Scenario 1'!T312,'Scenario 2'!T312)","v":0},{"$f":"IF($C$8=1,'Scenario 1'!U312,'Scenario 2'!U312)","v":0},{"$f":"IF($C$8=1,'Scenario 1'!V312,'Scenario 2'!V312)","v":0},{"$f":"IF($C$8=1,'Scenario 1'!W312,'Scenario 2'!W312)","v":0},{"$f":"IF($C$8=1,'Scenario 1'!X312,'Scenario 2'!X312)","v":0},{"$f":"IF($C$8=1,'Scenario 1'!Y312,'Scenario 2'!Y312)","v":0},{"$f":"IF($C$8=1,'Scenario 1'!Z312,'Scenario 2'!Z312)","v":0},{"$f":"IF($C$8=1,'Scenario 1'!AA312,'Scenario 2'!AA312)","v":0},{"$f":"IF($C$8=1,'Scenario 1'!AB312,'Scenario 2'!AB312)","v":10},{"$f":"IF($C$8=1,'Scenario 1'!AC312,'Scenario 2'!AC312)","v":7},{"$f":"IF($C$8=1,'Scenario 1'!AD312,'Scenario 2'!AD312)","v":0},{"$f":"IF($C$8=1,'Scenario 1'!AE312,'Scenario 2'!AE312)","v":7},{"$f":"IF($C$8=1,'Scenario 1'!AF312,'Scenario 2'!AF312)","v":0},{"$f":"IF($C$8=1,'Scenario 1'!AG312,'Scenario 2'!AG312)","v":0},{"$f":"IF($C$8=1,'Scenario 1'!AH312,'Scenario 2'!AH312)","v":0},{"$f":"IF($C$8=1,'Scenario 1'!AI312,'Scenario 2'!AI312)","v":0},{"$f":"IF($C$8=1,'Scenario 1'!AJ312,'Scenario 2'!AJ312)","v":0},{"$f":"IF($C$8=1,'Scenario 1'!AK312,'Scenario 2'!AK312)","v":0},{"$f":"IF($C$8=1,'Scenario 1'!AL312,'Scenario 2'!AL312)","v":7},{"$f":"IF($C$8=1,'Scenario 1'!AM312,'Scenario 2'!AM312)","v":7},{"$f":"IF($C$8=1,'Scenario 1'!AN312,'Scenario 2'!AN312)","v":0},{"$f":"IF($C$8=1,'Scenario 1'!AO312,'Scenario 2'!AO312)","v":0},{"$f":"IF($C$8=1,'Scenario 1'!AP312,'Scenario 2'!AP312)","v":0},{"$f":"IF($C$8=1,'Scenario 1'!AQ312,'Scenario 2'!AQ312)","v":0},{"$f":"IF($C$8=1,'Scenario 1'!AR312,'Scenario 2'!AR312)","v":0},{"$f":"IF($C$8=1,'Scenario 1'!AS312,'Scenario 2'!AS312)","v":0},{"$f":"IF($C$8=1,'Scenario 1'!AT312,'Scenario 2'!AT312)","v":0},{"$f":"IF($C$8=1,'Scenario 1'!AU312,'Scenario 2'!AU312)","v":0},{"$f":"IF($C$8=1,'Scenario 1'!AV312,'Scenario 2'!AV312)","v":7},{"$f":"IF($C$8=1,'Scenario 1'!AW312,'Scenario 2'!AW312)","v":7},{"$f":"IF($C$8=1,'Scenario 1'!AX312,'Scenario 2'!AX312)","v":0},{"$f":"IF($C$8=1,'Scenario 1'!AY312,'Scenario 2'!AY312)","v":7},{"$f":"IF($C$8=1,'Scenario 1'!AZ312,'Scenario 2'!AZ312)","v":10},{"$f":"IF($C$8=1,'Scenario 1'!BA312,'Scenario 2'!BA312)","v":7},{"$f":"IF($C$8=1,'Scenario 1'!BB312,'Scenario 2'!BB312)","v":0},{"$f":"IF($C$8=1,'Scenario 1'!BC312,'Scenario 2'!BC312)","v":0},{"$f":"IF($C$8=1,'Scenario 1'!BD312,'Scenario 2'!BD312)","v":0},{"$f":"IF($C$8=1,'Scenario 1'!BE312,'Scenario 2'!BE312)","v":0},{"$f":"IF($C$8=1,'Scenario 1'!BF312,'Scenario 2'!BF312)","v":7},{"$f":"IF($C$8=1,'Scenario 1'!BG312,'Scenario 2'!BG312)","v":7},{"$f":"IF($C$8=1,'Scenario 1'!BH312,'Scenario 2'!BH312)","v":0},{"$f":"IF($C$8=1,'Scenario 1'!BI312,'Scenario 2'!BI312)","v":7},{"$f":"IF($C$8=1,'Scenario 1'!BJ312,'Scenario 2'!BJ312)","v":10},{"$f":"IF($C$8=1,'Scenario 1'!BK312,'Scenario 2'!BK312)","v":10},{"$f":"IF($C$8=1,'Scenario 1'!BL312,'Scenario 2'!BL312)","v":0},{"$f":"IF($C$8=1,'Scenario 1'!BM312,'Scenario 2'!BM312)","v":0},{"$f":"IF($C$8=1,'Scenario 1'!BN312,'Scenario 2'!BN312)","v":0},{"$f":"IF($C$8=1,'Scenario 1'!BO312,'Scenario 2'!BO312)","v":0}]
[null,"Fuel consumption (L/ha) (w/o fertilizers application)",{"$f":"IF($C$8=1,'Scenario 1'!R313,'Scenario 2'!R313)","v":0},{"$f":"IF($C$8=1,'Scenario 1'!S313,'Scenario 2'!S313)","v":58.6},{"$f":"IF($C$8=1,'Scenario 1'!T313,'Scenario 2'!T313)","v":0},{"$f":"IF($C$8=1,'Scenario 1'!U313,'Scenario 2'!U313)","v":0},{"$f":"IF($C$8=1,'Scenario 1'!V313,'Scenario 2'!V313)","v":0},{"$f":"IF($C$8=1,'Scenario 1'!W313,'Scenario 2'!W313)","v":0},{"$f":"IF($C$8=1,'Scenario 1'!X313,'Scenario 2'!X313)","v":0},{"$f":"IF($C$8=1,'Scenario 1'!Y313,'Scenario 2'!Y313)","v":0},{"$f":"IF($C$8=1,'Scenario 1'!Z313,'Scenario 2'!Z313)","v":0},{"$f":"IF($C$8=1,'Scenario 1'!AA313,'Scenario 2'!AA313)","v":0},{"$f":"IF($C$8=1,'Scenario 1'!AB313,'Scenario 2'!AB313)","v":60.1},{"$f":"IF($C$8=1,'Scenario 1'!AC313,'Scenario 2'!AC313)","v":58.6},{"$f":"IF($C$8=1,'Scenario 1'!AD313,'Scenario 2'!AD313)","v":0},{"$f":"IF($C$8=1,'Scenario 1'!AE313,'Scenario 2'!AE313)","v":101.1},{"$f":"IF($C$8=1,'Scenario 1'!AF313,'Scenario 2'!AF313)","v":0},{"$f":"IF($C$8=1,'Scenario 1'!AG313,'Scenario 2'!AG313)","v":0},{"$f":"IF($C$8=1,'Scenario 1'!AH313,'Scenario 2'!AH313)","v":0},{"$f":"IF($C$8=1,'Scenario 1'!AI313,'Scenario 2'!AI313)","v":0},{"$f":"IF($C$8=1,'Scenario 1'!AJ313,'Scenario 2'!AJ313)","v":0},{"$f":"IF($C$8=1,'Scenario 1'!AK313,'Scenario 2'!AK313)","v":0},{"$f":"IF($C$8=1,'Scenario 1'!AL313,'Scenario 2'!AL313)","v":101.1},{"$f":"IF($C$8=1,'Scenario 1'!AM313,'Scenario 2'!AM313)","v":58.6},{"$f":"IF($C$8=1,'Scenario 1'!AN313,'Scenario 2'!AN313)","v":0},{"$f":"IF($C$8=1,'Scenario 1'!AO313,'Scenario 2'!AO313)","v":49.3},{"$f":"IF($C$8=1,'Scenario 1'!AP313,'Scenario 2'!AP313)","v":123.3},{"$f":"IF($C$8=1,'Scenario 1'!AQ313,'Scenario 2'!AQ313)","v":123.3},{"$f":"IF($C$8=1,'Scenario 1'!AR313,'Scenario 2'!AR313)","v":0},{"$f":"IF($C$8=1,'Scenario 1'!AS313,'Scenario 2'!AS313)","v":0},{"$f":"IF($C$8=1,'Scenario 1'!AT313,'Scenario 2'!AT313)","v":0},{"$f":"IF($C$8=1,'Scenario 1'!AU313,'Scenario 2'!AU313)","v":0},{"$f":"IF($C$8=1,'Scenario 1'!AV313,'Scenario 2'!AV313)","v":101.1},{"$f":"IF($C$8=1,'Scenario 1'!AW313,'Scenario 2'!AW313)","v":58.6},{"$f":"IF($C$8=1,'Scenario 1'!AX313,'Scenario 2'!AX313)","v":0},{"$f":"IF($C$8=1,'Scenario 1'!AY313,'Scenario 2'!AY313)","v":101.1},{"$f":"IF($C$8=1,'Scenario 1'!AZ313,'Scenario 2'!AZ313)","v":60.1},{"$f":"IF($C$8=1,'Scenario 1'!BA313,'Scenario 2'!BA313)","v":58.6},{"$f":"IF($C$8=1,'Scenario 1'!BB313,'Scenario 2'!BB313)","v":0},{"$f":"IF($C$8=1,'Scenario 1'!BC313,'Scenario 2'!BC313)","v":49.3},{"$f":"IF($C$8=1,'Scenario 1'!BD313,'Scenario 2'!BD313)","v":123.3},{"$f":"IF($C$8=1,'Scenario 1'!BE313,'Scenario 2'!BE313)","v":123.3},{"$f":"IF($C$8=1,'Scenario 1'!BF313,'Scenario 2'!BF313)","v":101.1},{"$f":"IF($C$8=1,'Scenario 1'!BG313,'Scenario 2'!BG313)","v":58.6},{"$f":"IF($C$8=1,'Scenario 1'!BH313,'Scenario 2'!BH313)","v":0},{"$f":"IF($C$8=1,'Scenario 1'!BI313,'Scenario 2'!BI313)","v":101.1},{"$f":"IF($C$8=1,'Scenario 1'!BJ313,'Scenario 2'!BJ313)","v":60.1},{"$f":"IF($C$8=1,'Scenario 1'!BK313,'Scenario 2'!BK313)","v":46.3},{"$f":"IF($C$8=1,'Scenario 1'!BL313,'Scenario 2'!BL313)","v":0},{"$f":"IF($C$8=1,'Scenario 1'!BM313,'Scenario 2'!BM313)","v":49.3},{"$f":"IF($C$8=1,'Scenario 1'!BN313,'Scenario 2'!BN313)","v":123.3},{"$f":"IF($C$8=1,'Scenario 1'!BO313,'Scenario 2'!BO313)","v":123.3}]
[null,"Variable costs  w/o fertilizer, $/ha",{"$f":"IF($C$8=1,'Scenario 1'!R314,'Scenario 2'!R314)","v":0},{"$f":"IF($C$8=1,'Scenario 1'!S314,'Scenario 2'!S314)","v":800.65},{"$f":"IF($C$8=1,'Scenario 1'!T314,'Scenario 2'!T314)","v":0},{"$f":"IF($C$8=1,'Scenario 1'!U314,'Scenario 2'!U314)","v":0},{"$f":"IF($C$8=1,'Scenario 1'!V314,'Scenario 2'!V314)","v":0},{"$f":"IF($C$8=1,'Scenario 1'!W314,'Scenario 2'!W314)","v":0},{"$f":"IF($C$8=1,'Scenario 1'!X314,'Scenario 2'!X314)","v":0},{"$f":"IF($C$8=1,'Scenario 1'!Y314,'Scenario 2'!Y314)","v":0},{"$f":"IF($C$8=1,'Scenario 1'!Z314,'Scenario 2'!Z314)","v":0},{"$f":"IF($C$8=1,'Scenario 1'!AA314,'Scenario 2'!AA314)","v":0},{"$f":"IF($C$8=1,'Scenario 1'!AB314,'Scenario 2'!AB314)","v":454.48},{"$f":"IF($C$8=1,'Scenario 1'!AC314,'Scenario 2'!AC314)","v":724.41},{"$f":"IF($C$8=1,'Scenario 1'!AD314,'Scenario 2'!AD314)","v":0},{"$f":"IF($C$8=1,'Scenario 1'!AE314,'Scenario 2'!AE314)","v":505.43},{"$f":"IF($C$8=1,'Scenario 1'!AF314,'Scenario 2'!AF314)","v":0},{"$f":"IF($C$8=1,'Scenario 1'!AG314,'Scenario 2'!AG314)","v":0},{"$f":"IF($C$8=1,'Scenario 1'!AH314,'Scenario 2'!AH314)","v":0},{"$f":"IF($C$8=1,'Scenario 1'!AI314,'Scenario 2'!AI314)","v":0},{"$f":"IF($C$8=1,'Scenario 1'!AJ314,'Scenario 2'!AJ314)","v":0},{"$f":"IF($C$8=1,'Scenario 1'!AK314,'Scenario 2'!AK314)","v":0},{"$f":"IF($C$8=1,'Scenario 1'!AL314,'Scenario 2'!AL314)","v":486.38},{"$f":"IF($C$8=1,'Scenario 1'!AM314,'Scenario 2'!AM314)","v":800.65},{"$f":"IF($C$8=1,'Scenario 1'!AN314,'Scenario 2'!AN314)","v":0},{"$f":"IF($C$8=1,'Scenario 1'!AO314,'Scenario 2'!AO314)","v":578.94000000000005},{"$f":"IF($C$8=1,'Scenario 1'!AP314,'Scenario 2'!AP314)","v":387.44},{"$f":"IF($C$8=1,'Scenario 1'!AQ314,'Scenario 2'!AQ314)","v":387.44},{"$f":"IF($C$8=1,'Scenario 1'!AR314,'Scenario 2'!AR314)","v":0},{"$f":"IF($C$8=1,'Scenario 1'!AS314,'Scenario 2'!AS314)","v":0},{"$f":"IF($C$8=1,'Scenario 1'!AT314,'Scenario 2'!AT314)","v":0},{"$f":"IF($C$8=1,'Scenario 1'!AU314,'Scenario 2'!AU314)","v":0},{"$f":"IF($C$8=1,'Scenario 1'!AV314,'Scenario 2'!AV314)","v":486.38},{"$f":"IF($C$8=1,'Scenario 1'!AW314,'Scenario 2'!AW314)","v":800.65},{"$f":"IF($C$8=1,'Scenario 1'!AX314,'Scenario 2'!AX314)","v":0},{"$f":"IF($C$8=1,'Scenario 1'!AY314,'Scenario 2'!AY314)","v":505.43},{"$f":"IF($C$8=1,'Scenario 1'!AZ314,'Scenario 2'!AZ314)","v":454.48},{"$f":"IF($C$8=1,'Scenario 1'!BA314,'Scenario 2'!BA314)","v":724.41},{"$f":"IF($C$8=1,'Scenario 1'!BB314,'Scenario 2'!BB314)","v":0},{"$f":"IF($C$8=1,'Scenario 1'!BC314,'Scenario 2'!BC314)","v":578.94000000000005},{"$f":"IF($C$8=1,'Scenario 1'!BD314,'Scenario 2'!BD314)","v":387.44},{"$f":"IF($C$8=1,'Scenario 1'!BE314,'Scenario 2'!BE314)","v":387.44},{"$f":"IF($C$8=1,'Scenario 1'!BF314,'Scenario 2'!BF314)","v":486.38},{"$f":"IF($C$8=1,'Scenario 1'!BG314,'Scenario 2'!BG314)","v":800.65},{"$f":"IF($C$8=1,'Scenario 1'!BH314,'Scenario 2'!BH314)","v":0},{"$f":"IF($C$8=1,'Scenario 1'!BI314,'Scenario 2'!BI314)","v":505.43},{"$f":"IF($C$8=1,'Scenario 1'!BJ314,'Scenario 2'!BJ314)","v":454.48},{"$f":"IF($C$8=1,'Scenario 1'!BK314,'Scenario 2'!BK314)","v":360.95},{"$f":"IF($C$8=1,'Scenario 1'!BL314,'Scenario 2'!BL314)","v":360.95},{"$f":"IF($C$8=1,'Scenario 1'!BM314,'Scenario 2'!BM314)","v":578.94000000000005},{"$f":"IF($C$8=1,'Scenario 1'!BN314,'Scenario 2'!BN314)","v":387.44},{"$f":"IF($C$8=1,'Scenario 1'!BO314,'Scenario 2'!BO314)","v":387.44}]
[null,"Variable costs, $/ha",{"$f":"IF($C$8=1,'Scenario 1'!R315,'Scenario 2'!R315)","v":0},{"$f":"IF($C$8=1,'Scenario 1'!S315,'Scenario 2'!S315)","v":0},{"$f":"IF($C$8=1,'Scenario 1'!T315,'Scenario 2'!T315)","v":0},{"$f":"IF($C$8=1,'Scenario 1'!U315,'Scenario 2'!U315)","v":0},{"$f":"IF($C$8=1,'Scenario 1'!V315,'Scenario 2'!V315)","v":0},{"$f":"IF($C$8=1,'Scenario 1'!W315,'Scenario 2'!W315)","v":0},{"$f":"IF($C$8=1,'Scenario 1'!X315,'Scenario 2'!X315)","v":0},{"$f":"IF($C$8=1,'Scenario 1'!Y315,'Scenario 2'!Y315)","v":0},{"$f":"IF($C$8=1,'Scenario 1'!Z315,'Scenario 2'!Z315)","v":0},{"$f":"IF($C$8=1,'Scenario 1'!AA315,'Scenario 2'!AA315)","v":0},{"$f":"IF($C$8=1,'Scenario 1'!AB315,'Scenario 2'!AB315)","v":0},{"$f":"IF($C$8=1,'Scenario 1'!AC315,'Scenario 2'!AC315)","v":0},{"$f":"IF($C$8=1,'Scenario 1'!AD315,'Scenario 2'!AD315)","v":0},{"$f":"IF($C$8=1,'Scenario 1'!AE315,'Scenario 2'!AE315)","v":0},{"$f":"IF($C$8=1,'Scenario 1'!AF315,'Scenario 2'!AF315)","v":0},{"$f":"IF($C$8=1,'Scenario 1'!AG315,'Scenario 2'!AG315)","v":0},{"$f":"IF($C$8=1,'Scenario 1'!AH315,'Scenario 2'!AH315)","v":0},{"$f":"IF($C$8=1,'Scenario 1'!AI315,'Scenario 2'!AI315)","v":0},{"$f":"IF($C$8=1,'Scenario 1'!AJ315,'Scenario 2'!AJ315)","v":0},{"$f":"IF($C$8=1,'Scenario 1'!AK315,'Scenario 2'!AK315)","v":0},{"$f":"IF($C$8=1,'Scenario 1'!AL315,'Scenario 2'!AL315)","v":0},{"$f":"IF($C$8=1,'Scenario 1'!AM315,'Scenario 2'!AM315)","v":0},{"$f":"IF($C$8=1,'Scenario 1'!AN315,'Scenario 2'!AN315)","v":0},{"$f":"IF($C$8=1,'Scenario 1'!AO315,'Scenario 2'!AO315)","v":0},{"$f":"IF($C$8=1,'Scenario 1'!AP315,'Scenario 2'!AP315)","v":0},{"$f":"IF($C$8=1,'Scenario 1'!AQ315,'Scenario 2'!AQ315)","v":0},{"$f":"IF($C$8=1,'Scenario 1'!AR315,'Scenario 2'!AR315)","v":0},{"$f":"IF($C$8=1,'Scenario 1'!AS315,'Scenario 2'!AS315)","v":0},{"$f":"IF($C$8=1,'Scenario 1'!AT315,'Scenario 2'!AT315)","v":0},{"$f":"IF($C$8=1,'Scenario 1'!AU315,'Scenario 2'!AU315)","v":0},{"$f":"IF($C$8=1,'Scenario 1'!AV315,'Scenario 2'!AV315)","v":0},{"$f":"IF($C$8=1,'Scenario 1'!AW315,'Scenario 2'!AW315)","v":0},{"$f":"IF($C$8=1,'Scenario 1'!AX315,'Scenario 2'!AX315)","v":0},{"$f":"IF($C$8=1,'Scenario 1'!AY315,'Scenario 2'!AY315)","v":0},{"$f":"IF($C$8=1,'Scenario 1'!AZ315,'Scenario 2'!AZ315)","v":0},{"$f":"IF($C$8=1,'Scenario 1'!BA315,'Scenario 2'!BA315)","v":0},{"$f":"IF($C$8=1,'Scenario 1'!BB315,'Scenario 2'!BB315)","v":0},{"$f":"IF($C$8=1,'Scenario 1'!BC315,'Scenario 2'!BC315)","v":0},{"$f":"IF($C$8=1,'Scenario 1'!BD315,'Scenario 2'!BD315)","v":0},{"$f":"IF($C$8=1,'Scenario 1'!BE315,'Scenario 2'!BE315)","v":0},{"$f":"IF($C$8=1,'Scenario 1'!BF315,'Scenario 2'!BF315)","v":0},{"$f":"IF($C$8=1,'Scenario 1'!BG315,'Scenario 2'!BG315)","v":0},{"$f":"IF($C$8=1,'Scenario 1'!BH315,'Scenario 2'!BH315)","v":0},{"$f":"IF($C$8=1,'Scenario 1'!BI315,'Scenario 2'!BI315)","v":0},{"$f":"IF($C$8=1,'Scenario 1'!BJ315,'Scenario 2'!BJ315)","v":0},{"$f":"IF($C$8=1,'Scenario 1'!BK315,'Scenario 2'!BK315)","v":0},{"$f":"IF($C$8=1,'Scenario 1'!BL315,'Scenario 2'!BL315)","v":0},{"$f":"IF($C$8=1,'Scenario 1'!BM315,'Scenario 2'!BM315)","v":0},{"$f":"IF($C$8=1,'Scenario 1'!BN315,'Scenario 2'!BN315)","v":0},{"$f":"IF($C$8=1,'Scenario 1'!BO315,'Scenario 2'!BO315)","v":0}]
[null,"Cost $/ha",{"$f":"IF($C$8=1,'Scenario 1'!R316,'Scenario 2'!R316)","v":0},{"$f":"IF($C$8=1,'Scenario 1'!S316,'Scenario 2'!S316)","v":800.65},{"$f":"IF($C$8=1,'Scenario 1'!T316,'Scenario 2'!T316)","v":0},{"$f":"IF($C$8=1,'Scenario 1'!U316,'Scenario 2'!U316)","v":0},{"$f":"IF($C$8=1,'Scenario 1'!V316,'Scenario 2'!V316)","v":0},{"$f":"IF($C$8=1,'Scenario 1'!W316,'Scenario 2'!W316)","v":0},{"$f":"IF($C$8=1,'Scenario 1'!X316,'Scenario 2'!X316)","v":0},{"$f":"IF($C$8=1,'Scenario 1'!Y316,'Scenario 2'!Y316)","v":0},{"$f":"IF($C$8=1,'Scenario 1'!Z316,'Scenario 2'!Z316)","v":0},{"$f":"IF($C$8=1,'Scenario 1'!AA316,'Scenario 2'!AA316)","v":0},{"$f":"IF($C$8=1,'Scenario 1'!AB316,'Scenario 2'!AB316)","v":454.48},{"$f":"IF($C$8=1,'Scenario 1'!AC316,'Scenario 2'!AC316)","v":724.41},{"$f":"IF($C$8=1,'Scenario 1'!AD316,'Scenario 2'!AD316)","v":0},{"$f":"IF($C$8=1,'Scenario 1'!AE316,'Scenario 2'!AE316)","v":505.43},{"$f":"IF($C$8=1,'Scenario 1'!AF316,'Scenario 2'!AF316)","v":0},{"$f":"IF($C$8=1,'Scenario 1'!AG316,'Scenario 2'!AG316)","v":0},{"$f":"IF($C$8=1,'Scenario 1'!AH316,'Scenario 2'!AH316)","v":0},{"$f":"IF($C$8=1,'Scenario 1'!AI316,'Scenario 2'!AI316)","v":0},{"$f":"IF($C$8=1,'Scenario 1'!AJ316,'Scenario 2'!AJ316)","v":0},{"$f":"IF($C$8=1,'Scenario 1'!AK316,'Scenario 2'!AK316)","v":0},{"$f":"IF($C$8=1,'Scenario 1'!AL316,'Scenario 2'!AL316)","v":486.38},{"$f":"IF($C$8=1,'Scenario 1'!AM316,'Scenario 2'!AM316)","v":800.65},{"$f":"IF($C$8=1,'Scenario 1'!AN316,'Scenario 2'!AN316)","v":0},{"$f":"IF($C$8=1,'Scenario 1'!AO316,'Scenario 2'!AO316)","v":578.94000000000005},{"$f":"IF($C$8=1,'Scenario 1'!AP316,'Scenario 2'!AP316)","v":387.44},{"$f":"IF($C$8=1,'Scenario 1'!AQ316,'Scenario 2'!AQ316)","v":387.44},{"$f":"IF($C$8=1,'Scenario 1'!AR316,'Scenario 2'!AR316)","v":0},{"$f":"IF($C$8=1,'Scenario 1'!AS316,'Scenario 2'!AS316)","v":0},{"$f":"IF($C$8=1,'Scenario 1'!AT316,'Scenario 2'!AT316)","v":0},{"$f":"IF($C$8=1,'Scenario 1'!AU316,'Scenario 2'!AU316)","v":0},{"$f":"IF($C$8=1,'Scenario 1'!AV316,'Scenario 2'!AV316)","v":486.38},{"$f":"IF($C$8=1,'Scenario 1'!AW316,'Scenario 2'!AW316)","v":800.65},{"$f":"IF($C$8=1,'Scenario 1'!AX316,'Scenario 2'!AX316)","v":0},{"$f":"IF($C$8=1,'Scenario 1'!AY316,'Scenario 2'!AY316)","v":505.43},{"$f":"IF($C$8=1,'Scenario 1'!AZ316,'Scenario 2'!AZ316)","v":454.48},{"$f":"IF($C$8=1,'Scenario 1'!BA316,'Scenario 2'!BA316)","v":724.41},{"$f":"IF($C$8=1,'Scenario 1'!BB316,'Scenario 2'!BB316)","v":0},{"$f":"IF($C$8=1,'Scenario 1'!BC316,'Scenario 2'!BC316)","v":578.94000000000005},{"$f":"IF($C$8=1,'Scenario 1'!BD316,'Scenario 2'!BD316)","v":387.44},{"$f":"IF($C$8=1,'Scenario 1'!BE316,'Scenario 2'!BE316)","v":387.44},{"$f":"IF($C$8=1,'Scenario 1'!BF316,'Scenario 2'!BF316)","v":486.38},{"$f":"IF($C$8=1,'Scenario 1'!BG316,'Scenario 2'!BG316)","v":800.65},{"$f":"IF($C$8=1,'Scenario 1'!BH316,'Scenario 2'!BH316)","v":0},{"$f":"IF($C$8=1,'Scenario 1'!BI316,'Scenario 2'!BI316)","v":505.43},{"$f":"IF($C$8=1,'Scenario 1'!BJ316,'Scenario 2'!BJ316)","v":454.48},{"$f":"IF($C$8=1,'Scenario 1'!BK316,'Scenario 2'!BK316)","v":360.95},{"$f":"IF($C$8=1,'Scenario 1'!BL316,'Scenario 2'!BL316)","v":160.94999999999999},{"$f":"IF($C$8=1,'Scenario 1'!BM316,'Scenario 2'!BM316)","v":578.94000000000005},{"$f":"IF($C$8=1,'Scenario 1'!BN316,'Scenario 2'!BN316)","v":387.44},{"$f":"IF($C$8=1,'Scenario 1'!BO316,'Scenario 2'!BO316)","v":387.44}]
[]
[null,"Land Unit 3","Rotation 1 name:",null,{"$f":"IF($C$8=1,'Scenario 1'!T318,'Scenario 2'!T318)","v":"CCC"},null,null,null,null,null,null,null,"Rotation 2 name:",null,{"$f":"IF($C$8=1,'Scenario 1'!AD318,'Scenario 2'!AD318)","v":"SCC"},null,null,null,null,null,null,null,"Rotation 3 name:",null,{"$f":"IF($C$8=1,'Scenario 1'!AN318,'Scenario 2'!AN318)","v":"CCAAA"},null,null,null,null,null,null,null,"Rotation 4 name:",null,{"$f":"IF($C$8=1,'Scenario 1'!AX318,'Scenario 2'!AX318)","v":"CCCSCAAA"},null,null,null,null,null,null,null,"Rotation 5 name:",null,{"$f":"IF($C$8=1,'Scenario 1'!BH318,'Scenario 2'!BH318)","v":"CCCSWAAA"}]
[null,"Crops:",{"$f":"IF($C$8=1,'Scenario 1'!R319,'Scenario 2'!R319)","v":0},{"$f":"IF($C$8=1,'Scenario 1'!S319,'Scenario 2'!S319)","v":"CoGr-27"},{"$f":"IF($C$8=1,'Scenario 1'!T319,'Scenario 2'!T319)","v":0},{"$f":"IF($C$8=1,'Scenario 1'!U319,'Scenario 2'!U319)","v":0},{"$f":"IF($C$8=1,'Scenario 1'!V319,'Scenario 2'!V319)","v":0},{"$f":"IF($C$8=1,'Scenario 1'!W319,'Scenario 2'!W319)","v":0},{"$f":"IF($C$8=1,'Scenario 1'!X319,'Scenario 2'!X319)","v":0},{"$f":"IF($C$8=1,'Scenario 1'!Y319,'Scenario 2'!Y319)","v":0},{"$f":"IF($C$8=1,'Scenario 1'!Z319,'Scenario 2'!Z319)","v":0},{"$f":"IF($C$8=1,'Scenario 1'!AA319,'Scenario 2'!AA319)","v":0},{"$f":"IF($C$8=1,'Scenario 1'!AB319,'Scenario 2'!AB319)","v":"SBw-108"},{"$f":"IF($C$8=1,'Scenario 1'!AC319,'Scenario 2'!AC319)","v":"CoGr-27"},{"$f":"IF($C$8=1,'Scenario 1'!AD319,'Scenario 2'!AD319)","v":0},{"$f":"IF($C$8=1,'Scenario 1'!AE319,'Scenario 2'!AE319)","v":"CoSi-35"},{"$f":"IF($C$8=1,'Scenario 1'!AF319,'Scenario 2'!AF319)","v":0},{"$f":"IF($C$8=1,'Scenario 1'!AG319,'Scenario 2'!AG319)","v":0},{"$f":"IF($C$8=1,'Scenario 1'!AH319,'Scenario 2'!AH319)","v":0},{"$f":"IF($C$8=1,'Scenario 1'!AI319,'Scenario 2'!AI319)","v":0},{"$f":"IF($C$8=1,'Scenario 1'!AJ319,'Scenario 2'!AJ319)","v":0},{"$f":"IF($C$8=1,'Scenario 1'!AK319,'Scenario 2'!AK319)","v":0},{"$f":"IF($C$8=1,'Scenario 1'!AL319,'Scenario 2'!AL319)","v":"CoSi-35"},{"$f":"IF($C$8=1,'Scenario 1'!AM319,'Scenario 2'!AM319)","v":"CoGr-27"},{"$f":"IF($C$8=1,'Scenario 1'!AN319,'Scenario 2'!AN319)","v":0},{"$f":"IF($C$8=1,'Scenario 1'!AO319,'Scenario 2'!AO319)","v":"AlSi-83"},{"$f":"IF($C$8=1,'Scenario 1'!AP319,'Scenario 2'!AP319)","v":"AlSi-83"},{"$f":"IF($C$8=1,'Scenario 1'!AQ319,'Scenario 2'!AQ319)","v":"MxSi-74"},{"$f":"IF($C$8=1,'Scenario 1'!AR319,'Scenario 2'!AR319)","v":0},{"$f":"IF($C$8=1,'Scenario 1'!AS319,'Scenario 2'!AS319)","v":0},{"$f":"IF($C$8=1,'Scenario 1'!AT319,'Scenario 2'!AT319)","v":0},{"$f":"IF($C$8=1,'Scenario 1'!AU319,'Scenario 2'!AU319)","v":0},{"$f":"IF($C$8=1,'Scenario 1'!AV319,'Scenario 2'!AV319)","v":"CoSi-35"},{"$f":"IF($C$8=1,'Scenario 1'!AW319,'Scenario 2'!AW319)","v":"CoGr-27"},{"$f":"IF($C$8=1,'Scenario 1'!AX319,'Scenario 2'!AX319)","v":0},{"$f":"IF($C$8=1,'Scenario 1'!AY319,'Scenario 2'!AY319)","v":"CoSi-35"},{"$f":"IF($C$8=1,'Scenario 1'!AZ319,'Scenario 2'!AZ319)","v":"SBw-108"},{"$f":"IF($C$8=1,'Scenario 1'!BA319,'Scenario 2'!BA319)","v":"CoGr-27"},{"$f":"IF($C$8=1,'Scenario 1'!BB319,'Scenario 2'!BB319)","v":0},{"$f":"IF($C$8=1,'Scenario 1'!BC319,'Scenario 2'!BC319)","v":"AlSi-83"},{"$f":"IF($C$8=1,'Scenario 1'!BD319,'Scenario 2'!BD319)","v":"AlSi-83"},{"$f":"IF($C$8=1,'Scenario 1'!BE319,'Scenario 2'!BE319)","v":"MxSi-74"},{"$f":"IF($C$8=1,'Scenario 1'!BF319,'Scenario 2'!BF319)","v":"CoSi-35"},{"$f":"IF($C$8=1,'Scenario 1'!BG319,'Scenario 2'!BG319)","v":"CoGr-27"},{"$f":"IF($C$8=1,'Scenario 1'!BH319,'Scenario 2'!BH319)","v":0},{"$f":"IF($C$8=1,'Scenario 1'!BI319,'Scenario 2'!BI319)","v":"CoSi-35"},{"$f":"IF($C$8=1,'Scenario 1'!BJ319,'Scenario 2'!BJ319)","v":"SBw-108"},{"$f":"IF($C$8=1,'Scenario 1'!BK319,'Scenario 2'!BK319)","v":"Wheat-116"},{"$f":"IF($C$8=1,'Scenario 1'!BL319,'Scenario 2'!BL319)","v":"Straw-120"},{"$f":"IF($C$8=1,'Scenario 1'!BM319,'Scenario 2'!BM319)","v":"AlSi-83"},{"$f":"IF($C$8=1,'Scenario 1'!BN319,'Scenario 2'!BN319)","v":"AlSi-83"},{"$f":"IF($C$8=1,'Scenario 1'!BO319,'Scenario 2'!BO319)","v":"MxSi-74"}]
[null,"Year",{"$f":"IF($C$8=1,'Scenario 1'!R320,'Scenario 2'!R320)","v":0},{"$f":"IF($C$8=1,'Scenario 1'!S320,'Scenario 2'!S320)","v":1},{"$f":"IF($C$8=1,'Scenario 1'!T320,'Scenario 2'!T320)","v":0},{"$f":"IF($C$8=1,'Scenario 1'!U320,'Scenario 2'!U320)","v":0},{"$f":"IF($C$8=1,'Scenario 1'!V320,'Scenario 2'!V320)","v":0},{"$f":"IF($C$8=1,'Scenario 1'!W320,'Scenario 2'!W320)","v":0},{"$f":"IF($C$8=1,'Scenario 1'!X320,'Scenario 2'!X320)","v":0},{"$f":"IF($C$8=1,'Scenario 1'!Y320,'Scenario 2'!Y320)","v":0},{"$f":"IF($C$8=1,'Scenario 1'!Z320,'Scenario 2'!Z320)","v":0},{"$f":"IF($C$8=1,'Scenario 1'!AA320,'Scenario 2'!AA320)","v":0},{"$f":"IF($C$8=1,'Scenario 1'!AB320,'Scenario 2'!AB320)","v":1},{"$f":"IF($C$8=1,'Scenario 1'!AC320,'Scenario 2'!AC320)","v":2},{"$f":"IF($C$8=1,'Scenario 1'!AD320,'Scenario 2'!AD320)","v":0},{"$f":"IF($C$8=1,'Scenario 1'!AE320,'Scenario 2'!AE320)","v":3},{"$f":"IF($C$8=1,'Scenario 1'!AF320,'Scenario 2'!AF320)","v":0},{"$f":"IF($C$8=1,'Scenario 1'!AG320,'Scenario 2'!AG320)","v":0},{"$f":"IF($C$8=1,'Scenario 1'!AH320,'Scenario 2'!AH320)","v":0},{"$f":"IF($C$8=1,'Scenario 1'!AI320,'Scenario 2'!AI320)","v":0},{"$f":"IF($C$8=1,'Scenario 1'!AJ320,'Scenario 2'!AJ320)","v":0},{"$f":"IF($C$8=1,'Scenario 1'!AK320,'Scenario 2'!AK320)","v":0},{"$f":"IF($C$8=1,'Scenario 1'!AL320,'Scenario 2'!AL320)","v":1},{"$f":"IF($C$8=1,'Scenario 1'!AM320,'Scenario 2'!AM320)","v":2},{"$f":"IF($C$8=1,'Scenario 1'!AN320,'Scenario 2'!AN320)","v":0},{"$f":"IF($C$8=1,'Scenario 1'!AO320,'Scenario 2'!AO320)","v":3},{"$f":"IF($C$8=1,'Scenario 1'!AP320,'Scenario 2'!AP320)","v":4},{"$f":"IF($C$8=1,'Scenario 1'!AQ320,'Scenario 2'!AQ320)","v":5},{"$f":"IF($C$8=1,'Scenario 1'!AR320,'Scenario 2'!AR320)","v":0},{"$f":"IF($C$8=1,'Scenario 1'!AS320,'Scenario 2'!AS320)","v":0},{"$f":"IF($C$8=1,'Scenario 1'!AT320,'Scenario 2'!AT320)","v":0},{"$f":"IF($C$8=1,'Scenario 1'!AU320,'Scenario 2'!AU320)","v":0},{"$f":"IF($C$8=1,'Scenario 1'!AV320,'Scenario 2'!AV320)","v":1},{"$f":"IF($C$8=1,'Scenario 1'!AW320,'Scenario 2'!AW320)","v":2},{"$f":"IF($C$8=1,'Scenario 1'!AX320,'Scenario 2'!AX320)","v":0},{"$f":"IF($C$8=1,'Scenario 1'!AY320,'Scenario 2'!AY320)","v":3},{"$f":"IF($C$8=1,'Scenario 1'!AZ320,'Scenario 2'!AZ320)","v":4},{"$f":"IF($C$8=1,'Scenario 1'!BA320,'Scenario 2'!BA320)","v":5},{"$f":"IF($C$8=1,'Scenario 1'!BB320,'Scenario 2'!BB320)","v":0},{"$f":"IF($C$8=1,'Scenario 1'!BC320,'Scenario 2'!BC320)","v":6},{"$f":"IF($C$8=1,'Scenario 1'!BD320,'Scenario 2'!BD320)","v":7},{"$f":"IF($C$8=1,'Scenario 1'!BE320,'Scenario 2'!BE320)","v":8},{"$f":"IF($C$8=1,'Scenario 1'!BF320,'Scenario 2'!BF320)","v":1},{"$f":"IF($C$8=1,'Scenario 1'!BG320,'Scenario 2'!BG320)","v":2},{"$f":"IF($C$8=1,'Scenario 1'!BH320,'Scenario 2'!BH320)","v":0},{"$f":"IF($C$8=1,'Scenario 1'!BI320,'Scenario 2'!BI320)","v":3},{"$f":"IF($C$8=1,'Scenario 1'!BJ320,'Scenario 2'!BJ320)","v":4},{"$f":"IF($C$8=1,'Scenario 1'!BK320,'Scenario 2'!BK320)","v":5},{"$f":"IF($C$8=1,'Scenario 1'!BL320,'Scenario 2'!BL320)","v":5},{"$f":"IF($C$8=1,'Scenario 1'!BM320,'Scenario 2'!BM320)","v":6},{"$f":"IF($C$8=1,'Scenario 1'!BN320,'Scenario 2'!BN320)","v":7},{"$f":"IF($C$8=1,'Scenario 1'!BO320,'Scenario 2'!BO320)","v":8}]
[null,"Yield, t DM/yr",{"$f":"IF($C$8=1,'Scenario 1'!R321,'Scenario 2'!R321)","v":0},{"$f":"IF($C$8=1,'Scenario 1'!S321,'Scenario 2'!S321)","v":8.3505154639175263},{"$f":"IF($C$8=1,'Scenario 1'!T321,'Scenario 2'!T321)","v":0},{"$f":"IF($C$8=1,'Scenario 1'!U321,'Scenario 2'!U321)","v":0},{"$f":"IF($C$8=1,'Scenario 1'!V321,'Scenario 2'!V321)","v":0},{"$f":"IF($C$8=1,'Scenario 1'!W321,'Scenario 2'!W321)","v":0},{"$f":"IF($C$8=1,'Scenario 1'!X321,'Scenario 2'!X321)","v":0},{"$f":"IF($C$8=1,'Scenario 1'!Y321,'Scenario 2'!Y321)","v":0},{"$f":"IF($C$8=1,'Scenario 1'!Z321,'Scenario 2'!Z321)","v":0},{"$f":"IF($C$8=1,'Scenario 1'!AA321,'Scenario 2'!AA321)","v":0},{"$f":"IF($C$8=1,'Scenario 1'!AB321,'Scenario 2'!AB321)","v":2.9484536082474224},{"$f":"IF($C$8=1,'Scenario 1'!AC321,'Scenario 2'!AC321)","v":9.2783505154639183},{"$f":"IF($C$8=1,'Scenario 1'!AD321,'Scenario 2'!AD321)","v":0},{"$f":"IF($C$8=1,'Scenario 1'!AE321,'Scenario 2'!AE321)","v":18.470588235294116},{"$f":"IF($C$8=1,'Scenario 1'!AF321,'Scenario 2'!AF321)","v":0},{"$f":"IF($C$8=1,'Scenario 1'!AG321,'Scenario 2'!AG321)","v":0},{"$f":"IF($C$8=1,'Scenario 1'!AH321,'Scenario 2'!AH321)","v":0},{"$f":"IF($C$8=1,'Scenario 1'!AI321,'Scenario 2'!AI321)","v":0},{"$f":"IF($C$8=1,'Scenario 1'!AJ321,'Scenario 2'!AJ321)","v":0},{"$f":"IF($C$8=1,'Scenario 1'!AK321,'Scenario 2'!AK321)","v":0},{"$f":"IF($C$8=1,'Scenario 1'!AL321,'Scenario 2'!AL321)","v":19.411764705882355},{"$f":"IF($C$8=1,'Scenario 1'!AM321,'Scenario 2'!AM321)","v":8.7628865979381452},{"$f":"IF($C$8=1,'Scenario 1'!AN321,'Scenario 2'!AN321)","v":0},{"$f":"IF($C$8=1,'Scenario 1'!AO321,'Scenario 2'!AO321)","v":4.625},{"$f":"IF($C$8=1,'Scenario 1'!AP321,'Scenario 2'!AP321)","v":10.874999999999998},{"$f":"IF($C$8=1,'Scenario 1'!AQ321,'Scenario 2'!AQ321)","v":9.4999999999999982},{"$f":"IF($C$8=1,'Scenario 1'!AR321,'Scenario 2'!AR321)","v":0},{"$f":"IF($C$8=1,'Scenario 1'!AS321,'Scenario 2'!AS321)","v":0},{"$f":"IF($C$8=1,'Scenario 1'!AT321,'Scenario 2'!AT321)","v":0},{"$f":"IF($C$8=1,'Scenario 1'!AU321,'Scenario 2'!AU321)","v":0},{"$f":"IF($C$8=1,'Scenario 1'!AV321,'Scenario 2'!AV321)","v":19.411764705882355},{"$f":"IF($C$8=1,'Scenario 1'!AW321,'Scenario 2'!AW321)","v":8.8041237113402051},{"$f":"IF($C$8=1,'Scenario 1'!AX321,'Scenario 2'!AX321)","v":0},{"$f":"IF($C$8=1,'Scenario 1'!AY321,'Scenario 2'!AY321)","v":18.470588235294116},{"$f":"IF($C$8=1,'Scenario 1'!AZ321,'Scenario 2'!AZ321)","v":2.9896907216494846},{"$f":"IF($C$8=1,'Scenario 1'!BA321,'Scenario 2'!BA321)","v":9.2783505154639183},{"$f":"IF($C$8=1,'Scenario 1'!BB321,'Scenario 2'!BB321)","v":0},{"$f":"IF($C$8=1,'Scenario 1'!BC321,'Scenario 2'!BC321)","v":4.625},{"$f":"IF($C$8=1,'Scenario 1'!BD321,'Scenario 2'!BD321)","v":10.874999999999998},{"$f":"IF($C$8=1,'Scenario 1'!BE321,'Scenario 2'!BE321)","v":9.4999999999999982},{"$f":"IF($C$8=1,'Scenario 1'!BF321,'Scenario 2'!BF321)","v":19.411764705882355},{"$f":"IF($C$8=1,'Scenario 1'!BG321,'Scenario 2'!BG321)","v":8.7628865979381452},{"$f":"IF($C$8=1,'Scenario 1'!BH321,'Scenario 2'!BH321)","v":0},{"$f":"IF($C$8=1,'Scenario 1'!BI321,'Scenario 2'!BI321)","v":18.470588235294116},{"$f":"IF($C$8=1,'Scenario 1'!BJ321,'Scenario 2'!BJ321)","v":2.9896907216494846},{"$f":"IF($C$8=1,'Scenario 1'!BK321,'Scenario 2'!BK321)","v":3.5051546391752577},{"$f":"IF($C$8=1,'Scenario 1'!BL321,'Scenario 2'!BL321)","v":1.6},{"$f":"IF($C$8=1,'Scenario 1'!BM321,'Scenario 2'!BM321)","v":4.625},{"$f":"IF($C$8=1,'Scenario 1'!BN321,'Scenario 2'!BN321)","v":10.874999999999998},{"$f":"IF($C$8=1,'Scenario 1'!BO321,'Scenario 2'!BO321)","v":9.4999999999999982}]
[null,"N,  kg/ha",{"$f":"IF($C$8=1,'Scenario 1'!R322,'Scenario 2'!R322)","v":0},{"$f":"IF($C$8=1,'Scenario 1'!S322,'Scenario 2'!S322)","v":169},{"$f":"IF($C$8=1,'Scenario 1'!T322,'Scenario 2'!T322)","v":0},{"$f":"IF($C$8=1,'Scenario 1'!U322,'Scenario 2'!U322)","v":0},{"$f":"IF($C$8=1,'Scenario 1'!V322,'Scenario 2'!V322)","v":0},{"$f":"IF($C$8=1,'Scenario 1'!W322,'Scenario 2'!W322)","v":0},{"$f":"IF($C$8=1,'Scenario 1'!X322,'Scenario 2'!X322)","v":0},{"$f":"IF($C$8=1,'Scenario 1'!Y322,'Scenario 2'!Y322)","v":0},{"$f":"IF($C$8=1,'Scenario 1'!Z322,'Scenario 2'!Z322)","v":0},{"$f":"IF($C$8=1,'Scenario 1'!AA322,'Scenario 2'!AA322)","v":0},{"$f":"IF($C$8=1,'Scenario 1'!AB322,'Scenario 2'!AB322)","v":0},{"$f":"IF($C$8=1,'Scenario 1'!AC322,'Scenario 2'!AC322)","v":124.2},{"$f":"IF($C$8=1,'Scenario 1'!AD322,'Scenario 2'!AD322)","v":0},{"$f":"IF($C$8=1,'Scenario 1'!AE322,'Scenario 2'!AE322)","v":169},{"$f":"IF($C$8=1,'Scenario 1'!AF322,'Scenario 2'!AF322)","v":0},{"$f":"IF($C$8=1,'Scenario 1'!AG322,'Scenario 2'!AG322)","v":0},{"$f":"IF($C$8=1,'Scenario 1'!AH322,'Scenario 2'!AH322)","v":0},{"$f":"IF($C$8=1,'Scenario 1'!AI322,'Scenario 2'!AI322)","v":0},{"$f":"IF($C$8=1,'Scenario 1'!AJ322,'Scenario 2'!AJ322)","v":0},{"$f":"IF($C$8=1,'Scenario 1'!AK322,'Scenario 2'!AK322)","v":0},{"$f":"IF($C$8=1,'Scenario 1'!AL322,'Scenario 2'!AL322)","v":23},{"$f":"IF($C$8=1,'Scenario 1'!AM322,'Scenario 2'!AM322)","v":113},{"$f":"IF($C$8=1,'Scenario 1'!AN322,'Scenario 2'!AN322)","v":0},{"$f":"IF($C$8=1,'Scenario 1'!AO322,'Scenario 2'!AO322)","v":0},{"$f":"IF($C$8=1,'Scenario 1'!AP322,'Scenario 2'!AP322)","v":0},{"$f":"IF($C$8=1,'Scenario 1'!AQ322,'Scenario 2'!AQ322)","v":0},{"$f":"IF($C$8=1,'Scenario 1'!AR322,'Scenario 2'!AR322)","v":0},{"$f":"IF($C$8=1,'Scenario 1'!AS322,'Scenario 2'!AS322)","v":0},{"$f":"IF($C$8=1,'Scenario 1'!AT322,'Scenario 2'!AT322)","v":0},{"$f":"IF($C$8=1,'Scenario 1'!AU322,'Scenario 2'!AU322)","v":0},{"$f":"IF($C$8=1,'Scenario 1'!AV322,'Scenario 2'!AV322)","v":23},{"$f":"IF($C$8=1,'Scenario 1'!AW322,'Scenario 2'!AW322)","v":113},{"$f":"IF($C$8=1,'Scenario 1'!AX322,'Scenario 2'!AX322)","v":0},{"$f":"IF($C$8=1,'Scenario 1'!AY322,'Scenario 2'!AY322)","v":169},{"$f":"IF($C$8=1,'Scenario 1'!AZ322,'Scenario 2'!AZ322)","v":0},{"$f":"IF($C$8=1,'Scenario 1'!BA322,'Scenario 2'!BA322)","v":124.2},{"$f":"IF($C$8=1,'Scenario 1'!BB322,'Scenario 2'!BB322)","v":0},{"$f":"IF($C$8=1,'Scenario 1'!BC322,'Scenario 2'!BC322)","v":0},{"$f":"IF($C$8=1,'Scenario 1'!BD322,'Scenario 2'!BD322)","v":0},{"$f":"IF($C$8=1,'Scenario 1'!BE322,'Scenario 2'!BE322)","v":0},{"$f":"IF($C$8=1,'Scenario 1'!BF322,'Scenario 2'!BF322)","v":23},{"$f":"IF($C$8=1,'Scenario 1'!BG322,'Scenario 2'!BG322)","v":113},{"$f":"IF($C$8=1,'Scenario 1'!BH322,'Scenario 2'!BH322)","v":0},{"$f":"IF($C$8=1,'Scenario 1'!BI322,'Scenario 2'!BI322)","v":169},{"$f":"IF($C$8=1,'Scenario 1'!BJ322,'Scenario 2'!BJ322)","v":0},{"$f":"IF($C$8=1,'Scenario 1'!BK322,'Scenario 2'!BK322)","v":22.200000000000003},{"$f":"IF($C$8=1,'Scenario 1'!BL322,'Scenario 2'!BL322)","v":0},{"$f":"IF($C$8=1,'Scenario 1'!BM322,'Scenario 2'!BM322)","v":0},{"$f":"IF($C$8=1,'Scenario 1'!BN322,'Scenario 2'!BN322)","v":0},{"$f":"IF($C$8=1,'Scenario 1'!BO322,'Scenario 2'!BO322)","v":0}]
[null,"P2O5,  kg/ha",{"$f":"IF($C$8=1,'Scenario 1'!R323,'Scenario 2'!R323)","v":0},{"$f":"IF($C$8=1,'Scenario 1'!S323,'Scenario 2'!S323)","v":67},{"$f":"IF($C$8=1,'Scenario 1'!T323,'Scenario 2'!T323)","v":0},{"$f":"IF($C$8=1,'Scenario 1'!U323,'Scenario 2'!U323)","v":0},{"$f":"IF($C$8=1,'Scenario 1'!V323,'Scenario 2'!V323)","v":0},{"$f":"IF($C$8=1,'Scenario 1'!W323,'Scenario 2'!W323)","v":0},{"$f":"IF($C$8=1,'Scenario 1'!X323,'Scenario 2'!X323)","v":0},{"$f":"IF($C$8=1,'Scenario 1'!Y323,'Scenario 2'!Y323)","v":0},{"$f":"IF($C$8=1,'Scenario 1'!Z323,'Scenario 2'!Z323)","v":0},{"$f":"IF($C$8=1,'Scenario 1'!AA323,'Scenario 2'!AA323)","v":0},{"$f":"IF($C$8=1,'Scenario 1'!AB323,'Scenario 2'!AB323)","v":42},{"$f":"IF($C$8=1,'Scenario 1'!AC323,'Scenario 2'!AC323)","v":67},{"$f":"IF($C$8=1,'Scenario 1'!AD323,'Scenario 2'!AD323)","v":0},{"$f":"IF($C$8=1,'Scenario 1'!AE323,'Scenario 2'!AE323)","v":78},{"$f":"IF($C$8=1,'Scenario 1'!AF323,'Scenario 2'!AF323)","v":0},{"$f":"IF($C$8=1,'Scenario 1'!AG323,'Scenario 2'!AG323)","v":0},{"$f":"IF($C$8=1,'Scenario 1'!AH323,'Scenario 2'!AH323)","v":0},{"$f":"IF($C$8=1,'Scenario 1'!AI323,'Scenario 2'!AI323)","v":0},{"$f":"IF($C$8=1,'Scenario 1'!AJ323,'Scenario 2'!AJ323)","v":0},{"$f":"IF($C$8=1,'Scenario 1'!AK323,'Scenario 2'!AK323)","v":0},{"$f":"IF($C$8=1,'Scenario 1'!AL323,'Scenario 2'!AL323)","v":78},{"$f":"IF($C$8=1,'Scenario 1'!AM323,'Scenario 2'!AM323)","v":67},{"$f":"IF($C$8=1,'Scenario 1'!AN323,'Scenario 2'!AN323)","v":0},{"$f":"IF($C$8=1,'Scenario 1'!AO323,'Scenario 2'!AO323)","v":30},{"$f":"IF($C$8=1,'Scenario 1'!AP323,'Scenario 2'!AP323)","v":70},{"$f":"IF($C$8=1,'Scenario 1'!AQ323,'Scenario 2'!AQ323)","v":70},{"$f":"IF($C$8=1,'Scenario 1'!AR323,'Scenario 2'!AR323)","v":0},{"$f":"IF($C$8=1,'Scenario 1'!AS323,'Scenario 2'!AS323)","v":0},{"$f":"IF($C$8=1,'Scenario 1'!AT323,'Scenario 2'!AT323)","v":0},{"$f":"IF($C$8=1,'Scenario 1'!AU323,'Scenario 2'!AU323)","v":0},{"$f":"IF($C$8=1,'Scenario 1'!AV323,'Scenario 2'!AV323)","v":78},{"$f":"IF($C$8=1,'Scenario 1'!AW323,'Scenario 2'!AW323)","v":67},{"$f":"IF($C$8=1,'Scenario 1'!AX323,'Scenario 2'!AX323)","v":0},{"$f":"IF($C$8=1,'Scenario 1'!AY323,'Scenario 2'!AY323)","v":78},{"$f":"IF($C$8=1,'Scenario 1'!AZ323,'Scenario 2'!AZ323)","v":42},{"$f":"IF($C$8=1,'Scenario 1'!BA323,'Scenario 2'!BA323)","v":67},{"$f":"IF($C$8=1,'Scenario 1'!BB323,'Scenario 2'!BB323)","v":0},{"$f":"IF($C$8=1,'Scenario 1'!BC323,'Scenario 2'!BC323)","v":30},{"$f":"IF($C$8=1,'Scenario 1'!BD323,'Scenario 2'!BD323)","v":70},{"$f":"IF($C$8=1,'Scenario 1'!BE323,'Scenario 2'!BE323)","v":70},{"$f":"IF($C$8=1,'Scenario 1'!BF323,'Scenario 2'!BF323)","v":78},{"$f":"IF($C$8=1,'Scenario 1'!BG323,'Scenario 2'!BG323)","v":67},{"$f":"IF($C$8=1,'Scenario 1'!BH323,'Scenario 2'!BH323)","v":0},{"$f":"IF($C$8=1,'Scenario 1'!BI323,'Scenario 2'!BI323)","v":78},{"$f":"IF($C$8=1,'Scenario 1'!BJ323,'Scenario 2'!BJ323)","v":42},{"$f":"IF($C$8=1,'Scenario 1'!BK323,'Scenario 2'!BK323)","v":48},{"$f":"IF($C$8=1,'Scenario 1'!BL323,'Scenario 2'!BL323)","v":0},{"$f":"IF($C$8=1,'Scenario 1'!BM323,'Scenario 2'!BM323)","v":30},{"$f":"IF($C$8=1,'Scenario 1'!BN323,'Scenario 2'!BN323)","v":70},{"$f":"IF($C$8=1,'Scenario 1'!BO323,'Scenario 2'!BO323)","v":70}]
[null,"K2O, kg/ha",{"$f":"IF($C$8=1,'Scenario 1'!R324,'Scenario 2'!R324)","v":0},{"$f":"IF($C$8=1,'Scenario 1'!S324,'Scenario 2'!S324)","v":67},{"$f":"IF($C$8=1,'Scenario 1'!T324,'Scenario 2'!T324)","v":0},{"$f":"IF($C$8=1,'Scenario 1'!U324,'Scenario 2'!U324)","v":0},{"$f":"IF($C$8=1,'Scenario 1'!V324,'Scenario 2'!V324)","v":0},{"$f":"IF($C$8=1,'Scenario 1'!W324,'Scenario 2'!W324)","v":0},{"$f":"IF($C$8=1,'Scenario 1'!X324,'Scenario 2'!X324)","v":0},{"$f":"IF($C$8=1,'Scenario 1'!Y324,'Scenario 2'!Y324)","v":0},{"$f":"IF($C$8=1,'Scenario 1'!Z324,'Scenario 2'!Z324)","v":0},{"$f":"IF($C$8=1,'Scenario 1'!AA324,'Scenario 2'!AA324)","v":0},{"$f":"IF($C$8=1,'Scenario 1'!AB324,'Scenario 2'!AB324)","v":73},{"$f":"IF($C$8=1,'Scenario 1'!AC324,'Scenario 2'!AC324)","v":67},{"$f":"IF($C$8=1,'Scenario 1'!AD324,'Scenario 2'!AD324)","v":0},{"$f":"IF($C$8=1,'Scenario 1'!AE324,'Scenario 2'!AE324)","v":139},{"$f":"IF($C$8=1,'Scenario 1'!AF324,'Scenario 2'!AF324)","v":0},{"$f":"IF($C$8=1,'Scenario 1'!AG324,'Scenario 2'!AG324)","v":0},{"$f":"IF($C$8=1,'Scenario 1'!AH324,'Scenario 2'!AH324)","v":0},{"$f":"IF($C$8=1,'Scenario 1'!AI324,'Scenario 2'!AI324)","v":0},{"$f":"IF($C$8=1,'Scenario 1'!AJ324,'Scenario 2'!AJ324)","v":0},{"$f":"IF($C$8=1,'Scenario 1'!AK324,'Scenario 2'!AK324)","v":0},{"$f":"IF($C$8=1,'Scenario 1'!AL324,'Scenario 2'!AL324)","v":139},{"$f":"IF($C$8=1,'Scenario 1'!AM324,'Scenario 2'!AM324)","v":67},{"$f":"IF($C$8=1,'Scenario 1'!AN324,'Scenario 2'!AN324)","v":0},{"$f":"IF($C$8=1,'Scenario 1'!AO324,'Scenario 2'!AO324)","v":84},{"$f":"IF($C$8=1,'Scenario 1'!AP324,'Scenario 2'!AP324)","v":196},{"$f":"IF($C$8=1,'Scenario 1'!AQ324,'Scenario 2'!AQ324)","v":196},{"$f":"IF($C$8=1,'Scenario 1'!AR324,'Scenario 2'!AR324)","v":0},{"$f":"IF($C$8=1,'Scenario 1'!AS324,'Scenario 2'!AS324)","v":0},{"$f":"IF($C$8=1,'Scenario 1'!AT324,'Scenario 2'!AT324)","v":0},{"$f":"IF($C$8=1,'Scenario 1'!AU324,'Scenario 2'!AU324)","v":0},{"$f":"IF($C$8=1,'Scenario 1'!AV324,'Scenario 2'!AV324)","v":139},{"$f":"IF($C$8=1,'Scenario 1'!AW324,'Scenario 2'!AW324)","v":67},{"$f":"IF($C$8=1,'Scenario 1'!AX324,'Scenario 2'!AX324)","v":0},{"$f":"IF($C$8=1,'Scenario 1'!AY324,'Scenario 2'!AY324)","v":139},{"$f":"IF($C$8=1,'Scenario 1'!AZ324,'Scenario 2'!AZ324)","v":73},{"$f":"IF($C$8=1,'Scenario 1'!BA324,'Scenario 2'!BA324)","v":67},{"$f":"IF($C$8=1,'Scenario 1'!BB324,'Scenario 2'!BB324)","v":0},{"$f":"IF($C$8=1,'Scenario 1'!BC324,'Scenario 2'!BC324)","v":84},{"$f":"IF($C$8=1,'Scenario 1'!BD324,'Scenario 2'!BD324)","v":196},{"$f":"IF($C$8=1,'Scenario 1'!BE324,'Scenario 2'!BE324)","v":196},{"$f":"IF($C$8=1,'Scenario 1'!BF324,'Scenario 2'!BF324)","v":139},{"$f":"IF($C$8=1,'Scenario 1'!BG324,'Scenario 2'!BG324)","v":67},{"$f":"IF($C$8=1,'Scenario 1'!BH324,'Scenario 2'!BH324)","v":0},{"$f":"IF($C$8=1,'Scenario 1'!BI324,'Scenario 2'!BI324)","v":139},{"$f":"IF($C$8=1,'Scenario 1'!BJ324,'Scenario 2'!BJ324)","v":73},{"$f":"IF($C$8=1,'Scenario 1'!BK324,'Scenario 2'!BK324)","v":80},{"$f":"IF($C$8=1,'Scenario 1'!BL324,'Scenario 2'!BL324)","v":0},{"$f":"IF($C$8=1,'Scenario 1'!BM324,'Scenario 2'!BM324)","v":84},{"$f":"IF($C$8=1,'Scenario 1'!BN324,'Scenario 2'!BN324)","v":196},{"$f":"IF($C$8=1,'Scenario 1'!BO324,'Scenario 2'!BO324)","v":196}]
[null,"P removal, kg/ha",{"$f":"IF($C$8=1,'Scenario 1'!R325,'Scenario 2'!R325)","v":0},{"$f":"IF($C$8=1,'Scenario 1'!S325,'Scenario 2'!S325)","v":25.051546391752581},{"$f":"IF($C$8=1,'Scenario 1'!T325,'Scenario 2'!T325)","v":0},{"$f":"IF($C$8=1,'Scenario 1'!U325,'Scenario 2'!U325)","v":0},{"$f":"IF($C$8=1,'Scenario 1'!V325,'Scenario 2'!V325)","v":0},{"$f":"IF($C$8=1,'Scenario 1'!W325,'Scenario 2'!W325)","v":0},{"$f":"IF($C$8=1,'Scenario 1'!X325,'Scenario 2'!X325)","v":0},{"$f":"IF($C$8=1,'Scenario 1'!Y325,'Scenario 2'!Y325)","v":0},{"$f":"IF($C$8=1,'Scenario 1'!Z325,'Scenario 2'!Z325)","v":0},{"$f":"IF($C$8=1,'Scenario 1'!AA325,'Scenario 2'!AA325)","v":0},{"$f":"IF($C$8=1,'Scenario 1'!AB325,'Scenario 2'!AB325)","v":17.690721649484534},{"$f":"IF($C$8=1,'Scenario 1'!AC325,'Scenario 2'!AC325)","v":27.835051546391757},{"$f":"IF($C$8=1,'Scenario 1'!AD325,'Scenario 2'!AD325)","v":0},{"$f":"IF($C$8=1,'Scenario 1'!AE325,'Scenario 2'!AE325)","v":48.023529411764706},{"$f":"IF($C$8=1,'Scenario 1'!AF325,'Scenario 2'!AF325)","v":0},{"$f":"IF($C$8=1,'Scenario 1'!AG325,'Scenario 2'!AG325)","v":0},{"$f":"IF($C$8=1,'Scenario 1'!AH325,'Scenario 2'!AH325)","v":0},{"$f":"IF($C$8=1,'Scenario 1'!AI325,'Scenario 2'!AI325)","v":0},{"$f":"IF($C$8=1,'Scenario 1'!AJ325,'Scenario 2'!AJ325)","v":0},{"$f":"IF($C$8=1,'Scenario 1'!AK325,'Scenario 2'!AK325)","v":0},{"$f":"IF($C$8=1,'Scenario 1'!AL325,'Scenario 2'!AL325)","v":50.470588235294123},{"$f":"IF($C$8=1,'Scenario 1'!AM325,'Scenario 2'!AM325)","v":26.288659793814432},{"$f":"IF($C$8=1,'Scenario 1'!AN325,'Scenario 2'!AN325)","v":0},{"$f":"IF($C$8=1,'Scenario 1'!AO325,'Scenario 2'!AO325)","v":16.1875},{"$f":"IF($C$8=1,'Scenario 1'!AP325,'Scenario 2'!AP325)","v":38.062499999999993},{"$f":"IF($C$8=1,'Scenario 1'!AQ325,'Scenario 2'!AQ325)","v":32.299999999999997},{"$f":"IF($C$8=1,'Scenario 1'!AR325,'Scenario 2'!AR325)","v":0},{"$f":"IF($C$8=1,'Scenario 1'!AS325,'Scenario 2'!AS325)","v":0},{"$f":"IF($C$8=1,'Scenario 1'!AT325,'Scenario 2'!AT325)","v":0},{"$f":"IF($C$8=1,'Scenario 1'!AU325,'Scenario 2'!AU325)","v":0},{"$f":"IF($C$8=1,'Scenario 1'!AV325,'Scenario 2'!AV325)","v":50.470588235294123},{"$f":"IF($C$8=1,'Scenario 1'!AW325,'Scenario 2'!AW325)","v":26.412371134020617},{"$f":"IF($C$8=1,'Scenario 1'!AX325,'Scenario 2'!AX325)","v":0},{"$f":"IF($C$8=1,'Scenario 1'!AY325,'Scenario 2'!AY325)","v":48.023529411764706},{"$f":"IF($C$8=1,'Scenario 1'!AZ325,'Scenario 2'!AZ325)","v":17.938144329896907},{"$f":"IF($C$8=1,'Scenario 1'!BA325,'Scenario 2'!BA325)","v":27.835051546391757},{"$f":"IF($C$8=1,'Scenario 1'!BB325,'Scenario 2'!BB325)","v":0},{"$f":"IF($C$8=1,'Scenario 1'!BC325,'Scenario 2'!BC325)","v":16.1875},{"$f":"IF($C$8=1,'Scenario 1'!BD325,'Scenario 2'!BD325)","v":38.062499999999993},{"$f":"IF($C$8=1,'Scenario 1'!BE325,'Scenario 2'!BE325)","v":32.299999999999997},{"$f":"IF($C$8=1,'Scenario 1'!BF325,'Scenario 2'!BF325)","v":50.470588235294123},{"$f":"IF($C$8=1,'Scenario 1'!BG325,'Scenario 2'!BG325)","v":26.288659793814432},{"$f":"IF($C$8=1,'Scenario 1'!BH325,'Scenario 2'!BH325)","v":0},{"$f":"IF($C$8=1,'Scenario 1'!BI325,'Scenario 2'!BI325)","v":48.023529411764706},{"$f":"IF($C$8=1,'Scenario 1'!BJ325,'Scenario 2'!BJ325)","v":17.938144329896907},{"$f":"IF($C$8=1,'Scenario 1'!BK325,'Scenario 2'!BK325)","v":15.072164948453608},{"$f":"IF($C$8=1,'Scenario 1'!BL325,'Scenario 2'!BL325)","v":1.6},{"$f":"IF($C$8=1,'Scenario 1'!BM325,'Scenario 2'!BM325)","v":16.1875},{"$f":"IF($C$8=1,'Scenario 1'!BN325,'Scenario 2'!BN325)","v":38.062499999999993},{"$f":"IF($C$8=1,'Scenario 1'!BO325,'Scenario 2'!BO325)","v":32.299999999999997}]
[null,"K removal, kg/ha"]
[null,"Cl, kg/ha",{"$f":"IF($C$8=1,'Scenario 1'!R327,'Scenario 2'!R327)","v":0},{"$f":"IF($C$8=1,'Scenario 1'!S327,'Scenario 2'!S327)","v":0},{"$f":"IF($C$8=1,'Scenario 1'!T327,'Scenario 2'!T327)","v":0},{"$f":"IF($C$8=1,'Scenario 1'!U327,'Scenario 2'!U327)","v":0},{"$f":"IF($C$8=1,'Scenario 1'!V327,'Scenario 2'!V327)","v":0},{"$f":"IF($C$8=1,'Scenario 1'!W327,'Scenario 2'!W327)","v":0},{"$f":"IF($C$8=1,'Scenario 1'!X327,'Scenario 2'!X327)","v":0},{"$f":"IF($C$8=1,'Scenario 1'!Y327,'Scenario 2'!Y327)","v":0},{"$f":"IF($C$8=1,'Scenario 1'!Z327,'Scenario 2'!Z327)","v":0},{"$f":"IF($C$8=1,'Scenario 1'!AA327,'Scenario 2'!AA327)","v":0},{"$f":"IF($C$8=1,'Scenario 1'!AB327,'Scenario 2'!AB327)","v":0},{"$f":"IF($C$8=1,'Scenario 1'!AC327,'Scenario 2'!AC327)","v":0},{"$f":"IF($C$8=1,'Scenario 1'!AD327,'Scenario 2'!AD327)","v":0},{"$f":"IF($C$8=1,'Scenario 1'!AE327,'Scenario 2'!AE327)","v":0},{"$f":"IF($C$8=1,'Scenario 1'!AF327,'Scenario 2'!AF327)","v":0},{"$f":"IF($C$8=1,'Scenario 1'!AG327,'Scenario 2'!AG327)","v":0},{"$f":"IF($C$8=1,'Scenario 1'!AH327,'Scenario 2'!AH327)","v":0},{"$f":"IF($C$8=1,'Scenario 1'!AI327,'Scenario 2'!AI327)","v":0},{"$f":"IF($C$8=1,'Scenario 1'!AJ327,'Scenario 2'!AJ327)","v":0},{"$f":"IF($C$8=1,'Scenario 1'!AK327,'Scenario 2'!AK327)","v":0},{"$f":"IF($C$8=1,'Scenario 1'!AL327,'Scenario 2'!AL327)","v":0},{"$f":"IF($C$8=1,'Scenario 1'!AM327,'Scenario 2'!AM327)","v":0},{"$f":"IF($C$8=1,'Scenario 1'!AN327,'Scenario 2'!AN327)","v":0},{"$f":"IF($C$8=1,'Scenario 1'!AO327,'Scenario 2'!AO327)","v":0},{"$f":"IF($C$8=1,'Scenario 1'!AP327,'Scenario 2'!AP327)","v":0},{"$f":"IF($C$8=1,'Scenario 1'!AQ327,'Scenario 2'!AQ327)","v":0},{"$f":"IF($C$8=1,'Scenario 1'!AR327,'Scenario 2'!AR327)","v":0},{"$f":"IF($C$8=1,'Scenario 1'!AS327,'Scenario 2'!AS327)","v":0},{"$f":"IF($C$8=1,'Scenario 1'!AT327,'Scenario 2'!AT327)","v":0},{"$f":"IF($C$8=1,'Scenario 1'!AU327,'Scenario 2'!AU327)","v":0},{"$f":"IF($C$8=1,'Scenario 1'!AV327,'Scenario 2'!AV327)","v":0},{"$f":"IF($C$8=1,'Scenario 1'!AW327,'Scenario 2'!AW327)","v":0},{"$f":"IF($C$8=1,'Scenario 1'!AX327,'Scenario 2'!AX327)","v":0},{"$f":"IF($C$8=1,'Scenario 1'!AY327,'Scenario 2'!AY327)","v":0},{"$f":"IF($C$8=1,'Scenario 1'!AZ327,'Scenario 2'!AZ327)","v":0},{"$f":"IF($C$8=1,'Scenario 1'!BA327,'Scenario 2'!BA327)","v":0},{"$f":"IF($C$8=1,'Scenario 1'!BB327,'Scenario 2'!BB327)","v":0},{"$f":"IF($C$8=1,'Scenario 1'!BC327,'Scenario 2'!BC327)","v":0},{"$f":"IF($C$8=1,'Scenario 1'!BD327,'Scenario 2'!BD327)","v":0},{"$f":"IF($C$8=1,'Scenario 1'!BE327,'Scenario 2'!BE327)","v":0},{"$f":"IF($C$8=1,'Scenario 1'!BF327,'Scenario 2'!BF327)","v":0},{"$f":"IF($C$8=1,'Scenario 1'!BG327,'Scenario 2'!BG327)","v":0},{"$f":"IF($C$8=1,'Scenario 1'!BH327,'Scenario 2'!BH327)","v":0},{"$f":"IF($C$8=1,'Scenario 1'!BI327,'Scenario 2'!BI327)","v":0},{"$f":"IF($C$8=1,'Scenario 1'!BJ327,'Scenario 2'!BJ327)","v":0},{"$f":"IF($C$8=1,'Scenario 1'!BK327,'Scenario 2'!BK327)","v":0},{"$f":"IF($C$8=1,'Scenario 1'!BL327,'Scenario 2'!BL327)","v":0},{"$f":"IF($C$8=1,'Scenario 1'!BM327,'Scenario 2'!BM327)","v":0},{"$f":"IF($C$8=1,'Scenario 1'!BN327,'Scenario 2'!BN327)","v":0},{"$f":"IF($C$8=1,'Scenario 1'!BO327,'Scenario 2'!BO327)","v":0}]
[null,"N fixation, kg/t",{"$f":"IF($C$8=1,'Scenario 1'!R328,'Scenario 2'!R328)","v":0},{"$f":"IF($C$8=1,'Scenario 1'!S328,'Scenario 2'!S328)","v":0},{"$f":"IF($C$8=1,'Scenario 1'!T328,'Scenario 2'!T328)","v":0},{"$f":"IF($C$8=1,'Scenario 1'!U328,'Scenario 2'!U328)","v":0},{"$f":"IF($C$8=1,'Scenario 1'!V328,'Scenario 2'!V328)","v":0},{"$f":"IF($C$8=1,'Scenario 1'!W328,'Scenario 2'!W328)","v":0},{"$f":"IF($C$8=1,'Scenario 1'!X328,'Scenario 2'!X328)","v":0},{"$f":"IF($C$8=1,'Scenario 1'!Y328,'Scenario 2'!Y328)","v":0},{"$f":"IF($C$8=1,'Scenario 1'!Z328,'Scenario 2'!Z328)","v":0},{"$f":"IF($C$8=1,'Scenario 1'!AA328,'Scenario 2'!AA328)","v":0},{"$f":"IF($C$8=1,'Scenario 1'!AB328,'Scenario 2'!AB328)","v":25.088000000000001},{"$f":"IF($C$8=1,'Scenario 1'!AC328,'Scenario 2'!AC328)","v":0},{"$f":"IF($C$8=1,'Scenario 1'!AD328,'Scenario 2'!AD328)","v":0},{"$f":"IF($C$8=1,'Scenario 1'!AE328,'Scenario 2'!AE328)","v":0},{"$f":"IF($C$8=1,'Scenario 1'!AF328,'Scenario 2'!AF328)","v":0},{"$f":"IF($C$8=1,'Scenario 1'!AG328,'Scenario 2'!AG328)","v":0},{"$f":"IF($C$8=1,'Scenario 1'!AH328,'Scenario 2'!AH328)","v":0},{"$f":"IF($C$8=1,'Scenario 1'!AI328,'Scenario 2'!AI328)","v":0},{"$f":"IF($C$8=1,'Scenario 1'!AJ328,'Scenario 2'!AJ328)","v":0},{"$f":"IF($C$8=1,'Scenario 1'!AK328,'Scenario 2'!AK328)","v":0},{"$f":"IF($C$8=1,'Scenario 1'!AL328,'Scenario 2'!AL328)","v":0},{"$f":"IF($C$8=1,'Scenario 1'!AM328,'Scenario 2'!AM328)","v":0},{"$f":"IF($C$8=1,'Scenario 1'!AN328,'Scenario 2'!AN328)","v":0},{"$f":"IF($C$8=1,'Scenario 1'!AO328,'Scenario 2'!AO328)","v":24.655999999999999},{"$f":"IF($C$8=1,'Scenario 1'!AP328,'Scenario 2'!AP328)","v":24.655999999999999},{"$f":"IF($C$8=1,'Scenario 1'!AQ328,'Scenario 2'!AQ328)","v":20.367999999999999},{"$f":"IF($C$8=1,'Scenario 1'!AR328,'Scenario 2'!AR328)","v":0},{"$f":"IF($C$8=1,'Scenario 1'!AS328,'Scenario 2'!AS328)","v":0},{"$f":"IF($C$8=1,'Scenario 1'!AT328,'Scenario 2'!AT328)","v":0},{"$f":"IF($C$8=1,'Scenario 1'!AU328,'Scenario 2'!AU328)","v":0},{"$f":"IF($C$8=1,'Scenario 1'!AV328,'Scenario 2'!AV328)","v":0},{"$f":"IF($C$8=1,'Scenario 1'!AW328,'Scenario 2'!AW328)","v":0},{"$f":"IF($C$8=1,'Scenario 1'!AX328,'Scenario 2'!AX328)","v":0},{"$f":"IF($C$8=1,'Scenario 1'!AY328,'Scenario 2'!AY328)","v":0},{"$f":"IF($C$8=1,'Scenario 1'!AZ328,'Scenario 2'!AZ328)","v":25.088000000000001},{"$f":"IF($C$8=1,'Scenario 1'!BA328,'Scenario 2'!BA328)","v":0},{"$f":"IF($C$8=1,'Scenario 1'!BB328,'Scenario 2'!BB328)","v":0},{"$f":"IF($C$8=1,'Scenario 1'!BC328,'Scenario 2'!BC328)","v":24.655999999999999},{"$f":"IF($C$8=1,'Scenario 1'!BD328,'Scenario 2'!BD328)","v":24.655999999999999},{"$f":"IF($C$8=1,'Scenario 1'!BE328,'Scenario 2'!BE328)","v":24.655999999999999},{"$f":"IF($C$8=1,'Scenario 1'!BF328,'Scenario 2'!BF328)","v":0},{"$f":"IF($C$8=1,'Scenario 1'!BG328,'Scenario 2'!BG328)","v":0},{"$f":"IF($C$8=1,'Scenario 1'!BH328,'Scenario 2'!BH328)","v":0},{"$f":"IF($C$8=1,'Scenario 1'!BI328,'Scenario 2'!BI328)","v":0},{"$f":"IF($C$8=1,'Scenario 1'!BJ328,'Scenario 2'!BJ328)","v":25.088000000000001},{"$f":"IF($C$8=1,'Scenario 1'!BK328,'Scenario 2'!BK328)","v":0},{"$f":"IF($C$8=1,'Scenario 1'!BL328,'Scenario 2'!BL328)","v":0},{"$f":"IF($C$8=1,'Scenario 1'!BM328,'Scenario 2'!BM328)","v":24.655999999999999},{"$f":"IF($C$8=1,'Scenario 1'!BN328,'Scenario 2'!BN328)","v":24.655999999999999},{"$f":"IF($C$8=1,'Scenario 1'!BO328,'Scenario 2'!BO328)","v":24.655999999999999}]
[null,"Above ground residue, %",{"$f":"IF($C$8=1,'Scenario 1'!R329,'Scenario 2'!R329)","v":0},{"$f":"IF($C$8=1,'Scenario 1'!S329,'Scenario 2'!S329)","v":38},{"$f":"IF($C$8=1,'Scenario 1'!T329,'Scenario 2'!T329)","v":0},{"$f":"IF($C$8=1,'Scenario 1'!U329,'Scenario 2'!U329)","v":0},{"$f":"IF($C$8=1,'Scenario 1'!V329,'Scenario 2'!V329)","v":0},{"$f":"IF($C$8=1,'Scenario 1'!W329,'Scenario 2'!W329)","v":0},{"$f":"IF($C$8=1,'Scenario 1'!X329,'Scenario 2'!X329)","v":0},{"$f":"IF($C$8=1,'Scenario 1'!Y329,'Scenario 2'!Y329)","v":0},{"$f":"IF($C$8=1,'Scenario 1'!Z329,'Scenario 2'!Z329)","v":0},{"$f":"IF($C$8=1,'Scenario 1'!AA329,'Scenario 2'!AA329)","v":0},{"$f":"IF($C$8=1,'Scenario 1'!AB329,'Scenario 2'!AB329)","v":45},{"$f":"IF($C$8=1,'Scenario 1'!AC329,'Scenario 2'!AC329)","v":38},{"$f":"IF($C$8=1,'Scenario 1'!AD329,'Scenario 2'!AD329)","v":0},{"$f":"IF($C$8=1,'Scenario 1'!AE329,'Scenario 2'!AE329)","v":8},{"$f":"IF($C$8=1,'Scenario 1'!AF329,'Scenario 2'!AF329)","v":0},{"$f":"IF($C$8=1,'Scenario 1'!AG329,'Scenario 2'!AG329)","v":0},{"$f":"IF($C$8=1,'Scenario 1'!AH329,'Scenario 2'!AH329)","v":0},{"$f":"IF($C$8=1,'Scenario 1'!AI329,'Scenario 2'!AI329)","v":0},{"$f":"IF($C$8=1,'Scenario 1'!AJ329,'Scenario 2'!AJ329)","v":0},{"$f":"IF($C$8=1,'Scenario 1'!AK329,'Scenario 2'!AK329)","v":0},{"$f":"IF($C$8=1,'Scenario 1'!AL329,'Scenario 2'!AL329)","v":8},{"$f":"IF($C$8=1,'Scenario 1'!AM329,'Scenario 2'!AM329)","v":38},{"$f":"IF($C$8=1,'Scenario 1'!AN329,'Scenario 2'!AN329)","v":0},{"$f":"IF($C$8=1,'Scenario 1'!AO329,'Scenario 2'!AO329)","v":0},{"$f":"IF($C$8=1,'Scenario 1'!AP329,'Scenario 2'!AP329)","v":0},{"$f":"IF($C$8=1,'Scenario 1'!AQ329,'Scenario 2'!AQ329)","v":0},{"$f":"IF($C$8=1,'Scenario 1'!AR329,'Scenario 2'!AR329)","v":0},{"$f":"IF($C$8=1,'Scenario 1'!AS329,'Scenario 2'!AS329)","v":0},{"$f":"IF($C$8=1,'Scenario 1'!AT329,'Scenario 2'!AT329)","v":0},{"$f":"IF($C$8=1,'Scenario 1'!AU329,'Scenario 2'!AU329)","v":0},{"$f":"IF($C$8=1,'Scenario 1'!AV329,'Scenario 2'!AV329)","v":8},{"$f":"IF($C$8=1,'Scenario 1'!AW329,'Scenario 2'!AW329)","v":38},{"$f":"IF($C$8=1,'Scenario 1'!AX329,'Scenario 2'!AX329)","v":0},{"$f":"IF($C$8=1,'Scenario 1'!AY329,'Scenario 2'!AY329)","v":8},{"$f":"IF($C$8=1,'Scenario 1'!AZ329,'Scenario 2'!AZ329)","v":45},{"$f":"IF($C$8=1,'Scenario 1'!BA329,'Scenario 2'!BA329)","v":38},{"$f":"IF($C$8=1,'Scenario 1'!BB329,'Scenario 2'!BB329)","v":0},{"$f":"IF($C$8=1,'Scenario 1'!BC329,'Scenario 2'!BC329)","v":0},{"$f":"IF($C$8=1,'Scenario 1'!BD329,'Scenario 2'!BD329)","v":0},{"$f":"IF($C$8=1,'Scenario 1'!BE329,'Scenario 2'!BE329)","v":0},{"$f":"IF($C$8=1,'Scenario 1'!BF329,'Scenario 2'!BF329)","v":8},{"$f":"IF($C$8=1,'Scenario 1'!BG329,'Scenario 2'!BG329)","v":38},{"$f":"IF($C$8=1,'Scenario 1'!BH329,'Scenario 2'!BH329)","v":0},{"$f":"IF($C$8=1,'Scenario 1'!BI329,'Scenario 2'!BI329)","v":8},{"$f":"IF($C$8=1,'Scenario 1'!BJ329,'Scenario 2'!BJ329)","v":45},{"$f":"IF($C$8=1,'Scenario 1'!BK329,'Scenario 2'!BK329)","v":0},{"$f":"IF($C$8=1,'Scenario 1'!BL329,'Scenario 2'!BL329)","v":0},{"$f":"IF($C$8=1,'Scenario 1'!BM329,'Scenario 2'!BM329)","v":0},{"$f":"IF($C$8=1,'Scenario 1'!BN329,'Scenario 2'!BN329)","v":0},{"$f":"IF($C$8=1,'Scenario 1'!BO329,'Scenario 2'!BO329)","v":0}]
[null,"N Above ground residue, g N/kg",{"$f":"IF($C$8=1,'Scenario 1'!R330,'Scenario 2'!R330)","v":0},{"$f":"IF($C$8=1,'Scenario 1'!S330,'Scenario 2'!S330)","v":5},{"$f":"IF($C$8=1,'Scenario 1'!T330,'Scenario 2'!T330)","v":0},{"$f":"IF($C$8=1,'Scenario 1'!U330,'Scenario 2'!U330)","v":0},{"$f":"IF($C$8=1,'Scenario 1'!V330,'Scenario 2'!V330)","v":0},{"$f":"IF($C$8=1,'Scenario 1'!W330,'Scenario 2'!W330)","v":0},{"$f":"IF($C$8=1,'Scenario 1'!X330,'Scenario 2'!X330)","v":0},{"$f":"IF($C$8=1,'Scenario 1'!Y330,'Scenario 2'!Y330)","v":0},{"$f":"IF($C$8=1,'Scenario 1'!Z330,'Scenario 2'!Z330)","v":0},{"$f":"IF($C$8=1,'Scenario 1'!AA330,'Scenario 2'!AA330)","v":0},{"$f":"IF($C$8=1,'Scenario 1'!AB330,'Scenario 2'!AB330)","v":6},{"$f":"IF($C$8=1,'Scenario 1'!AC330,'Scenario 2'!AC330)","v":5},{"$f":"IF($C$8=1,'Scenario 1'!AD330,'Scenario 2'!AD330)","v":0},{"$f":"IF($C$8=1,'Scenario 1'!AE330,'Scenario 2'!AE330)","v":13},{"$f":"IF($C$8=1,'Scenario 1'!AF330,'Scenario 2'!AF330)","v":0},{"$f":"IF($C$8=1,'Scenario 1'!AG330,'Scenario 2'!AG330)","v":0},{"$f":"IF($C$8=1,'Scenario 1'!AH330,'Scenario 2'!AH330)","v":0},{"$f":"IF($C$8=1,'Scenario 1'!AI330,'Scenario 2'!AI330)","v":0},{"$f":"IF($C$8=1,'Scenario 1'!AJ330,'Scenario 2'!AJ330)","v":0},{"$f":"IF($C$8=1,'Scenario 1'!AK330,'Scenario 2'!AK330)","v":0},{"$f":"IF($C$8=1,'Scenario 1'!AL330,'Scenario 2'!AL330)","v":13},{"$f":"IF($C$8=1,'Scenario 1'!AM330,'Scenario 2'!AM330)","v":5},{"$f":"IF($C$8=1,'Scenario 1'!AN330,'Scenario 2'!AN330)","v":0},{"$f":"IF($C$8=1,'Scenario 1'!AO330,'Scenario 2'!AO330)","v":0},{"$f":"IF($C$8=1,'Scenario 1'!AP330,'Scenario 2'!AP330)","v":0},{"$f":"IF($C$8=1,'Scenario 1'!AQ330,'Scenario 2'!AQ330)","v":0},{"$f":"IF($C$8=1,'Scenario 1'!AR330,'Scenario 2'!AR330)","v":0},{"$f":"IF($C$8=1,'Scenario 1'!AS330,'Scenario 2'!AS330)","v":0},{"$f":"IF($C$8=1,'Scenario 1'!AT330,'Scenario 2'!AT330)","v":0},{"$f":"IF($C$8=1,'Scenario 1'!AU330,'Scenario 2'!AU330)","v":0},{"$f":"IF($C$8=1,'Scenario 1'!AV330,'Scenario 2'!AV330)","v":13},{"$f":"IF($C$8=1,'Scenario 1'!AW330,'Scenario 2'!AW330)","v":5},{"$f":"IF($C$8=1,'Scenario 1'!AX330,'Scenario 2'!AX330)","v":0},{"$f":"IF($C$8=1,'Scenario 1'!AY330,'Scenario 2'!AY330)","v":13},{"$f":"IF($C$8=1,'Scenario 1'!AZ330,'Scenario 2'!AZ330)","v":6},{"$f":"IF($C$8=1,'Scenario 1'!BA330,'Scenario 2'!BA330)","v":5},{"$f":"IF($C$8=1,'Scenario 1'!BB330,'Scenario 2'!BB330)","v":0},{"$f":"IF($C$8=1,'Scenario 1'!BC330,'Scenario 2'!BC330)","v":0},{"$f":"IF($C$8=1,'Scenario 1'!BD330,'Scenario 2'!BD330)","v":0},{"$f":"IF($C$8=1,'Scenario 1'!BE330,'Scenario 2'!BE330)","v":0},{"$f":"IF($C$8=1,'Scenario 1'!BF330,'Scenario 2'!BF330)","v":13},{"$f":"IF($C$8=1,'Scenario 1'!BG330,'Scenario 2'!BG330)","v":5},{"$f":"IF($C$8=1,'Scenario 1'!BH330,'Scenario 2'!BH330)","v":0},{"$f":"IF($C$8=1,'Scenario 1'!BI330,'Scenario 2'!BI330)","v":13},{"$f":"IF($C$8=1,'Scenario 1'!BJ330,'Scenario 2'!BJ330)","v":6},{"$f":"IF($C$8=1,'Scenario 1'!BK330,'Scenario 2'!BK330)","v":6},{"$f":"IF($C$8=1,'Scenario 1'!BL330,'Scenario 2'!BL330)","v":0},{"$f":"IF($C$8=1,'Scenario 1'!BM330,'Scenario 2'!BM330)","v":0},{"$f":"IF($C$8=1,'Scenario 1'!BN330,'Scenario 2'!BN330)","v":0},{"$f":"IF($C$8=1,'Scenario 1'!BO330,'Scenario 2'!BO330)","v":0}]
[null,"Below ground residue, %",{"$f":"IF($C$8=1,'Scenario 1'!R331,'Scenario 2'!R331)","v":0},{"$f":"IF($C$8=1,'Scenario 1'!S331,'Scenario 2'!S331)","v":15},{"$f":"IF($C$8=1,'Scenario 1'!T331,'Scenario 2'!T331)","v":0},{"$f":"IF($C$8=1,'Scenario 1'!U331,'Scenario 2'!U331)","v":0},{"$f":"IF($C$8=1,'Scenario 1'!V331,'Scenario 2'!V331)","v":0},{"$f":"IF($C$8=1,'Scenario 1'!W331,'Scenario 2'!W331)","v":0},{"$f":"IF($C$8=1,'Scenario 1'!X331,'Scenario 2'!X331)","v":0},{"$f":"IF($C$8=1,'Scenario 1'!Y331,'Scenario 2'!Y331)","v":0},{"$f":"IF($C$8=1,'Scenario 1'!Z331,'Scenario 2'!Z331)","v":0},{"$f":"IF($C$8=1,'Scenario 1'!AA331,'Scenario 2'!AA331)","v":0},{"$f":"IF($C$8=1,'Scenario 1'!AB331,'Scenario 2'!AB331)","v":25},{"$f":"IF($C$8=1,'Scenario 1'!AC331,'Scenario 2'!AC331)","v":15},{"$f":"IF($C$8=1,'Scenario 1'!AD331,'Scenario 2'!AD331)","v":0},{"$f":"IF($C$8=1,'Scenario 1'!AE331,'Scenario 2'!AE331)","v":20},{"$f":"IF($C$8=1,'Scenario 1'!AF331,'Scenario 2'!AF331)","v":0},{"$f":"IF($C$8=1,'Scenario 1'!AG331,'Scenario 2'!AG331)","v":0},{"$f":"IF($C$8=1,'Scenario 1'!AH331,'Scenario 2'!AH331)","v":0},{"$f":"IF($C$8=1,'Scenario 1'!AI331,'Scenario 2'!AI331)","v":0},{"$f":"IF($C$8=1,'Scenario 1'!AJ331,'Scenario 2'!AJ331)","v":0},{"$f":"IF($C$8=1,'Scenario 1'!AK331,'Scenario 2'!AK331)","v":0},{"$f":"IF($C$8=1,'Scenario 1'!AL331,'Scenario 2'!AL331)","v":20},{"$f":"IF($C$8=1,'Scenario 1'!AM331,'Scenario 2'!AM331)","v":15},{"$f":"IF($C$8=1,'Scenario 1'!AN331,'Scenario 2'!AN331)","v":0},{"$f":"IF($C$8=1,'Scenario 1'!AO331,'Scenario 2'!AO331)","v":0},{"$f":"IF($C$8=1,'Scenario 1'!AP331,'Scenario 2'!AP331)","v":0},{"$f":"IF($C$8=1,'Scenario 1'!AQ331,'Scenario 2'!AQ331)","v":0},{"$f":"IF($C$8=1,'Scenario 1'!AR331,'Scenario 2'!AR331)","v":0},{"$f":"IF($C$8=1,'Scenario 1'!AS331,'Scenario 2'!AS331)","v":0},{"$f":"IF($C$8=1,'Scenario 1'!AT331,'Scenario 2'!AT331)","v":0},{"$f":"IF($C$8=1,'Scenario 1'!AU331,'Scenario 2'!AU331)","v":0},{"$f":"IF($C$8=1,'Scenario 1'!AV331,'Scenario 2'!AV331)","v":20},{"$f":"IF($C$8=1,'Scenario 1'!AW331,'Scenario 2'!AW331)","v":15},{"$f":"IF($C$8=1,'Scenario 1'!AX331,'Scenario 2'!AX331)","v":0},{"$f":"IF($C$8=1,'Scenario 1'!AY331,'Scenario 2'!AY331)","v":20},{"$f":"IF($C$8=1,'Scenario 1'!AZ331,'Scenario 2'!AZ331)","v":25},{"$f":"IF($C$8=1,'Scenario 1'!BA331,'Scenario 2'!BA331)","v":15},{"$f":"IF($C$8=1,'Scenario 1'!BB331,'Scenario 2'!BB331)","v":0},{"$f":"IF($C$8=1,'Scenario 1'!BC331,'Scenario 2'!BC331)","v":0},{"$f":"IF($C$8=1,'Scenario 1'!BD331,'Scenario 2'!BD331)","v":0},{"$f":"IF($C$8=1,'Scenario 1'!BE331,'Scenario 2'!BE331)","v":0},{"$f":"IF($C$8=1,'Scenario 1'!BF331,'Scenario 2'!BF331)","v":20},{"$f":"IF($C$8=1,'Scenario 1'!BG331,'Scenario 2'!BG331)","v":15},{"$f":"IF($C$8=1,'Scenario 1'!BH331,'Scenario 2'!BH331)","v":0},{"$f":"IF($C$8=1,'Scenario 1'!BI331,'Scenario 2'!BI331)","v":20},{"$f":"IF($C$8=1,'Scenario 1'!BJ331,'Scenario 2'!BJ331)","v":25},{"$f":"IF($C$8=1,'Scenario 1'!BK331,'Scenario 2'!BK331)","v":15},{"$f":"IF($C$8=1,'Scenario 1'!BL331,'Scenario 2'!BL331)","v":0},{"$f":"IF($C$8=1,'Scenario 1'!BM331,'Scenario 2'!BM331)","v":0},{"$f":"IF($C$8=1,'Scenario 1'!BN331,'Scenario 2'!BN331)","v":0},{"$f":"IF($C$8=1,'Scenario 1'!BO331,'Scenario 2'!BO331)","v":0}]
[null,"N Below ground residue, g N/kg",{"$f":"IF($C$8=1,'Scenario 1'!R332,'Scenario 2'!R332)","v":0},{"$f":"IF($C$8=1,'Scenario 1'!S332,'Scenario 2'!S332)","v":7},{"$f":"IF($C$8=1,'Scenario 1'!T332,'Scenario 2'!T332)","v":0},{"$f":"IF($C$8=1,'Scenario 1'!U332,'Scenario 2'!U332)","v":0},{"$f":"IF($C$8=1,'Scenario 1'!V332,'Scenario 2'!V332)","v":0},{"$f":"IF($C$8=1,'Scenario 1'!W332,'Scenario 2'!W332)","v":0},{"$f":"IF($C$8=1,'Scenario 1'!X332,'Scenario 2'!X332)","v":0},{"$f":"IF($C$8=1,'Scenario 1'!Y332,'Scenario 2'!Y332)","v":0},{"$f":"IF($C$8=1,'Scenario 1'!Z332,'Scenario 2'!Z332)","v":0},{"$f":"IF($C$8=1,'Scenario 1'!AA332,'Scenario 2'!AA332)","v":0},{"$f":"IF($C$8=1,'Scenario 1'!AB332,'Scenario 2'!AB332)","v":10},{"$f":"IF($C$8=1,'Scenario 1'!AC332,'Scenario 2'!AC332)","v":7},{"$f":"IF($C$8=1,'Scenario 1'!AD332,'Scenario 2'!AD332)","v":0},{"$f":"IF($C$8=1,'Scenario 1'!AE332,'Scenario 2'!AE332)","v":7},{"$f":"IF($C$8=1,'Scenario 1'!AF332,'Scenario 2'!AF332)","v":0},{"$f":"IF($C$8=1,'Scenario 1'!AG332,'Scenario 2'!AG332)","v":0},{"$f":"IF($C$8=1,'Scenario 1'!AH332,'Scenario 2'!AH332)","v":0},{"$f":"IF($C$8=1,'Scenario 1'!AI332,'Scenario 2'!AI332)","v":0},{"$f":"IF($C$8=1,'Scenario 1'!AJ332,'Scenario 2'!AJ332)","v":0},{"$f":"IF($C$8=1,'Scenario 1'!AK332,'Scenario 2'!AK332)","v":0},{"$f":"IF($C$8=1,'Scenario 1'!AL332,'Scenario 2'!AL332)","v":7},{"$f":"IF($C$8=1,'Scenario 1'!AM332,'Scenario 2'!AM332)","v":7},{"$f":"IF($C$8=1,'Scenario 1'!AN332,'Scenario 2'!AN332)","v":0},{"$f":"IF($C$8=1,'Scenario 1'!AO332,'Scenario 2'!AO332)","v":0},{"$f":"IF($C$8=1,'Scenario 1'!AP332,'Scenario 2'!AP332)","v":0},{"$f":"IF($C$8=1,'Scenario 1'!AQ332,'Scenario 2'!AQ332)","v":0},{"$f":"IF($C$8=1,'Scenario 1'!AR332,'Scenario 2'!AR332)","v":0},{"$f":"IF($C$8=1,'Scenario 1'!AS332,'Scenario 2'!AS332)","v":0},{"$f":"IF($C$8=1,'Scenario 1'!AT332,'Scenario 2'!AT332)","v":0},{"$f":"IF($C$8=1,'Scenario 1'!AU332,'Scenario 2'!AU332)","v":0},{"$f":"IF($C$8=1,'Scenario 1'!AV332,'Scenario 2'!AV332)","v":7},{"$f":"IF($C$8=1,'Scenario 1'!AW332,'Scenario 2'!AW332)","v":7},{"$f":"IF($C$8=1,'Scenario 1'!AX332,'Scenario 2'!AX332)","v":0},{"$f":"IF($C$8=1,'Scenario 1'!AY332,'Scenario 2'!AY332)","v":7},{"$f":"IF($C$8=1,'Scenario 1'!AZ332,'Scenario 2'!AZ332)","v":10},{"$f":"IF($C$8=1,'Scenario 1'!BA332,'Scenario 2'!BA332)","v":7},{"$f":"IF($C$8=1,'Scenario 1'!BB332,'Scenario 2'!BB332)","v":0},{"$f":"IF($C$8=1,'Scenario 1'!BC332,'Scenario 2'!BC332)","v":0},{"$f":"IF($C$8=1,'Scenario 1'!BD332,'Scenario 2'!BD332)","v":0},{"$f":"IF($C$8=1,'Scenario 1'!BE332,'Scenario 2'!BE332)","v":0},{"$f":"IF($C$8=1,'Scenario 1'!BF332,'Scenario 2'!BF332)","v":7},{"$f":"IF($C$8=1,'Scenario 1'!BG332,'Scenario 2'!BG332)","v":7},{"$f":"IF($C$8=1,'Scenario 1'!BH332,'Scenario 2'!BH332)","v":0},{"$f":"IF($C$8=1,'Scenario 1'!BI332,'Scenario 2'!BI332)","v":7},{"$f":"IF($C$8=1,'Scenario 1'!BJ332,'Scenario 2'!BJ332)","v":10},{"$f":"IF($C$8=1,'Scenario 1'!BK332,'Scenario 2'!BK332)","v":10},{"$f":"IF($C$8=1,'Scenario 1'!BL332,'Scenario 2'!BL332)","v":0},{"$f":"IF($C$8=1,'Scenario 1'!BM332,'Scenario 2'!BM332)","v":0},{"$f":"IF($C$8=1,'Scenario 1'!BN332,'Scenario 2'!BN332)","v":0},{"$f":"IF($C$8=1,'Scenario 1'!BO332,'Scenario 2'!BO332)","v":0}]
[null,"Fuel consumption (L/ha) (w/o fertilizers application)",{"$f":"IF($C$8=1,'Scenario 1'!R333,'Scenario 2'!R333)","v":0},{"$f":"IF($C$8=1,'Scenario 1'!S333,'Scenario 2'!S333)","v":58.6},{"$f":"IF($C$8=1,'Scenario 1'!T333,'Scenario 2'!T333)","v":0},{"$f":"IF($C$8=1,'Scenario 1'!U333,'Scenario 2'!U333)","v":0},{"$f":"IF($C$8=1,'Scenario 1'!V333,'Scenario 2'!V333)","v":0},{"$f":"IF($C$8=1,'Scenario 1'!W333,'Scenario 2'!W333)","v":0},{"$f":"IF($C$8=1,'Scenario 1'!X333,'Scenario 2'!X333)","v":0},{"$f":"IF($C$8=1,'Scenario 1'!Y333,'Scenario 2'!Y333)","v":0},{"$f":"IF($C$8=1,'Scenario 1'!Z333,'Scenario 2'!Z333)","v":0},{"$f":"IF($C$8=1,'Scenario 1'!AA333,'Scenario 2'!AA333)","v":0},{"$f":"IF($C$8=1,'Scenario 1'!AB333,'Scenario 2'!AB333)","v":60.1},{"$f":"IF($C$8=1,'Scenario 1'!AC333,'Scenario 2'!AC333)","v":58.6},{"$f":"IF($C$8=1,'Scenario 1'!AD333,'Scenario 2'!AD333)","v":0},{"$f":"IF($C$8=1,'Scenario 1'!AE333,'Scenario 2'!AE333)","v":101.1},{"$f":"IF($C$8=1,'Scenario 1'!AF333,'Scenario 2'!AF333)","v":0},{"$f":"IF($C$8=1,'Scenario 1'!AG333,'Scenario 2'!AG333)","v":0},{"$f":"IF($C$8=1,'Scenario 1'!AH333,'Scenario 2'!AH333)","v":0},{"$f":"IF($C$8=1,'Scenario 1'!AI333,'Scenario 2'!AI333)","v":0},{"$f":"IF($C$8=1,'Scenario 1'!AJ333,'Scenario 2'!AJ333)","v":0},{"$f":"IF($C$8=1,'Scenario 1'!AK333,'Scenario 2'!AK333)","v":0},{"$f":"IF($C$8=1,'Scenario 1'!AL333,'Scenario 2'!AL333)","v":101.1},{"$f":"IF($C$8=1,'Scenario 1'!AM333,'Scenario 2'!AM333)","v":58.6},{"$f":"IF($C$8=1,'Scenario 1'!AN333,'Scenario 2'!AN333)","v":0},{"$f":"IF($C$8=1,'Scenario 1'!AO333,'Scenario 2'!AO333)","v":49.3},{"$f":"IF($C$8=1,'Scenario 1'!AP333,'Scenario 2'!AP333)","v":123.3},{"$f":"IF($C$8=1,'Scenario 1'!AQ333,'Scenario 2'!AQ333)","v":123.3},{"$f":"IF($C$8=1,'Scenario 1'!AR333,'Scenario 2'!AR333)","v":0},{"$f":"IF($C$8=1,'Scenario 1'!AS333,'Scenario 2'!AS333)","v":0},{"$f":"IF($C$8=1,'Scenario 1'!AT333,'Scenario 2'!AT333)","v":0},{"$f":"IF($C$8=1,'Scenario 1'!AU333,'Scenario 2'!AU333)","v":0},{"$f":"IF($C$8=1,'Scenario 1'!AV333,'Scenario 2'!AV333)","v":101.1},{"$f":"IF($C$8=1,'Scenario 1'!AW333,'Scenario 2'!AW333)","v":58.6},{"$f":"IF($C$8=1,'Scenario 1'!AX333,'Scenario 2'!AX333)","v":0},{"$f":"IF($C$8=1,'Scenario 1'!AY333,'Scenario 2'!AY333)","v":101.1},{"$f":"IF($C$8=1,'Scenario 1'!AZ333,'Scenario 2'!AZ333)","v":60.1},{"$f":"IF($C$8=1,'Scenario 1'!BA333,'Scenario 2'!BA333)","v":58.6},{"$f":"IF($C$8=1,'Scenario 1'!BB333,'Scenario 2'!BB333)","v":0},{"$f":"IF($C$8=1,'Scenario 1'!BC333,'Scenario 2'!BC333)","v":49.3},{"$f":"IF($C$8=1,'Scenario 1'!BD333,'Scenario 2'!BD333)","v":123.3},{"$f":"IF($C$8=1,'Scenario 1'!BE333,'Scenario 2'!BE333)","v":123.3},{"$f":"IF($C$8=1,'Scenario 1'!BF333,'Scenario 2'!BF333)","v":101.1},{"$f":"IF($C$8=1,'Scenario 1'!BG333,'Scenario 2'!BG333)","v":58.6},{"$f":"IF($C$8=1,'Scenario 1'!BH333,'Scenario 2'!BH333)","v":0},{"$f":"IF($C$8=1,'Scenario 1'!BI333,'Scenario 2'!BI333)","v":101.1},{"$f":"IF($C$8=1,'Scenario 1'!BJ333,'Scenario 2'!BJ333)","v":60.1},{"$f":"IF($C$8=1,'Scenario 1'!BK333,'Scenario 2'!BK333)","v":46.3},{"$f":"IF($C$8=1,'Scenario 1'!BL333,'Scenario 2'!BL333)","v":0},{"$f":"IF($C$8=1,'Scenario 1'!BM333,'Scenario 2'!BM333)","v":49.3},{"$f":"IF($C$8=1,'Scenario 1'!BN333,'Scenario 2'!BN333)","v":123.3},{"$f":"IF($C$8=1,'Scenario 1'!BO333,'Scenario 2'!BO333)","v":123.3}]
[null,"Variable costs  w/o fertilizer, $/ha",{"$f":"IF($C$8=1,'Scenario 1'!R334,'Scenario 2'!R334)","v":0},{"$f":"IF($C$8=1,'Scenario 1'!S334,'Scenario 2'!S334)","v":800.65},{"$f":"IF($C$8=1,'Scenario 1'!T334,'Scenario 2'!T334)","v":0},{"$f":"IF($C$8=1,'Scenario 1'!U334,'Scenario 2'!U334)","v":0},{"$f":"IF($C$8=1,'Scenario 1'!V334,'Scenario 2'!V334)","v":0},{"$f":"IF($C$8=1,'Scenario 1'!W334,'Scenario 2'!W334)","v":0},{"$f":"IF($C$8=1,'Scenario 1'!X334,'Scenario 2'!X334)","v":0},{"$f":"IF($C$8=1,'Scenario 1'!Y334,'Scenario 2'!Y334)","v":0},{"$f":"IF($C$8=1,'Scenario 1'!Z334,'Scenario 2'!Z334)","v":0},{"$f":"IF($C$8=1,'Scenario 1'!AA334,'Scenario 2'!AA334)","v":0},{"$f":"IF($C$8=1,'Scenario 1'!AB334,'Scenario 2'!AB334)","v":454.48},{"$f":"IF($C$8=1,'Scenario 1'!AC334,'Scenario 2'!AC334)","v":724.41},{"$f":"IF($C$8=1,'Scenario 1'!AD334,'Scenario 2'!AD334)","v":0},{"$f":"IF($C$8=1,'Scenario 1'!AE334,'Scenario 2'!AE334)","v":505.43},{"$f":"IF($C$8=1,'Scenario 1'!AF334,'Scenario 2'!AF334)","v":0},{"$f":"IF($C$8=1,'Scenario 1'!AG334,'Scenario 2'!AG334)","v":0},{"$f":"IF($C$8=1,'Scenario 1'!AH334,'Scenario 2'!AH334)","v":0},{"$f":"IF($C$8=1,'Scenario 1'!AI334,'Scenario 2'!AI334)","v":0},{"$f":"IF($C$8=1,'Scenario 1'!AJ334,'Scenario 2'!AJ334)","v":0},{"$f":"IF($C$8=1,'Scenario 1'!AK334,'Scenario 2'!AK334)","v":0},{"$f":"IF($C$8=1,'Scenario 1'!AL334,'Scenario 2'!AL334)","v":486.38},{"$f":"IF($C$8=1,'Scenario 1'!AM334,'Scenario 2'!AM334)","v":800.65},{"$f":"IF($C$8=1,'Scenario 1'!AN334,'Scenario 2'!AN334)","v":0},{"$f":"IF($C$8=1,'Scenario 1'!AO334,'Scenario 2'!AO334)","v":578.94000000000005},{"$f":"IF($C$8=1,'Scenario 1'!AP334,'Scenario 2'!AP334)","v":387.44},{"$f":"IF($C$8=1,'Scenario 1'!AQ334,'Scenario 2'!AQ334)","v":387.44},{"$f":"IF($C$8=1,'Scenario 1'!AR334,'Scenario 2'!AR334)","v":0},{"$f":"IF($C$8=1,'Scenario 1'!AS334,'Scenario 2'!AS334)","v":0},{"$f":"IF($C$8=1,'Scenario 1'!AT334,'Scenario 2'!AT334)","v":0},{"$f":"IF($C$8=1,'Scenario 1'!AU334,'Scenario 2'!AU334)","v":0},{"$f":"IF($C$8=1,'Scenario 1'!AV334,'Scenario 2'!AV334)","v":486.38},{"$f":"IF($C$8=1,'Scenario 1'!AW334,'Scenario 2'!AW334)","v":800.65},{"$f":"IF($C$8=1,'Scenario 1'!AX334,'Scenario 2'!AX334)","v":0},{"$f":"IF($C$8=1,'Scenario 1'!AY334,'Scenario 2'!AY334)","v":505.43},{"$f":"IF($C$8=1,'Scenario 1'!AZ334,'Scenario 2'!AZ334)","v":454.48},{"$f":"IF($C$8=1,'Scenario 1'!BA334,'Scenario 2'!BA334)","v":724.41},{"$f":"IF($C$8=1,'Scenario 1'!BB334,'Scenario 2'!BB334)","v":0},{"$f":"IF($C$8=1,'Scenario 1'!BC334,'Scenario 2'!BC334)","v":578.94000000000005},{"$f":"IF($C$8=1,'Scenario 1'!BD334,'Scenario 2'!BD334)","v":387.44},{"$f":"IF($C$8=1,'Scenario 1'!BE334,'Scenario 2'!BE334)","v":387.44},{"$f":"IF($C$8=1,'Scenario 1'!BF334,'Scenario 2'!BF334)","v":486.38},{"$f":"IF($C$8=1,'Scenario 1'!BG334,'Scenario 2'!BG334)","v":800.65},{"$f":"IF($C$8=1,'Scenario 1'!BH334,'Scenario 2'!BH334)","v":0},{"$f":"IF($C$8=1,'Scenario 1'!BI334,'Scenario 2'!BI334)","v":505.43},{"$f":"IF($C$8=1,'Scenario 1'!BJ334,'Scenario 2'!BJ334)","v":454.48},{"$f":"IF($C$8=1,'Scenario 1'!BK334,'Scenario 2'!BK334)","v":360.95},{"$f":"IF($C$8=1,'Scenario 1'!BL334,'Scenario 2'!BL334)","v":360.95},{"$f":"IF($C$8=1,'Scenario 1'!BM334,'Scenario 2'!BM334)","v":578.94000000000005},{"$f":"IF($C$8=1,'Scenario 1'!BN334,'Scenario 2'!BN334)","v":387.44},{"$f":"IF($C$8=1,'Scenario 1'!BO334,'Scenario 2'!BO334)","v":387.44}]
[null,"Variable costs, $/ha",{"$f":"IF($C$8=1,'Scenario 1'!R335,'Scenario 2'!R335)","v":0},{"$f":"IF($C$8=1,'Scenario 1'!S335,'Scenario 2'!S335)","v":0},{"$f":"IF($C$8=1,'Scenario 1'!T335,'Scenario 2'!T335)","v":0},{"$f":"IF($C$8=1,'Scenario 1'!U335,'Scenario 2'!U335)","v":0},{"$f":"IF($C$8=1,'Scenario 1'!V335,'Scenario 2'!V335)","v":0},{"$f":"IF($C$8=1,'Scenario 1'!W335,'Scenario 2'!W335)","v":0},{"$f":"IF($C$8=1,'Scenario 1'!X335,'Scenario 2'!X335)","v":0},{"$f":"IF($C$8=1,'Scenario 1'!Y335,'Scenario 2'!Y335)","v":0},{"$f":"IF($C$8=1,'Scenario 1'!Z335,'Scenario 2'!Z335)","v":0},{"$f":"IF($C$8=1,'Scenario 1'!AA335,'Scenario 2'!AA335)","v":0},{"$f":"IF($C$8=1,'Scenario 1'!AB335,'Scenario 2'!AB335)","v":0},{"$f":"IF($C$8=1,'Scenario 1'!AC335,'Scenario 2'!AC335)","v":0},{"$f":"IF($C$8=1,'Scenario 1'!AD335,'Scenario 2'!AD335)","v":0},{"$f":"IF($C$8=1,'Scenario 1'!AE335,'Scenario 2'!AE335)","v":0},{"$f":"IF($C$8=1,'Scenario 1'!AF335,'Scenario 2'!AF335)","v":0},{"$f":"IF($C$8=1,'Scenario 1'!AG335,'Scenario 2'!AG335)","v":0},{"$f":"IF($C$8=1,'Scenario 1'!AH335,'Scenario 2'!AH335)","v":0},{"$f":"IF($C$8=1,'Scenario 1'!AI335,'Scenario 2'!AI335)","v":0},{"$f":"IF($C$8=1,'Scenario 1'!AJ335,'Scenario 2'!AJ335)","v":0},{"$f":"IF($C$8=1,'Scenario 1'!AK335,'Scenario 2'!AK335)","v":0},{"$f":"IF($C$8=1,'Scenario 1'!AL335,'Scenario 2'!AL335)","v":0},{"$f":"IF($C$8=1,'Scenario 1'!AM335,'Scenario 2'!AM335)","v":0},{"$f":"IF($C$8=1,'Scenario 1'!AN335,'Scenario 2'!AN335)","v":0},{"$f":"IF($C$8=1,'Scenario 1'!AO335,'Scenario 2'!AO335)","v":0},{"$f":"IF($C$8=1,'Scenario 1'!AP335,'Scenario 2'!AP335)","v":0},{"$f":"IF($C$8=1,'Scenario 1'!AQ335,'Scenario 2'!AQ335)","v":0},{"$f":"IF($C$8=1,'Scenario 1'!AR335,'Scenario 2'!AR335)","v":0},{"$f":"IF($C$8=1,'Scenario 1'!AS335,'Scenario 2'!AS335)","v":0},{"$f":"IF($C$8=1,'Scenario 1'!AT335,'Scenario 2'!AT335)","v":0},{"$f":"IF($C$8=1,'Scenario 1'!AU335,'Scenario 2'!AU335)","v":0},{"$f":"IF($C$8=1,'Scenario 1'!AV335,'Scenario 2'!AV335)","v":0},{"$f":"IF($C$8=1,'Scenario 1'!AW335,'Scenario 2'!AW335)","v":0},{"$f":"IF($C$8=1,'Scenario 1'!AX335,'Scenario 2'!AX335)","v":0},{"$f":"IF($C$8=1,'Scenario 1'!AY335,'Scenario 2'!AY335)","v":0},{"$f":"IF($C$8=1,'Scenario 1'!AZ335,'Scenario 2'!AZ335)","v":0},{"$f":"IF($C$8=1,'Scenario 1'!BA335,'Scenario 2'!BA335)","v":0},{"$f":"IF($C$8=1,'Scenario 1'!BB335,'Scenario 2'!BB335)","v":0},{"$f":"IF($C$8=1,'Scenario 1'!BC335,'Scenario 2'!BC335)","v":0},{"$f":"IF($C$8=1,'Scenario 1'!BD335,'Scenario 2'!BD335)","v":0},{"$f":"IF($C$8=1,'Scenario 1'!BE335,'Scenario 2'!BE335)","v":0},{"$f":"IF($C$8=1,'Scenario 1'!BF335,'Scenario 2'!BF335)","v":0},{"$f":"IF($C$8=1,'Scenario 1'!BG335,'Scenario 2'!BG335)","v":0},{"$f":"IF($C$8=1,'Scenario 1'!BH335,'Scenario 2'!BH335)","v":0},{"$f":"IF($C$8=1,'Scenario 1'!BI335,'Scenario 2'!BI335)","v":0},{"$f":"IF($C$8=1,'Scenario 1'!BJ335,'Scenario 2'!BJ335)","v":0},{"$f":"IF($C$8=1,'Scenario 1'!BK335,'Scenario 2'!BK335)","v":0},{"$f":"IF($C$8=1,'Scenario 1'!BL335,'Scenario 2'!BL335)","v":0},{"$f":"IF($C$8=1,'Scenario 1'!BM335,'Scenario 2'!BM335)","v":0},{"$f":"IF($C$8=1,'Scenario 1'!BN335,'Scenario 2'!BN335)","v":0},{"$f":"IF($C$8=1,'Scenario 1'!BO335,'Scenario 2'!BO335)","v":0}]
[null,"Cost $/ha",{"$f":"IF($C$8=1,'Scenario 1'!R336,'Scenario 2'!R336)","v":0},{"$f":"IF($C$8=1,'Scenario 1'!S336,'Scenario 2'!S336)","v":800.65},{"$f":"IF($C$8=1,'Scenario 1'!T336,'Scenario 2'!T336)","v":0},{"$f":"IF($C$8=1,'Scenario 1'!U336,'Scenario 2'!U336)","v":0},{"$f":"IF($C$8=1,'Scenario 1'!V336,'Scenario 2'!V336)","v":0},{"$f":"IF($C$8=1,'Scenario 1'!W336,'Scenario 2'!W336)","v":0},{"$f":"IF($C$8=1,'Scenario 1'!X336,'Scenario 2'!X336)","v":0},{"$f":"IF($C$8=1,'Scenario 1'!Y336,'Scenario 2'!Y336)","v":0},{"$f":"IF($C$8=1,'Scenario 1'!Z336,'Scenario 2'!Z336)","v":0},{"$f":"IF($C$8=1,'Scenario 1'!AA336,'Scenario 2'!AA336)","v":0},{"$f":"IF($C$8=1,'Scenario 1'!AB336,'Scenario 2'!AB336)","v":454.48},{"$f":"IF($C$8=1,'Scenario 1'!AC336,'Scenario 2'!AC336)","v":724.41},{"$f":"IF($C$8=1,'Scenario 1'!AD336,'Scenario 2'!AD336)","v":0},{"$f":"IF($C$8=1,'Scenario 1'!AE336,'Scenario 2'!AE336)","v":505.43},{"$f":"IF($C$8=1,'Scenario 1'!AF336,'Scenario 2'!AF336)","v":0},{"$f":"IF($C$8=1,'Scenario 1'!AG336,'Scenario 2'!AG336)","v":0},{"$f":"IF($C$8=1,'Scenario 1'!AH336,'Scenario 2'!AH336)","v":0},{"$f":"IF($C$8=1,'Scenario 1'!AI336,'Scenario 2'!AI336)","v":0},{"$f":"IF($C$8=1,'Scenario 1'!AJ336,'Scenario 2'!AJ336)","v":0},{"$f":"IF($C$8=1,'Scenario 1'!AK336,'Scenario 2'!AK336)","v":0},{"$f":"IF($C$8=1,'Scenario 1'!AL336,'Scenario 2'!AL336)","v":486.38},{"$f":"IF($C$8=1,'Scenario 1'!AM336,'Scenario 2'!AM336)","v":800.65},{"$f":"IF($C$8=1,'Scenario 1'!AN336,'Scenario 2'!AN336)","v":0},{"$f":"IF($C$8=1,'Scenario 1'!AO336,'Scenario 2'!AO336)","v":578.94000000000005},{"$f":"IF($C$8=1,'Scenario 1'!AP336,'Scenario 2'!AP336)","v":387.44},{"$f":"IF($C$8=1,'Scenario 1'!AQ336,'Scenario 2'!AQ336)","v":387.44},{"$f":"IF($C$8=1,'Scenario 1'!AR336,'Scenario 2'!AR336)","v":0},{"$f":"IF($C$8=1,'Scenario 1'!AS336,'Scenario 2'!AS336)","v":0},{"$f":"IF($C$8=1,'Scenario 1'!AT336,'Scenario 2'!AT336)","v":0},{"$f":"IF($C$8=1,'Scenario 1'!AU336,'Scenario 2'!AU336)","v":0},{"$f":"IF($C$8=1,'Scenario 1'!AV336,'Scenario 2'!AV336)","v":486.38},{"$f":"IF($C$8=1,'Scenario 1'!AW336,'Scenario 2'!AW336)","v":800.65},{"$f":"IF($C$8=1,'Scenario 1'!AX336,'Scenario 2'!AX336)","v":0},{"$f":"IF($C$8=1,'Scenario 1'!AY336,'Scenario 2'!AY336)","v":505.43},{"$f":"IF($C$8=1,'Scenario 1'!AZ336,'Scenario 2'!AZ336)","v":454.48},{"$f":"IF($C$8=1,'Scenario 1'!BA336,'Scenario 2'!BA336)","v":724.41},{"$f":"IF($C$8=1,'Scenario 1'!BB336,'Scenario 2'!BB336)","v":0},{"$f":"IF($C$8=1,'Scenario 1'!BC336,'Scenario 2'!BC336)","v":512.47},{"$f":"IF($C$8=1,'Scenario 1'!BD336,'Scenario 2'!BD336)","v":289.58},{"$f":"IF($C$8=1,'Scenario 1'!BE336,'Scenario 2'!BE336)","v":289.58},{"$f":"IF($C$8=1,'Scenario 1'!BF336,'Scenario 2'!BF336)","v":486.38},{"$f":"IF($C$8=1,'Scenario 1'!BG336,'Scenario 2'!BG336)","v":800.65},{"$f":"IF($C$8=1,'Scenario 1'!BH336,'Scenario 2'!BH336)","v":0},{"$f":"IF($C$8=1,'Scenario 1'!BI336,'Scenario 2'!BI336)","v":505.43},{"$f":"IF($C$8=1,'Scenario 1'!BJ336,'Scenario 2'!BJ336)","v":454.48},{"$f":"IF($C$8=1,'Scenario 1'!BK336,'Scenario 2'!BK336)","v":360.95},{"$f":"IF($C$8=1,'Scenario 1'!BL336,'Scenario 2'!BL336)","v":160.94999999999999},{"$f":"IF($C$8=1,'Scenario 1'!BM336,'Scenario 2'!BM336)","v":578.94000000000005},{"$f":"IF($C$8=1,'Scenario 1'!BN336,'Scenario 2'!BN336)","v":289.58},{"$f":"IF($C$8=1,'Scenario 1'!BO336,'Scenario 2'!BO336)","v":289.58}]
[]
[null,"Land Unit 4","Rotation 1 name:",null,{"$f":"IF($C$8=1,'Scenario 1'!T338,'Scenario 2'!T338)","v":"CCC"},null,null,null,null,null,null,null,"Rotation 2 name:",null,{"$f":"IF($C$8=1,'Scenario 1'!AD338,'Scenario 2'!AD338)","v":"SCC"},null,null,null,null,null,null,null,"Rotation 3 name:",null,{"$f":"IF($C$8=1,'Scenario 1'!AN338,'Scenario 2'!AN338)","v":"CCAAA"},null,null,null,null,null,null,null,"Rotation 4 name:",null,{"$f":"IF($C$8=1,'Scenario 1'!AX338,'Scenario 2'!AX338)","v":"CCCSCAAA"},null,null,null,null,null,null,null,"Rotation 5 name:",null,{"$f":"IF($C$8=1,'Scenario 1'!BH338,'Scenario 2'!BH338)","v":"CCCSWAAA"}]
[null,"Crops:",{"$f":"IF($C$8=1,'Scenario 1'!R339,'Scenario 2'!R339)","v":0},{"$f":"IF($C$8=1,'Scenario 1'!S339,'Scenario 2'!S339)","v":"CoGr-27"},{"$f":"IF($C$8=1,'Scenario 1'!T339,'Scenario 2'!T339)","v":0},{"$f":"IF($C$8=1,'Scenario 1'!U339,'Scenario 2'!U339)","v":0},{"$f":"IF($C$8=1,'Scenario 1'!V339,'Scenario 2'!V339)","v":0},{"$f":"IF($C$8=1,'Scenario 1'!W339,'Scenario 2'!W339)","v":0},{"$f":"IF($C$8=1,'Scenario 1'!X339,'Scenario 2'!X339)","v":0},{"$f":"IF($C$8=1,'Scenario 1'!Y339,'Scenario 2'!Y339)","v":0},{"$f":"IF($C$8=1,'Scenario 1'!Z339,'Scenario 2'!Z339)","v":0},{"$f":"IF($C$8=1,'Scenario 1'!AA339,'Scenario 2'!AA339)","v":0},{"$f":"IF($C$8=1,'Scenario 1'!AB339,'Scenario 2'!AB339)","v":"SBw-108"},{"$f":"IF($C$8=1,'Scenario 1'!AC339,'Scenario 2'!AC339)","v":"CoGr-27"},{"$f":"IF($C$8=1,'Scenario 1'!AD339,'Scenario 2'!AD339)","v":0},{"$f":"IF($C$8=1,'Scenario 1'!AE339,'Scenario 2'!AE339)","v":"CoSi-35"},{"$f":"IF($C$8=1,'Scenario 1'!AF339,'Scenario 2'!AF339)","v":0},{"$f":"IF($C$8=1,'Scenario 1'!AG339,'Scenario 2'!AG339)","v":0},{"$f":"IF($C$8=1,'Scenario 1'!AH339,'Scenario 2'!AH339)","v":0},{"$f":"IF($C$8=1,'Scenario 1'!AI339,'Scenario 2'!AI339)","v":0},{"$f":"IF($C$8=1,'Scenario 1'!AJ339,'Scenario 2'!AJ339)","v":0},{"$f":"IF($C$8=1,'Scenario 1'!AK339,'Scenario 2'!AK339)","v":0},{"$f":"IF($C$8=1,'Scenario 1'!AL339,'Scenario 2'!AL339)","v":"CoSi-35"},{"$f":"IF($C$8=1,'Scenario 1'!AM339,'Scenario 2'!AM339)","v":"CoGr-27"},{"$f":"IF($C$8=1,'Scenario 1'!AN339,'Scenario 2'!AN339)","v":0},{"$f":"IF($C$8=1,'Scenario 1'!AO339,'Scenario 2'!AO339)","v":"AlSi-83"},{"$f":"IF($C$8=1,'Scenario 1'!AP339,'Scenario 2'!AP339)","v":"AlSi-83"},{"$f":"IF($C$8=1,'Scenario 1'!AQ339,'Scenario 2'!AQ339)","v":"MxSi-74"},{"$f":"IF($C$8=1,'Scenario 1'!AR339,'Scenario 2'!AR339)","v":0},{"$f":"IF($C$8=1,'Scenario 1'!AS339,'Scenario 2'!AS339)","v":0},{"$f":"IF($C$8=1,'Scenario 1'!AT339,'Scenario 2'!AT339)","v":0},{"$f":"IF($C$8=1,'Scenario 1'!AU339,'Scenario 2'!AU339)","v":0},{"$f":"IF($C$8=1,'Scenario 1'!AV339,'Scenario 2'!AV339)","v":"CoSi-35"},{"$f":"IF($C$8=1,'Scenario 1'!AW339,'Scenario 2'!AW339)","v":"CoGr-27"},{"$f":"IF($C$8=1,'Scenario 1'!AX339,'Scenario 2'!AX339)","v":0},{"$f":"IF($C$8=1,'Scenario 1'!AY339,'Scenario 2'!AY339)","v":"CoSi-35"},{"$f":"IF($C$8=1,'Scenario 1'!AZ339,'Scenario 2'!AZ339)","v":"SBw-108"},{"$f":"IF($C$8=1,'Scenario 1'!BA339,'Scenario 2'!BA339)","v":"CoGr-27"},{"$f":"IF($C$8=1,'Scenario 1'!BB339,'Scenario 2'!BB339)","v":0},{"$f":"IF($C$8=1,'Scenario 1'!BC339,'Scenario 2'!BC339)","v":"AlSi-83"},{"$f":"IF($C$8=1,'Scenario 1'!BD339,'Scenario 2'!BD339)","v":"AlSi-83"},{"$f":"IF($C$8=1,'Scenario 1'!BE339,'Scenario 2'!BE339)","v":"MxSi-74"},{"$f":"IF($C$8=1,'Scenario 1'!BF339,'Scenario 2'!BF339)","v":"CoSi-35"},{"$f":"IF($C$8=1,'Scenario 1'!BG339,'Scenario 2'!BG339)","v":"CoGr-27"},{"$f":"IF($C$8=1,'Scenario 1'!BH339,'Scenario 2'!BH339)","v":0},{"$f":"IF($C$8=1,'Scenario 1'!BI339,'Scenario 2'!BI339)","v":"CoSi-35"},{"$f":"IF($C$8=1,'Scenario 1'!BJ339,'Scenario 2'!BJ339)","v":"SBw-108"},{"$f":"IF($C$8=1,'Scenario 1'!BK339,'Scenario 2'!BK339)","v":"Wheat-116"},{"$f":"IF($C$8=1,'Scenario 1'!BL339,'Scenario 2'!BL339)","v":"Straw-120"},{"$f":"IF($C$8=1,'Scenario 1'!BM339,'Scenario 2'!BM339)","v":"AlSi-83"},{"$f":"IF($C$8=1,'Scenario 1'!BN339,'Scenario 2'!BN339)","v":"AlSi-83"},{"$f":"IF($C$8=1,'Scenario 1'!BO339,'Scenario 2'!BO339)","v":"MxSi-74"}]
[null,"Year",{"$f":"IF($C$8=1,'Scenario 1'!R340,'Scenario 2'!R340)","v":0},{"$f":"IF($C$8=1,'Scenario 1'!S340,'Scenario 2'!S340)","v":1},{"$f":"IF($C$8=1,'Scenario 1'!T340,'Scenario 2'!T340)","v":0},{"$f":"IF($C$8=1,'Scenario 1'!U340,'Scenario 2'!U340)","v":0},{"$f":"IF($C$8=1,'Scenario 1'!V340,'Scenario 2'!V340)","v":0},{"$f":"IF($C$8=1,'Scenario 1'!W340,'Scenario 2'!W340)","v":0},{"$f":"IF($C$8=1,'Scenario 1'!X340,'Scenario 2'!X340)","v":0},{"$f":"IF($C$8=1,'Scenario 1'!Y340,'Scenario 2'!Y340)","v":0},{"$f":"IF($C$8=1,'Scenario 1'!Z340,'Scenario 2'!Z340)","v":0},{"$f":"IF($C$8=1,'Scenario 1'!AA340,'Scenario 2'!AA340)","v":0},{"$f":"IF($C$8=1,'Scenario 1'!AB340,'Scenario 2'!AB340)","v":1},{"$f":"IF($C$8=1,'Scenario 1'!AC340,'Scenario 2'!AC340)","v":2},{"$f":"IF($C$8=1,'Scenario 1'!AD340,'Scenario 2'!AD340)","v":0},{"$f":"IF($C$8=1,'Scenario 1'!AE340,'Scenario 2'!AE340)","v":3},{"$f":"IF($C$8=1,'Scenario 1'!AF340,'Scenario 2'!AF340)","v":0},{"$f":"IF($C$8=1,'Scenario 1'!AG340,'Scenario 2'!AG340)","v":0},{"$f":"IF($C$8=1,'Scenario 1'!AH340,'Scenario 2'!AH340)","v":0},{"$f":"IF($C$8=1,'Scenario 1'!AI340,'Scenario 2'!AI340)","v":0},{"$f":"IF($C$8=1,'Scenario 1'!AJ340,'Scenario 2'!AJ340)","v":0},{"$f":"IF($C$8=1,'Scenario 1'!AK340,'Scenario 2'!AK340)","v":0},{"$f":"IF($C$8=1,'Scenario 1'!AL340,'Scenario 2'!AL340)","v":1},{"$f":"IF($C$8=1,'Scenario 1'!AM340,'Scenario 2'!AM340)","v":2},{"$f":"IF($C$8=1,'Scenario 1'!AN340,'Scenario 2'!AN340)","v":0},{"$f":"IF($C$8=1,'Scenario 1'!AO340,'Scenario 2'!AO340)","v":3},{"$f":"IF($C$8=1,'Scenario 1'!AP340,'Scenario 2'!AP340)","v":4},{"$f":"IF($C$8=1,'Scenario 1'!AQ340,'Scenario 2'!AQ340)","v":5},{"$f":"IF($C$8=1,'Scenario 1'!AR340,'Scenario 2'!AR340)","v":0},{"$f":"IF($C$8=1,'Scenario 1'!AS340,'Scenario 2'!AS340)","v":0},{"$f":"IF($C$8=1,'Scenario 1'!AT340,'Scenario 2'!AT340)","v":0},{"$f":"IF($C$8=1,'Scenario 1'!AU340,'Scenario 2'!AU340)","v":0},{"$f":"IF($C$8=1,'Scenario 1'!AV340,'Scenario 2'!AV340)","v":1},{"$f":"IF($C$8=1,'Scenario 1'!AW340,'Scenario 2'!AW340)","v":2},{"$f":"IF($C$8=1,'Scenario 1'!AX340,'Scenario 2'!AX340)","v":0},{"$f":"IF($C$8=1,'Scenario 1'!AY340,'Scenario 2'!AY340)","v":3},{"$f":"IF($C$8=1,'Scenario 1'!AZ340,'Scenario 2'!AZ340)","v":4},{"$f":"IF($C$8=1,'Scenario 1'!BA340,'Scenario 2'!BA340)","v":5},{"$f":"IF($C$8=1,'Scenario 1'!BB340,'Scenario 2'!BB340)","v":0},{"$f":"IF($C$8=1,'Scenario 1'!BC340,'Scenario 2'!BC340)","v":6},{"$f":"IF($C$8=1,'Scenario 1'!BD340,'Scenario 2'!BD340)","v":7},{"$f":"IF($C$8=1,'Scenario 1'!BE340,'Scenario 2'!BE340)","v":8},{"$f":"IF($C$8=1,'Scenario 1'!BF340,'Scenario 2'!BF340)","v":1},{"$f":"IF($C$8=1,'Scenario 1'!BG340,'Scenario 2'!BG340)","v":2},{"$f":"IF($C$8=1,'Scenario 1'!BH340,'Scenario 2'!BH340)","v":0},{"$f":"IF($C$8=1,'Scenario 1'!BI340,'Scenario 2'!BI340)","v":3},{"$f":"IF($C$8=1,'Scenario 1'!BJ340,'Scenario 2'!BJ340)","v":4},{"$f":"IF($C$8=1,'Scenario 1'!BK340,'Scenario 2'!BK340)","v":5},{"$f":"IF($C$8=1,'Scenario 1'!BL340,'Scenario 2'!BL340)","v":5},{"$f":"IF($C$8=1,'Scenario 1'!BM340,'Scenario 2'!BM340)","v":6},{"$f":"IF($C$8=1,'Scenario 1'!BN340,'Scenario 2'!BN340)","v":7},{"$f":"IF($C$8=1,'Scenario 1'!BO340,'Scenario 2'!BO340)","v":8}]
[null,"Yield, t DM/yr",{"$f":"IF($C$8=1,'Scenario 1'!R341,'Scenario 2'!R341)","v":0},{"$f":"IF($C$8=1,'Scenario 1'!S341,'Scenario 2'!S341)","v":8.3505154639175263},{"$f":"IF($C$8=1,'Scenario 1'!T341,'Scenario 2'!T341)","v":0},{"$f":"IF($C$8=1,'Scenario 1'!U341,'Scenario 2'!U341)","v":0},{"$f":"IF($C$8=1,'Scenario 1'!V341,'Scenario 2'!V341)","v":0},{"$f":"IF($C$8=1,'Scenario 1'!W341,'Scenario 2'!W341)","v":0},{"$f":"IF($C$8=1,'Scenario 1'!X341,'Scenario 2'!X341)","v":0},{"$f":"IF($C$8=1,'Scenario 1'!Y341,'Scenario 2'!Y341)","v":0},{"$f":"IF($C$8=1,'Scenario 1'!Z341,'Scenario 2'!Z341)","v":0},{"$f":"IF($C$8=1,'Scenario 1'!AA341,'Scenario 2'!AA341)","v":0},{"$f":"IF($C$8=1,'Scenario 1'!AB341,'Scenario 2'!AB341)","v":2.9484536082474224},{"$f":"IF($C$8=1,'Scenario 1'!AC341,'Scenario 2'!AC341)","v":9.2783505154639183},{"$f":"IF($C$8=1,'Scenario 1'!AD341,'Scenario 2'!AD341)","v":0},{"$f":"IF($C$8=1,'Scenario 1'!AE341,'Scenario 2'!AE341)","v":18.470588235294116},{"$f":"IF($C$8=1,'Scenario 1'!AF341,'Scenario 2'!AF341)","v":0},{"$f":"IF($C$8=1,'Scenario 1'!AG341,'Scenario 2'!AG341)","v":0},{"$f":"IF($C$8=1,'Scenario 1'!AH341,'Scenario 2'!AH341)","v":0},{"$f":"IF($C$8=1,'Scenario 1'!AI341,'Scenario 2'!AI341)","v":0},{"$f":"IF($C$8=1,'Scenario 1'!AJ341,'Scenario 2'!AJ341)","v":0},{"$f":"IF($C$8=1,'Scenario 1'!AK341,'Scenario 2'!AK341)","v":0},{"$f":"IF($C$8=1,'Scenario 1'!AL341,'Scenario 2'!AL341)","v":19.411764705882355},{"$f":"IF($C$8=1,'Scenario 1'!AM341,'Scenario 2'!AM341)","v":8.7628865979381452},{"$f":"IF($C$8=1,'Scenario 1'!AN341,'Scenario 2'!AN341)","v":0},{"$f":"IF($C$8=1,'Scenario 1'!AO341,'Scenario 2'!AO341)","v":4.625},{"$f":"IF($C$8=1,'Scenario 1'!AP341,'Scenario 2'!AP341)","v":10.874999999999998},{"$f":"IF($C$8=1,'Scenario 1'!AQ341,'Scenario 2'!AQ341)","v":9.4999999999999982},{"$f":"IF($C$8=1,'Scenario 1'!AR341,'Scenario 2'!AR341)","v":0},{"$f":"IF($C$8=1,'Scenario 1'!AS341,'Scenario 2'!AS341)","v":0},{"$f":"IF($C$8=1,'Scenario 1'!AT341,'Scenario 2'!AT341)","v":0},{"$f":"IF($C$8=1,'Scenario 1'!AU341,'Scenario 2'!AU341)","v":0},{"$f":"IF($C$8=1,'Scenario 1'!AV341,'Scenario 2'!AV341)","v":19.411764705882355},{"$f":"IF($C$8=1,'Scenario 1'!AW341,'Scenario 2'!AW341)","v":8.8041237113402051},{"$f":"IF($C$8=1,'Scenario 1'!AX341,'Scenario 2'!AX341)","v":0},{"$f":"IF($C$8=1,'Scenario 1'!AY341,'Scenario 2'!AY341)","v":18.470588235294116},{"$f":"IF($C$8=1,'Scenario 1'!AZ341,'Scenario 2'!AZ341)","v":2.9896907216494846},{"$f":"IF($C$8=1,'Scenario 1'!BA341,'Scenario 2'!BA341)","v":9.2783505154639183},{"$f":"IF($C$8=1,'Scenario 1'!BB341,'Scenario 2'!BB341)","v":0},{"$f":"IF($C$8=1,'Scenario 1'!BC341,'Scenario 2'!BC341)","v":4.625},{"$f":"IF($C$8=1,'Scenario 1'!BD341,'Scenario 2'!BD341)","v":10.874999999999998},{"$f":"IF($C$8=1,'Scenario 1'!BE341,'Scenario 2'!BE341)","v":9.4999999999999982},{"$f":"IF($C$8=1,'Scenario 1'!BF341,'Scenario 2'!BF341)","v":19.411764705882355},{"$f":"IF($C$8=1,'Scenario 1'!BG341,'Scenario 2'!BG341)","v":8.7628865979381452},{"$f":"IF($C$8=1,'Scenario 1'!BH341,'Scenario 2'!BH341)","v":0},{"$f":"IF($C$8=1,'Scenario 1'!BI341,'Scenario 2'!BI341)","v":18.470588235294116},{"$f":"IF($C$8=1,'Scenario 1'!BJ341,'Scenario 2'!BJ341)","v":2.9896907216494846},{"$f":"IF($C$8=1,'Scenario 1'!BK341,'Scenario 2'!BK341)","v":3.5051546391752577},{"$f":"IF($C$8=1,'Scenario 1'!BL341,'Scenario 2'!BL341)","v":1.6},{"$f":"IF($C$8=1,'Scenario 1'!BM341,'Scenario 2'!BM341)","v":4.625},{"$f":"IF($C$8=1,'Scenario 1'!BN341,'Scenario 2'!BN341)","v":10.874999999999998},{"$f":"IF($C$8=1,'Scenario 1'!BO341,'Scenario 2'!BO341)","v":9.4999999999999982}]
[null,"N,  kg/ha",{"$f":"IF($C$8=1,'Scenario 1'!R342,'Scenario 2'!R342)","v":0},{"$f":"IF($C$8=1,'Scenario 1'!S342,'Scenario 2'!S342)","v":174},{"$f":"IF($C$8=1,'Scenario 1'!T342,'Scenario 2'!T342)","v":0},{"$f":"IF($C$8=1,'Scenario 1'!U342,'Scenario 2'!U342)","v":0},{"$f":"IF($C$8=1,'Scenario 1'!V342,'Scenario 2'!V342)","v":0},{"$f":"IF($C$8=1,'Scenario 1'!W342,'Scenario 2'!W342)","v":0},{"$f":"IF($C$8=1,'Scenario 1'!X342,'Scenario 2'!X342)","v":0},{"$f":"IF($C$8=1,'Scenario 1'!Y342,'Scenario 2'!Y342)","v":0},{"$f":"IF($C$8=1,'Scenario 1'!Z342,'Scenario 2'!Z342)","v":0},{"$f":"IF($C$8=1,'Scenario 1'!AA342,'Scenario 2'!AA342)","v":0},{"$f":"IF($C$8=1,'Scenario 1'!AB342,'Scenario 2'!AB342)","v":0},{"$f":"IF($C$8=1,'Scenario 1'!AC342,'Scenario 2'!AC342)","v":129.19999999999999},{"$f":"IF($C$8=1,'Scenario 1'!AD342,'Scenario 2'!AD342)","v":0},{"$f":"IF($C$8=1,'Scenario 1'!AE342,'Scenario 2'!AE342)","v":174},{"$f":"IF($C$8=1,'Scenario 1'!AF342,'Scenario 2'!AF342)","v":0},{"$f":"IF($C$8=1,'Scenario 1'!AG342,'Scenario 2'!AG342)","v":0},{"$f":"IF($C$8=1,'Scenario 1'!AH342,'Scenario 2'!AH342)","v":0},{"$f":"IF($C$8=1,'Scenario 1'!AI342,'Scenario 2'!AI342)","v":0},{"$f":"IF($C$8=1,'Scenario 1'!AJ342,'Scenario 2'!AJ342)","v":0},{"$f":"IF($C$8=1,'Scenario 1'!AK342,'Scenario 2'!AK342)","v":0},{"$f":"IF($C$8=1,'Scenario 1'!AL342,'Scenario 2'!AL342)","v":23},{"$f":"IF($C$8=1,'Scenario 1'!AM342,'Scenario 2'!AM342)","v":118},{"$f":"IF($C$8=1,'Scenario 1'!AN342,'Scenario 2'!AN342)","v":0},{"$f":"IF($C$8=1,'Scenario 1'!AO342,'Scenario 2'!AO342)","v":0},{"$f":"IF($C$8=1,'Scenario 1'!AP342,'Scenario 2'!AP342)","v":0},{"$f":"IF($C$8=1,'Scenario 1'!AQ342,'Scenario 2'!AQ342)","v":0},{"$f":"IF($C$8=1,'Scenario 1'!AR342,'Scenario 2'!AR342)","v":0},{"$f":"IF($C$8=1,'Scenario 1'!AS342,'Scenario 2'!AS342)","v":0},{"$f":"IF($C$8=1,'Scenario 1'!AT342,'Scenario 2'!AT342)","v":0},{"$f":"IF($C$8=1,'Scenario 1'!AU342,'Scenario 2'!AU342)","v":0},{"$f":"IF($C$8=1,'Scenario 1'!AV342,'Scenario 2'!AV342)","v":23},{"$f":"IF($C$8=1,'Scenario 1'!AW342,'Scenario 2'!AW342)","v":118},{"$f":"IF($C$8=1,'Scenario 1'!AX342,'Scenario 2'!AX342)","v":0},{"$f":"IF($C$8=1,'Scenario 1'!AY342,'Scenario 2'!AY342)","v":174},{"$f":"IF($C$8=1,'Scenario 1'!AZ342,'Scenario 2'!AZ342)","v":0},{"$f":"IF($C$8=1,'Scenario 1'!BA342,'Scenario 2'!BA342)","v":129.19999999999999},{"$f":"IF($C$8=1,'Scenario 1'!BB342,'Scenario 2'!BB342)","v":0},{"$f":"IF($C$8=1,'Scenario 1'!BC342,'Scenario 2'!BC342)","v":0},{"$f":"IF($C$8=1,'Scenario 1'!BD342,'Scenario 2'!BD342)","v":0},{"$f":"IF($C$8=1,'Scenario 1'!BE342,'Scenario 2'!BE342)","v":0},{"$f":"IF($C$8=1,'Scenario 1'!BF342,'Scenario 2'!BF342)","v":23},{"$f":"IF($C$8=1,'Scenario 1'!BG342,'Scenario 2'!BG342)","v":118},{"$f":"IF($C$8=1,'Scenario 1'!BH342,'Scenario 2'!BH342)","v":0},{"$f":"IF($C$8=1,'Scenario 1'!BI342,'Scenario 2'!BI342)","v":174},{"$f":"IF($C$8=1,'Scenario 1'!BJ342,'Scenario 2'!BJ342)","v":0},{"$f":"IF($C$8=1,'Scenario 1'!BK342,'Scenario 2'!BK342)","v":22.200000000000003},{"$f":"IF($C$8=1,'Scenario 1'!BL342,'Scenario 2'!BL342)","v":0},{"$f":"IF($C$8=1,'Scenario 1'!BM342,'Scenario 2'!BM342)","v":0},{"$f":"IF($C$8=1,'Scenario 1'!BN342,'Scenario 2'!BN342)","v":0},{"$f":"IF($C$8=1,'Scenario 1'!BO342,'Scenario 2'!BO342)","v":0}]
[null,"P2O5,  kg/ha",{"$f":"IF($C$8=1,'Scenario 1'!R343,'Scenario 2'!R343)","v":0},{"$f":"IF($C$8=1,'Scenario 1'!S343,'Scenario 2'!S343)","v":84},{"$f":"IF($C$8=1,'Scenario 1'!T343,'Scenario 2'!T343)","v":0},{"$f":"IF($C$8=1,'Scenario 1'!U343,'Scenario 2'!U343)","v":0},{"$f":"IF($C$8=1,'Scenario 1'!V343,'Scenario 2'!V343)","v":0},{"$f":"IF($C$8=1,'Scenario 1'!W343,'Scenario 2'!W343)","v":0},{"$f":"IF($C$8=1,'Scenario 1'!X343,'Scenario 2'!X343)","v":0},{"$f":"IF($C$8=1,'Scenario 1'!Y343,'Scenario 2'!Y343)","v":0},{"$f":"IF($C$8=1,'Scenario 1'!Z343,'Scenario 2'!Z343)","v":0},{"$f":"IF($C$8=1,'Scenario 1'!AA343,'Scenario 2'!AA343)","v":0},{"$f":"IF($C$8=1,'Scenario 1'!AB343,'Scenario 2'!AB343)","v":52},{"$f":"IF($C$8=1,'Scenario 1'!AC343,'Scenario 2'!AC343)","v":84},{"$f":"IF($C$8=1,'Scenario 1'!AD343,'Scenario 2'!AD343)","v":0},{"$f":"IF($C$8=1,'Scenario 1'!AE343,'Scenario 2'!AE343)","v":98},{"$f":"IF($C$8=1,'Scenario 1'!AF343,'Scenario 2'!AF343)","v":0},{"$f":"IF($C$8=1,'Scenario 1'!AG343,'Scenario 2'!AG343)","v":0},{"$f":"IF($C$8=1,'Scenario 1'!AH343,'Scenario 2'!AH343)","v":0},{"$f":"IF($C$8=1,'Scenario 1'!AI343,'Scenario 2'!AI343)","v":0},{"$f":"IF($C$8=1,'Scenario 1'!AJ343,'Scenario 2'!AJ343)","v":0},{"$f":"IF($C$8=1,'Scenario 1'!AK343,'Scenario 2'!AK343)","v":0},{"$f":"IF($C$8=1,'Scenario 1'!AL343,'Scenario 2'!AL343)","v":119},{"$f":"IF($C$8=1,'Scenario 1'!AM343,'Scenario 2'!AM343)","v":84},{"$f":"IF($C$8=1,'Scenario 1'!AN343,'Scenario 2'!AN343)","v":0},{"$f":"IF($C$8=1,'Scenario 1'!AO343,'Scenario 2'!AO343)","v":39},{"$f":"IF($C$8=1,'Scenario 1'!AP343,'Scenario 2'!AP343)","v":91},{"$f":"IF($C$8=1,'Scenario 1'!AQ343,'Scenario 2'!AQ343)","v":91},{"$f":"IF($C$8=1,'Scenario 1'!AR343,'Scenario 2'!AR343)","v":0},{"$f":"IF($C$8=1,'Scenario 1'!AS343,'Scenario 2'!AS343)","v":0},{"$f":"IF($C$8=1,'Scenario 1'!AT343,'Scenario 2'!AT343)","v":0},{"$f":"IF($C$8=1,'Scenario 1'!AU343,'Scenario 2'!AU343)","v":0},{"$f":"IF($C$8=1,'Scenario 1'!AV343,'Scenario 2'!AV343)","v":98},{"$f":"IF($C$8=1,'Scenario 1'!AW343,'Scenario 2'!AW343)","v":84},{"$f":"IF($C$8=1,'Scenario 1'!AX343,'Scenario 2'!AX343)","v":0},{"$f":"IF($C$8=1,'Scenario 1'!AY343,'Scenario 2'!AY343)","v":98},{"$f":"IF($C$8=1,'Scenario 1'!AZ343,'Scenario 2'!AZ343)","v":52},{"$f":"IF($C$8=1,'Scenario 1'!BA343,'Scenario 2'!BA343)","v":84},{"$f":"IF($C$8=1,'Scenario 1'!BB343,'Scenario 2'!BB343)","v":0},{"$f":"IF($C$8=1,'Scenario 1'!BC343,'Scenario 2'!BC343)","v":39},{"$f":"IF($C$8=1,'Scenario 1'!BD343,'Scenario 2'!BD343)","v":91},{"$f":"IF($C$8=1,'Scenario 1'!BE343,'Scenario 2'!BE343)","v":91},{"$f":"IF($C$8=1,'Scenario 1'!BF343,'Scenario 2'!BF343)","v":98},{"$f":"IF($C$8=1,'Scenario 1'!BG343,'Scenario 2'!BG343)","v":84},{"$f":"IF($C$8=1,'Scenario 1'!BH343,'Scenario 2'!BH343)","v":0},{"$f":"IF($C$8=1,'Scenario 1'!BI343,'Scenario 2'!BI343)","v":98},{"$f":"IF($C$8=1,'Scenario 1'!BJ343,'Scenario 2'!BJ343)","v":52},{"$f":"IF($C$8=1,'Scenario 1'!BK343,'Scenario 2'!BK343)","v":57},{"$f":"IF($C$8=1,'Scenario 1'!BL343,'Scenario 2'!BL343)","v":0},{"$f":"IF($C$8=1,'Scenario 1'!BM343,'Scenario 2'!BM343)","v":39},{"$f":"IF($C$8=1,'Scenario 1'!BN343,'Scenario 2'!BN343)","v":91},{"$f":"IF($C$8=1,'Scenario 1'!BO343,'Scenario 2'!BO343)","v":91}]
[null,"K2O, kg/ha",{"$f":"IF($C$8=1,'Scenario 1'!R344,'Scenario 2'!R344)","v":0},{"$f":"IF($C$8=1,'Scenario 1'!S344,'Scenario 2'!S344)","v":90},{"$f":"IF($C$8=1,'Scenario 1'!T344,'Scenario 2'!T344)","v":0},{"$f":"IF($C$8=1,'Scenario 1'!U344,'Scenario 2'!U344)","v":0},{"$f":"IF($C$8=1,'Scenario 1'!V344,'Scenario 2'!V344)","v":0},{"$f":"IF($C$8=1,'Scenario 1'!W344,'Scenario 2'!W344)","v":0},{"$f":"IF($C$8=1,'Scenario 1'!X344,'Scenario 2'!X344)","v":0},{"$f":"IF($C$8=1,'Scenario 1'!Y344,'Scenario 2'!Y344)","v":0},{"$f":"IF($C$8=1,'Scenario 1'!Z344,'Scenario 2'!Z344)","v":0},{"$f":"IF($C$8=1,'Scenario 1'!AA344,'Scenario 2'!AA344)","v":0},{"$f":"IF($C$8=1,'Scenario 1'!AB344,'Scenario 2'!AB344)","v":95},{"$f":"IF($C$8=1,'Scenario 1'!AC344,'Scenario 2'!AC344)","v":90},{"$f":"IF($C$8=1,'Scenario 1'!AD344,'Scenario 2'!AD344)","v":0},{"$f":"IF($C$8=1,'Scenario 1'!AE344,'Scenario 2'!AE344)","v":172},{"$f":"IF($C$8=1,'Scenario 1'!AF344,'Scenario 2'!AF344)","v":0},{"$f":"IF($C$8=1,'Scenario 1'!AG344,'Scenario 2'!AG344)","v":0},{"$f":"IF($C$8=1,'Scenario 1'!AH344,'Scenario 2'!AH344)","v":0},{"$f":"IF($C$8=1,'Scenario 1'!AI344,'Scenario 2'!AI344)","v":0},{"$f":"IF($C$8=1,'Scenario 1'!AJ344,'Scenario 2'!AJ344)","v":0},{"$f":"IF($C$8=1,'Scenario 1'!AK344,'Scenario 2'!AK344)","v":0},{"$f":"IF($C$8=1,'Scenario 1'!AL344,'Scenario 2'!AL344)","v":172},{"$f":"IF($C$8=1,'Scenario 1'!AM344,'Scenario 2'!AM344)","v":90},{"$f":"IF($C$8=1,'Scenario 1'!AN344,'Scenario 2'!AN344)","v":0},{"$f":"IF($C$8=1,'Scenario 1'!AO344,'Scenario 2'!AO344)","v":102},{"$f":"IF($C$8=1,'Scenario 1'!AP344,'Scenario 2'!AP344)","v":238},{"$f":"IF($C$8=1,'Scenario 1'!AQ344,'Scenario 2'!AQ344)","v":238},{"$f":"IF($C$8=1,'Scenario 1'!AR344,'Scenario 2'!AR344)","v":0},{"$f":"IF($C$8=1,'Scenario 1'!AS344,'Scenario 2'!AS344)","v":0},{"$f":"IF($C$8=1,'Scenario 1'!AT344,'Scenario 2'!AT344)","v":0},{"$f":"IF($C$8=1,'Scenario 1'!AU344,'Scenario 2'!AU344)","v":0},{"$f":"IF($C$8=1,'Scenario 1'!AV344,'Scenario 2'!AV344)","v":172},{"$f":"IF($C$8=1,'Scenario 1'!AW344,'Scenario 2'!AW344)","v":90},{"$f":"IF($C$8=1,'Scenario 1'!AX344,'Scenario 2'!AX344)","v":0},{"$f":"IF($C$8=1,'Scenario 1'!AY344,'Scenario 2'!AY344)","v":172},{"$f":"IF($C$8=1,'Scenario 1'!AZ344,'Scenario 2'!AZ344)","v":95},{"$f":"IF($C$8=1,'Scenario 1'!BA344,'Scenario 2'!BA344)","v":90},{"$f":"IF($C$8=1,'Scenario 1'!BB344,'Scenario 2'!BB344)","v":0},{"$f":"IF($C$8=1,'Scenario 1'!BC344,'Scenario 2'!BC344)","v":102},{"$f":"IF($C$8=1,'Scenario 1'!BD344,'Scenario 2'!BD344)","v":238},{"$f":"IF($C$8=1,'Scenario 1'!BE344,'Scenario 2'!BE344)","v":238},{"$f":"IF($C$8=1,'Scenario 1'!BF344,'Scenario 2'!BF344)","v":172},{"$f":"IF($C$8=1,'Scenario 1'!BG344,'Scenario 2'!BG344)","v":90},{"$f":"IF($C$8=1,'Scenario 1'!BH344,'Scenario 2'!BH344)","v":0},{"$f":"IF($C$8=1,'Scenario 1'!BI344,'Scenario 2'!BI344)","v":172},{"$f":"IF($C$8=1,'Scenario 1'!BJ344,'Scenario 2'!BJ344)","v":95},{"$f":"IF($C$8=1,'Scenario 1'!BK344,'Scenario 2'!BK344)","v":96},{"$f":"IF($C$8=1,'Scenario 1'!BL344,'Scenario 2'!BL344)","v":0},{"$f":"IF($C$8=1,'Scenario 1'!BM344,'Scenario 2'!BM344)","v":102},{"$f":"IF($C$8=1,'Scenario 1'!BN344,'Scenario 2'!BN344)","v":238},{"$f":"IF($C$8=1,'Scenario 1'!BO344,'Scenario 2'!BO344)","v":238}]
[null,"P removal, kg/ha",{"$f":"IF($C$8=1,'Scenario 1'!R345,'Scenario 2'!R345)","v":0},{"$f":"IF($C$8=1,'Scenario 1'!S345,'Scenario 2'!S345)","v":25.051546391752581},{"$f":"IF($C$8=1,'Scenario 1'!T345,'Scenario 2'!T345)","v":0},{"$f":"IF($C$8=1,'Scenario 1'!U345,'Scenario 2'!U345)","v":0},{"$f":"IF($C$8=1,'Scenario 1'!V345,'Scenario 2'!V345)","v":0},{"$f":"IF($C$8=1,'Scenario 1'!W345,'Scenario 2'!W345)","v":0},{"$f":"IF($C$8=1,'Scenario 1'!X345,'Scenario 2'!X345)","v":0},{"$f":"IF($C$8=1,'Scenario 1'!Y345,'Scenario 2'!Y345)","v":0},{"$f":"IF($C$8=1,'Scenario 1'!Z345,'Scenario 2'!Z345)","v":0},{"$f":"IF($C$8=1,'Scenario 1'!AA345,'Scenario 2'!AA345)","v":0},{"$f":"IF($C$8=1,'Scenario 1'!AB345,'Scenario 2'!AB345)","v":17.690721649484534},{"$f":"IF($C$8=1,'Scenario 1'!AC345,'Scenario 2'!AC345)","v":27.835051546391757},{"$f":"IF($C$8=1,'Scenario 1'!AD345,'Scenario 2'!AD345)","v":0},{"$f":"IF($C$8=1,'Scenario 1'!AE345,'Scenario 2'!AE345)","v":48.023529411764706},{"$f":"IF($C$8=1,'Scenario 1'!AF345,'Scenario 2'!AF345)","v":0},{"$f":"IF($C$8=1,'Scenario 1'!AG345,'Scenario 2'!AG345)","v":0},{"$f":"IF($C$8=1,'Scenario 1'!AH345,'Scenario 2'!AH345)","v":0},{"$f":"IF($C$8=1,'Scenario 1'!AI345,'Scenario 2'!AI345)","v":0},{"$f":"IF($C$8=1,'Scenario 1'!AJ345,'Scenario 2'!AJ345)","v":0},{"$f":"IF($C$8=1,'Scenario 1'!AK345,'Scenario 2'!AK345)","v":0},{"$f":"IF($C$8=1,'Scenario 1'!AL345,'Scenario 2'!AL345)","v":50.470588235294123},{"$f":"IF($C$8=1,'Scenario 1'!AM345,'Scenario 2'!AM345)","v":26.288659793814432},{"$f":"IF($C$8=1,'Scenario 1'!AN345,'Scenario 2'!AN345)","v":0},{"$f":"IF($C$8=1,'Scenario 1'!AO345,'Scenario 2'!AO345)","v":16.1875},{"$f":"IF($C$8=1,'Scenario 1'!AP345,'Scenario 2'!AP345)","v":38.062499999999993},{"$f":"IF($C$8=1,'Scenario 1'!AQ345,'Scenario 2'!AQ345)","v":32.299999999999997},{"$f":"IF($C$8=1,'Scenario 1'!AR345,'Scenario 2'!AR345)","v":0},{"$f":"IF($C$8=1,'Scenario 1'!AS345,'Scenario 2'!AS345)","v":0},{"$f":"IF($C$8=1,'Scenario 1'!AT345,'Scenario 2'!AT345)","v":0},{"$f":"IF($C$8=1,'Scenario 1'!AU345,'Scenario 2'!AU345)","v":0},{"$f":"IF($C$8=1,'Scenario 1'!AV345,'Scenario 2'!AV345)","v":50.470588235294123},{"$f":"IF($C$8=1,'Scenario 1'!AW345,'Scenario 2'!AW345)","v":26.412371134020617},{"$f":"IF($C$8=1,'Scenario 1'!AX345,'Scenario 2'!AX345)","v":0},{"$f":"IF($C$8=1,'Scenario 1'!AY345,'Scenario 2'!AY345)","v":48.023529411764706},{"$f":"IF($C$8=1,'Scenario 1'!AZ345,'Scenario 2'!AZ345)","v":17.938144329896907},{"$f":"IF($C$8=1,'Scenario 1'!BA345,'Scenario 2'!BA345)","v":27.835051546391757},{"$f":"IF($C$8=1,'Scenario 1'!BB345,'Scenario 2'!BB345)","v":0},{"$f":"IF($C$8=1,'Scenario 1'!BC345,'Scenario 2'!BC345)","v":16.1875},{"$f":"IF($C$8=1,'Scenario 1'!BD345,'Scenario 2'!BD345)","v":38.062499999999993},{"$f":"IF($C$8=1,'Scenario 1'!BE345,'Scenario 2'!BE345)","v":32.299999999999997},{"$f":"IF($C$8=1,'Scenario 1'!BF345,'Scenario 2'!BF345)","v":50.470588235294123},{"$f":"IF($C$8=1,'Scenario 1'!BG345,'Scenario 2'!BG345)","v":26.288659793814432},{"$f":"IF($C$8=1,'Scenario 1'!BH345,'Scenario 2'!BH345)","v":0},{"$f":"IF($C$8=1,'Scenario 1'!BI345,'Scenario 2'!BI345)","v":48.023529411764706},{"$f":"IF($C$8=1,'Scenario 1'!BJ345,'Scenario 2'!BJ345)","v":17.938144329896907},{"$f":"IF($C$8=1,'Scenario 1'!BK345,'Scenario 2'!BK345)","v":15.072164948453608},{"$f":"IF($C$8=1,'Scenario 1'!BL345,'Scenario 2'!BL345)","v":1.6},{"$f":"IF($C$8=1,'Scenario 1'!BM345,'Scenario 2'!BM345)","v":16.1875},{"$f":"IF($C$8=1,'Scenario 1'!BN345,'Scenario 2'!BN345)","v":38.062499999999993},{"$f":"IF($C$8=1,'Scenario 1'!BO345,'Scenario 2'!BO345)","v":32.299999999999997}]
[null,"K removal, kg/ha"]
[null,"Cl, kg/ha",{"$f":"IF($C$8=1,'Scenario 1'!R347,'Scenario 2'!R347)","v":0},{"$f":"IF($C$8=1,'Scenario 1'!S347,'Scenario 2'!S347)","v":0},{"$f":"IF($C$8=1,'Scenario 1'!T347,'Scenario 2'!T347)","v":0},{"$f":"IF($C$8=1,'Scenario 1'!U347,'Scenario 2'!U347)","v":0},{"$f":"IF($C$8=1,'Scenario 1'!V347,'Scenario 2'!V347)","v":0},{"$f":"IF($C$8=1,'Scenario 1'!W347,'Scenario 2'!W347)","v":0},{"$f":"IF($C$8=1,'Scenario 1'!X347,'Scenario 2'!X347)","v":0},{"$f":"IF($C$8=1,'Scenario 1'!Y347,'Scenario 2'!Y347)","v":0},{"$f":"IF($C$8=1,'Scenario 1'!Z347,'Scenario 2'!Z347)","v":0},{"$f":"IF($C$8=1,'Scenario 1'!AA347,'Scenario 2'!AA347)","v":0},{"$f":"IF($C$8=1,'Scenario 1'!AB347,'Scenario 2'!AB347)","v":0},{"$f":"IF($C$8=1,'Scenario 1'!AC347,'Scenario 2'!AC347)","v":0},{"$f":"IF($C$8=1,'Scenario 1'!AD347,'Scenario 2'!AD347)","v":0},{"$f":"IF($C$8=1,'Scenario 1'!AE347,'Scenario 2'!AE347)","v":0},{"$f":"IF($C$8=1,'Scenario 1'!AF347,'Scenario 2'!AF347)","v":0},{"$f":"IF($C$8=1,'Scenario 1'!AG347,'Scenario 2'!AG347)","v":0},{"$f":"IF($C$8=1,'Scenario 1'!AH347,'Scenario 2'!AH347)","v":0},{"$f":"IF($C$8=1,'Scenario 1'!AI347,'Scenario 2'!AI347)","v":0},{"$f":"IF($C$8=1,'Scenario 1'!AJ347,'Scenario 2'!AJ347)","v":0},{"$f":"IF($C$8=1,'Scenario 1'!AK347,'Scenario 2'!AK347)","v":0},{"$f":"IF($C$8=1,'Scenario 1'!AL347,'Scenario 2'!AL347)","v":0},{"$f":"IF($C$8=1,'Scenario 1'!AM347,'Scenario 2'!AM347)","v":0},{"$f":"IF($C$8=1,'Scenario 1'!AN347,'Scenario 2'!AN347)","v":0},{"$f":"IF($C$8=1,'Scenario 1'!AO347,'Scenario 2'!AO347)","v":0},{"$f":"IF($C$8=1,'Scenario 1'!AP347,'Scenario 2'!AP347)","v":0},{"$f":"IF($C$8=1,'Scenario 1'!AQ347,'Scenario 2'!AQ347)","v":0},{"$f":"IF($C$8=1,'Scenario 1'!AR347,'Scenario 2'!AR347)","v":0},{"$f":"IF($C$8=1,'Scenario 1'!AS347,'Scenario 2'!AS347)","v":0},{"$f":"IF($C$8=1,'Scenario 1'!AT347,'Scenario 2'!AT347)","v":0},{"$f":"IF($C$8=1,'Scenario 1'!AU347,'Scenario 2'!AU347)","v":0},{"$f":"IF($C$8=1,'Scenario 1'!AV347,'Scenario 2'!AV347)","v":0},{"$f":"IF($C$8=1,'Scenario 1'!AW347,'Scenario 2'!AW347)","v":0},{"$f":"IF($C$8=1,'Scenario 1'!AX347,'Scenario 2'!AX347)","v":0},{"$f":"IF($C$8=1,'Scenario 1'!AY347,'Scenario 2'!AY347)","v":0},{"$f":"IF($C$8=1,'Scenario 1'!AZ347,'Scenario 2'!AZ347)","v":0},{"$f":"IF($C$8=1,'Scenario 1'!BA347,'Scenario 2'!BA347)","v":0},{"$f":"IF($C$8=1,'Scenario 1'!BB347,'Scenario 2'!BB347)","v":0},{"$f":"IF($C$8=1,'Scenario 1'!BC347,'Scenario 2'!BC347)","v":0},{"$f":"IF($C$8=1,'Scenario 1'!BD347,'Scenario 2'!BD347)","v":0},{"$f":"IF($C$8=1,'Scenario 1'!BE347,'Scenario 2'!BE347)","v":0},{"$f":"IF($C$8=1,'Scenario 1'!BF347,'Scenario 2'!BF347)","v":0},{"$f":"IF($C$8=1,'Scenario 1'!BG347,'Scenario 2'!BG347)","v":0},{"$f":"IF($C$8=1,'Scenario 1'!BH347,'Scenario 2'!BH347)","v":0},{"$f":"IF($C$8=1,'Scenario 1'!BI347,'Scenario 2'!BI347)","v":0},{"$f":"IF($C$8=1,'Scenario 1'!BJ347,'Scenario 2'!BJ347)","v":0},{"$f":"IF($C$8=1,'Scenario 1'!BK347,'Scenario 2'!BK347)","v":0},{"$f":"IF($C$8=1,'Scenario 1'!BL347,'Scenario 2'!BL347)","v":0},{"$f":"IF($C$8=1,'Scenario 1'!BM347,'Scenario 2'!BM347)","v":0},{"$f":"IF($C$8=1,'Scenario 1'!BN347,'Scenario 2'!BN347)","v":0},{"$f":"IF($C$8=1,'Scenario 1'!BO347,'Scenario 2'!BO347)","v":0}]
[null,"N fixation, kg/t",{"$f":"IF($C$8=1,'Scenario 1'!R348,'Scenario 2'!R348)","v":0},{"$f":"IF($C$8=1,'Scenario 1'!S348,'Scenario 2'!S348)","v":0},{"$f":"IF($C$8=1,'Scenario 1'!T348,'Scenario 2'!T348)","v":0},{"$f":"IF($C$8=1,'Scenario 1'!U348,'Scenario 2'!U348)","v":0},{"$f":"IF($C$8=1,'Scenario 1'!V348,'Scenario 2'!V348)","v":0},{"$f":"IF($C$8=1,'Scenario 1'!W348,'Scenario 2'!W348)","v":0},{"$f":"IF($C$8=1,'Scenario 1'!X348,'Scenario 2'!X348)","v":0},{"$f":"IF($C$8=1,'Scenario 1'!Y348,'Scenario 2'!Y348)","v":0},{"$f":"IF($C$8=1,'Scenario 1'!Z348,'Scenario 2'!Z348)","v":0},{"$f":"IF($C$8=1,'Scenario 1'!AA348,'Scenario 2'!AA348)","v":0},{"$f":"IF($C$8=1,'Scenario 1'!AB348,'Scenario 2'!AB348)","v":25.088000000000001},{"$f":"IF($C$8=1,'Scenario 1'!AC348,'Scenario 2'!AC348)","v":0},{"$f":"IF($C$8=1,'Scenario 1'!AD348,'Scenario 2'!AD348)","v":0},{"$f":"IF($C$8=1,'Scenario 1'!AE348,'Scenario 2'!AE348)","v":0},{"$f":"IF($C$8=1,'Scenario 1'!AF348,'Scenario 2'!AF348)","v":0},{"$f":"IF($C$8=1,'Scenario 1'!AG348,'Scenario 2'!AG348)","v":0},{"$f":"IF($C$8=1,'Scenario 1'!AH348,'Scenario 2'!AH348)","v":0},{"$f":"IF($C$8=1,'Scenario 1'!AI348,'Scenario 2'!AI348)","v":0},{"$f":"IF($C$8=1,'Scenario 1'!AJ348,'Scenario 2'!AJ348)","v":0},{"$f":"IF($C$8=1,'Scenario 1'!AK348,'Scenario 2'!AK348)","v":0},{"$f":"IF($C$8=1,'Scenario 1'!AL348,'Scenario 2'!AL348)","v":0},{"$f":"IF($C$8=1,'Scenario 1'!AM348,'Scenario 2'!AM348)","v":0},{"$f":"IF($C$8=1,'Scenario 1'!AN348,'Scenario 2'!AN348)","v":0},{"$f":"IF($C$8=1,'Scenario 1'!AO348,'Scenario 2'!AO348)","v":24.655999999999999},{"$f":"IF($C$8=1,'Scenario 1'!AP348,'Scenario 2'!AP348)","v":24.655999999999999},{"$f":"IF($C$8=1,'Scenario 1'!AQ348,'Scenario 2'!AQ348)","v":20.367999999999999},{"$f":"IF($C$8=1,'Scenario 1'!AR348,'Scenario 2'!AR348)","v":0},{"$f":"IF($C$8=1,'Scenario 1'!AS348,'Scenario 2'!AS348)","v":0},{"$f":"IF($C$8=1,'Scenario 1'!AT348,'Scenario 2'!AT348)","v":0},{"$f":"IF($C$8=1,'Scenario 1'!AU348,'Scenario 2'!AU348)","v":0},{"$f":"IF($C$8=1,'Scenario 1'!AV348,'Scenario 2'!AV348)","v":0},{"$f":"IF($C$8=1,'Scenario 1'!AW348,'Scenario 2'!AW348)","v":0},{"$f":"IF($C$8=1,'Scenario 1'!AX348,'Scenario 2'!AX348)","v":0},{"$f":"IF($C$8=1,'Scenario 1'!AY348,'Scenario 2'!AY348)","v":0},{"$f":"IF($C$8=1,'Scenario 1'!AZ348,'Scenario 2'!AZ348)","v":25.088000000000001},{"$f":"IF($C$8=1,'Scenario 1'!BA348,'Scenario 2'!BA348)","v":0},{"$f":"IF($C$8=1,'Scenario 1'!BB348,'Scenario 2'!BB348)","v":0},{"$f":"IF($C$8=1,'Scenario 1'!BC348,'Scenario 2'!BC348)","v":24.655999999999999},{"$f":"IF($C$8=1,'Scenario 1'!BD348,'Scenario 2'!BD348)","v":24.655999999999999},{"$f":"IF($C$8=1,'Scenario 1'!BE348,'Scenario 2'!BE348)","v":24.655999999999999},{"$f":"IF($C$8=1,'Scenario 1'!BF348,'Scenario 2'!BF348)","v":0},{"$f":"IF($C$8=1,'Scenario 1'!BG348,'Scenario 2'!BG348)","v":0},{"$f":"IF($C$8=1,'Scenario 1'!BH348,'Scenario 2'!BH348)","v":0},{"$f":"IF($C$8=1,'Scenario 1'!BI348,'Scenario 2'!BI348)","v":0},{"$f":"IF($C$8=1,'Scenario 1'!BJ348,'Scenario 2'!BJ348)","v":25.088000000000001},{"$f":"IF($C$8=1,'Scenario 1'!BK348,'Scenario 2'!BK348)","v":0},{"$f":"IF($C$8=1,'Scenario 1'!BL348,'Scenario 2'!BL348)","v":0},{"$f":"IF($C$8=1,'Scenario 1'!BM348,'Scenario 2'!BM348)","v":24.655999999999999},{"$f":"IF($C$8=1,'Scenario 1'!BN348,'Scenario 2'!BN348)","v":24.655999999999999},{"$f":"IF($C$8=1,'Scenario 1'!BO348,'Scenario 2'!BO348)","v":24.655999999999999}]
[null,"Above ground residue, %",{"$f":"IF($C$8=1,'Scenario 1'!R349,'Scenario 2'!R349)","v":0},{"$f":"IF($C$8=1,'Scenario 1'!S349,'Scenario 2'!S349)","v":38},{"$f":"IF($C$8=1,'Scenario 1'!T349,'Scenario 2'!T349)","v":0},{"$f":"IF($C$8=1,'Scenario 1'!U349,'Scenario 2'!U349)","v":0},{"$f":"IF($C$8=1,'Scenario 1'!V349,'Scenario 2'!V349)","v":0},{"$f":"IF($C$8=1,'Scenario 1'!W349,'Scenario 2'!W349)","v":0},{"$f":"IF($C$8=1,'Scenario 1'!X349,'Scenario 2'!X349)","v":0},{"$f":"IF($C$8=1,'Scenario 1'!Y349,'Scenario 2'!Y349)","v":0},{"$f":"IF($C$8=1,'Scenario 1'!Z349,'Scenario 2'!Z349)","v":0},{"$f":"IF($C$8=1,'Scenario 1'!AA349,'Scenario 2'!AA349)","v":0},{"$f":"IF($C$8=1,'Scenario 1'!AB349,'Scenario 2'!AB349)","v":45},{"$f":"IF($C$8=1,'Scenario 1'!AC349,'Scenario 2'!AC349)","v":38},{"$f":"IF($C$8=1,'Scenario 1'!AD349,'Scenario 2'!AD349)","v":0},{"$f":"IF($C$8=1,'Scenario 1'!AE349,'Scenario 2'!AE349)","v":8},{"$f":"IF($C$8=1,'Scenario 1'!AF349,'Scenario 2'!AF349)","v":0},{"$f":"IF($C$8=1,'Scenario 1'!AG349,'Scenario 2'!AG349)","v":0},{"$f":"IF($C$8=1,'Scenario 1'!AH349,'Scenario 2'!AH349)","v":0},{"$f":"IF($C$8=1,'Scenario 1'!AI349,'Scenario 2'!AI349)","v":0},{"$f":"IF($C$8=1,'Scenario 1'!AJ349,'Scenario 2'!AJ349)","v":0},{"$f":"IF($C$8=1,'Scenario 1'!AK349,'Scenario 2'!AK349)","v":0},{"$f":"IF($C$8=1,'Scenario 1'!AL349,'Scenario 2'!AL349)","v":8},{"$f":"IF($C$8=1,'Scenario 1'!AM349,'Scenario 2'!AM349)","v":38},{"$f":"IF($C$8=1,'Scenario 1'!AN349,'Scenario 2'!AN349)","v":0},{"$f":"IF($C$8=1,'Scenario 1'!AO349,'Scenario 2'!AO349)","v":0},{"$f":"IF($C$8=1,'Scenario 1'!AP349,'Scenario 2'!AP349)","v":0},{"$f":"IF($C$8=1,'Scenario 1'!AQ349,'Scenario 2'!AQ349)","v":0},{"$f":"IF($C$8=1,'Scenario 1'!AR349,'Scenario 2'!AR349)","v":0},{"$f":"IF($C$8=1,'Scenario 1'!AS349,'Scenario 2'!AS349)","v":0},{"$f":"IF($C$8=1,'Scenario 1'!AT349,'Scenario 2'!AT349)","v":0},{"$f":"IF($C$8=1,'Scenario 1'!AU349,'Scenario 2'!AU349)","v":0},{"$f":"IF($C$8=1,'Scenario 1'!AV349,'Scenario 2'!AV349)","v":8},{"$f":"IF($C$8=1,'Scenario 1'!AW349,'Scenario 2'!AW349)","v":38},{"$f":"IF($C$8=1,'Scenario 1'!AX349,'Scenario 2'!AX349)","v":0},{"$f":"IF($C$8=1,'Scenario 1'!AY349,'Scenario 2'!AY349)","v":8},{"$f":"IF($C$8=1,'Scenario 1'!AZ349,'Scenario 2'!AZ349)","v":45},{"$f":"IF($C$8=1,'Scenario 1'!BA349,'Scenario 2'!BA349)","v":38},{"$f":"IF($C$8=1,'Scenario 1'!BB349,'Scenario 2'!BB349)","v":0},{"$f":"IF($C$8=1,'Scenario 1'!BC349,'Scenario 2'!BC349)","v":0},{"$f":"IF($C$8=1,'Scenario 1'!BD349,'Scenario 2'!BD349)","v":0},{"$f":"IF($C$8=1,'Scenario 1'!BE349,'Scenario 2'!BE349)","v":0},{"$f":"IF($C$8=1,'Scenario 1'!BF349,'Scenario 2'!BF349)","v":8},{"$f":"IF($C$8=1,'Scenario 1'!BG349,'Scenario 2'!BG349)","v":38},{"$f":"IF($C$8=1,'Scenario 1'!BH349,'Scenario 2'!BH349)","v":0},{"$f":"IF($C$8=1,'Scenario 1'!BI349,'Scenario 2'!BI349)","v":8},{"$f":"IF($C$8=1,'Scenario 1'!BJ349,'Scenario 2'!BJ349)","v":45},{"$f":"IF($C$8=1,'Scenario 1'!BK349,'Scenario 2'!BK349)","v":0},{"$f":"IF($C$8=1,'Scenario 1'!BL349,'Scenario 2'!BL349)","v":0},{"$f":"IF($C$8=1,'Scenario 1'!BM349,'Scenario 2'!BM349)","v":0},{"$f":"IF($C$8=1,'Scenario 1'!BN349,'Scenario 2'!BN349)","v":0},{"$f":"IF($C$8=1,'Scenario 1'!BO349,'Scenario 2'!BO349)","v":0}]
[null,"N Above ground residue, g N/kg",{"$f":"IF($C$8=1,'Scenario 1'!R350,'Scenario 2'!R350)","v":0},{"$f":"IF($C$8=1,'Scenario 1'!S350,'Scenario 2'!S350)","v":5},{"$f":"IF($C$8=1,'Scenario 1'!T350,'Scenario 2'!T350)","v":0},{"$f":"IF($C$8=1,'Scenario 1'!U350,'Scenario 2'!U350)","v":0},{"$f":"IF($C$8=1,'Scenario 1'!V350,'Scenario 2'!V350)","v":0},{"$f":"IF($C$8=1,'Scenario 1'!W350,'Scenario 2'!W350)","v":0},{"$f":"IF($C$8=1,'Scenario 1'!X350,'Scenario 2'!X350)","v":0},{"$f":"IF($C$8=1,'Scenario 1'!Y350,'Scenario 2'!Y350)","v":0},{"$f":"IF($C$8=1,'Scenario 1'!Z350,'Scenario 2'!Z350)","v":0},{"$f":"IF($C$8=1,'Scenario 1'!AA350,'Scenario 2'!AA350)","v":0},{"$f":"IF($C$8=1,'Scenario 1'!AB350,'Scenario 2'!AB350)","v":6},{"$f":"IF($C$8=1,'Scenario 1'!AC350,'Scenario 2'!AC350)","v":5},{"$f":"IF($C$8=1,'Scenario 1'!AD350,'Scenario 2'!AD350)","v":0},{"$f":"IF($C$8=1,'Scenario 1'!AE350,'Scenario 2'!AE350)","v":13},{"$f":"IF($C$8=1,'Scenario 1'!AF350,'Scenario 2'!AF350)","v":0},{"$f":"IF($C$8=1,'Scenario 1'!AG350,'Scenario 2'!AG350)","v":0},{"$f":"IF($C$8=1,'Scenario 1'!AH350,'Scenario 2'!AH350)","v":0},{"$f":"IF($C$8=1,'Scenario 1'!AI350,'Scenario 2'!AI350)","v":0},{"$f":"IF($C$8=1,'Scenario 1'!AJ350,'Scenario 2'!AJ350)","v":0},{"$f":"IF($C$8=1,'Scenario 1'!AK350,'Scenario 2'!AK350)","v":0},{"$f":"IF($C$8=1,'Scenario 1'!AL350,'Scenario 2'!AL350)","v":13},{"$f":"IF($C$8=1,'Scenario 1'!AM350,'Scenario 2'!AM350)","v":5},{"$f":"IF($C$8=1,'Scenario 1'!AN350,'Scenario 2'!AN350)","v":0},{"$f":"IF($C$8=1,'Scenario 1'!AO350,'Scenario 2'!AO350)","v":0},{"$f":"IF($C$8=1,'Scenario 1'!AP350,'Scenario 2'!AP350)","v":0},{"$f":"IF($C$8=1,'Scenario 1'!AQ350,'Scenario 2'!AQ350)","v":0},{"$f":"IF($C$8=1,'Scenario 1'!AR350,'Scenario 2'!AR350)","v":0},{"$f":"IF($C$8=1,'Scenario 1'!AS350,'Scenario 2'!AS350)","v":0},{"$f":"IF($C$8=1,'Scenario 1'!AT350,'Scenario 2'!AT350)","v":0},{"$f":"IF($C$8=1,'Scenario 1'!AU350,'Scenario 2'!AU350)","v":0},{"$f":"IF($C$8=1,'Scenario 1'!AV350,'Scenario 2'!AV350)","v":13},{"$f":"IF($C$8=1,'Scenario 1'!AW350,'Scenario 2'!AW350)","v":5},{"$f":"IF($C$8=1,'Scenario 1'!AX350,'Scenario 2'!AX350)","v":0},{"$f":"IF($C$8=1,'Scenario 1'!AY350,'Scenario 2'!AY350)","v":13},{"$f":"IF($C$8=1,'Scenario 1'!AZ350,'Scenario 2'!AZ350)","v":6},{"$f":"IF($C$8=1,'Scenario 1'!BA350,'Scenario 2'!BA350)","v":5},{"$f":"IF($C$8=1,'Scenario 1'!BB350,'Scenario 2'!BB350)","v":0},{"$f":"IF($C$8=1,'Scenario 1'!BC350,'Scenario 2'!BC350)","v":0},{"$f":"IF($C$8=1,'Scenario 1'!BD350,'Scenario 2'!BD350)","v":0},{"$f":"IF($C$8=1,'Scenario 1'!BE350,'Scenario 2'!BE350)","v":0},{"$f":"IF($C$8=1,'Scenario 1'!BF350,'Scenario 2'!BF350)","v":13},{"$f":"IF($C$8=1,'Scenario 1'!BG350,'Scenario 2'!BG350)","v":5},{"$f":"IF($C$8=1,'Scenario 1'!BH350,'Scenario 2'!BH350)","v":0},{"$f":"IF($C$8=1,'Scenario 1'!BI350,'Scenario 2'!BI350)","v":13},{"$f":"IF($C$8=1,'Scenario 1'!BJ350,'Scenario 2'!BJ350)","v":6},{"$f":"IF($C$8=1,'Scenario 1'!BK350,'Scenario 2'!BK350)","v":6},{"$f":"IF($C$8=1,'Scenario 1'!BL350,'Scenario 2'!BL350)","v":0},{"$f":"IF($C$8=1,'Scenario 1'!BM350,'Scenario 2'!BM350)","v":0},{"$f":"IF($C$8=1,'Scenario 1'!BN350,'Scenario 2'!BN350)","v":0},{"$f":"IF($C$8=1,'Scenario 1'!BO350,'Scenario 2'!BO350)","v":0}]
[null,"Below ground residue, %",{"$f":"IF($C$8=1,'Scenario 1'!R351,'Scenario 2'!R351)","v":0},{"$f":"IF($C$8=1,'Scenario 1'!S351,'Scenario 2'!S351)","v":15},{"$f":"IF($C$8=1,'Scenario 1'!T351,'Scenario 2'!T351)","v":0},{"$f":"IF($C$8=1,'Scenario 1'!U351,'Scenario 2'!U351)","v":0},{"$f":"IF($C$8=1,'Scenario 1'!V351,'Scenario 2'!V351)","v":0},{"$f":"IF($C$8=1,'Scenario 1'!W351,'Scenario 2'!W351)","v":0},{"$f":"IF($C$8=1,'Scenario 1'!X351,'Scenario 2'!X351)","v":0},{"$f":"IF($C$8=1,'Scenario 1'!Y351,'Scenario 2'!Y351)","v":0},{"$f":"IF($C$8=1,'Scenario 1'!Z351,'Scenario 2'!Z351)","v":0},{"$f":"IF($C$8=1,'Scenario 1'!AA351,'Scenario 2'!AA351)","v":0},{"$f":"IF($C$8=1,'Scenario 1'!AB351,'Scenario 2'!AB351)","v":25},{"$f":"IF($C$8=1,'Scenario 1'!AC351,'Scenario 2'!AC351)","v":15},{"$f":"IF($C$8=1,'Scenario 1'!AD351,'Scenario 2'!AD351)","v":0},{"$f":"IF($C$8=1,'Scenario 1'!AE351,'Scenario 2'!AE351)","v":20},{"$f":"IF($C$8=1,'Scenario 1'!AF351,'Scenario 2'!AF351)","v":0},{"$f":"IF($C$8=1,'Scenario 1'!AG351,'Scenario 2'!AG351)","v":0},{"$f":"IF($C$8=1,'Scenario 1'!AH351,'Scenario 2'!AH351)","v":0},{"$f":"IF($C$8=1,'Scenario 1'!AI351,'Scenario 2'!AI351)","v":0},{"$f":"IF($C$8=1,'Scenario 1'!AJ351,'Scenario 2'!AJ351)","v":0},{"$f":"IF($C$8=1,'Scenario 1'!AK351,'Scenario 2'!AK351)","v":0},{"$f":"IF($C$8=1,'Scenario 1'!AL351,'Scenario 2'!AL351)","v":20},{"$f":"IF($C$8=1,'Scenario 1'!AM351,'Scenario 2'!AM351)","v":15},{"$f":"IF($C$8=1,'Scenario 1'!AN351,'Scenario 2'!AN351)","v":0},{"$f":"IF($C$8=1,'Scenario 1'!AO351,'Scenario 2'!AO351)","v":0},{"$f":"IF($C$8=1,'Scenario 1'!AP351,'Scenario 2'!AP351)","v":0},{"$f":"IF($C$8=1,'Scenario 1'!AQ351,'Scenario 2'!AQ351)","v":0},{"$f":"IF($C$8=1,'Scenario 1'!AR351,'Scenario 2'!AR351)","v":0},{"$f":"IF($C$8=1,'Scenario 1'!AS351,'Scenario 2'!AS351)","v":0},{"$f":"IF($C$8=1,'Scenario 1'!AT351,'Scenario 2'!AT351)","v":0},{"$f":"IF($C$8=1,'Scenario 1'!AU351,'Scenario 2'!AU351)","v":0},{"$f":"IF($C$8=1,'Scenario 1'!AV351,'Scenario 2'!AV351)","v":20},{"$f":"IF($C$8=1,'Scenario 1'!AW351,'Scenario 2'!AW351)","v":15},{"$f":"IF($C$8=1,'Scenario 1'!AX351,'Scenario 2'!AX351)","v":0},{"$f":"IF($C$8=1,'Scenario 1'!AY351,'Scenario 2'!AY351)","v":20},{"$f":"IF($C$8=1,'Scenario 1'!AZ351,'Scenario 2'!AZ351)","v":25},{"$f":"IF($C$8=1,'Scenario 1'!BA351,'Scenario 2'!BA351)","v":15},{"$f":"IF($C$8=1,'Scenario 1'!BB351,'Scenario 2'!BB351)","v":0},{"$f":"IF($C$8=1,'Scenario 1'!BC351,'Scenario 2'!BC351)","v":0},{"$f":"IF($C$8=1,'Scenario 1'!BD351,'Scenario 2'!BD351)","v":0},{"$f":"IF($C$8=1,'Scenario 1'!BE351,'Scenario 2'!BE351)","v":0},{"$f":"IF($C$8=1,'Scenario 1'!BF351,'Scenario 2'!BF351)","v":20},{"$f":"IF($C$8=1,'Scenario 1'!BG351,'Scenario 2'!BG351)","v":15},{"$f":"IF($C$8=1,'Scenario 1'!BH351,'Scenario 2'!BH351)","v":0},{"$f":"IF($C$8=1,'Scenario 1'!BI351,'Scenario 2'!BI351)","v":20},{"$f":"IF($C$8=1,'Scenario 1'!BJ351,'Scenario 2'!BJ351)","v":25},{"$f":"IF($C$8=1,'Scenario 1'!BK351,'Scenario 2'!BK351)","v":15},{"$f":"IF($C$8=1,'Scenario 1'!BL351,'Scenario 2'!BL351)","v":0},{"$f":"IF($C$8=1,'Scenario 1'!BM351,'Scenario 2'!BM351)","v":0},{"$f":"IF($C$8=1,'Scenario 1'!BN351,'Scenario 2'!BN351)","v":0},{"$f":"IF($C$8=1,'Scenario 1'!BO351,'Scenario 2'!BO351)","v":0}]
[null,"N Below ground residue, g N/kg",{"$f":"IF($C$8=1,'Scenario 1'!R352,'Scenario 2'!R352)","v":0},{"$f":"IF($C$8=1,'Scenario 1'!S352,'Scenario 2'!S352)","v":7},{"$f":"IF($C$8=1,'Scenario 1'!T352,'Scenario 2'!T352)","v":0},{"$f":"IF($C$8=1,'Scenario 1'!U352,'Scenario 2'!U352)","v":0},{"$f":"IF($C$8=1,'Scenario 1'!V352,'Scenario 2'!V352)","v":0},{"$f":"IF($C$8=1,'Scenario 1'!W352,'Scenario 2'!W352)","v":0},{"$f":"IF($C$8=1,'Scenario 1'!X352,'Scenario 2'!X352)","v":0},{"$f":"IF($C$8=1,'Scenario 1'!Y352,'Scenario 2'!Y352)","v":0},{"$f":"IF($C$8=1,'Scenario 1'!Z352,'Scenario 2'!Z352)","v":0},{"$f":"IF($C$8=1,'Scenario 1'!AA352,'Scenario 2'!AA352)","v":0},{"$f":"IF($C$8=1,'Scenario 1'!AB352,'Scenario 2'!AB352)","v":10},{"$f":"IF($C$8=1,'Scenario 1'!AC352,'Scenario 2'!AC352)","v":7},{"$f":"IF($C$8=1,'Scenario 1'!AD352,'Scenario 2'!AD352)","v":0},{"$f":"IF($C$8=1,'Scenario 1'!AE352,'Scenario 2'!AE352)","v":7},{"$f":"IF($C$8=1,'Scenario 1'!AF352,'Scenario 2'!AF352)","v":0},{"$f":"IF($C$8=1,'Scenario 1'!AG352,'Scenario 2'!AG352)","v":0},{"$f":"IF($C$8=1,'Scenario 1'!AH352,'Scenario 2'!AH352)","v":0},{"$f":"IF($C$8=1,'Scenario 1'!AI352,'Scenario 2'!AI352)","v":0},{"$f":"IF($C$8=1,'Scenario 1'!AJ352,'Scenario 2'!AJ352)","v":0},{"$f":"IF($C$8=1,'Scenario 1'!AK352,'Scenario 2'!AK352)","v":0},{"$f":"IF($C$8=1,'Scenario 1'!AL352,'Scenario 2'!AL352)","v":7},{"$f":"IF($C$8=1,'Scenario 1'!AM352,'Scenario 2'!AM352)","v":7},{"$f":"IF($C$8=1,'Scenario 1'!AN352,'Scenario 2'!AN352)","v":0},{"$f":"IF($C$8=1,'Scenario 1'!AO352,'Scenario 2'!AO352)","v":0},{"$f":"IF($C$8=1,'Scenario 1'!AP352,'Scenario 2'!AP352)","v":0},{"$f":"IF($C$8=1,'Scenario 1'!AQ352,'Scenario 2'!AQ352)","v":0},{"$f":"IF($C$8=1,'Scenario 1'!AR352,'Scenario 2'!AR352)","v":0},{"$f":"IF($C$8=1,'Scenario 1'!AS352,'Scenario 2'!AS352)","v":0},{"$f":"IF($C$8=1,'Scenario 1'!AT352,'Scenario 2'!AT352)","v":0},{"$f":"IF($C$8=1,'Scenario 1'!AU352,'Scenario 2'!AU352)","v":0},{"$f":"IF($C$8=1,'Scenario 1'!AV352,'Scenario 2'!AV352)","v":7},{"$f":"IF($C$8=1,'Scenario 1'!AW352,'Scenario 2'!AW352)","v":7},{"$f":"IF($C$8=1,'Scenario 1'!AX352,'Scenario 2'!AX352)","v":0},{"$f":"IF($C$8=1,'Scenario 1'!AY352,'Scenario 2'!AY352)","v":7},{"$f":"IF($C$8=1,'Scenario 1'!AZ352,'Scenario 2'!AZ352)","v":10},{"$f":"IF($C$8=1,'Scenario 1'!BA352,'Scenario 2'!BA352)","v":7},{"$f":"IF($C$8=1,'Scenario 1'!BB352,'Scenario 2'!BB352)","v":0},{"$f":"IF($C$8=1,'Scenario 1'!BC352,'Scenario 2'!BC352)","v":0},{"$f":"IF($C$8=1,'Scenario 1'!BD352,'Scenario 2'!BD352)","v":0},{"$f":"IF($C$8=1,'Scenario 1'!BE352,'Scenario 2'!BE352)","v":0},{"$f":"IF($C$8=1,'Scenario 1'!BF352,'Scenario 2'!BF352)","v":7},{"$f":"IF($C$8=1,'Scenario 1'!BG352,'Scenario 2'!BG352)","v":7},{"$f":"IF($C$8=1,'Scenario 1'!BH352,'Scenario 2'!BH352)","v":0},{"$f":"IF($C$8=1,'Scenario 1'!BI352,'Scenario 2'!BI352)","v":7},{"$f":"IF($C$8=1,'Scenario 1'!BJ352,'Scenario 2'!BJ352)","v":10},{"$f":"IF($C$8=1,'Scenario 1'!BK352,'Scenario 2'!BK352)","v":10},{"$f":"IF($C$8=1,'Scenario 1'!BL352,'Scenario 2'!BL352)","v":0},{"$f":"IF($C$8=1,'Scenario 1'!BM352,'Scenario 2'!BM352)","v":0},{"$f":"IF($C$8=1,'Scenario 1'!BN352,'Scenario 2'!BN352)","v":0},{"$f":"IF($C$8=1,'Scenario 1'!BO352,'Scenario 2'!BO352)","v":0}]
[null,"Fuel consumption (L/ha) (w/o fertilizers application)",{"$f":"IF($C$8=1,'Scenario 1'!R353,'Scenario 2'!R353)","v":0},{"$f":"IF($C$8=1,'Scenario 1'!S353,'Scenario 2'!S353)","v":58.6},{"$f":"IF($C$8=1,'Scenario 1'!T353,'Scenario 2'!T353)","v":0},{"$f":"IF($C$8=1,'Scenario 1'!U353,'Scenario 2'!U353)","v":0},{"$f":"IF($C$8=1,'Scenario 1'!V353,'Scenario 2'!V353)","v":0},{"$f":"IF($C$8=1,'Scenario 1'!W353,'Scenario 2'!W353)","v":0},{"$f":"IF($C$8=1,'Scenario 1'!X353,'Scenario 2'!X353)","v":0},{"$f":"IF($C$8=1,'Scenario 1'!Y353,'Scenario 2'!Y353)","v":0},{"$f":"IF($C$8=1,'Scenario 1'!Z353,'Scenario 2'!Z353)","v":0},{"$f":"IF($C$8=1,'Scenario 1'!AA353,'Scenario 2'!AA353)","v":0},{"$f":"IF($C$8=1,'Scenario 1'!AB353,'Scenario 2'!AB353)","v":60.1},{"$f":"IF($C$8=1,'Scenario 1'!AC353,'Scenario 2'!AC353)","v":58.6},{"$f":"IF($C$8=1,'Scenario 1'!AD353,'Scenario 2'!AD353)","v":0},{"$f":"IF($C$8=1,'Scenario 1'!AE353,'Scenario 2'!AE353)","v":101.1},{"$f":"IF($C$8=1,'Scenario 1'!AF353,'Scenario 2'!AF353)","v":0},{"$f":"IF($C$8=1,'Scenario 1'!AG353,'Scenario 2'!AG353)","v":0},{"$f":"IF($C$8=1,'Scenario 1'!AH353,'Scenario 2'!AH353)","v":0},{"$f":"IF($C$8=1,'Scenario 1'!AI353,'Scenario 2'!AI353)","v":0},{"$f":"IF($C$8=1,'Scenario 1'!AJ353,'Scenario 2'!AJ353)","v":0},{"$f":"IF($C$8=1,'Scenario 1'!AK353,'Scenario 2'!AK353)","v":0},{"$f":"IF($C$8=1,'Scenario 1'!AL353,'Scenario 2'!AL353)","v":101.1},{"$f":"IF($C$8=1,'Scenario 1'!AM353,'Scenario 2'!AM353)","v":58.6},{"$f":"IF($C$8=1,'Scenario 1'!AN353,'Scenario 2'!AN353)","v":0},{"$f":"IF($C$8=1,'Scenario 1'!AO353,'Scenario 2'!AO353)","v":49.3},{"$f":"IF($C$8=1,'Scenario 1'!AP353,'Scenario 2'!AP353)","v":123.3},{"$f":"IF($C$8=1,'Scenario 1'!AQ353,'Scenario 2'!AQ353)","v":123.3},{"$f":"IF($C$8=1,'Scenario 1'!AR353,'Scenario 2'!AR353)","v":0},{"$f":"IF($C$8=1,'Scenario 1'!AS353,'Scenario 2'!AS353)","v":0},{"$f":"IF($C$8=1,'Scenario 1'!AT353,'Scenario 2'!AT353)","v":0},{"$f":"IF($C$8=1,'Scenario 1'!AU353,'Scenario 2'!AU353)","v":0},{"$f":"IF($C$8=1,'Scenario 1'!AV353,'Scenario 2'!AV353)","v":101.1},{"$f":"IF($C$8=1,'Scenario 1'!AW353,'Scenario 2'!AW353)","v":58.6},{"$f":"IF($C$8=1,'Scenario 1'!AX353,'Scenario 2'!AX353)","v":0},{"$f":"IF($C$8=1,'Scenario 1'!AY353,'Scenario 2'!AY353)","v":101.1},{"$f":"IF($C$8=1,'Scenario 1'!AZ353,'Scenario 2'!AZ353)","v":60.1},{"$f":"IF($C$8=1,'Scenario 1'!BA353,'Scenario 2'!BA353)","v":58.6},{"$f":"IF($C$8=1,'Scenario 1'!BB353,'Scenario 2'!BB353)","v":0},{"$f":"IF($C$8=1,'Scenario 1'!BC353,'Scenario 2'!BC353)","v":49.3},{"$f":"IF($C$8=1,'Scenario 1'!BD353,'Scenario 2'!BD353)","v":123.3},{"$f":"IF($C$8=1,'Scenario 1'!BE353,'Scenario 2'!BE353)","v":123.3},{"$f":"IF($C$8=1,'Scenario 1'!BF353,'Scenario 2'!BF353)","v":101.1},{"$f":"IF($C$8=1,'Scenario 1'!BG353,'Scenario 2'!BG353)","v":58.6},{"$f":"IF($C$8=1,'Scenario 1'!BH353,'Scenario 2'!BH353)","v":0},{"$f":"IF($C$8=1,'Scenario 1'!BI353,'Scenario 2'!BI353)","v":101.1},{"$f":"IF($C$8=1,'Scenario 1'!BJ353,'Scenario 2'!BJ353)","v":60.1},{"$f":"IF($C$8=1,'Scenario 1'!BK353,'Scenario 2'!BK353)","v":46.3},{"$f":"IF($C$8=1,'Scenario 1'!BL353,'Scenario 2'!BL353)","v":0},{"$f":"IF($C$8=1,'Scenario 1'!BM353,'Scenario 2'!BM353)","v":49.3},{"$f":"IF($C$8=1,'Scenario 1'!BN353,'Scenario 2'!BN353)","v":123.3},{"$f":"IF($C$8=1,'Scenario 1'!BO353,'Scenario 2'!BO353)","v":123.3}]
[null,"Variable costs  w/o fertilizer, $/ha",{"$f":"IF($C$8=1,'Scenario 1'!R354,'Scenario 2'!R354)","v":0},{"$f":"IF($C$8=1,'Scenario 1'!S354,'Scenario 2'!S354)","v":800.65},{"$f":"IF($C$8=1,'Scenario 1'!T354,'Scenario 2'!T354)","v":0},{"$f":"IF($C$8=1,'Scenario 1'!U354,'Scenario 2'!U354)","v":0},{"$f":"IF($C$8=1,'Scenario 1'!V354,'Scenario 2'!V354)","v":0},{"$f":"IF($C$8=1,'Scenario 1'!W354,'Scenario 2'!W354)","v":0},{"$f":"IF($C$8=1,'Scenario 1'!X354,'Scenario 2'!X354)","v":0},{"$f":"IF($C$8=1,'Scenario 1'!Y354,'Scenario 2'!Y354)","v":0},{"$f":"IF($C$8=1,'Scenario 1'!Z354,'Scenario 2'!Z354)","v":0},{"$f":"IF($C$8=1,'Scenario 1'!AA354,'Scenario 2'!AA354)","v":0},{"$f":"IF($C$8=1,'Scenario 1'!AB354,'Scenario 2'!AB354)","v":454.48},{"$f":"IF($C$8=1,'Scenario 1'!AC354,'Scenario 2'!AC354)","v":724.41},{"$f":"IF($C$8=1,'Scenario 1'!AD354,'Scenario 2'!AD354)","v":0},{"$f":"IF($C$8=1,'Scenario 1'!AE354,'Scenario 2'!AE354)","v":505.43},{"$f":"IF($C$8=1,'Scenario 1'!AF354,'Scenario 2'!AF354)","v":0},{"$f":"IF($C$8=1,'Scenario 1'!AG354,'Scenario 2'!AG354)","v":0},{"$f":"IF($C$8=1,'Scenario 1'!AH354,'Scenario 2'!AH354)","v":0},{"$f":"IF($C$8=1,'Scenario 1'!AI354,'Scenario 2'!AI354)","v":0},{"$f":"IF($C$8=1,'Scenario 1'!AJ354,'Scenario 2'!AJ354)","v":0},{"$f":"IF($C$8=1,'Scenario 1'!AK354,'Scenario 2'!AK354)","v":0},{"$f":"IF($C$8=1,'Scenario 1'!AL354,'Scenario 2'!AL354)","v":486.38},{"$f":"IF($C$8=1,'Scenario 1'!AM354,'Scenario 2'!AM354)","v":800.65},{"$f":"IF($C$8=1,'Scenario 1'!AN354,'Scenario 2'!AN354)","v":0},{"$f":"IF($C$8=1,'Scenario 1'!AO354,'Scenario 2'!AO354)","v":578.94000000000005},{"$f":"IF($C$8=1,'Scenario 1'!AP354,'Scenario 2'!AP354)","v":387.44},{"$f":"IF($C$8=1,'Scenario 1'!AQ354,'Scenario 2'!AQ354)","v":387.44},{"$f":"IF($C$8=1,'Scenario 1'!AR354,'Scenario 2'!AR354)","v":0},{"$f":"IF($C$8=1,'Scenario 1'!AS354,'Scenario 2'!AS354)","v":0},{"$f":"IF($C$8=1,'Scenario 1'!AT354,'Scenario 2'!AT354)","v":0},{"$f":"IF($C$8=1,'Scenario 1'!AU354,'Scenario 2'!AU354)","v":0},{"$f":"IF($C$8=1,'Scenario 1'!AV354,'Scenario 2'!AV354)","v":486.38},{"$f":"IF($C$8=1,'Scenario 1'!AW354,'Scenario 2'!AW354)","v":800.65},{"$f":"IF($C$8=1,'Scenario 1'!AX354,'Scenario 2'!AX354)","v":0},{"$f":"IF($C$8=1,'Scenario 1'!AY354,'Scenario 2'!AY354)","v":505.43},{"$f":"IF($C$8=1,'Scenario 1'!AZ354,'Scenario 2'!AZ354)","v":454.48},{"$f":"IF($C$8=1,'Scenario 1'!BA354,'Scenario 2'!BA354)","v":724.41},{"$f":"IF($C$8=1,'Scenario 1'!BB354,'Scenario 2'!BB354)","v":0},{"$f":"IF($C$8=1,'Scenario 1'!BC354,'Scenario 2'!BC354)","v":578.94000000000005},{"$f":"IF($C$8=1,'Scenario 1'!BD354,'Scenario 2'!BD354)","v":387.44},{"$f":"IF($C$8=1,'Scenario 1'!BE354,'Scenario 2'!BE354)","v":387.44},{"$f":"IF($C$8=1,'Scenario 1'!BF354,'Scenario 2'!BF354)","v":486.38},{"$f":"IF($C$8=1,'Scenario 1'!BG354,'Scenario 2'!BG354)","v":800.65},{"$f":"IF($C$8=1,'Scenario 1'!BH354,'Scenario 2'!BH354)","v":0},{"$f":"IF($C$8=1,'Scenario 1'!BI354,'Scenario 2'!BI354)","v":505.43},{"$f":"IF($C$8=1,'Scenario 1'!BJ354,'Scenario 2'!BJ354)","v":454.48},{"$f":"IF($C$8=1,'Scenario 1'!BK354,'Scenario 2'!BK354)","v":360.95},{"$f":"IF($C$8=1,'Scenario 1'!BL354,'Scenario 2'!BL354)","v":360.95},{"$f":"IF($C$8=1,'Scenario 1'!BM354,'Scenario 2'!BM354)","v":578.94000000000005},{"$f":"IF($C$8=1,'Scenario 1'!BN354,'Scenario 2'!BN354)","v":387.44},{"$f":"IF($C$8=1,'Scenario 1'!BO354,'Scenario 2'!BO354)","v":387.44}]
[null,"Variable costs, $/ha",{"$f":"IF($C$8=1,'Scenario 1'!R355,'Scenario 2'!R355)","v":0},{"$f":"IF($C$8=1,'Scenario 1'!S355,'Scenario 2'!S355)","v":0},{"$f":"IF($C$8=1,'Scenario 1'!T355,'Scenario 2'!T355)","v":0},{"$f":"IF($C$8=1,'Scenario 1'!U355,'Scenario 2'!U355)","v":0},{"$f":"IF($C$8=1,'Scenario 1'!V355,'Scenario 2'!V355)","v":0},{"$f":"IF($C$8=1,'Scenario 1'!W355,'Scenario 2'!W355)","v":0},{"$f":"IF($C$8=1,'Scenario 1'!X355,'Scenario 2'!X355)","v":0},{"$f":"IF($C$8=1,'Scenario 1'!Y355,'Scenario 2'!Y355)","v":0},{"$f":"IF($C$8=1,'Scenario 1'!Z355,'Scenario 2'!Z355)","v":0},{"$f":"IF($C$8=1,'Scenario 1'!AA355,'Scenario 2'!AA355)","v":0},{"$f":"IF($C$8=1,'Scenario 1'!AB355,'Scenario 2'!AB355)","v":0},{"$f":"IF($C$8=1,'Scenario 1'!AC355,'Scenario 2'!AC355)","v":0},{"$f":"IF($C$8=1,'Scenario 1'!AD355,'Scenario 2'!AD355)","v":0},{"$f":"IF($C$8=1,'Scenario 1'!AE355,'Scenario 2'!AE355)","v":0},{"$f":"IF($C$8=1,'Scenario 1'!AF355,'Scenario 2'!AF355)","v":0},{"$f":"IF($C$8=1,'Scenario 1'!AG355,'Scenario 2'!AG355)","v":0},{"$f":"IF($C$8=1,'Scenario 1'!AH355,'Scenario 2'!AH355)","v":0},{"$f":"IF($C$8=1,'Scenario 1'!AI355,'Scenario 2'!AI355)","v":0},{"$f":"IF($C$8=1,'Scenario 1'!AJ355,'Scenario 2'!AJ355)","v":0},{"$f":"IF($C$8=1,'Scenario 1'!AK355,'Scenario 2'!AK355)","v":0},{"$f":"IF($C$8=1,'Scenario 1'!AL355,'Scenario 2'!AL355)","v":0},{"$f":"IF($C$8=1,'Scenario 1'!AM355,'Scenario 2'!AM355)","v":0},{"$f":"IF($C$8=1,'Scenario 1'!AN355,'Scenario 2'!AN355)","v":0},{"$f":"IF($C$8=1,'Scenario 1'!AO355,'Scenario 2'!AO355)","v":0},{"$f":"IF($C$8=1,'Scenario 1'!AP355,'Scenario 2'!AP355)","v":0},{"$f":"IF($C$8=1,'Scenario 1'!AQ355,'Scenario 2'!AQ355)","v":0},{"$f":"IF($C$8=1,'Scenario 1'!AR355,'Scenario 2'!AR355)","v":0},{"$f":"IF($C$8=1,'Scenario 1'!AS355,'Scenario 2'!AS355)","v":0},{"$f":"IF($C$8=1,'Scenario 1'!AT355,'Scenario 2'!AT355)","v":0},{"$f":"IF($C$8=1,'Scenario 1'!AU355,'Scenario 2'!AU355)","v":0},{"$f":"IF($C$8=1,'Scenario 1'!AV355,'Scenario 2'!AV355)","v":0},{"$f":"IF($C$8=1,'Scenario 1'!AW355,'Scenario 2'!AW355)","v":0},{"$f":"IF($C$8=1,'Scenario 1'!AX355,'Scenario 2'!AX355)","v":0},{"$f":"IF($C$8=1,'Scenario 1'!AY355,'Scenario 2'!AY355)","v":0},{"$f":"IF($C$8=1,'Scenario 1'!AZ355,'Scenario 2'!AZ355)","v":0},{"$f":"IF($C$8=1,'Scenario 1'!BA355,'Scenario 2'!BA355)","v":0},{"$f":"IF($C$8=1,'Scenario 1'!BB355,'Scenario 2'!BB355)","v":0},{"$f":"IF($C$8=1,'Scenario 1'!BC355,'Scenario 2'!BC355)","v":0},{"$f":"IF($C$8=1,'Scenario 1'!BD355,'Scenario 2'!BD355)","v":0},{"$f":"IF($C$8=1,'Scenario 1'!BE355,'Scenario 2'!BE355)","v":0},{"$f":"IF($C$8=1,'Scenario 1'!BF355,'Scenario 2'!BF355)","v":0},{"$f":"IF($C$8=1,'Scenario 1'!BG355,'Scenario 2'!BG355)","v":0},{"$f":"IF($C$8=1,'Scenario 1'!BH355,'Scenario 2'!BH355)","v":0},{"$f":"IF($C$8=1,'Scenario 1'!BI355,'Scenario 2'!BI355)","v":0},{"$f":"IF($C$8=1,'Scenario 1'!BJ355,'Scenario 2'!BJ355)","v":0},{"$f":"IF($C$8=1,'Scenario 1'!BK355,'Scenario 2'!BK355)","v":0},{"$f":"IF($C$8=1,'Scenario 1'!BL355,'Scenario 2'!BL355)","v":0},{"$f":"IF($C$8=1,'Scenario 1'!BM355,'Scenario 2'!BM355)","v":0},{"$f":"IF($C$8=1,'Scenario 1'!BN355,'Scenario 2'!BN355)","v":0},{"$f":"IF($C$8=1,'Scenario 1'!BO355,'Scenario 2'!BO355)","v":0}]
[null,"Cost $/ha",{"$f":"IF($C$8=1,'Scenario 1'!R356,'Scenario 2'!R356)","v":0},{"$f":"IF($C$8=1,'Scenario 1'!S356,'Scenario 2'!S356)","v":800.65},{"$f":"IF($C$8=1,'Scenario 1'!T356,'Scenario 2'!T356)","v":0},{"$f":"IF($C$8=1,'Scenario 1'!U356,'Scenario 2'!U356)","v":0},{"$f":"IF($C$8=1,'Scenario 1'!V356,'Scenario 2'!V356)","v":0},{"$f":"IF($C$8=1,'Scenario 1'!W356,'Scenario 2'!W356)","v":0},{"$f":"IF($C$8=1,'Scenario 1'!X356,'Scenario 2'!X356)","v":0},{"$f":"IF($C$8=1,'Scenario 1'!Y356,'Scenario 2'!Y356)","v":0},{"$f":"IF($C$8=1,'Scenario 1'!Z356,'Scenario 2'!Z356)","v":0},{"$f":"IF($C$8=1,'Scenario 1'!AA356,'Scenario 2'!AA356)","v":0},{"$f":"IF($C$8=1,'Scenario 1'!AB356,'Scenario 2'!AB356)","v":454.48},{"$f":"IF($C$8=1,'Scenario 1'!AC356,'Scenario 2'!AC356)","v":724.41},{"$f":"IF($C$8=1,'Scenario 1'!AD356,'Scenario 2'!AD356)","v":0},{"$f":"IF($C$8=1,'Scenario 1'!AE356,'Scenario 2'!AE356)","v":505.43},{"$f":"IF($C$8=1,'Scenario 1'!AF356,'Scenario 2'!AF356)","v":0},{"$f":"IF($C$8=1,'Scenario 1'!AG356,'Scenario 2'!AG356)","v":0},{"$f":"IF($C$8=1,'Scenario 1'!AH356,'Scenario 2'!AH356)","v":0},{"$f":"IF($C$8=1,'Scenario 1'!AI356,'Scenario 2'!AI356)","v":0},{"$f":"IF($C$8=1,'Scenario 1'!AJ356,'Scenario 2'!AJ356)","v":0},{"$f":"IF($C$8=1,'Scenario 1'!AK356,'Scenario 2'!AK356)","v":0},{"$f":"IF($C$8=1,'Scenario 1'!AL356,'Scenario 2'!AL356)","v":486.38},{"$f":"IF($C$8=1,'Scenario 1'!AM356,'Scenario 2'!AM356)","v":800.65},{"$f":"IF($C$8=1,'Scenario 1'!AN356,'Scenario 2'!AN356)","v":0},{"$f":"IF($C$8=1,'Scenario 1'!AO356,'Scenario 2'!AO356)","v":578.94000000000005},{"$f":"IF($C$8=1,'Scenario 1'!AP356,'Scenario 2'!AP356)","v":387.44},{"$f":"IF($C$8=1,'Scenario 1'!AQ356,'Scenario 2'!AQ356)","v":387.44},{"$f":"IF($C$8=1,'Scenario 1'!AR356,'Scenario 2'!AR356)","v":0},{"$f":"IF($C$8=1,'Scenario 1'!AS356,'Scenario 2'!AS356)","v":0},{"$f":"IF($C$8=1,'Scenario 1'!AT356,'Scenario 2'!AT356)","v":0},{"$f":"IF($C$8=1,'Scenario 1'!AU356,'Scenario 2'!AU356)","v":0},{"$f":"IF($C$8=1,'Scenario 1'!AV356,'Scenario 2'!AV356)","v":447.33},{"$f":"IF($C$8=1,'Scenario 1'!AW356,'Scenario 2'!AW356)","v":800.65},{"$f":"IF($C$8=1,'Scenario 1'!AX356,'Scenario 2'!AX356)","v":0},{"$f":"IF($C$8=1,'Scenario 1'!AY356,'Scenario 2'!AY356)","v":505.43},{"$f":"IF($C$8=1,'Scenario 1'!AZ356,'Scenario 2'!AZ356)","v":454.48},{"$f":"IF($C$8=1,'Scenario 1'!BA356,'Scenario 2'!BA356)","v":724.41},{"$f":"IF($C$8=1,'Scenario 1'!BB356,'Scenario 2'!BB356)","v":0},{"$f":"IF($C$8=1,'Scenario 1'!BC356,'Scenario 2'!BC356)","v":578.94000000000005},{"$f":"IF($C$8=1,'Scenario 1'!BD356,'Scenario 2'!BD356)","v":387.44},{"$f":"IF($C$8=1,'Scenario 1'!BE356,'Scenario 2'!BE356)","v":387.44},{"$f":"IF($C$8=1,'Scenario 1'!BF356,'Scenario 2'!BF356)","v":486.38},{"$f":"IF($C$8=1,'Scenario 1'!BG356,'Scenario 2'!BG356)","v":800.65},{"$f":"IF($C$8=1,'Scenario 1'!BH356,'Scenario 2'!BH356)","v":0},{"$f":"IF($C$8=1,'Scenario 1'!BI356,'Scenario 2'!BI356)","v":505.43},{"$f":"IF($C$8=1,'Scenario 1'!BJ356,'Scenario 2'!BJ356)","v":454.48},{"$f":"IF($C$8=1,'Scenario 1'!BK356,'Scenario 2'!BK356)","v":360.95},{"$f":"IF($C$8=1,'Scenario 1'!BL356,'Scenario 2'!BL356)","v":160.94999999999999},{"$f":"IF($C$8=1,'Scenario 1'!BM356,'Scenario 2'!BM356)","v":578.94000000000005},{"$f":"IF($C$8=1,'Scenario 1'!BN356,'Scenario 2'!BN356)","v":387.44},{"$f":"IF($C$8=1,'Scenario 1'!BO356,'Scenario 2'!BO356)","v":387.44}]
[]
[null,"Land Unit 5","Rotation 1 name:",null,{"$f":"IF($C$8=1,'Scenario 1'!T358,'Scenario 2'!T358)","v":"CCC"},null,null,null,null,null,null,null,"Rotation 2 name:",null,{"$f":"IF($C$8=1,'Scenario 1'!AD358,'Scenario 2'!AD358)","v":"SCC"},null,null,null,null,null,null,null,"Rotation 3 name:",null,{"$f":"IF($C$8=1,'Scenario 1'!AN358,'Scenario 2'!AN358)","v":"CCAAA"},null,null,null,null,null,null,null,"Rotation 4 name:",null,{"$f":"IF($C$8=1,'Scenario 1'!AX358,'Scenario 2'!AX358)","v":"CCCSCAAA"},null,null,null,null,null,null,null,"Rotation 5 name:",null,{"$f":"IF($C$8=1,'Scenario 1'!BH358,'Scenario 2'!BH358)","v":"CCCSWAAA"}]
[null,"Crops:",{"$f":"IF($C$8=1,'Scenario 1'!R359,'Scenario 2'!R359)","v":0},{"$f":"IF($C$8=1,'Scenario 1'!S359,'Scenario 2'!S359)","v":"CoGr-27"},{"$f":"IF($C$8=1,'Scenario 1'!T359,'Scenario 2'!T359)","v":0},{"$f":"IF($C$8=1,'Scenario 1'!U359,'Scenario 2'!U359)","v":0},{"$f":"IF($C$8=1,'Scenario 1'!V359,'Scenario 2'!V359)","v":0},{"$f":"IF($C$8=1,'Scenario 1'!W359,'Scenario 2'!W359)","v":0},{"$f":"IF($C$8=1,'Scenario 1'!X359,'Scenario 2'!X359)","v":0},{"$f":"IF($C$8=1,'Scenario 1'!Y359,'Scenario 2'!Y359)","v":0},{"$f":"IF($C$8=1,'Scenario 1'!Z359,'Scenario 2'!Z359)","v":0},{"$f":"IF($C$8=1,'Scenario 1'!AA359,'Scenario 2'!AA359)","v":0},{"$f":"IF($C$8=1,'Scenario 1'!AB359,'Scenario 2'!AB359)","v":"SBw-108"},{"$f":"IF($C$8=1,'Scenario 1'!AC359,'Scenario 2'!AC359)","v":"CoGr-27"},{"$f":"IF($C$8=1,'Scenario 1'!AD359,'Scenario 2'!AD359)","v":0},{"$f":"IF($C$8=1,'Scenario 1'!AE359,'Scenario 2'!AE359)","v":"CoSi-35"},{"$f":"IF($C$8=1,'Scenario 1'!AF359,'Scenario 2'!AF359)","v":0},{"$f":"IF($C$8=1,'Scenario 1'!AG359,'Scenario 2'!AG359)","v":0},{"$f":"IF($C$8=1,'Scenario 1'!AH359,'Scenario 2'!AH359)","v":0},{"$f":"IF($C$8=1,'Scenario 1'!AI359,'Scenario 2'!AI359)","v":0},{"$f":"IF($C$8=1,'Scenario 1'!AJ359,'Scenario 2'!AJ359)","v":0},{"$f":"IF($C$8=1,'Scenario 1'!AK359,'Scenario 2'!AK359)","v":0},{"$f":"IF($C$8=1,'Scenario 1'!AL359,'Scenario 2'!AL359)","v":"CoSi-35"},{"$f":"IF($C$8=1,'Scenario 1'!AM359,'Scenario 2'!AM359)","v":"CoGr-27"},{"$f":"IF($C$8=1,'Scenario 1'!AN359,'Scenario 2'!AN359)","v":0},{"$f":"IF($C$8=1,'Scenario 1'!AO359,'Scenario 2'!AO359)","v":"AlSi-83"},{"$f":"IF($C$8=1,'Scenario 1'!AP359,'Scenario 2'!AP359)","v":"AlSi-83"},{"$f":"IF($C$8=1,'Scenario 1'!AQ359,'Scenario 2'!AQ359)","v":"MxSi-74"},{"$f":"IF($C$8=1,'Scenario 1'!AR359,'Scenario 2'!AR359)","v":0},{"$f":"IF($C$8=1,'Scenario 1'!AS359,'Scenario 2'!AS359)","v":0},{"$f":"IF($C$8=1,'Scenario 1'!AT359,'Scenario 2'!AT359)","v":0},{"$f":"IF($C$8=1,'Scenario 1'!AU359,'Scenario 2'!AU359)","v":0},{"$f":"IF($C$8=1,'Scenario 1'!AV359,'Scenario 2'!AV359)","v":"CoSi-35"},{"$f":"IF($C$8=1,'Scenario 1'!AW359,'Scenario 2'!AW359)","v":"CoGr-27"},{"$f":"IF($C$8=1,'Scenario 1'!AX359,'Scenario 2'!AX359)","v":0},{"$f":"IF($C$8=1,'Scenario 1'!AY359,'Scenario 2'!AY359)","v":"CoSi-35"},{"$f":"IF($C$8=1,'Scenario 1'!AZ359,'Scenario 2'!AZ359)","v":"SBw-108"},{"$f":"IF($C$8=1,'Scenario 1'!BA359,'Scenario 2'!BA359)","v":"CoGr-27"},{"$f":"IF($C$8=1,'Scenario 1'!BB359,'Scenario 2'!BB359)","v":0},{"$f":"IF($C$8=1,'Scenario 1'!BC359,'Scenario 2'!BC359)","v":"AlSi-83"},{"$f":"IF($C$8=1,'Scenario 1'!BD359,'Scenario 2'!BD359)","v":"AlSi-83"},{"$f":"IF($C$8=1,'Scenario 1'!BE359,'Scenario 2'!BE359)","v":"MxSi-74"},{"$f":"IF($C$8=1,'Scenario 1'!BF359,'Scenario 2'!BF359)","v":"CoSi-35"},{"$f":"IF($C$8=1,'Scenario 1'!BG359,'Scenario 2'!BG359)","v":"CoGr-27"},{"$f":"IF($C$8=1,'Scenario 1'!BH359,'Scenario 2'!BH359)","v":0},{"$f":"IF($C$8=1,'Scenario 1'!BI359,'Scenario 2'!BI359)","v":"CoSi-35"},{"$f":"IF($C$8=1,'Scenario 1'!BJ359,'Scenario 2'!BJ359)","v":"SBw-108"},{"$f":"IF($C$8=1,'Scenario 1'!BK359,'Scenario 2'!BK359)","v":"Wheat-116"},{"$f":"IF($C$8=1,'Scenario 1'!BL359,'Scenario 2'!BL359)","v":"Straw-120"},{"$f":"IF($C$8=1,'Scenario 1'!BM359,'Scenario 2'!BM359)","v":"AlSi-83"},{"$f":"IF($C$8=1,'Scenario 1'!BN359,'Scenario 2'!BN359)","v":"AlSi-83"},{"$f":"IF($C$8=1,'Scenario 1'!BO359,'Scenario 2'!BO359)","v":"MxSi-74"}]
[null,"Year",{"$f":"IF($C$8=1,'Scenario 1'!R360,'Scenario 2'!R360)","v":0},{"$f":"IF($C$8=1,'Scenario 1'!S360,'Scenario 2'!S360)","v":1},{"$f":"IF($C$8=1,'Scenario 1'!T360,'Scenario 2'!T360)","v":0},{"$f":"IF($C$8=1,'Scenario 1'!U360,'Scenario 2'!U360)","v":0},{"$f":"IF($C$8=1,'Scenario 1'!V360,'Scenario 2'!V360)","v":0},{"$f":"IF($C$8=1,'Scenario 1'!W360,'Scenario 2'!W360)","v":0},{"$f":"IF($C$8=1,'Scenario 1'!X360,'Scenario 2'!X360)","v":0},{"$f":"IF($C$8=1,'Scenario 1'!Y360,'Scenario 2'!Y360)","v":0},{"$f":"IF($C$8=1,'Scenario 1'!Z360,'Scenario 2'!Z360)","v":0},{"$f":"IF($C$8=1,'Scenario 1'!AA360,'Scenario 2'!AA360)","v":0},{"$f":"IF($C$8=1,'Scenario 1'!AB360,'Scenario 2'!AB360)","v":1},{"$f":"IF($C$8=1,'Scenario 1'!AC360,'Scenario 2'!AC360)","v":2},{"$f":"IF($C$8=1,'Scenario 1'!AD360,'Scenario 2'!AD360)","v":0},{"$f":"IF($C$8=1,'Scenario 1'!AE360,'Scenario 2'!AE360)","v":3},{"$f":"IF($C$8=1,'Scenario 1'!AF360,'Scenario 2'!AF360)","v":0},{"$f":"IF($C$8=1,'Scenario 1'!AG360,'Scenario 2'!AG360)","v":0},{"$f":"IF($C$8=1,'Scenario 1'!AH360,'Scenario 2'!AH360)","v":0},{"$f":"IF($C$8=1,'Scenario 1'!AI360,'Scenario 2'!AI360)","v":0},{"$f":"IF($C$8=1,'Scenario 1'!AJ360,'Scenario 2'!AJ360)","v":0},{"$f":"IF($C$8=1,'Scenario 1'!AK360,'Scenario 2'!AK360)","v":0},{"$f":"IF($C$8=1,'Scenario 1'!AL360,'Scenario 2'!AL360)","v":1},{"$f":"IF($C$8=1,'Scenario 1'!AM360,'Scenario 2'!AM360)","v":2},{"$f":"IF($C$8=1,'Scenario 1'!AN360,'Scenario 2'!AN360)","v":0},{"$f":"IF($C$8=1,'Scenario 1'!AO360,'Scenario 2'!AO360)","v":3},{"$f":"IF($C$8=1,'Scenario 1'!AP360,'Scenario 2'!AP360)","v":4},{"$f":"IF($C$8=1,'Scenario 1'!AQ360,'Scenario 2'!AQ360)","v":5},{"$f":"IF($C$8=1,'Scenario 1'!AR360,'Scenario 2'!AR360)","v":0},{"$f":"IF($C$8=1,'Scenario 1'!AS360,'Scenario 2'!AS360)","v":0},{"$f":"IF($C$8=1,'Scenario 1'!AT360,'Scenario 2'!AT360)","v":0},{"$f":"IF($C$8=1,'Scenario 1'!AU360,'Scenario 2'!AU360)","v":0},{"$f":"IF($C$8=1,'Scenario 1'!AV360,'Scenario 2'!AV360)","v":1},{"$f":"IF($C$8=1,'Scenario 1'!AW360,'Scenario 2'!AW360)","v":2},{"$f":"IF($C$8=1,'Scenario 1'!AX360,'Scenario 2'!AX360)","v":0},{"$f":"IF($C$8=1,'Scenario 1'!AY360,'Scenario 2'!AY360)","v":3},{"$f":"IF($C$8=1,'Scenario 1'!AZ360,'Scenario 2'!AZ360)","v":4},{"$f":"IF($C$8=1,'Scenario 1'!BA360,'Scenario 2'!BA360)","v":5},{"$f":"IF($C$8=1,'Scenario 1'!BB360,'Scenario 2'!BB360)","v":0},{"$f":"IF($C$8=1,'Scenario 1'!BC360,'Scenario 2'!BC360)","v":6},{"$f":"IF($C$8=1,'Scenario 1'!BD360,'Scenario 2'!BD360)","v":7},{"$f":"IF($C$8=1,'Scenario 1'!BE360,'Scenario 2'!BE360)","v":8},{"$f":"IF($C$8=1,'Scenario 1'!BF360,'Scenario 2'!BF360)","v":1},{"$f":"IF($C$8=1,'Scenario 1'!BG360,'Scenario 2'!BG360)","v":2},{"$f":"IF($C$8=1,'Scenario 1'!BH360,'Scenario 2'!BH360)","v":0},{"$f":"IF($C$8=1,'Scenario 1'!BI360,'Scenario 2'!BI360)","v":3},{"$f":"IF($C$8=1,'Scenario 1'!BJ360,'Scenario 2'!BJ360)","v":4},{"$f":"IF($C$8=1,'Scenario 1'!BK360,'Scenario 2'!BK360)","v":5},{"$f":"IF($C$8=1,'Scenario 1'!BL360,'Scenario 2'!BL360)","v":5},{"$f":"IF($C$8=1,'Scenario 1'!BM360,'Scenario 2'!BM360)","v":6},{"$f":"IF($C$8=1,'Scenario 1'!BN360,'Scenario 2'!BN360)","v":7},{"$f":"IF($C$8=1,'Scenario 1'!BO360,'Scenario 2'!BO360)","v":8}]
[null,"Yield, t DM/yr",{"$f":"IF($C$8=1,'Scenario 1'!R361,'Scenario 2'!R361)","v":0},{"$f":"IF($C$8=1,'Scenario 1'!S361,'Scenario 2'!S361)","v":8.3505154639175263},{"$f":"IF($C$8=1,'Scenario 1'!T361,'Scenario 2'!T361)","v":0},{"$f":"IF($C$8=1,'Scenario 1'!U361,'Scenario 2'!U361)","v":0},{"$f":"IF($C$8=1,'Scenario 1'!V361,'Scenario 2'!V361)","v":0},{"$f":"IF($C$8=1,'Scenario 1'!W361,'Scenario 2'!W361)","v":0},{"$f":"IF($C$8=1,'Scenario 1'!X361,'Scenario 2'!X361)","v":0},{"$f":"IF($C$8=1,'Scenario 1'!Y361,'Scenario 2'!Y361)","v":0},{"$f":"IF($C$8=1,'Scenario 1'!Z361,'Scenario 2'!Z361)","v":0},{"$f":"IF($C$8=1,'Scenario 1'!AA361,'Scenario 2'!AA361)","v":0},{"$f":"IF($C$8=1,'Scenario 1'!AB361,'Scenario 2'!AB361)","v":2.9484536082474224},{"$f":"IF($C$8=1,'Scenario 1'!AC361,'Scenario 2'!AC361)","v":9.2783505154639183},{"$f":"IF($C$8=1,'Scenario 1'!AD361,'Scenario 2'!AD361)","v":0},{"$f":"IF($C$8=1,'Scenario 1'!AE361,'Scenario 2'!AE361)","v":18.470588235294116},{"$f":"IF($C$8=1,'Scenario 1'!AF361,'Scenario 2'!AF361)","v":0},{"$f":"IF($C$8=1,'Scenario 1'!AG361,'Scenario 2'!AG361)","v":0},{"$f":"IF($C$8=1,'Scenario 1'!AH361,'Scenario 2'!AH361)","v":0},{"$f":"IF($C$8=1,'Scenario 1'!AI361,'Scenario 2'!AI361)","v":0},{"$f":"IF($C$8=1,'Scenario 1'!AJ361,'Scenario 2'!AJ361)","v":0},{"$f":"IF($C$8=1,'Scenario 1'!AK361,'Scenario 2'!AK361)","v":0},{"$f":"IF($C$8=1,'Scenario 1'!AL361,'Scenario 2'!AL361)","v":19.411764705882355},{"$f":"IF($C$8=1,'Scenario 1'!AM361,'Scenario 2'!AM361)","v":8.7628865979381452},{"$f":"IF($C$8=1,'Scenario 1'!AN361,'Scenario 2'!AN361)","v":0},{"$f":"IF($C$8=1,'Scenario 1'!AO361,'Scenario 2'!AO361)","v":4.625},{"$f":"IF($C$8=1,'Scenario 1'!AP361,'Scenario 2'!AP361)","v":10.874999999999998},{"$f":"IF($C$8=1,'Scenario 1'!AQ361,'Scenario 2'!AQ361)","v":9.4999999999999982},{"$f":"IF($C$8=1,'Scenario 1'!AR361,'Scenario 2'!AR361)","v":0},{"$f":"IF($C$8=1,'Scenario 1'!AS361,'Scenario 2'!AS361)","v":0},{"$f":"IF($C$8=1,'Scenario 1'!AT361,'Scenario 2'!AT361)","v":0},{"$f":"IF($C$8=1,'Scenario 1'!AU361,'Scenario 2'!AU361)","v":0},{"$f":"IF($C$8=1,'Scenario 1'!AV361,'Scenario 2'!AV361)","v":19.411764705882355},{"$f":"IF($C$8=1,'Scenario 1'!AW361,'Scenario 2'!AW361)","v":8.8041237113402051},{"$f":"IF($C$8=1,'Scenario 1'!AX361,'Scenario 2'!AX361)","v":0},{"$f":"IF($C$8=1,'Scenario 1'!AY361,'Scenario 2'!AY361)","v":18.470588235294116},{"$f":"IF($C$8=1,'Scenario 1'!AZ361,'Scenario 2'!AZ361)","v":2.9896907216494846},{"$f":"IF($C$8=1,'Scenario 1'!BA361,'Scenario 2'!BA361)","v":9.2783505154639183},{"$f":"IF($C$8=1,'Scenario 1'!BB361,'Scenario 2'!BB361)","v":0},{"$f":"IF($C$8=1,'Scenario 1'!BC361,'Scenario 2'!BC361)","v":4.625},{"$f":"IF($C$8=1,'Scenario 1'!BD361,'Scenario 2'!BD361)","v":10.874999999999998},{"$f":"IF($C$8=1,'Scenario 1'!BE361,'Scenario 2'!BE361)","v":9.4999999999999982},{"$f":"IF($C$8=1,'Scenario 1'!BF361,'Scenario 2'!BF361)","v":19.411764705882355},{"$f":"IF($C$8=1,'Scenario 1'!BG361,'Scenario 2'!BG361)","v":8.7628865979381452},{"$f":"IF($C$8=1,'Scenario 1'!BH361,'Scenario 2'!BH361)","v":0},{"$f":"IF($C$8=1,'Scenario 1'!BI361,'Scenario 2'!BI361)","v":18.470588235294116},{"$f":"IF($C$8=1,'Scenario 1'!BJ361,'Scenario 2'!BJ361)","v":2.9896907216494846},{"$f":"IF($C$8=1,'Scenario 1'!BK361,'Scenario 2'!BK361)","v":3.5051546391752577},{"$f":"IF($C$8=1,'Scenario 1'!BL361,'Scenario 2'!BL361)","v":1.6},{"$f":"IF($C$8=1,'Scenario 1'!BM361,'Scenario 2'!BM361)","v":4.625},{"$f":"IF($C$8=1,'Scenario 1'!BN361,'Scenario 2'!BN361)","v":10.874999999999998},{"$f":"IF($C$8=1,'Scenario 1'!BO361,'Scenario 2'!BO361)","v":9.4999999999999982}]
[null,"N,  kg/ha",{"$f":"IF($C$8=1,'Scenario 1'!R362,'Scenario 2'!R362)","v":0},{"$f":"IF($C$8=1,'Scenario 1'!S362,'Scenario 2'!S362)","v":179},{"$f":"IF($C$8=1,'Scenario 1'!T362,'Scenario 2'!T362)","v":0},{"$f":"IF($C$8=1,'Scenario 1'!U362,'Scenario 2'!U362)","v":0},{"$f":"IF($C$8=1,'Scenario 1'!V362,'Scenario 2'!V362)","v":0},{"$f":"IF($C$8=1,'Scenario 1'!W362,'Scenario 2'!W362)","v":0},{"$f":"IF($C$8=1,'Scenario 1'!X362,'Scenario 2'!X362)","v":0},{"$f":"IF($C$8=1,'Scenario 1'!Y362,'Scenario 2'!Y362)","v":0},{"$f":"IF($C$8=1,'Scenario 1'!Z362,'Scenario 2'!Z362)","v":0},{"$f":"IF($C$8=1,'Scenario 1'!AA362,'Scenario 2'!AA362)","v":0},{"$f":"IF($C$8=1,'Scenario 1'!AB362,'Scenario 2'!AB362)","v":0},{"$f":"IF($C$8=1,'Scenario 1'!AC362,'Scenario 2'!AC362)","v":134.19999999999999},{"$f":"IF($C$8=1,'Scenario 1'!AD362,'Scenario 2'!AD362)","v":0},{"$f":"IF($C$8=1,'Scenario 1'!AE362,'Scenario 2'!AE362)","v":179},{"$f":"IF($C$8=1,'Scenario 1'!AF362,'Scenario 2'!AF362)","v":0},{"$f":"IF($C$8=1,'Scenario 1'!AG362,'Scenario 2'!AG362)","v":0},{"$f":"IF($C$8=1,'Scenario 1'!AH362,'Scenario 2'!AH362)","v":0},{"$f":"IF($C$8=1,'Scenario 1'!AI362,'Scenario 2'!AI362)","v":0},{"$f":"IF($C$8=1,'Scenario 1'!AJ362,'Scenario 2'!AJ362)","v":0},{"$f":"IF($C$8=1,'Scenario 1'!AK362,'Scenario 2'!AK362)","v":0},{"$f":"IF($C$8=1,'Scenario 1'!AL362,'Scenario 2'!AL362)","v":23},{"$f":"IF($C$8=1,'Scenario 1'!AM362,'Scenario 2'!AM362)","v":123},{"$f":"IF($C$8=1,'Scenario 1'!AN362,'Scenario 2'!AN362)","v":0},{"$f":"IF($C$8=1,'Scenario 1'!AO362,'Scenario 2'!AO362)","v":0},{"$f":"IF($C$8=1,'Scenario 1'!AP362,'Scenario 2'!AP362)","v":0},{"$f":"IF($C$8=1,'Scenario 1'!AQ362,'Scenario 2'!AQ362)","v":0},{"$f":"IF($C$8=1,'Scenario 1'!AR362,'Scenario 2'!AR362)","v":0},{"$f":"IF($C$8=1,'Scenario 1'!AS362,'Scenario 2'!AS362)","v":0},{"$f":"IF($C$8=1,'Scenario 1'!AT362,'Scenario 2'!AT362)","v":0},{"$f":"IF($C$8=1,'Scenario 1'!AU362,'Scenario 2'!AU362)","v":0},{"$f":"IF($C$8=1,'Scenario 1'!AV362,'Scenario 2'!AV362)","v":23},{"$f":"IF($C$8=1,'Scenario 1'!AW362,'Scenario 2'!AW362)","v":123},{"$f":"IF($C$8=1,'Scenario 1'!AX362,'Scenario 2'!AX362)","v":0},{"$f":"IF($C$8=1,'Scenario 1'!AY362,'Scenario 2'!AY362)","v":179},{"$f":"IF($C$8=1,'Scenario 1'!AZ362,'Scenario 2'!AZ362)","v":0},{"$f":"IF($C$8=1,'Scenario 1'!BA362,'Scenario 2'!BA362)","v":134.19999999999999},{"$f":"IF($C$8=1,'Scenario 1'!BB362,'Scenario 2'!BB362)","v":0},{"$f":"IF($C$8=1,'Scenario 1'!BC362,'Scenario 2'!BC362)","v":0},{"$f":"IF($C$8=1,'Scenario 1'!BD362,'Scenario 2'!BD362)","v":0},{"$f":"IF($C$8=1,'Scenario 1'!BE362,'Scenario 2'!BE362)","v":0},{"$f":"IF($C$8=1,'Scenario 1'!BF362,'Scenario 2'!BF362)","v":23},{"$f":"IF($C$8=1,'Scenario 1'!BG362,'Scenario 2'!BG362)","v":123},{"$f":"IF($C$8=1,'Scenario 1'!BH362,'Scenario 2'!BH362)","v":0},{"$f":"IF($C$8=1,'Scenario 1'!BI362,'Scenario 2'!BI362)","v":179},{"$f":"IF($C$8=1,'Scenario 1'!BJ362,'Scenario 2'!BJ362)","v":0},{"$f":"IF($C$8=1,'Scenario 1'!BK362,'Scenario 2'!BK362)","v":22.200000000000003},{"$f":"IF($C$8=1,'Scenario 1'!BL362,'Scenario 2'!BL362)","v":0},{"$f":"IF($C$8=1,'Scenario 1'!BM362,'Scenario 2'!BM362)","v":0},{"$f":"IF($C$8=1,'Scenario 1'!BN362,'Scenario 2'!BN362)","v":0},{"$f":"IF($C$8=1,'Scenario 1'!BO362,'Scenario 2'!BO362)","v":0}]
[null,"P2O5,  kg/ha",{"$f":"IF($C$8=1,'Scenario 1'!R363,'Scenario 2'!R363)","v":0},{"$f":"IF($C$8=1,'Scenario 1'!S363,'Scenario 2'!S363)","v":101},{"$f":"IF($C$8=1,'Scenario 1'!T363,'Scenario 2'!T363)","v":0},{"$f":"IF($C$8=1,'Scenario 1'!U363,'Scenario 2'!U363)","v":0},{"$f":"IF($C$8=1,'Scenario 1'!V363,'Scenario 2'!V363)","v":0},{"$f":"IF($C$8=1,'Scenario 1'!W363,'Scenario 2'!W363)","v":0},{"$f":"IF($C$8=1,'Scenario 1'!X363,'Scenario 2'!X363)","v":0},{"$f":"IF($C$8=1,'Scenario 1'!Y363,'Scenario 2'!Y363)","v":0},{"$f":"IF($C$8=1,'Scenario 1'!Z363,'Scenario 2'!Z363)","v":0},{"$f":"IF($C$8=1,'Scenario 1'!AA363,'Scenario 2'!AA363)","v":0},{"$f":"IF($C$8=1,'Scenario 1'!AB363,'Scenario 2'!AB363)","v":62},{"$f":"IF($C$8=1,'Scenario 1'!AC363,'Scenario 2'!AC363)","v":101},{"$f":"IF($C$8=1,'Scenario 1'!AD363,'Scenario 2'!AD363)","v":0},{"$f":"IF($C$8=1,'Scenario 1'!AE363,'Scenario 2'!AE363)","v":118},{"$f":"IF($C$8=1,'Scenario 1'!AF363,'Scenario 2'!AF363)","v":0},{"$f":"IF($C$8=1,'Scenario 1'!AG363,'Scenario 2'!AG363)","v":0},{"$f":"IF($C$8=1,'Scenario 1'!AH363,'Scenario 2'!AH363)","v":0},{"$f":"IF($C$8=1,'Scenario 1'!AI363,'Scenario 2'!AI363)","v":0},{"$f":"IF($C$8=1,'Scenario 1'!AJ363,'Scenario 2'!AJ363)","v":0},{"$f":"IF($C$8=1,'Scenario 1'!AK363,'Scenario 2'!AK363)","v":0},{"$f":"IF($C$8=1,'Scenario 1'!AL363,'Scenario 2'!AL363)","v":118},{"$f":"IF($C$8=1,'Scenario 1'!AM363,'Scenario 2'!AM363)","v":101},{"$f":"IF($C$8=1,'Scenario 1'!AN363,'Scenario 2'!AN363)","v":0},{"$f":"IF($C$8=1,'Scenario 1'!AO363,'Scenario 2'!AO363)","v":48},{"$f":"IF($C$8=1,'Scenario 1'!AP363,'Scenario 2'!AP363)","v":112},{"$f":"IF($C$8=1,'Scenario 1'!AQ363,'Scenario 2'!AQ363)","v":112},{"$f":"IF($C$8=1,'Scenario 1'!AR363,'Scenario 2'!AR363)","v":0},{"$f":"IF($C$8=1,'Scenario 1'!AS363,'Scenario 2'!AS363)","v":0},{"$f":"IF($C$8=1,'Scenario 1'!AT363,'Scenario 2'!AT363)","v":0},{"$f":"IF($C$8=1,'Scenario 1'!AU363,'Scenario 2'!AU363)","v":0},{"$f":"IF($C$8=1,'Scenario 1'!AV363,'Scenario 2'!AV363)","v":118},{"$f":"IF($C$8=1,'Scenario 1'!AW363,'Scenario 2'!AW363)","v":101},{"$f":"IF($C$8=1,'Scenario 1'!AX363,'Scenario 2'!AX363)","v":0},{"$f":"IF($C$8=1,'Scenario 1'!AY363,'Scenario 2'!AY363)","v":118},{"$f":"IF($C$8=1,'Scenario 1'!AZ363,'Scenario 2'!AZ363)","v":62},{"$f":"IF($C$8=1,'Scenario 1'!BA363,'Scenario 2'!BA363)","v":101},{"$f":"IF($C$8=1,'Scenario 1'!BB363,'Scenario 2'!BB363)","v":0},{"$f":"IF($C$8=1,'Scenario 1'!BC363,'Scenario 2'!BC363)","v":48},{"$f":"IF($C$8=1,'Scenario 1'!BD363,'Scenario 2'!BD363)","v":112},{"$f":"IF($C$8=1,'Scenario 1'!BE363,'Scenario 2'!BE363)","v":112},{"$f":"IF($C$8=1,'Scenario 1'!BF363,'Scenario 2'!BF363)","v":118},{"$f":"IF($C$8=1,'Scenario 1'!BG363,'Scenario 2'!BG363)","v":101},{"$f":"IF($C$8=1,'Scenario 1'!BH363,'Scenario 2'!BH363)","v":0},{"$f":"IF($C$8=1,'Scenario 1'!BI363,'Scenario 2'!BI363)","v":118},{"$f":"IF($C$8=1,'Scenario 1'!BJ363,'Scenario 2'!BJ363)","v":62},{"$f":"IF($C$8=1,'Scenario 1'!BK363,'Scenario 2'!BK363)","v":67},{"$f":"IF($C$8=1,'Scenario 1'!BL363,'Scenario 2'!BL363)","v":0},{"$f":"IF($C$8=1,'Scenario 1'!BM363,'Scenario 2'!BM363)","v":48},{"$f":"IF($C$8=1,'Scenario 1'!BN363,'Scenario 2'!BN363)","v":112},{"$f":"IF($C$8=1,'Scenario 1'!BO363,'Scenario 2'!BO363)","v":112}]
[null,"K2O, kg/ha",{"$f":"IF($C$8=1,'Scenario 1'!R364,'Scenario 2'!R364)","v":0},{"$f":"IF($C$8=1,'Scenario 1'!S364,'Scenario 2'!S364)","v":112},{"$f":"IF($C$8=1,'Scenario 1'!T364,'Scenario 2'!T364)","v":0},{"$f":"IF($C$8=1,'Scenario 1'!U364,'Scenario 2'!U364)","v":0},{"$f":"IF($C$8=1,'Scenario 1'!V364,'Scenario 2'!V364)","v":0},{"$f":"IF($C$8=1,'Scenario 1'!W364,'Scenario 2'!W364)","v":0},{"$f":"IF($C$8=1,'Scenario 1'!X364,'Scenario 2'!X364)","v":0},{"$f":"IF($C$8=1,'Scenario 1'!Y364,'Scenario 2'!Y364)","v":0},{"$f":"IF($C$8=1,'Scenario 1'!Z364,'Scenario 2'!Z364)","v":0},{"$f":"IF($C$8=1,'Scenario 1'!AA364,'Scenario 2'!AA364)","v":0},{"$f":"IF($C$8=1,'Scenario 1'!AB364,'Scenario 2'!AB364)","v":118},{"$f":"IF($C$8=1,'Scenario 1'!AC364,'Scenario 2'!AC364)","v":112},{"$f":"IF($C$8=1,'Scenario 1'!AD364,'Scenario 2'!AD364)","v":0},{"$f":"IF($C$8=1,'Scenario 1'!AE364,'Scenario 2'!AE364)","v":205},{"$f":"IF($C$8=1,'Scenario 1'!AF364,'Scenario 2'!AF364)","v":0},{"$f":"IF($C$8=1,'Scenario 1'!AG364,'Scenario 2'!AG364)","v":0},{"$f":"IF($C$8=1,'Scenario 1'!AH364,'Scenario 2'!AH364)","v":0},{"$f":"IF($C$8=1,'Scenario 1'!AI364,'Scenario 2'!AI364)","v":0},{"$f":"IF($C$8=1,'Scenario 1'!AJ364,'Scenario 2'!AJ364)","v":0},{"$f":"IF($C$8=1,'Scenario 1'!AK364,'Scenario 2'!AK364)","v":0},{"$f":"IF($C$8=1,'Scenario 1'!AL364,'Scenario 2'!AL364)","v":205},{"$f":"IF($C$8=1,'Scenario 1'!AM364,'Scenario 2'!AM364)","v":112},{"$f":"IF($C$8=1,'Scenario 1'!AN364,'Scenario 2'!AN364)","v":0},{"$f":"IF($C$8=1,'Scenario 1'!AO364,'Scenario 2'!AO364)","v":120},{"$f":"IF($C$8=1,'Scenario 1'!AP364,'Scenario 2'!AP364)","v":280},{"$f":"IF($C$8=1,'Scenario 1'!AQ364,'Scenario 2'!AQ364)","v":280},{"$f":"IF($C$8=1,'Scenario 1'!AR364,'Scenario 2'!AR364)","v":0},{"$f":"IF($C$8=1,'Scenario 1'!AS364,'Scenario 2'!AS364)","v":0},{"$f":"IF($C$8=1,'Scenario 1'!AT364,'Scenario 2'!AT364)","v":0},{"$f":"IF($C$8=1,'Scenario 1'!AU364,'Scenario 2'!AU364)","v":0},{"$f":"IF($C$8=1,'Scenario 1'!AV364,'Scenario 2'!AV364)","v":205},{"$f":"IF($C$8=1,'Scenario 1'!AW364,'Scenario 2'!AW364)","v":112},{"$f":"IF($C$8=1,'Scenario 1'!AX364,'Scenario 2'!AX364)","v":0},{"$f":"IF($C$8=1,'Scenario 1'!AY364,'Scenario 2'!AY364)","v":205},{"$f":"IF($C$8=1,'Scenario 1'!AZ364,'Scenario 2'!AZ364)","v":118},{"$f":"IF($C$8=1,'Scenario 1'!BA364,'Scenario 2'!BA364)","v":112},{"$f":"IF($C$8=1,'Scenario 1'!BB364,'Scenario 2'!BB364)","v":0},{"$f":"IF($C$8=1,'Scenario 1'!BC364,'Scenario 2'!BC364)","v":120},{"$f":"IF($C$8=1,'Scenario 1'!BD364,'Scenario 2'!BD364)","v":280},{"$f":"IF($C$8=1,'Scenario 1'!BE364,'Scenario 2'!BE364)","v":280},{"$f":"IF($C$8=1,'Scenario 1'!BF364,'Scenario 2'!BF364)","v":205},{"$f":"IF($C$8=1,'Scenario 1'!BG364,'Scenario 2'!BG364)","v":112},{"$f":"IF($C$8=1,'Scenario 1'!BH364,'Scenario 2'!BH364)","v":0},{"$f":"IF($C$8=1,'Scenario 1'!BI364,'Scenario 2'!BI364)","v":205},{"$f":"IF($C$8=1,'Scenario 1'!BJ364,'Scenario 2'!BJ364)","v":118},{"$f":"IF($C$8=1,'Scenario 1'!BK364,'Scenario 2'!BK364)","v":112},{"$f":"IF($C$8=1,'Scenario 1'!BL364,'Scenario 2'!BL364)","v":0},{"$f":"IF($C$8=1,'Scenario 1'!BM364,'Scenario 2'!BM364)","v":120},{"$f":"IF($C$8=1,'Scenario 1'!BN364,'Scenario 2'!BN364)","v":280},{"$f":"IF($C$8=1,'Scenario 1'!BO364,'Scenario 2'!BO364)","v":280}]
[null,"P removal, kg/ha",{"$f":"IF($C$8=1,'Scenario 1'!R365,'Scenario 2'!R365)","v":0},{"$f":"IF($C$8=1,'Scenario 1'!S365,'Scenario 2'!S365)","v":25.051546391752581},{"$f":"IF($C$8=1,'Scenario 1'!T365,'Scenario 2'!T365)","v":0},{"$f":"IF($C$8=1,'Scenario 1'!U365,'Scenario 2'!U365)","v":0},{"$f":"IF($C$8=1,'Scenario 1'!V365,'Scenario 2'!V365)","v":0},{"$f":"IF($C$8=1,'Scenario 1'!W365,'Scenario 2'!W365)","v":0},{"$f":"IF($C$8=1,'Scenario 1'!X365,'Scenario 2'!X365)","v":0},{"$f":"IF($C$8=1,'Scenario 1'!Y365,'Scenario 2'!Y365)","v":0},{"$f":"IF($C$8=1,'Scenario 1'!Z365,'Scenario 2'!Z365)","v":0},{"$f":"IF($C$8=1,'Scenario 1'!AA365,'Scenario 2'!AA365)","v":0},{"$f":"IF($C$8=1,'Scenario 1'!AB365,'Scenario 2'!AB365)","v":17.690721649484534},{"$f":"IF($C$8=1,'Scenario 1'!AC365,'Scenario 2'!AC365)","v":27.835051546391757},{"$f":"IF($C$8=1,'Scenario 1'!AD365,'Scenario 2'!AD365)","v":0},{"$f":"IF($C$8=1,'Scenario 1'!AE365,'Scenario 2'!AE365)","v":48.023529411764706},{"$f":"IF($C$8=1,'Scenario 1'!AF365,'Scenario 2'!AF365)","v":0},{"$f":"IF($C$8=1,'Scenario 1'!AG365,'Scenario 2'!AG365)","v":0},{"$f":"IF($C$8=1,'Scenario 1'!AH365,'Scenario 2'!AH365)","v":0},{"$f":"IF($C$8=1,'Scenario 1'!AI365,'Scenario 2'!AI365)","v":0},{"$f":"IF($C$8=1,'Scenario 1'!AJ365,'Scenario 2'!AJ365)","v":0},{"$f":"IF($C$8=1,'Scenario 1'!AK365,'Scenario 2'!AK365)","v":0},{"$f":"IF($C$8=1,'Scenario 1'!AL365,'Scenario 2'!AL365)","v":50.470588235294123},{"$f":"IF($C$8=1,'Scenario 1'!AM365,'Scenario 2'!AM365)","v":26.288659793814432},{"$f":"IF($C$8=1,'Scenario 1'!AN365,'Scenario 2'!AN365)","v":0},{"$f":"IF($C$8=1,'Scenario 1'!AO365,'Scenario 2'!AO365)","v":16.1875},{"$f":"IF($C$8=1,'Scenario 1'!AP365,'Scenario 2'!AP365)","v":38.062499999999993},{"$f":"IF($C$8=1,'Scenario 1'!AQ365,'Scenario 2'!AQ365)","v":32.299999999999997},{"$f":"IF($C$8=1,'Scenario 1'!AR365,'Scenario 2'!AR365)","v":0},{"$f":"IF($C$8=1,'Scenario 1'!AS365,'Scenario 2'!AS365)","v":0},{"$f":"IF($C$8=1,'Scenario 1'!AT365,'Scenario 2'!AT365)","v":0},{"$f":"IF($C$8=1,'Scenario 1'!AU365,'Scenario 2'!AU365)","v":0},{"$f":"IF($C$8=1,'Scenario 1'!AV365,'Scenario 2'!AV365)","v":50.470588235294123},{"$f":"IF($C$8=1,'Scenario 1'!AW365,'Scenario 2'!AW365)","v":26.412371134020617},{"$f":"IF($C$8=1,'Scenario 1'!AX365,'Scenario 2'!AX365)","v":0},{"$f":"IF($C$8=1,'Scenario 1'!AY365,'Scenario 2'!AY365)","v":48.023529411764706},{"$f":"IF($C$8=1,'Scenario 1'!AZ365,'Scenario 2'!AZ365)","v":17.938144329896907},{"$f":"IF($C$8=1,'Scenario 1'!BA365,'Scenario 2'!BA365)","v":27.835051546391757},{"$f":"IF($C$8=1,'Scenario 1'!BB365,'Scenario 2'!BB365)","v":0},{"$f":"IF($C$8=1,'Scenario 1'!BC365,'Scenario 2'!BC365)","v":16.1875},{"$f":"IF($C$8=1,'Scenario 1'!BD365,'Scenario 2'!BD365)","v":38.062499999999993},{"$f":"IF($C$8=1,'Scenario 1'!BE365,'Scenario 2'!BE365)","v":32.299999999999997},{"$f":"IF($C$8=1,'Scenario 1'!BF365,'Scenario 2'!BF365)","v":58.235294117647072},{"$f":"IF($C$8=1,'Scenario 1'!BG365,'Scenario 2'!BG365)","v":52.577319587628864},{"$f":"IF($C$8=1,'Scenario 1'!BH365,'Scenario 2'!BH365)","v":0},{"$f":"IF($C$8=1,'Scenario 1'!BI365,'Scenario 2'!BI365)","v":55.411764705882341},{"$f":"IF($C$8=1,'Scenario 1'!BJ365,'Scenario 2'!BJ365)","v":8.9690721649484537},{"$f":"IF($C$8=1,'Scenario 1'!BK365,'Scenario 2'!BK365)","v":21.030927835051543},{"$f":"IF($C$8=1,'Scenario 1'!BL365,'Scenario 2'!BL365)","v":9.6},{"$f":"IF($C$8=1,'Scenario 1'!BM365,'Scenario 2'!BM365)","v":27.75},{"$f":"IF($C$8=1,'Scenario 1'!BN365,'Scenario 2'!BN365)","v":65.249999999999986},{"$f":"IF($C$8=1,'Scenario 1'!BO365,'Scenario 2'!BO365)","v":28.499999999999996}]
[null,"K removal, kg/ha"]
[null,"Cl, kg/ha",{"$f":"IF($C$8=1,'Scenario 1'!R367,'Scenario 2'!R367)","v":0},{"$f":"IF($C$8=1,'Scenario 1'!S367,'Scenario 2'!S367)","v":0},{"$f":"IF($C$8=1,'Scenario 1'!T367,'Scenario 2'!T367)","v":0},{"$f":"IF($C$8=1,'Scenario 1'!U367,'Scenario 2'!U367)","v":0},{"$f":"IF($C$8=1,'Scenario 1'!V367,'Scenario 2'!V367)","v":0},{"$f":"IF($C$8=1,'Scenario 1'!W367,'Scenario 2'!W367)","v":0},{"$f":"IF($C$8=1,'Scenario 1'!X367,'Scenario 2'!X367)","v":0},{"$f":"IF($C$8=1,'Scenario 1'!Y367,'Scenario 2'!Y367)","v":0},{"$f":"IF($C$8=1,'Scenario 1'!Z367,'Scenario 2'!Z367)","v":0},{"$f":"IF($C$8=1,'Scenario 1'!AA367,'Scenario 2'!AA367)","v":0},{"$f":"IF($C$8=1,'Scenario 1'!AB367,'Scenario 2'!AB367)","v":0},{"$f":"IF($C$8=1,'Scenario 1'!AC367,'Scenario 2'!AC367)","v":0},{"$f":"IF($C$8=1,'Scenario 1'!AD367,'Scenario 2'!AD367)","v":0},{"$f":"IF($C$8=1,'Scenario 1'!AE367,'Scenario 2'!AE367)","v":0},{"$f":"IF($C$8=1,'Scenario 1'!AF367,'Scenario 2'!AF367)","v":0},{"$f":"IF($C$8=1,'Scenario 1'!AG367,'Scenario 2'!AG367)","v":0},{"$f":"IF($C$8=1,'Scenario 1'!AH367,'Scenario 2'!AH367)","v":0},{"$f":"IF($C$8=1,'Scenario 1'!AI367,'Scenario 2'!AI367)","v":0},{"$f":"IF($C$8=1,'Scenario 1'!AJ367,'Scenario 2'!AJ367)","v":0},{"$f":"IF($C$8=1,'Scenario 1'!AK367,'Scenario 2'!AK367)","v":0},{"$f":"IF($C$8=1,'Scenario 1'!AL367,'Scenario 2'!AL367)","v":0},{"$f":"IF($C$8=1,'Scenario 1'!AM367,'Scenario 2'!AM367)","v":0},{"$f":"IF($C$8=1,'Scenario 1'!AN367,'Scenario 2'!AN367)","v":0},{"$f":"IF($C$8=1,'Scenario 1'!AO367,'Scenario 2'!AO367)","v":0},{"$f":"IF($C$8=1,'Scenario 1'!AP367,'Scenario 2'!AP367)","v":0},{"$f":"IF($C$8=1,'Scenario 1'!AQ367,'Scenario 2'!AQ367)","v":0},{"$f":"IF($C$8=1,'Scenario 1'!AR367,'Scenario 2'!AR367)","v":0},{"$f":"IF($C$8=1,'Scenario 1'!AS367,'Scenario 2'!AS367)","v":0},{"$f":"IF($C$8=1,'Scenario 1'!AT367,'Scenario 2'!AT367)","v":0},{"$f":"IF($C$8=1,'Scenario 1'!AU367,'Scenario 2'!AU367)","v":0},{"$f":"IF($C$8=1,'Scenario 1'!AV367,'Scenario 2'!AV367)","v":0},{"$f":"IF($C$8=1,'Scenario 1'!AW367,'Scenario 2'!AW367)","v":0},{"$f":"IF($C$8=1,'Scenario 1'!AX367,'Scenario 2'!AX367)","v":0},{"$f":"IF($C$8=1,'Scenario 1'!AY367,'Scenario 2'!AY367)","v":0},{"$f":"IF($C$8=1,'Scenario 1'!AZ367,'Scenario 2'!AZ367)","v":0},{"$f":"IF($C$8=1,'Scenario 1'!BA367,'Scenario 2'!BA367)","v":0},{"$f":"IF($C$8=1,'Scenario 1'!BB367,'Scenario 2'!BB367)","v":0},{"$f":"IF($C$8=1,'Scenario 1'!BC367,'Scenario 2'!BC367)","v":0},{"$f":"IF($C$8=1,'Scenario 1'!BD367,'Scenario 2'!BD367)","v":0},{"$f":"IF($C$8=1,'Scenario 1'!BE367,'Scenario 2'!BE367)","v":0},{"$f":"IF($C$8=1,'Scenario 1'!BF367,'Scenario 2'!BF367)","v":0},{"$f":"IF($C$8=1,'Scenario 1'!BG367,'Scenario 2'!BG367)","v":0},{"$f":"IF($C$8=1,'Scenario 1'!BH367,'Scenario 2'!BH367)","v":0},{"$f":"IF($C$8=1,'Scenario 1'!BI367,'Scenario 2'!BI367)","v":0},{"$f":"IF($C$8=1,'Scenario 1'!BJ367,'Scenario 2'!BJ367)","v":0},{"$f":"IF($C$8=1,'Scenario 1'!BK367,'Scenario 2'!BK367)","v":0},{"$f":"IF($C$8=1,'Scenario 1'!BL367,'Scenario 2'!BL367)","v":0},{"$f":"IF($C$8=1,'Scenario 1'!BM367,'Scenario 2'!BM367)","v":0},{"$f":"IF($C$8=1,'Scenario 1'!BN367,'Scenario 2'!BN367)","v":0},{"$f":"IF($C$8=1,'Scenario 1'!BO367,'Scenario 2'!BO367)","v":0}]
[null,"N fixation, kg/t",{"$f":"IF($C$8=1,'Scenario 1'!R368,'Scenario 2'!R368)","v":0},{"$f":"IF($C$8=1,'Scenario 1'!S368,'Scenario 2'!S368)","v":0},{"$f":"IF($C$8=1,'Scenario 1'!T368,'Scenario 2'!T368)","v":0},{"$f":"IF($C$8=1,'Scenario 1'!U368,'Scenario 2'!U368)","v":0},{"$f":"IF($C$8=1,'Scenario 1'!V368,'Scenario 2'!V368)","v":0},{"$f":"IF($C$8=1,'Scenario 1'!W368,'Scenario 2'!W368)","v":0},{"$f":"IF($C$8=1,'Scenario 1'!X368,'Scenario 2'!X368)","v":0},{"$f":"IF($C$8=1,'Scenario 1'!Y368,'Scenario 2'!Y368)","v":0},{"$f":"IF($C$8=1,'Scenario 1'!Z368,'Scenario 2'!Z368)","v":0},{"$f":"IF($C$8=1,'Scenario 1'!AA368,'Scenario 2'!AA368)","v":0},{"$f":"IF($C$8=1,'Scenario 1'!AB368,'Scenario 2'!AB368)","v":25.088000000000001},{"$f":"IF($C$8=1,'Scenario 1'!AC368,'Scenario 2'!AC368)","v":0},{"$f":"IF($C$8=1,'Scenario 1'!AD368,'Scenario 2'!AD368)","v":0},{"$f":"IF($C$8=1,'Scenario 1'!AE368,'Scenario 2'!AE368)","v":0},{"$f":"IF($C$8=1,'Scenario 1'!AF368,'Scenario 2'!AF368)","v":0},{"$f":"IF($C$8=1,'Scenario 1'!AG368,'Scenario 2'!AG368)","v":0},{"$f":"IF($C$8=1,'Scenario 1'!AH368,'Scenario 2'!AH368)","v":0},{"$f":"IF($C$8=1,'Scenario 1'!AI368,'Scenario 2'!AI368)","v":0},{"$f":"IF($C$8=1,'Scenario 1'!AJ368,'Scenario 2'!AJ368)","v":0},{"$f":"IF($C$8=1,'Scenario 1'!AK368,'Scenario 2'!AK368)","v":0},{"$f":"IF($C$8=1,'Scenario 1'!AL368,'Scenario 2'!AL368)","v":0},{"$f":"IF($C$8=1,'Scenario 1'!AM368,'Scenario 2'!AM368)","v":0},{"$f":"IF($C$8=1,'Scenario 1'!AN368,'Scenario 2'!AN368)","v":0},{"$f":"IF($C$8=1,'Scenario 1'!AO368,'Scenario 2'!AO368)","v":24.655999999999999},{"$f":"IF($C$8=1,'Scenario 1'!AP368,'Scenario 2'!AP368)","v":24.655999999999999},{"$f":"IF($C$8=1,'Scenario 1'!AQ368,'Scenario 2'!AQ368)","v":20.367999999999999},{"$f":"IF($C$8=1,'Scenario 1'!AR368,'Scenario 2'!AR368)","v":0},{"$f":"IF($C$8=1,'Scenario 1'!AS368,'Scenario 2'!AS368)","v":0},{"$f":"IF($C$8=1,'Scenario 1'!AT368,'Scenario 2'!AT368)","v":0},{"$f":"IF($C$8=1,'Scenario 1'!AU368,'Scenario 2'!AU368)","v":0},{"$f":"IF($C$8=1,'Scenario 1'!AV368,'Scenario 2'!AV368)","v":0},{"$f":"IF($C$8=1,'Scenario 1'!AW368,'Scenario 2'!AW368)","v":0},{"$f":"IF($C$8=1,'Scenario 1'!AX368,'Scenario 2'!AX368)","v":0},{"$f":"IF($C$8=1,'Scenario 1'!AY368,'Scenario 2'!AY368)","v":0},{"$f":"IF($C$8=1,'Scenario 1'!AZ368,'Scenario 2'!AZ368)","v":25.088000000000001},{"$f":"IF($C$8=1,'Scenario 1'!BA368,'Scenario 2'!BA368)","v":0},{"$f":"IF($C$8=1,'Scenario 1'!BB368,'Scenario 2'!BB368)","v":0},{"$f":"IF($C$8=1,'Scenario 1'!BC368,'Scenario 2'!BC368)","v":24.655999999999999},{"$f":"IF($C$8=1,'Scenario 1'!BD368,'Scenario 2'!BD368)","v":24.655999999999999},{"$f":"IF($C$8=1,'Scenario 1'!BE368,'Scenario 2'!BE368)","v":24.655999999999999},{"$f":"IF($C$8=1,'Scenario 1'!BF368,'Scenario 2'!BF368)","v":0},{"$f":"IF($C$8=1,'Scenario 1'!BG368,'Scenario 2'!BG368)","v":0},{"$f":"IF($C$8=1,'Scenario 1'!BH368,'Scenario 2'!BH368)","v":0},{"$f":"IF($C$8=1,'Scenario 1'!BI368,'Scenario 2'!BI368)","v":0},{"$f":"IF($C$8=1,'Scenario 1'!BJ368,'Scenario 2'!BJ368)","v":25.088000000000001},{"$f":"IF($C$8=1,'Scenario 1'!BK368,'Scenario 2'!BK368)","v":0},{"$f":"IF($C$8=1,'Scenario 1'!BL368,'Scenario 2'!BL368)","v":0},{"$f":"IF($C$8=1,'Scenario 1'!BM368,'Scenario 2'!BM368)","v":24.655999999999999},{"$f":"IF($C$8=1,'Scenario 1'!BN368,'Scenario 2'!BN368)","v":24.655999999999999},{"$f":"IF($C$8=1,'Scenario 1'!BO368,'Scenario 2'!BO368)","v":24.655999999999999}]
[null,"Above ground residue, %",{"$f":"IF($C$8=1,'Scenario 1'!R369,'Scenario 2'!R369)","v":0},{"$f":"IF($C$8=1,'Scenario 1'!S369,'Scenario 2'!S369)","v":38},{"$f":"IF($C$8=1,'Scenario 1'!T369,'Scenario 2'!T369)","v":0},{"$f":"IF($C$8=1,'Scenario 1'!U369,'Scenario 2'!U369)","v":0},{"$f":"IF($C$8=1,'Scenario 1'!V369,'Scenario 2'!V369)","v":0},{"$f":"IF($C$8=1,'Scenario 1'!W369,'Scenario 2'!W369)","v":0},{"$f":"IF($C$8=1,'Scenario 1'!X369,'Scenario 2'!X369)","v":0},{"$f":"IF($C$8=1,'Scenario 1'!Y369,'Scenario 2'!Y369)","v":0},{"$f":"IF($C$8=1,'Scenario 1'!Z369,'Scenario 2'!Z369)","v":0},{"$f":"IF($C$8=1,'Scenario 1'!AA369,'Scenario 2'!AA369)","v":0},{"$f":"IF($C$8=1,'Scenario 1'!AB369,'Scenario 2'!AB369)","v":45},{"$f":"IF($C$8=1,'Scenario 1'!AC369,'Scenario 2'!AC369)","v":38},{"$f":"IF($C$8=1,'Scenario 1'!AD369,'Scenario 2'!AD369)","v":0},{"$f":"IF($C$8=1,'Scenario 1'!AE369,'Scenario 2'!AE369)","v":8},{"$f":"IF($C$8=1,'Scenario 1'!AF369,'Scenario 2'!AF369)","v":0},{"$f":"IF($C$8=1,'Scenario 1'!AG369,'Scenario 2'!AG369)","v":0},{"$f":"IF($C$8=1,'Scenario 1'!AH369,'Scenario 2'!AH369)","v":0},{"$f":"IF($C$8=1,'Scenario 1'!AI369,'Scenario 2'!AI369)","v":0},{"$f":"IF($C$8=1,'Scenario 1'!AJ369,'Scenario 2'!AJ369)","v":0},{"$f":"IF($C$8=1,'Scenario 1'!AK369,'Scenario 2'!AK369)","v":0},{"$f":"IF($C$8=1,'Scenario 1'!AL369,'Scenario 2'!AL369)","v":8},{"$f":"IF($C$8=1,'Scenario 1'!AM369,'Scenario 2'!AM369)","v":38},{"$f":"IF($C$8=1,'Scenario 1'!AN369,'Scenario 2'!AN369)","v":0},{"$f":"IF($C$8=1,'Scenario 1'!AO369,'Scenario 2'!AO369)","v":0},{"$f":"IF($C$8=1,'Scenario 1'!AP369,'Scenario 2'!AP369)","v":0},{"$f":"IF($C$8=1,'Scenario 1'!AQ369,'Scenario 2'!AQ369)","v":0},{"$f":"IF($C$8=1,'Scenario 1'!AR369,'Scenario 2'!AR369)","v":0},{"$f":"IF($C$8=1,'Scenario 1'!AS369,'Scenario 2'!AS369)","v":0},{"$f":"IF($C$8=1,'Scenario 1'!AT369,'Scenario 2'!AT369)","v":0},{"$f":"IF($C$8=1,'Scenario 1'!AU369,'Scenario 2'!AU369)","v":0},{"$f":"IF($C$8=1,'Scenario 1'!AV369,'Scenario 2'!AV369)","v":8},{"$f":"IF($C$8=1,'Scenario 1'!AW369,'Scenario 2'!AW369)","v":38},{"$f":"IF($C$8=1,'Scenario 1'!AX369,'Scenario 2'!AX369)","v":0},{"$f":"IF($C$8=1,'Scenario 1'!AY369,'Scenario 2'!AY369)","v":8},{"$f":"IF($C$8=1,'Scenario 1'!AZ369,'Scenario 2'!AZ369)","v":45},{"$f":"IF($C$8=1,'Scenario 1'!BA369,'Scenario 2'!BA369)","v":38},{"$f":"IF($C$8=1,'Scenario 1'!BB369,'Scenario 2'!BB369)","v":0},{"$f":"IF($C$8=1,'Scenario 1'!BC369,'Scenario 2'!BC369)","v":0},{"$f":"IF($C$8=1,'Scenario 1'!BD369,'Scenario 2'!BD369)","v":0},{"$f":"IF($C$8=1,'Scenario 1'!BE369,'Scenario 2'!BE369)","v":0},{"$f":"IF($C$8=1,'Scenario 1'!BF369,'Scenario 2'!BF369)","v":8},{"$f":"IF($C$8=1,'Scenario 1'!BG369,'Scenario 2'!BG369)","v":38},{"$f":"IF($C$8=1,'Scenario 1'!BH369,'Scenario 2'!BH369)","v":0},{"$f":"IF($C$8=1,'Scenario 1'!BI369,'Scenario 2'!BI369)","v":8},{"$f":"IF($C$8=1,'Scenario 1'!BJ369,'Scenario 2'!BJ369)","v":45},{"$f":"IF($C$8=1,'Scenario 1'!BK369,'Scenario 2'!BK369)","v":0},{"$f":"IF($C$8=1,'Scenario 1'!BL369,'Scenario 2'!BL369)","v":0},{"$f":"IF($C$8=1,'Scenario 1'!BM369,'Scenario 2'!BM369)","v":0},{"$f":"IF($C$8=1,'Scenario 1'!BN369,'Scenario 2'!BN369)","v":0},{"$f":"IF($C$8=1,'Scenario 1'!BO369,'Scenario 2'!BO369)","v":0}]
[null,"N Above ground residue, g N/kg",{"$f":"IF($C$8=1,'Scenario 1'!R370,'Scenario 2'!R370)","v":0},{"$f":"IF($C$8=1,'Scenario 1'!S370,'Scenario 2'!S370)","v":5},{"$f":"IF($C$8=1,'Scenario 1'!T370,'Scenario 2'!T370)","v":0},{"$f":"IF($C$8=1,'Scenario 1'!U370,'Scenario 2'!U370)","v":0},{"$f":"IF($C$8=1,'Scenario 1'!V370,'Scenario 2'!V370)","v":0},{"$f":"IF($C$8=1,'Scenario 1'!W370,'Scenario 2'!W370)","v":0},{"$f":"IF($C$8=1,'Scenario 1'!X370,'Scenario 2'!X370)","v":0},{"$f":"IF($C$8=1,'Scenario 1'!Y370,'Scenario 2'!Y370)","v":0},{"$f":"IF($C$8=1,'Scenario 1'!Z370,'Scenario 2'!Z370)","v":0},{"$f":"IF($C$8=1,'Scenario 1'!AA370,'Scenario 2'!AA370)","v":0},{"$f":"IF($C$8=1,'Scenario 1'!AB370,'Scenario 2'!AB370)","v":6},{"$f":"IF($C$8=1,'Scenario 1'!AC370,'Scenario 2'!AC370)","v":5},{"$f":"IF($C$8=1,'Scenario 1'!AD370,'Scenario 2'!AD370)","v":0},{"$f":"IF($C$8=1,'Scenario 1'!AE370,'Scenario 2'!AE370)","v":13},{"$f":"IF($C$8=1,'Scenario 1'!AF370,'Scenario 2'!AF370)","v":0},{"$f":"IF($C$8=1,'Scenario 1'!AG370,'Scenario 2'!AG370)","v":0},{"$f":"IF($C$8=1,'Scenario 1'!AH370,'Scenario 2'!AH370)","v":0},{"$f":"IF($C$8=1,'Scenario 1'!AI370,'Scenario 2'!AI370)","v":0},{"$f":"IF($C$8=1,'Scenario 1'!AJ370,'Scenario 2'!AJ370)","v":0},{"$f":"IF($C$8=1,'Scenario 1'!AK370,'Scenario 2'!AK370)","v":0},{"$f":"IF($C$8=1,'Scenario 1'!AL370,'Scenario 2'!AL370)","v":13},{"$f":"IF($C$8=1,'Scenario 1'!AM370,'Scenario 2'!AM370)","v":5},{"$f":"IF($C$8=1,'Scenario 1'!AN370,'Scenario 2'!AN370)","v":0},{"$f":"IF($C$8=1,'Scenario 1'!AO370,'Scenario 2'!AO370)","v":0},{"$f":"IF($C$8=1,'Scenario 1'!AP370,'Scenario 2'!AP370)","v":0},{"$f":"IF($C$8=1,'Scenario 1'!AQ370,'Scenario 2'!AQ370)","v":0},{"$f":"IF($C$8=1,'Scenario 1'!AR370,'Scenario 2'!AR370)","v":0},{"$f":"IF($C$8=1,'Scenario 1'!AS370,'Scenario 2'!AS370)","v":0},{"$f":"IF($C$8=1,'Scenario 1'!AT370,'Scenario 2'!AT370)","v":0},{"$f":"IF($C$8=1,'Scenario 1'!AU370,'Scenario 2'!AU370)","v":0},{"$f":"IF($C$8=1,'Scenario 1'!AV370,'Scenario 2'!AV370)","v":13},{"$f":"IF($C$8=1,'Scenario 1'!AW370,'Scenario 2'!AW370)","v":5},{"$f":"IF($C$8=1,'Scenario 1'!AX370,'Scenario 2'!AX370)","v":0},{"$f":"IF($C$8=1,'Scenario 1'!AY370,'Scenario 2'!AY370)","v":13},{"$f":"IF($C$8=1,'Scenario 1'!AZ370,'Scenario 2'!AZ370)","v":6},{"$f":"IF($C$8=1,'Scenario 1'!BA370,'Scenario 2'!BA370)","v":5},{"$f":"IF($C$8=1,'Scenario 1'!BB370,'Scenario 2'!BB370)","v":0},{"$f":"IF($C$8=1,'Scenario 1'!BC370,'Scenario 2'!BC370)","v":0},{"$f":"IF($C$8=1,'Scenario 1'!BD370,'Scenario 2'!BD370)","v":0},{"$f":"IF($C$8=1,'Scenario 1'!BE370,'Scenario 2'!BE370)","v":0},{"$f":"IF($C$8=1,'Scenario 1'!BF370,'Scenario 2'!BF370)","v":13},{"$f":"IF($C$8=1,'Scenario 1'!BG370,'Scenario 2'!BG370)","v":5},{"$f":"IF($C$8=1,'Scenario 1'!BH370,'Scenario 2'!BH370)","v":0},{"$f":"IF($C$8=1,'Scenario 1'!BI370,'Scenario 2'!BI370)","v":13},{"$f":"IF($C$8=1,'Scenario 1'!BJ370,'Scenario 2'!BJ370)","v":6},{"$f":"IF($C$8=1,'Scenario 1'!BK370,'Scenario 2'!BK370)","v":6},{"$f":"IF($C$8=1,'Scenario 1'!BL370,'Scenario 2'!BL370)","v":0},{"$f":"IF($C$8=1,'Scenario 1'!BM370,'Scenario 2'!BM370)","v":0},{"$f":"IF($C$8=1,'Scenario 1'!BN370,'Scenario 2'!BN370)","v":0},{"$f":"IF($C$8=1,'Scenario 1'!BO370,'Scenario 2'!BO370)","v":0}]
[null,"Below ground residue, %",{"$f":"IF($C$8=1,'Scenario 1'!R371,'Scenario 2'!R371)","v":0},{"$f":"IF($C$8=1,'Scenario 1'!S371,'Scenario 2'!S371)","v":15},{"$f":"IF($C$8=1,'Scenario 1'!T371,'Scenario 2'!T371)","v":0},{"$f":"IF($C$8=1,'Scenario 1'!U371,'Scenario 2'!U371)","v":0},{"$f":"IF($C$8=1,'Scenario 1'!V371,'Scenario 2'!V371)","v":0},{"$f":"IF($C$8=1,'Scenario 1'!W371,'Scenario 2'!W371)","v":0},{"$f":"IF($C$8=1,'Scenario 1'!X371,'Scenario 2'!X371)","v":0},{"$f":"IF($C$8=1,'Scenario 1'!Y371,'Scenario 2'!Y371)","v":0},{"$f":"IF($C$8=1,'Scenario 1'!Z371,'Scenario 2'!Z371)","v":0},{"$f":"IF($C$8=1,'Scenario 1'!AA371,'Scenario 2'!AA371)","v":0},{"$f":"IF($C$8=1,'Scenario 1'!AB371,'Scenario 2'!AB371)","v":25},{"$f":"IF($C$8=1,'Scenario 1'!AC371,'Scenario 2'!AC371)","v":15},{"$f":"IF($C$8=1,'Scenario 1'!AD371,'Scenario 2'!AD371)","v":0},{"$f":"IF($C$8=1,'Scenario 1'!AE371,'Scenario 2'!AE371)","v":20},{"$f":"IF($C$8=1,'Scenario 1'!AF371,'Scenario 2'!AF371)","v":0},{"$f":"IF($C$8=1,'Scenario 1'!AG371,'Scenario 2'!AG371)","v":0},{"$f":"IF($C$8=1,'Scenario 1'!AH371,'Scenario 2'!AH371)","v":0},{"$f":"IF($C$8=1,'Scenario 1'!AI371,'Scenario 2'!AI371)","v":0},{"$f":"IF($C$8=1,'Scenario 1'!AJ371,'Scenario 2'!AJ371)","v":0},{"$f":"IF($C$8=1,'Scenario 1'!AK371,'Scenario 2'!AK371)","v":0},{"$f":"IF($C$8=1,'Scenario 1'!AL371,'Scenario 2'!AL371)","v":20},{"$f":"IF($C$8=1,'Scenario 1'!AM371,'Scenario 2'!AM371)","v":15},{"$f":"IF($C$8=1,'Scenario 1'!AN371,'Scenario 2'!AN371)","v":0},{"$f":"IF($C$8=1,'Scenario 1'!AO371,'Scenario 2'!AO371)","v":0},{"$f":"IF($C$8=1,'Scenario 1'!AP371,'Scenario 2'!AP371)","v":0},{"$f":"IF($C$8=1,'Scenario 1'!AQ371,'Scenario 2'!AQ371)","v":0},{"$f":"IF($C$8=1,'Scenario 1'!AR371,'Scenario 2'!AR371)","v":0},{"$f":"IF($C$8=1,'Scenario 1'!AS371,'Scenario 2'!AS371)","v":0},{"$f":"IF($C$8=1,'Scenario 1'!AT371,'Scenario 2'!AT371)","v":0},{"$f":"IF($C$8=1,'Scenario 1'!AU371,'Scenario 2'!AU371)","v":0},{"$f":"IF($C$8=1,'Scenario 1'!AV371,'Scenario 2'!AV371)","v":20},{"$f":"IF($C$8=1,'Scenario 1'!AW371,'Scenario 2'!AW371)","v":15},{"$f":"IF($C$8=1,'Scenario 1'!AX371,'Scenario 2'!AX371)","v":0},{"$f":"IF($C$8=1,'Scenario 1'!AY371,'Scenario 2'!AY371)","v":20},{"$f":"IF($C$8=1,'Scenario 1'!AZ371,'Scenario 2'!AZ371)","v":25},{"$f":"IF($C$8=1,'Scenario 1'!BA371,'Scenario 2'!BA371)","v":15},{"$f":"IF($C$8=1,'Scenario 1'!BB371,'Scenario 2'!BB371)","v":0},{"$f":"IF($C$8=1,'Scenario 1'!BC371,'Scenario 2'!BC371)","v":0},{"$f":"IF($C$8=1,'Scenario 1'!BD371,'Scenario 2'!BD371)","v":0},{"$f":"IF($C$8=1,'Scenario 1'!BE371,'Scenario 2'!BE371)","v":0},{"$f":"IF($C$8=1,'Scenario 1'!BF371,'Scenario 2'!BF371)","v":20},{"$f":"IF($C$8=1,'Scenario 1'!BG371,'Scenario 2'!BG371)","v":15},{"$f":"IF($C$8=1,'Scenario 1'!BH371,'Scenario 2'!BH371)","v":0},{"$f":"IF($C$8=1,'Scenario 1'!BI371,'Scenario 2'!BI371)","v":20},{"$f":"IF($C$8=1,'Scenario 1'!BJ371,'Scenario 2'!BJ371)","v":25},{"$f":"IF($C$8=1,'Scenario 1'!BK371,'Scenario 2'!BK371)","v":15},{"$f":"IF($C$8=1,'Scenario 1'!BL371,'Scenario 2'!BL371)","v":0},{"$f":"IF($C$8=1,'Scenario 1'!BM371,'Scenario 2'!BM371)","v":0},{"$f":"IF($C$8=1,'Scenario 1'!BN371,'Scenario 2'!BN371)","v":0},{"$f":"IF($C$8=1,'Scenario 1'!BO371,'Scenario 2'!BO371)","v":0}]
[null,"N Below ground residue, g N/kg",{"$f":"IF($C$8=1,'Scenario 1'!R372,'Scenario 2'!R372)","v":0},{"$f":"IF($C$8=1,'Scenario 1'!S372,'Scenario 2'!S372)","v":7},{"$f":"IF($C$8=1,'Scenario 1'!T372,'Scenario 2'!T372)","v":0},{"$f":"IF($C$8=1,'Scenario 1'!U372,'Scenario 2'!U372)","v":0},{"$f":"IF($C$8=1,'Scenario 1'!V372,'Scenario 2'!V372)","v":0},{"$f":"IF($C$8=1,'Scenario 1'!W372,'Scenario 2'!W372)","v":0},{"$f":"IF($C$8=1,'Scenario 1'!X372,'Scenario 2'!X372)","v":0},{"$f":"IF($C$8=1,'Scenario 1'!Y372,'Scenario 2'!Y372)","v":0},{"$f":"IF($C$8=1,'Scenario 1'!Z372,'Scenario 2'!Z372)","v":0},{"$f":"IF($C$8=1,'Scenario 1'!AA372,'Scenario 2'!AA372)","v":0},{"$f":"IF($C$8=1,'Scenario 1'!AB372,'Scenario 2'!AB372)","v":10},{"$f":"IF($C$8=1,'Scenario 1'!AC372,'Scenario 2'!AC372)","v":7},{"$f":"IF($C$8=1,'Scenario 1'!AD372,'Scenario 2'!AD372)","v":0},{"$f":"IF($C$8=1,'Scenario 1'!AE372,'Scenario 2'!AE372)","v":7},{"$f":"IF($C$8=1,'Scenario 1'!AF372,'Scenario 2'!AF372)","v":0},{"$f":"IF($C$8=1,'Scenario 1'!AG372,'Scenario 2'!AG372)","v":0},{"$f":"IF($C$8=1,'Scenario 1'!AH372,'Scenario 2'!AH372)","v":0},{"$f":"IF($C$8=1,'Scenario 1'!AI372,'Scenario 2'!AI372)","v":0},{"$f":"IF($C$8=1,'Scenario 1'!AJ372,'Scenario 2'!AJ372)","v":0},{"$f":"IF($C$8=1,'Scenario 1'!AK372,'Scenario 2'!AK372)","v":0},{"$f":"IF($C$8=1,'Scenario 1'!AL372,'Scenario 2'!AL372)","v":7},{"$f":"IF($C$8=1,'Scenario 1'!AM372,'Scenario 2'!AM372)","v":7},{"$f":"IF($C$8=1,'Scenario 1'!AN372,'Scenario 2'!AN372)","v":0},{"$f":"IF($C$8=1,'Scenario 1'!AO372,'Scenario 2'!AO372)","v":0},{"$f":"IF($C$8=1,'Scenario 1'!AP372,'Scenario 2'!AP372)","v":0},{"$f":"IF($C$8=1,'Scenario 1'!AQ372,'Scenario 2'!AQ372)","v":0},{"$f":"IF($C$8=1,'Scenario 1'!AR372,'Scenario 2'!AR372)","v":0},{"$f":"IF($C$8=1,'Scenario 1'!AS372,'Scenario 2'!AS372)","v":0},{"$f":"IF($C$8=1,'Scenario 1'!AT372,'Scenario 2'!AT372)","v":0},{"$f":"IF($C$8=1,'Scenario 1'!AU372,'Scenario 2'!AU372)","v":0},{"$f":"IF($C$8=1,'Scenario 1'!AV372,'Scenario 2'!AV372)","v":7},{"$f":"IF($C$8=1,'Scenario 1'!AW372,'Scenario 2'!AW372)","v":7},{"$f":"IF($C$8=1,'Scenario 1'!AX372,'Scenario 2'!AX372)","v":0},{"$f":"IF($C$8=1,'Scenario 1'!AY372,'Scenario 2'!AY372)","v":7},{"$f":"IF($C$8=1,'Scenario 1'!AZ372,'Scenario 2'!AZ372)","v":10},{"$f":"IF($C$8=1,'Scenario 1'!BA372,'Scenario 2'!BA372)","v":7},{"$f":"IF($C$8=1,'Scenario 1'!BB372,'Scenario 2'!BB372)","v":0},{"$f":"IF($C$8=1,'Scenario 1'!BC372,'Scenario 2'!BC372)","v":0},{"$f":"IF($C$8=1,'Scenario 1'!BD372,'Scenario 2'!BD372)","v":0},{"$f":"IF($C$8=1,'Scenario 1'!BE372,'Scenario 2'!BE372)","v":0},{"$f":"IF($C$8=1,'Scenario 1'!BF372,'Scenario 2'!BF372)","v":7},{"$f":"IF($C$8=1,'Scenario 1'!BG372,'Scenario 2'!BG372)","v":7},{"$f":"IF($C$8=1,'Scenario 1'!BH372,'Scenario 2'!BH372)","v":0},{"$f":"IF($C$8=1,'Scenario 1'!BI372,'Scenario 2'!BI372)","v":7},{"$f":"IF($C$8=1,'Scenario 1'!BJ372,'Scenario 2'!BJ372)","v":10},{"$f":"IF($C$8=1,'Scenario 1'!BK372,'Scenario 2'!BK372)","v":10},{"$f":"IF($C$8=1,'Scenario 1'!BL372,'Scenario 2'!BL372)","v":0},{"$f":"IF($C$8=1,'Scenario 1'!BM372,'Scenario 2'!BM372)","v":0},{"$f":"IF($C$8=1,'Scenario 1'!BN372,'Scenario 2'!BN372)","v":0},{"$f":"IF($C$8=1,'Scenario 1'!BO372,'Scenario 2'!BO372)","v":0}]
[null,"Fuel consumption (L/ha) (w/o fertilizers application)",{"$f":"IF($C$8=1,'Scenario 1'!R373,'Scenario 2'!R373)","v":0},{"$f":"IF($C$8=1,'Scenario 1'!S373,'Scenario 2'!S373)","v":58.6},{"$f":"IF($C$8=1,'Scenario 1'!T373,'Scenario 2'!T373)","v":0},{"$f":"IF($C$8=1,'Scenario 1'!U373,'Scenario 2'!U373)","v":0},{"$f":"IF($C$8=1,'Scenario 1'!V373,'Scenario 2'!V373)","v":0},{"$f":"IF($C$8=1,'Scenario 1'!W373,'Scenario 2'!W373)","v":0},{"$f":"IF($C$8=1,'Scenario 1'!X373,'Scenario 2'!X373)","v":0},{"$f":"IF($C$8=1,'Scenario 1'!Y373,'Scenario 2'!Y373)","v":0},{"$f":"IF($C$8=1,'Scenario 1'!Z373,'Scenario 2'!Z373)","v":0},{"$f":"IF($C$8=1,'Scenario 1'!AA373,'Scenario 2'!AA373)","v":0},{"$f":"IF($C$8=1,'Scenario 1'!AB373,'Scenario 2'!AB373)","v":60.1},{"$f":"IF($C$8=1,'Scenario 1'!AC373,'Scenario 2'!AC373)","v":58.6},{"$f":"IF($C$8=1,'Scenario 1'!AD373,'Scenario 2'!AD373)","v":0},{"$f":"IF($C$8=1,'Scenario 1'!AE373,'Scenario 2'!AE373)","v":101.1},{"$f":"IF($C$8=1,'Scenario 1'!AF373,'Scenario 2'!AF373)","v":0},{"$f":"IF($C$8=1,'Scenario 1'!AG373,'Scenario 2'!AG373)","v":0},{"$f":"IF($C$8=1,'Scenario 1'!AH373,'Scenario 2'!AH373)","v":0},{"$f":"IF($C$8=1,'Scenario 1'!AI373,'Scenario 2'!AI373)","v":0},{"$f":"IF($C$8=1,'Scenario 1'!AJ373,'Scenario 2'!AJ373)","v":0},{"$f":"IF($C$8=1,'Scenario 1'!AK373,'Scenario 2'!AK373)","v":0},{"$f":"IF($C$8=1,'Scenario 1'!AL373,'Scenario 2'!AL373)","v":101.1},{"$f":"IF($C$8=1,'Scenario 1'!AM373,'Scenario 2'!AM373)","v":58.6},{"$f":"IF($C$8=1,'Scenario 1'!AN373,'Scenario 2'!AN373)","v":0},{"$f":"IF($C$8=1,'Scenario 1'!AO373,'Scenario 2'!AO373)","v":49.3},{"$f":"IF($C$8=1,'Scenario 1'!AP373,'Scenario 2'!AP373)","v":123.3},{"$f":"IF($C$8=1,'Scenario 1'!AQ373,'Scenario 2'!AQ373)","v":123.3},{"$f":"IF($C$8=1,'Scenario 1'!AR373,'Scenario 2'!AR373)","v":0},{"$f":"IF($C$8=1,'Scenario 1'!AS373,'Scenario 2'!AS373)","v":0},{"$f":"IF($C$8=1,'Scenario 1'!AT373,'Scenario 2'!AT373)","v":0},{"$f":"IF($C$8=1,'Scenario 1'!AU373,'Scenario 2'!AU373)","v":0},{"$f":"IF($C$8=1,'Scenario 1'!AV373,'Scenario 2'!AV373)","v":101.1},{"$f":"IF($C$8=1,'Scenario 1'!AW373,'Scenario 2'!AW373)","v":58.6},{"$f":"IF($C$8=1,'Scenario 1'!AX373,'Scenario 2'!AX373)","v":0},{"$f":"IF($C$8=1,'Scenario 1'!AY373,'Scenario 2'!AY373)","v":101.1},{"$f":"IF($C$8=1,'Scenario 1'!AZ373,'Scenario 2'!AZ373)","v":60.1},{"$f":"IF($C$8=1,'Scenario 1'!BA373,'Scenario 2'!BA373)","v":58.6},{"$f":"IF($C$8=1,'Scenario 1'!BB373,'Scenario 2'!BB373)","v":0},{"$f":"IF($C$8=1,'Scenario 1'!BC373,'Scenario 2'!BC373)","v":49.3},{"$f":"IF($C$8=1,'Scenario 1'!BD373,'Scenario 2'!BD373)","v":123.3},{"$f":"IF($C$8=1,'Scenario 1'!BE373,'Scenario 2'!BE373)","v":123.3},{"$f":"IF($C$8=1,'Scenario 1'!BF373,'Scenario 2'!BF373)","v":101.1},{"$f":"IF($C$8=1,'Scenario 1'!BG373,'Scenario 2'!BG373)","v":58.6},{"$f":"IF($C$8=1,'Scenario 1'!BH373,'Scenario 2'!BH373)","v":0},{"$f":"IF($C$8=1,'Scenario 1'!BI373,'Scenario 2'!BI373)","v":101.1},{"$f":"IF($C$8=1,'Scenario 1'!BJ373,'Scenario 2'!BJ373)","v":60.1},{"$f":"IF($C$8=1,'Scenario 1'!BK373,'Scenario 2'!BK373)","v":46.3},{"$f":"IF($C$8=1,'Scenario 1'!BL373,'Scenario 2'!BL373)","v":0},{"$f":"IF($C$8=1,'Scenario 1'!BM373,'Scenario 2'!BM373)","v":49.3},{"$f":"IF($C$8=1,'Scenario 1'!BN373,'Scenario 2'!BN373)","v":123.3},{"$f":"IF($C$8=1,'Scenario 1'!BO373,'Scenario 2'!BO373)","v":123.3}]
[null,"Variable costs  w/o fertilizer, $/ha",{"$f":"IF($C$8=1,'Scenario 1'!R374,'Scenario 2'!R374)","v":0},{"$f":"IF($C$8=1,'Scenario 1'!S374,'Scenario 2'!S374)","v":800.65},{"$f":"IF($C$8=1,'Scenario 1'!T374,'Scenario 2'!T374)","v":0},{"$f":"IF($C$8=1,'Scenario 1'!U374,'Scenario 2'!U374)","v":0},{"$f":"IF($C$8=1,'Scenario 1'!V374,'Scenario 2'!V374)","v":0},{"$f":"IF($C$8=1,'Scenario 1'!W374,'Scenario 2'!W374)","v":0},{"$f":"IF($C$8=1,'Scenario 1'!X374,'Scenario 2'!X374)","v":0},{"$f":"IF($C$8=1,'Scenario 1'!Y374,'Scenario 2'!Y374)","v":0},{"$f":"IF($C$8=1,'Scenario 1'!Z374,'Scenario 2'!Z374)","v":0},{"$f":"IF($C$8=1,'Scenario 1'!AA374,'Scenario 2'!AA374)","v":0},{"$f":"IF($C$8=1,'Scenario 1'!AB374,'Scenario 2'!AB374)","v":454.48},{"$f":"IF($C$8=1,'Scenario 1'!AC374,'Scenario 2'!AC374)","v":724.41},{"$f":"IF($C$8=1,'Scenario 1'!AD374,'Scenario 2'!AD374)","v":0},{"$f":"IF($C$8=1,'Scenario 1'!AE374,'Scenario 2'!AE374)","v":505.43},{"$f":"IF($C$8=1,'Scenario 1'!AF374,'Scenario 2'!AF374)","v":0},{"$f":"IF($C$8=1,'Scenario 1'!AG374,'Scenario 2'!AG374)","v":0},{"$f":"IF($C$8=1,'Scenario 1'!AH374,'Scenario 2'!AH374)","v":0},{"$f":"IF($C$8=1,'Scenario 1'!AI374,'Scenario 2'!AI374)","v":0},{"$f":"IF($C$8=1,'Scenario 1'!AJ374,'Scenario 2'!AJ374)","v":0},{"$f":"IF($C$8=1,'Scenario 1'!AK374,'Scenario 2'!AK374)","v":0},{"$f":"IF($C$8=1,'Scenario 1'!AL374,'Scenario 2'!AL374)","v":486.38},{"$f":"IF($C$8=1,'Scenario 1'!AM374,'Scenario 2'!AM374)","v":800.65},{"$f":"IF($C$8=1,'Scenario 1'!AN374,'Scenario 2'!AN374)","v":0},{"$f":"IF($C$8=1,'Scenario 1'!AO374,'Scenario 2'!AO374)","v":578.94000000000005},{"$f":"IF($C$8=1,'Scenario 1'!AP374,'Scenario 2'!AP374)","v":387.44},{"$f":"IF($C$8=1,'Scenario 1'!AQ374,'Scenario 2'!AQ374)","v":387.44},{"$f":"IF($C$8=1,'Scenario 1'!AR374,'Scenario 2'!AR374)","v":0},{"$f":"IF($C$8=1,'Scenario 1'!AS374,'Scenario 2'!AS374)","v":0},{"$f":"IF($C$8=1,'Scenario 1'!AT374,'Scenario 2'!AT374)","v":0},{"$f":"IF($C$8=1,'Scenario 1'!AU374,'Scenario 2'!AU374)","v":0},{"$f":"IF($C$8=1,'Scenario 1'!AV374,'Scenario 2'!AV374)","v":486.38},{"$f":"IF($C$8=1,'Scenario 1'!AW374,'Scenario 2'!AW374)","v":800.65},{"$f":"IF($C$8=1,'Scenario 1'!AX374,'Scenario 2'!AX374)","v":0},{"$f":"IF($C$8=1,'Scenario 1'!AY374,'Scenario 2'!AY374)","v":505.43},{"$f":"IF($C$8=1,'Scenario 1'!AZ374,'Scenario 2'!AZ374)","v":454.48},{"$f":"IF($C$8=1,'Scenario 1'!BA374,'Scenario 2'!BA374)","v":724.41},{"$f":"IF($C$8=1,'Scenario 1'!BB374,'Scenario 2'!BB374)","v":0},{"$f":"IF($C$8=1,'Scenario 1'!BC374,'Scenario 2'!BC374)","v":578.94000000000005},{"$f":"IF($C$8=1,'Scenario 1'!BD374,'Scenario 2'!BD374)","v":387.44},{"$f":"IF($C$8=1,'Scenario 1'!BE374,'Scenario 2'!BE374)","v":387.44},{"$f":"IF($C$8=1,'Scenario 1'!BF374,'Scenario 2'!BF374)","v":486.38},{"$f":"IF($C$8=1,'Scenario 1'!BG374,'Scenario 2'!BG374)","v":800.65},{"$f":"IF($C$8=1,'Scenario 1'!BH374,'Scenario 2'!BH374)","v":0},{"$f":"IF($C$8=1,'Scenario 1'!BI374,'Scenario 2'!BI374)","v":505.43},{"$f":"IF($C$8=1,'Scenario 1'!BJ374,'Scenario 2'!BJ374)","v":454.48},{"$f":"IF($C$8=1,'Scenario 1'!BK374,'Scenario 2'!BK374)","v":360.95},{"$f":"IF($C$8=1,'Scenario 1'!BL374,'Scenario 2'!BL374)","v":360.95},{"$f":"IF($C$8=1,'Scenario 1'!BM374,'Scenario 2'!BM374)","v":578.94000000000005},{"$f":"IF($C$8=1,'Scenario 1'!BN374,'Scenario 2'!BN374)","v":387.44},{"$f":"IF($C$8=1,'Scenario 1'!BO374,'Scenario 2'!BO374)","v":387.44}]
[null,"Variable costs, $/ha",{"$f":"IF($C$8=1,'Scenario 1'!R375,'Scenario 2'!R375)","v":0},{"$f":"IF($C$8=1,'Scenario 1'!S375,'Scenario 2'!S375)","v":0},{"$f":"IF($C$8=1,'Scenario 1'!T375,'Scenario 2'!T375)","v":0},{"$f":"IF($C$8=1,'Scenario 1'!U375,'Scenario 2'!U375)","v":0},{"$f":"IF($C$8=1,'Scenario 1'!V375,'Scenario 2'!V375)","v":0},{"$f":"IF($C$8=1,'Scenario 1'!W375,'Scenario 2'!W375)","v":0},{"$f":"IF($C$8=1,'Scenario 1'!X375,'Scenario 2'!X375)","v":0},{"$f":"IF($C$8=1,'Scenario 1'!Y375,'Scenario 2'!Y375)","v":0},{"$f":"IF($C$8=1,'Scenario 1'!Z375,'Scenario 2'!Z375)","v":0},{"$f":"IF($C$8=1,'Scenario 1'!AA375,'Scenario 2'!AA375)","v":0},{"$f":"IF($C$8=1,'Scenario 1'!AB375,'Scenario 2'!AB375)","v":0},{"$f":"IF($C$8=1,'Scenario 1'!AC375,'Scenario 2'!AC375)","v":0},{"$f":"IF($C$8=1,'Scenario 1'!AD375,'Scenario 2'!AD375)","v":0},{"$f":"IF($C$8=1,'Scenario 1'!AE375,'Scenario 2'!AE375)","v":0},{"$f":"IF($C$8=1,'Scenario 1'!AF375,'Scenario 2'!AF375)","v":0},{"$f":"IF($C$8=1,'Scenario 1'!AG375,'Scenario 2'!AG375)","v":0},{"$f":"IF($C$8=1,'Scenario 1'!AH375,'Scenario 2'!AH375)","v":0},{"$f":"IF($C$8=1,'Scenario 1'!AI375,'Scenario 2'!AI375)","v":0},{"$f":"IF($C$8=1,'Scenario 1'!AJ375,'Scenario 2'!AJ375)","v":0},{"$f":"IF($C$8=1,'Scenario 1'!AK375,'Scenario 2'!AK375)","v":0},{"$f":"IF($C$8=1,'Scenario 1'!AL375,'Scenario 2'!AL375)","v":0},{"$f":"IF($C$8=1,'Scenario 1'!AM375,'Scenario 2'!AM375)","v":0},{"$f":"IF($C$8=1,'Scenario 1'!AN375,'Scenario 2'!AN375)","v":0},{"$f":"IF($C$8=1,'Scenario 1'!AO375,'Scenario 2'!AO375)","v":0},{"$f":"IF($C$8=1,'Scenario 1'!AP375,'Scenario 2'!AP375)","v":0},{"$f":"IF($C$8=1,'Scenario 1'!AQ375,'Scenario 2'!AQ375)","v":0},{"$f":"IF($C$8=1,'Scenario 1'!AR375,'Scenario 2'!AR375)","v":0},{"$f":"IF($C$8=1,'Scenario 1'!AS375,'Scenario 2'!AS375)","v":0},{"$f":"IF($C$8=1,'Scenario 1'!AT375,'Scenario 2'!AT375)","v":0},{"$f":"IF($C$8=1,'Scenario 1'!AU375,'Scenario 2'!AU375)","v":0},{"$f":"IF($C$8=1,'Scenario 1'!AV375,'Scenario 2'!AV375)","v":0},{"$f":"IF($C$8=1,'Scenario 1'!AW375,'Scenario 2'!AW375)","v":0},{"$f":"IF($C$8=1,'Scenario 1'!AX375,'Scenario 2'!AX375)","v":0},{"$f":"IF($C$8=1,'Scenario 1'!AY375,'Scenario 2'!AY375)","v":0},{"$f":"IF($C$8=1,'Scenario 1'!AZ375,'Scenario 2'!AZ375)","v":0},{"$f":"IF($C$8=1,'Scenario 1'!BA375,'Scenario 2'!BA375)","v":0},{"$f":"IF($C$8=1,'Scenario 1'!BB375,'Scenario 2'!BB375)","v":0},{"$f":"IF($C$8=1,'Scenario 1'!BC375,'Scenario 2'!BC375)","v":0},{"$f":"IF($C$8=1,'Scenario 1'!BD375,'Scenario 2'!BD375)","v":0},{"$f":"IF($C$8=1,'Scenario 1'!BE375,'Scenario 2'!BE375)","v":0},{"$f":"IF($C$8=1,'Scenario 1'!BF375,'Scenario 2'!BF375)","v":0},{"$f":"IF($C$8=1,'Scenario 1'!BG375,'Scenario 2'!BG375)","v":0},{"$f":"IF($C$8=1,'Scenario 1'!BH375,'Scenario 2'!BH375)","v":0},{"$f":"IF($C$8=1,'Scenario 1'!BI375,'Scenario 2'!BI375)","v":0},{"$f":"IF($C$8=1,'Scenario 1'!BJ375,'Scenario 2'!BJ375)","v":0},{"$f":"IF($C$8=1,'Scenario 1'!BK375,'Scenario 2'!BK375)","v":0},{"$f":"IF($C$8=1,'Scenario 1'!BL375,'Scenario 2'!BL375)","v":0},{"$f":"IF($C$8=1,'Scenario 1'!BM375,'Scenario 2'!BM375)","v":0},{"$f":"IF($C$8=1,'Scenario 1'!BN375,'Scenario 2'!BN375)","v":0},{"$f":"IF($C$8=1,'Scenario 1'!BO375,'Scenario 2'!BO375)","v":0}]
[null,"Cost $/ha",{"$f":"IF($C$8=1,'Scenario 1'!R376,'Scenario 2'!R376)","v":0},{"$f":"IF($C$8=1,'Scenario 1'!S376,'Scenario 2'!S376)","v":800.65},{"$f":"IF($C$8=1,'Scenario 1'!T376,'Scenario 2'!T376)","v":0},{"$f":"IF($C$8=1,'Scenario 1'!U376,'Scenario 2'!U376)","v":0},{"$f":"IF($C$8=1,'Scenario 1'!V376,'Scenario 2'!V376)","v":0},{"$f":"IF($C$8=1,'Scenario 1'!W376,'Scenario 2'!W376)","v":0},{"$f":"IF($C$8=1,'Scenario 1'!X376,'Scenario 2'!X376)","v":0},{"$f":"IF($C$8=1,'Scenario 1'!Y376,'Scenario 2'!Y376)","v":0},{"$f":"IF($C$8=1,'Scenario 1'!Z376,'Scenario 2'!Z376)","v":0},{"$f":"IF($C$8=1,'Scenario 1'!AA376,'Scenario 2'!AA376)","v":0},{"$f":"IF($C$8=1,'Scenario 1'!AB376,'Scenario 2'!AB376)","v":454.48},{"$f":"IF($C$8=1,'Scenario 1'!AC376,'Scenario 2'!AC376)","v":724.41},{"$f":"IF($C$8=1,'Scenario 1'!AD376,'Scenario 2'!AD376)","v":0},{"$f":"IF($C$8=1,'Scenario 1'!AE376,'Scenario 2'!AE376)","v":505.43},{"$f":"IF($C$8=1,'Scenario 1'!AF376,'Scenario 2'!AF376)","v":0},{"$f":"IF($C$8=1,'Scenario 1'!AG376,'Scenario 2'!AG376)","v":0},{"$f":"IF($C$8=1,'Scenario 1'!AH376,'Scenario 2'!AH376)","v":0},{"$f":"IF($C$8=1,'Scenario 1'!AI376,'Scenario 2'!AI376)","v":0},{"$f":"IF($C$8=1,'Scenario 1'!AJ376,'Scenario 2'!AJ376)","v":0},{"$f":"IF($C$8=1,'Scenario 1'!AK376,'Scenario 2'!AK376)","v":0},{"$f":"IF($C$8=1,'Scenario 1'!AL376,'Scenario 2'!AL376)","v":486.38},{"$f":"IF($C$8=1,'Scenario 1'!AM376,'Scenario 2'!AM376)","v":800.65},{"$f":"IF($C$8=1,'Scenario 1'!AN376,'Scenario 2'!AN376)","v":0},{"$f":"IF($C$8=1,'Scenario 1'!AO376,'Scenario 2'!AO376)","v":578.94000000000005},{"$f":"IF($C$8=1,'Scenario 1'!AP376,'Scenario 2'!AP376)","v":387.44},{"$f":"IF($C$8=1,'Scenario 1'!AQ376,'Scenario 2'!AQ376)","v":387.44},{"$f":"IF($C$8=1,'Scenario 1'!AR376,'Scenario 2'!AR376)","v":0},{"$f":"IF($C$8=1,'Scenario 1'!AS376,'Scenario 2'!AS376)","v":0},{"$f":"IF($C$8=1,'Scenario 1'!AT376,'Scenario 2'!AT376)","v":0},{"$f":"IF($C$8=1,'Scenario 1'!AU376,'Scenario 2'!AU376)","v":0},{"$f":"IF($C$8=1,'Scenario 1'!AV376,'Scenario 2'!AV376)","v":447.33},{"$f":"IF($C$8=1,'Scenario 1'!AW376,'Scenario 2'!AW376)","v":800.65},{"$f":"IF($C$8=1,'Scenario 1'!AX376,'Scenario 2'!AX376)","v":0},{"$f":"IF($C$8=1,'Scenario 1'!AY376,'Scenario 2'!AY376)","v":505.43},{"$f":"IF($C$8=1,'Scenario 1'!AZ376,'Scenario 2'!AZ376)","v":454.48},{"$f":"IF($C$8=1,'Scenario 1'!BA376,'Scenario 2'!BA376)","v":724.41},{"$f":"IF($C$8=1,'Scenario 1'!BB376,'Scenario 2'!BB376)","v":0},{"$f":"IF($C$8=1,'Scenario 1'!BC376,'Scenario 2'!BC376)","v":578.94000000000005},{"$f":"IF($C$8=1,'Scenario 1'!BD376,'Scenario 2'!BD376)","v":387.44},{"$f":"IF($C$8=1,'Scenario 1'!BE376,'Scenario 2'!BE376)","v":387.44},{"$f":"IF($C$8=1,'Scenario 1'!BF376,'Scenario 2'!BF376)","v":486.38},{"$f":"IF($C$8=1,'Scenario 1'!BG376,'Scenario 2'!BG376)","v":800.65},{"$f":"IF($C$8=1,'Scenario 1'!BH376,'Scenario 2'!BH376)","v":0},{"$f":"IF($C$8=1,'Scenario 1'!BI376,'Scenario 2'!BI376)","v":505.43},{"$f":"IF($C$8=1,'Scenario 1'!BJ376,'Scenario 2'!BJ376)","v":454.48},{"$f":"IF($C$8=1,'Scenario 1'!BK376,'Scenario 2'!BK376)","v":360.95},{"$f":"IF($C$8=1,'Scenario 1'!BL376,'Scenario 2'!BL376)","v":160.94999999999999},{"$f":"IF($C$8=1,'Scenario 1'!BM376,'Scenario 2'!BM376)","v":578.94000000000005},{"$f":"IF($C$8=1,'Scenario 1'!BN376,'Scenario 2'!BN376)","v":387.44},{"$f":"IF($C$8=1,'Scenario 1'!BO376,'Scenario 2'!BO376)","v":387.44}]
[]
[]
[]
[]
[]
["6.3. Maximum Application rate"]
[null,null,null,"N,  kg/ha","P2O5,  kg/ha","K2O, kg/ha"]
[null,"Land Unit 1  (High soil P and K tests)",null,{"$f":"IF($C$8=1,'Scenario 1'!E297,'Scenario 2'!E297)","v":40},{"$f":"IF($C$8=1,'Scenario 1'!F297,'Scenario 2'!F297)","v":0},{"$f":"IF($C$8=1,'Scenario 1'!G297,'Scenario 2'!G297)","v":100}]
[null,"Land Unit 2",null,{"$f":"IF($C$8=1,'Scenario 1'!E298,'Scenario 2'!E298)","v":40},{"$f":"IF($C$8=1,'Scenario 1'!F298,'Scenario 2'!F298)","v":5},{"$f":"IF($C$8=1,'Scenario 1'!G298,'Scenario 2'!G298)","v":100}]
[null,"Land Unit 3  (Optimum soil P and K tests)",null,{"$f":"IF($C$8=1,'Scenario 1'!E299,'Scenario 2'!E299)","v":40},{"$f":"IF($C$8=1,'Scenario 1'!F299,'Scenario 2'!F299)","v":10},{"$f":"IF($C$8=1,'Scenario 1'!G299,'Scenario 2'!G299)","v":100}]
[null,"Land Unit 4",null,{"$f":"IF($C$8=1,'Scenario 1'!E300,'Scenario 2'!E300)","v":40},{"$f":"IF($C$8=1,'Scenario 1'!F300,'Scenario 2'!F300)","v":15},{"$f":"IF($C$8=1,'Scenario 1'!G300,'Scenario 2'!G300)","v":100}]
[null,"Land Unit 5 (Very Low soil P and K tests)",null,{"$f":"IF($C$8=1,'Scenario 1'!E301,'Scenario 2'!E301)","v":40},{"$f":"IF($C$8=1,'Scenario 1'!F301,'Scenario 2'!F301)","v":20},{"$f":"IF($C$8=1,'Scenario 1'!G301,'Scenario 2'!G301)","v":100}]
[null,"*Maximum amount of plant available nutrients above agronomic needs or legal limits"]
[]
[]
["6.4. Minimum Application rate (Amount of nutrients that may be drawn from soil reserves)"]
[null,null,null,"N,  kg/ha","P2O5,  kg/ha","K2O, kg/ha"]
[null,"Land Unit 1 (High soil P and K tests)",null,{"$f":"IF($C$8=1,'Scenario 1'!E307,'Scenario 2'!E307)","v":0},{"$f":"IF($C$8=1,'Scenario 1'!F307,'Scenario 2'!F307)","v":0},{"$f":"IF($C$8=1,'Scenario 1'!G307,'Scenario 2'!G307)","v":0}]
[null,"Land Unit 2",null,{"$f":"IF($C$8=1,'Scenario 1'!E308,'Scenario 2'!E308)","v":0},{"$f":"IF($C$8=1,'Scenario 1'!F308,'Scenario 2'!F308)","v":0},{"$f":"IF($C$8=1,'Scenario 1'!G308,'Scenario 2'!G308)","v":0}]
[null,"Land Unit 3 (Optimum soil P and K tests)",null,{"$f":"IF($C$8=1,'Scenario 1'!E309,'Scenario 2'!E309)","v":0},{"$f":"IF($C$8=1,'Scenario 1'!F309,'Scenario 2'!F309)","v":0},{"$f":"IF($C$8=1,'Scenario 1'!G309,'Scenario 2'!G309)","v":0}]
[null,"Land Unit 4",null,{"$f":"IF($C$8=1,'Scenario 1'!E310,'Scenario 2'!E310)","v":0},{"$f":"IF($C$8=1,'Scenario 1'!F310,'Scenario 2'!F310)","v":0},{"$f":"IF($C$8=1,'Scenario 1'!G310,'Scenario 2'!G310)","v":0}]
[null,"Land Unit 5 (Very Low soil P and K tests)",null,{"$f":"IF($C$8=1,'Scenario 1'!E311,'Scenario 2'!E311)","v":0},{"$f":"IF($C$8=1,'Scenario 1'!F311,'Scenario 2'!F311)","v":0},{"$f":"IF($C$8=1,'Scenario 1'!G311,'Scenario 2'!G311)","v":0}]
[]
[]
["6.5 Emission factors and coefficients used for GHG calculation"]
[null,null,null,null,null,null,{"$f":"IF($C$8=1,'Scenario 1'!G328,'Scenario 2'!G328)","v":"CH4"},{"$f":"IF($C$8=1,'Scenario 1'!H328,'Scenario 2'!H328)","v":"N2O"},{"$f":"IF($C$8=1,'Scenario 1'!I328,'Scenario 2'!I328)","v":"CO2"}]
[null,{"$f":"IF($C$8=1,'Scenario 1'!B329,'Scenario 2'!B329)","v":"Enteric fermentation Ym (% of GE)"}]
[null,null,{"$f":"IF($C$8=1,'Scenario 1'!C330,'Scenario 2'!C330)","v":"Dairy heifers"},null,null,null,{"$f":"IF($C$8=1,'Scenario 1'!G330,'Scenario 2'!G330)","v":6.5},{"$f":"IF($C$8=1,'Scenario 1'!H330,'Scenario 2'!H330)","v":0},{"$f":"IF($C$8=1,'Scenario 1'!I330,'Scenario 2'!I330)","v":0}]
[null,null,{"$f":"IF($C$8=1,'Scenario 1'!C331,'Scenario 2'!C331)","v":"Dairy cows"},null,null,null,{"$f":"IF($C$8=1,'Scenario 1'!G331,'Scenario 2'!G331)","v":6.5},{"$f":"IF($C$8=1,'Scenario 1'!H331,'Scenario 2'!H331)","v":0},{"$f":"IF($C$8=1,'Scenario 1'!I331,'Scenario 2'!I331)","v":0}]
[null,{"$f":"IF($C$8=1,'Scenario 1'!B332,'Scenario 2'!B332)","v":"Maximum CH4 production potentiel of manure, m3 / kg VS"},null,null,null,null,{"$f":"IF($C$8=1,'Scenario 1'!G332,'Scenario 2'!G332)","v":0.24},{"$f":"IF($C$8=1,'Scenario 1'!H332,'Scenario 2'!H332)","v":0},{"$f":"IF($C$8=1,'Scenario 1'!I332,'Scenario 2'!I332)","v":0}]
[null,{"$f":"IF($C$8=1,'Scenario 1'!B333,'Scenario 2'!B333)","v":"CH4 conversion factor for manure management system, %"}]
[null,null,{"$f":"IF($C$8=1,'Scenario 1'!C334,'Scenario 2'!C334)","v":"Liquid"},null,null,null,{"$f":"IF($C$8=1,'Scenario 1'!G334,'Scenario 2'!G334)","v":0.2},{"$f":"IF($C$8=1,'Scenario 1'!H334,'Scenario 2'!H334)","v":0},{"$f":"IF($C$8=1,'Scenario 1'!I334,'Scenario 2'!I334)","v":0}]
[null,null,{"$f":"IF($C$8=1,'Scenario 1'!C335,'Scenario 2'!C335)","v":"Solid"},null,null,null,{"$f":"IF($C$8=1,'Scenario 1'!G335,'Scenario 2'!G335)","v":0.02},{"$f":"IF($C$8=1,'Scenario 1'!H335,'Scenario 2'!H335)","v":0},{"$f":"IF($C$8=1,'Scenario 1'!I335,'Scenario 2'!I335)","v":0}]
[null,null,{"$f":"IF($C$8=1,'Scenario 1'!C336,'Scenario 2'!C336)","v":"Pasture"},null,null,null,{"$f":"IF($C$8=1,'Scenario 1'!G336,'Scenario 2'!G336)","v":0.01},{"$f":"IF($C$8=1,'Scenario 1'!H336,'Scenario 2'!H336)","v":0},{"$f":"IF($C$8=1,'Scenario 1'!I336,'Scenario 2'!I336)","v":0}]
[null,{"$f":"IF($C$8=1,'Scenario 1'!B337,'Scenario 2'!B337)","v":"N2O emission factor for manure management, %"}]
[null,null,{"$f":"IF($C$8=1,'Scenario 1'!C338,'Scenario 2'!C338)","v":"Liquid"},null,null,null,{"$f":"IF($C$8=1,'Scenario 1'!G338,'Scenario 2'!G338)","v":0},{"$f":"IF($C$8=1,'Scenario 1'!H338,'Scenario 2'!H338)","v":0.1},{"$f":"IF($C$8=1,'Scenario 1'!I338,'Scenario 2'!I338)","v":0}]
[null,null,{"$f":"IF($C$8=1,'Scenario 1'!C339,'Scenario 2'!C339)","v":"Solid"},null,null,null,{"$f":"IF($C$8=1,'Scenario 1'!G339,'Scenario 2'!G339)","v":0},{"$f":"IF($C$8=1,'Scenario 1'!H339,'Scenario 2'!H339)","v":2},{"$f":"IF($C$8=1,'Scenario 1'!I339,'Scenario 2'!I339)","v":0}]
[null,null,{"$f":"IF($C$8=1,'Scenario 1'!C340,'Scenario 2'!C340)","v":"Pasture"},null,null,null,{"$f":"IF($C$8=1,'Scenario 1'!G340,'Scenario 2'!G340)","v":0},{"$f":"IF($C$8=1,'Scenario 1'!H340,'Scenario 2'!H340)","v":2},{"$f":"IF($C$8=1,'Scenario 1'!I340,'Scenario 2'!I340)","v":0}]
[null,{"$f":"IF($C$8=1,'Scenario 1'!B341,'Scenario 2'!B341)","v":"N2O emission factor for fertlisation, kg N2O-N/ kg N"},null,null,null,null,{"$f":"IF($C$8=1,'Scenario 1'!G341,'Scenario 2'!G341)","v":0},{"$f":"IF($C$8=1,'Scenario 1'!H341,'Scenario 2'!H341)","v":1.1900000000000001E-2},{"$f":"IF($C$8=1,'Scenario 1'!I341,'Scenario 2'!I341)","v":0}]
[null,{"$f":"IF($C$8=1,'Scenario 1'!B342,'Scenario 2'!B342)","v":"Ratio factor adjusting for emission during spring thaw"},null,null,null,null,{"$f":"IF($C$8=1,'Scenario 1'!G342,'Scenario 2'!G342)","v":0},{"$f":"IF($C$8=1,'Scenario 1'!H342,'Scenario 2'!H342)","v":1.4},{"$f":"IF($C$8=1,'Scenario 1'!I342,'Scenario 2'!I342)","v":0}]
[null,{"$f":"IF($C$8=1,'Scenario 1'!B343,'Scenario 2'!B343)","v":"N applied as synthetic fertilizer that is lost by volatilization, kg N/kg N"},null,null,null,null,{"$f":"IF($C$8=1,'Scenario 1'!G343,'Scenario 2'!G343)","v":0},{"$f":"IF($C$8=1,'Scenario 1'!H343,'Scenario 2'!H343)","v":0.1},{"$f":"IF($C$8=1,'Scenario 1'!I343,'Scenario 2'!I343)","v":0}]
[null,{"$f":"IF($C$8=1,'Scenario 1'!B344,'Scenario 2'!B344)","v":"Emission factor form volatilisation and redeposition, kg N2O-N/kg N"},null,null,null,null,{"$f":"IF($C$8=1,'Scenario 1'!G344,'Scenario 2'!G344)","v":0},{"$f":"IF($C$8=1,'Scenario 1'!H344,'Scenario 2'!H344)","v":0.01},{"$f":"IF($C$8=1,'Scenario 1'!I344,'Scenario 2'!I344)","v":0}]
[null,{"$f":"IF($C$8=1,'Scenario 1'!B345,'Scenario 2'!B345)","v":"Manure N volatilised, (%)"}]
[null,null,{"$f":"IF($C$8=1,'Scenario 1'!C346,'Scenario 2'!C346)","v":"Liquid"},null,null,null,{"$f":"IF($C$8=1,'Scenario 1'!G346,'Scenario 2'!G346)","v":0},{"$f":"IF($C$8=1,'Scenario 1'!H346,'Scenario 2'!H346)","v":40},{"$f":"IF($C$8=1,'Scenario 1'!I346,'Scenario 2'!I346)","v":0}]
[null,null,{"$f":"IF($C$8=1,'Scenario 1'!C347,'Scenario 2'!C347)","v":"Solid"},null,null,null,{"$f":"IF($C$8=1,'Scenario 1'!G347,'Scenario 2'!G347)","v":0},{"$f":"IF($C$8=1,'Scenario 1'!H347,'Scenario 2'!H347)","v":25},{"$f":"IF($C$8=1,'Scenario 1'!I347,'Scenario 2'!I347)","v":0}]
[null,null,{"$f":"IF($C$8=1,'Scenario 1'!C348,'Scenario 2'!C348)","v":"Pasture"},null,null,null,{"$f":"IF($C$8=1,'Scenario 1'!G348,'Scenario 2'!G348)","v":0},{"$f":"IF($C$8=1,'Scenario 1'!H348,'Scenario 2'!H348)","v":20},{"$f":"IF($C$8=1,'Scenario 1'!I348,'Scenario 2'!I348)","v":0}]
[null,{"$f":"IF($C$8=1,'Scenario 1'!B349,'Scenario 2'!B349)","v":"Fraction of N Residues and N Fertilizers that leaches and runs-off"},null,null,null,null,{"$f":"IF($C$8=1,'Scenario 1'!G349,'Scenario 2'!G349)","v":0},{"$f":"IF($C$8=1,'Scenario 1'!H349,'Scenario 2'!H349)","v":0.3},{"$f":"IF($C$8=1,'Scenario 1'!I349,'Scenario 2'!I349)","v":0}]
[null,{"$f":"IF($C$8=1,'Scenario 1'!B350,'Scenario 2'!B350)","v":"Emission factor form leaching and run-off, kg N2O-N/kg N"},null,null,null,null,{"$f":"IF($C$8=1,'Scenario 1'!G350,'Scenario 2'!G350)","v":0},{"$f":"IF($C$8=1,'Scenario 1'!H350,'Scenario 2'!H350)","v":1.2500000000000001E-2},{"$f":"IF($C$8=1,'Scenario 1'!I350,'Scenario 2'!I350)","v":0}]
[null,{"$f":"IF($C$8=1,'Scenario 1'!B351,'Scenario 2'!B351)","v":"Fuel (Diesel) EF (kg/L)"},null,null,null,null,{"$f":"IF($C$8=1,'Scenario 1'!G351,'Scenario 2'!G351)","v":9.3299999999999994E-2},{"$f":"IF($C$8=1,'Scenario 1'!H351,'Scenario 2'!H351)","v":0.16},{"$f":"IF($C$8=1,'Scenario 1'!I351,'Scenario 2'!I351)","v":2.73}]
[null,{"$f":"IF($C$8=1,'Scenario 1'!B352,'Scenario 2'!B352)","v":0},null,null,null,null,{"$f":"IF($C$8=1,'Scenario 1'!G352,'Scenario 2'!G352)","v":0},{"$f":"IF($C$8=1,'Scenario 1'!H352,'Scenario 2'!H352)","v":0},{"$f":"IF($C$8=1,'Scenario 1'!I352,'Scenario 2'!I352)","v":0}]

{"sheet":"Optimization","index":4,"n_rows":498,"n_cols":72,"rows_kept":498,"cut":false,"hidden":false,"merged":[[97,1,97,4],[203,24,203,25],[203,22,203,23],[203,26,203,27],[66,21,66,22],[66,24,66,29],[71,24,71,26],[76,13,76,14],[77,13,77,14],[78,13,78,14],[79,13,79,14]]}
[null,null,"1. Select Scenario to Optimize: (Go to \"Inputs\" worksheet and select the desired scenario; the radio button below is only a reminder)"]
[]
[]
[]
[null,null,"2. Objective Functions and Overview of Simulation Results",null,null,null,null,null,null,null,null,"GHG"]
[null,null,null,null,"Net Income",null,null,"Whole-Farm Balance (kg/y)",null,null,null,"Emission"]
[null,null,null,null,"$/y","P","N","K","Na","Cl","S","t CO2 eq"]
[null,null,null,"Target Cells:",{"$f":"E11-E10","v":111804.32067532319},{"$f":"F23-F30","v":1227.5902667562036},{"$f":"G10-G11","v":13299.2166545129},{"$f":"H10-H11","v":4092.6141191959114},{"$f":"SUMPRODUCT(B100:F100,T300:X300)*10+SUMPRODUCT(B101:F101,T300:X300)*10+SUMPRODUCT(B102:F102,T300:X300)*10+SUMPRODUCT(B103:F103,T300:X300)*10+SUMPRODUCT(B104:F104,T300:X300)*10+SUMPRODUCT(M496:Q496,Inputs!D$115:H$115)*365/1000+3.4*M385-SUMPRODUCT(B153:AA153,AE161:BD161)*10-Inputs!C71*0.063%-Inputs!C31*Inputs!C34%*Inputs!C32*0.14%-(B262*AB300%+C262*AC300%)*1000-(Inputs!C31*12/Inputs!C33)*0.5*1.39*80/1000-((Inputs!C31*12/Inputs!C33)*0.5-Inputs!C31*Inputs!C34%*(1-Inputs!C39/100))*IF(Inputs!C42=1,Inputs!C32*0.14%,1.39*80/1000)","v":1845.040261140977},{"$f":"SUMPRODUCT(B100:F100,T301:X301)*10+SUMPRODUCT(B101:F101,T301:X301)*10+SUMPRODUCT(B102:F102,T301:X301)*10+SUMPRODUCT(B103:F103,T301:X301)*10+SUMPRODUCT(B104:F104,T301:X301)*10+SUMPRODUCT(M497:Q497,Inputs!D$115:H$115)*365/1000+1*M385-SUMPRODUCT(B153:AA153,AE163:BD163)*10-Inputs!C71*0.115%-Inputs!C31*Inputs!C34%*Inputs!C32*0.1%-(B262*AB301%+C262*AC301%)*1000-(Inputs!C31*12/Inputs!C33)*0.5*1*80/1000-((Inputs!C31*12/Inputs!C33)*0.5-Inputs!C31*Inputs!C34%*(1-Inputs!C39/100))*IF(Inputs!C42=1,Inputs!C32*0.1%,1*80/1000)","v":6643.2151213556745},{"$f":"SUMPRODUCT(B100:F100,T302:X302)*10+SUMPRODUCT(B101:F101,T302:X302)*10+SUMPRODUCT(B102:F102,T302:X302)*10+SUMPRODUCT(B103:F103,T302:X302)*10+SUMPRODUCT(B104:F104,T302:X302)*10+SUMPRODUCT(M498:Q498,Inputs!D$115:H$115)*365/1000+5.5*M385-SUMPRODUCT(B153:AA153,AE165:BD165)*10-Inputs!C71*0.014%-Inputs!C31*Inputs!C34%*Inputs!C32*0.15%-(B262*AB302%+C262*AC302%)*1000-(Inputs!C31*12/Inputs!C33)*0.5*45*0.15%-((Inputs!C31*12/Inputs!C33)*0.5-Inputs!C31*Inputs!C34%*(1-Inputs!C39/100))*IF(Inputs!C42=1,Inputs!C32*0.15%,45*0.15%)","v":962.73728431699669},{"$f":"I75","v":1689.5910053334769}]
[null,null,null,null,null,3500,65000,null,null,null,null,805.4363982076934]
[null,null,"Total Costs /Imports",null,{"$f":"E15+E14+SUM(E16:E19)","v":371286.18942284241},{"$f":"SUM(F16:F22)","v":3560.8377515785032},{"$f":"SUM(G16:G22)","v":25055.101240453281},{"$f":"SUM(H16:H22)","v":7372.2028962820095}]
[null,null,"Total Incomes / Exports",null,{"$f":"SUM(E26:E28)","v":483090.5100981656},{"$f":"SUM(F26:F28)","v":2333.2474848222996},{"$f":"SUM(G26:G29)","v":11755.884585940381},{"$f":"SUM(H26:H29)","v":3279.5887770860982}]
[]
[null,null,"Itemized Costs/Imports"]
[null,null,"Fixed costs",null,{"$f":"Inputs!D102","v":148899.42259827061}]
[null,null,"Variable costs",null,{"$f":"Inputs!D94*Inputs!C71/103","v":70655.757219016057}]
[null,null,"Homegrown feeds",null,{"$f":"SUM(E34:E36)","v":90863.819068798024}]
[null,null,"Purchased feeds",null,{"$f":"SUM(E38:E40)","v":34212.452846881599},{"$f":"SUMPRODUCT(IF(B153:AA153>0,0,ABS(B153:AA153)),((AE155:BD155)*10))","v":1158.0147663570272},{"$f":"SUMPRODUCT(IF(B153:AA153>0,0,ABS(B153:AA153)),(((AE148:BD148)*10)/6.25))","v":7495.3948313621522},{"$f":"SUMPRODUCT(IF(B153:AA153>0,0,ABS(B153:AA153)),((AE157:BD157)*10))","v":1912.4579496491517}]
[null,null,"Fertilizer",null,{"$f":"SUM(E42:E43)","v":20055.199522245148},{"$f":"SUMPRODUCT(B106:F106,(((T298:X298)*0.437)*10))","v":2402.8229852214763},{"$f":"SUMPRODUCT(B106:F106,((T297:X297)*10))","v":4699.927168045393},{"$f":"SUMPRODUCT(B106:F106,((((T299:X299)*10))*0.83))","v":5289.1512852902542}]
[null,null,"Manure spreading",null,{"$f":"SUM(E45:E46)","v":6599.5381676309516}]
[null,null,"Legume N Fixation",null,null,null,{"$f":"SUMPRODUCT(B84:F84,M400:Q400)*$M$380+SUMPRODUCT(B87:F87,M420:Q420)*$M$381+SUMPRODUCT(B90:F90,M440:Q440)*$M$382+SUMPRODUCT(B93:F93,M460:Q460)*$M$383+SUMPRODUCT(B96:F96,M480:Q480)*$M384","v":11952.579241045736}]
[null,null,"Atmosph. deposition",null,null,null,{"$f":"6*M385","v":907.19999999999993},{"$f":"1*M385","v":151.19999999999999}]
[null,null,"Drinking water",null,null,null,null,{"$f":"SUMPRODUCT(M495:Q495,Inputs!D$115:H$115)*365/1000","v":19.393661342604108}]
[null,null,"Total",null,{"$f":"SUM(E14:E22)","v":371286.18942284241},{"$f":"SUM(F14:F22)","v":3560.8377515785032},{"$f":"SUM(G14:G22)","v":25055.101240453281},{"$f":"SUM(H14:H22)","v":7372.2028962820095}]
[]
[null,null,"Itemized Incomes / Exports"]
[null,null,"Milk",null,{"$f":"Inputs!D80*Inputs!C72","v":353998.69457108853},{"$f":"Inputs!C71*0.09%","v":911.32938103376944},{"$f":"Inputs!C71*Inputs!C51%/6.38","v":4920.0994099698455},{"$f":"(Inputs!C71*0.15%)","v":1518.8823017229493}]
[null,null,"Animal",null,{"$f":"Inputs!D85*Inputs!C71/103","v":47271.667582422786},{"$f":"(Inputs!C31*Inputs!C34%*Inputs!C32*0.72%)+(Inputs!C31*12/Inputs!C33)*0.5*45*0.83%+((Inputs!C31*12/Inputs!C33)*0.5-Inputs!C31*Inputs!C34%*(1-Inputs!C39/100))*IF(Inputs!C42=1,Inputs!C32*0.72%,45*0.83%)","v":194.61588461870502},{"$f":"Inputs!C31*Inputs!C34%*Inputs!C32*2.53%+(Inputs!C31*12/Inputs!C33)*0.5*45*2.88%+((Inputs!C31*12/Inputs!C33)*0.5-Inputs!C31*Inputs!C34%*(1-Inputs!C39/100))*IF(Inputs!C42=1,Inputs!C32*2.53%,45*2.88%)","v":682.91005053237393},{"$f":"Inputs!C31*Inputs!C34%*Inputs!C32*0.16%+(Inputs!C31*12/Inputs!C33)*0.5*45*0.155%+((Inputs!C31*12/Inputs!C33)*0.5-Inputs!C31*Inputs!C34%*(1-Inputs!C39/100))*IF(Inputs!C42=1,Inputs!C32*0.16%,45*0.155%)","v":42.483368525179849}]
[null,null,"Crops",null,{"$f":"SUMPRODUCT(IF(B144:J144>B152:J152,B153:J153,0),AE169:AM169)","v":81820.147944654251},{"$f":"SUMPRODUCT(IF(B144:J144>B152:J152,B153:J153,0),(AE155:AM155)*10)","v":1227.3022191698251},{"$f":"SUMPRODUCT(IF(B144:J144>B152:J152,B153:J153,0),(((AE148:AM148)*10)/6.25))","v":6152.8751254381605},{"$f":"SUMPRODUCT(IF(B144:J144>B152:J152,B153:J153,0),((AE157:AM157)*10))","v":1718.2231068379692}]
[null,null,"Manure",null,null,{"$f":"(B262*AB298%+C262*AC298%)*1000/2.29","v":0},{"$f":"(B262*AB297%+C262*AC297%)*1000","v":0},{"$f":"(B262*AB299%+C262*AC299%)*0.833*1000","v":0},null,null,null,null,null,"O/N","CF"]
[null,null,"Total",null,{"$f":"SUM(E26:E28)","v":483090.5100981656},{"$f":"SUM(F26:F29)","v":2333.2474848222996},{"$f":"SUM(G26:G29)","v":11755.884585940381},{"$f":"SUM(H26:H29)","v":3279.5887770860982},null,null,null,null,"Nitrogen",{"$f":"N348","v":1.1056983827135305},1.1422116316017699]
[null,null,null,null,null,null,null,null,null,null,null,null,"Phosphorus",1.1597458935698579,1.0655072476302658]
[null,null,"Further Itemized Costs/Imports",null,null,null,null,null,null,null,null,null,"Potassium",1.7584698355899064,1.3503265943426155]
[null,null,"Homegrown Feeds",null,null,null,null,null,null,null,null,null,"Sodium",1.0165717062001487,2.2002084841826646]
[null,null,"Cost of production",null,{"$f":"SUM(M380*SUMPRODUCT(B84:F84,M409:Q409),M381*SUMPRODUCT(B87:F87,M429:Q429),M382*SUMPRODUCT(B90:F90,M449:Q449),M383*SUMPRODUCT(M469:Q469,B93:F93),M384*SUMPRODUCT(M489:Q489,B96:F96))","v":87070.793768667907},null,null,null,null,null,null,null,"Chloride",2.5935875587937254,3.6227530055100594]
[null,null,"Transport",null,{"$f":"SUMPRODUCT(AE170:AM170,B152:J152)","v":0},null,null,null,null,null,null,null,"Sulfur",1.1275508836074453,1.5533991724192806]
[null,null,"Storage",null,{"$f":"SUMPRODUCT(B152:J152,AE171:AM171)","v":3793.0253001301103},null,null,null,null,null,null,null,"*See Note B) for details."]
[null,null,"Purchased Feeds"]
[null,null,"Purchased cost",null,{"$f":"SUMPRODUCT(IF(B153:AA153<0,ABS(B153:AA153),0),AE169:BD169)","v":33942.581801542612}]
[null,null,"Transport ",null,{"$f":"SUMPRODUCT(ABS(B153:AA153),AE170:BD170)","v":0}]
[null,null,"Storage",null,{"$f":"SUMPRODUCT(K152:AA152,AN171:BD171)","v":269.87104533898844}]
[null,null,"Fertilizer"]
[null,null,"Purchased cost",null,{"$f":"SUMPRODUCT(B100:F100,AI294:AM294)+SUMPRODUCT(B101:F101,AI294:AM294)+SUMPRODUCT(B102:F102,AI294:AM294)+SUMPRODUCT(B103:F103,AI294:AM294)+SUMPRODUCT(B104:F104,AI294:AM294)","v":20055.199522245148}]
[null,null,"Spreading cost",null,0]
[null,null,"Manure",null,null,null,null,null,null,null,null,null,"Correction Factor for concentrate used in pasture period"]
[null,null,"Spreading cost",null,{"$f":"SUMPRODUCT(G100:H100,AN296:AO296)+SUMPRODUCT(G101:H101,AN297:AO297)+SUMPRODUCT(G102:H102,AN298:AO298)+SUMPRODUCT(G103:H103,AN299:AO299)+SUMPRODUCT(G104:H104,AN300:AO300)","v":6599.5381676309516}]
[null,null,"Export spreading Cost",null,{"$f":"SUMPRODUCT(G105:H105,AN301:AO301)","v":0},null,null,null,null,null,null,null,null,"CF Concentrates","CF forages","CF Concentrates","CF Forages"]
[null,null,null,null,null,null,null,null,null,null,null,null,"Group","Computed","Computed","Used","Used"]
[null,null,"Weighted Combined Index (Advance Usage)",null,null,null,{"$f":"(E8*E51)-(F8*F50*F51)-(G8*G50*G51)-(H8*H50*H51)-(I8*I50*I51)-(J8*J50*J51)-(K8*K50*K51)","v":111804.32067532319},null,null,null,null,null,1,{"$f":"AA206","v":{"$error":"#DIV/0!"}},{"$error":"#DIV/0!"},0.99999999999999767,1]
[null,null,null,null,null,null,null,null,null,null,null,null,2,{"$error":"#DIV/0!"},{"$error":"#DIV/0!"},0,1]
[null,null,"Cost of Reducing the Balance, $/kg",null,null,0,0,0,0,0,0,null,3,{"$error":"#DIV/0!"},{"$error":"#DIV/0!"},0,1]
[null,null,"Weight factor",null,1,1,1,1,1,1,1,null,4,{"$error":"#DIV/0!"},{"$error":"#DIV/0!"},0,1]
[null,null,null,null,null,null,null,null,null,null,null,null,5,{"$error":"#DIV/0!"},{"$error":"#DIV/0!"},0,1]
[]
[null,null,"GHG emissions",null,null,null,"kg",null,"tons CO2 eq"]
[null,null,"CH4","Enteric fermentation",null,null,{"$f":"SUMPRODUCT(B182:F182,BN332:BR332)%/55.65+SUMPRODUCT(B210:F210,BN332:BR332)%/55.65","v":22148.934897505311},null,{"$f":"G55*25/1000","v":553.72337243763275},{"$f":"I55*1000/T$68","v":0.58494098325280708}]
[null,null,null,"Manure management",null,null,{"$f":"(SUMPRODUCT(B183:F183,BN333:BR333)+SUMPRODUCT(B211:F211,BN334:BR334))*Inputs!G456*0.67*1000","v":9450.8148755408292},null,{"$f":"G56*25/1000","v":236.27037188852071},{"$f":"I56*1000/T$68","v":0.24959073523945205}]
[null,null,null,"Fuel",null,null,{"$f":"Inputs!G475*(SUMPRODUCT(B84:F84,M406:Q406)*M380+SUMPRODUCT(B87:F87,M426:Q426)*M381+SUMPRODUCT(B90:F90,M446:Q446)*M382+SUMPRODUCT(B93:F93,M466:Q466)*M383+SUMPRODUCT(B96:F96,M486:Q486)*M384)","v":1151.0407776130412},null,{"$f":"G57*25/1000","v":28.776019440326028},{"$f":"I57*1000/T$68","v":3.0398343186104286E-2}]
[null,null,null,null,null,"Total CH4",{"$f":"SUM(G55:G57)","v":32750.790550659181},null,{"$f":"SUM(I55:I57)","v":818.76976376647951},0.8649300616783635]
[null,null,"N2O","Manure management",null,null,{"$f":"SUMPRODUCT(M324:Q324,BN335:BR335)%*44/28*1000","v":36.852168558348495},null,{"$f":"G59*298/1000","v":10.981946230387852},1.1601082319775215E-2]
[null,null,null,"Manure applied on pasture",null,null,{"$f":"SUMPRODUCT(M335:Q335,BN336:BR336)%*44/28*1000","v":0},null,{"$f":"G60*298/1000","v":0},0]
[null,null,null,"Synthetic fertilizers",null,null,{"$f":"SUMPRODUCT(B106:F106,T297:X297%)*Inputs!H465*Inputs!H466*44/28*1000","v":123.04409325942841},null,{"$f":"G61*298/1000","v":36.667139791309665},3.873434619199239E-2]
[null,null,null,"Organic fertilizers",null,null,{"$f":"AG324*Inputs!H465*1000","v":188.78623548755337},null,{"$f":"G62*298/1000","v":56.258298175290903},5.9430007633442909E-2]
[null,null,null,"Crop residues",null,null,{"$f":"(SUMPRODUCT(B84:F84,M405:Q405)*Inputs!C313+SUMPRODUCT(B87:F87,M425:Q425)*Inputs!C314+SUMPRODUCT(B90:F90,M445:Q445)*Inputs!C315+SUMPRODUCT(B93:F93,M465:Q465)*Inputs!C316+SUMPRODUCT(B96:F96,M485:Q485)*Inputs!C317)*Inputs!H465*Inputs!H466*44/28","v":140.93990694880955},null,{"$f":"G63*298/1000","v":42.000092270745249},4.4367957887357291E-2]
[null,null,null,"Indirect N2O emissions - Volatilization",null,null,null,null,null,0]
[null,null,null,null,"Fertilizers",null,{"$f":"SUMPRODUCT(B106:F106,T297:X297%)*1000*Inputs!H467*Inputs!H468*44/28","v":7.385599835499904},null,{"$f":"G65*298/1000","v":2.2009087509789715},2.3249907678266741E-3]
[null,null,null,null,"Manure",null,{"$f":"(SUMPRODUCT(M324:Q324,1-TRANSPOSE(M358:M362))+SUMPRODUCT(M324:Q324,TRANSPOSE(M358:M362),1-TRANSPOSE(Q358:Q362))+SUMPRODUCT(M324:Q324,TRANSPOSE(M358:M362),TRANSPOSE(Q358:Q362),1-TRANSPOSE(T358:T362)))*1000*Inputs!H468*44/28+R335*1000*(1-Inputs!V291)*Inputs!H468*44/28","v":185.36640784849288},null,{"$f":"G66*298/1000","v":55.23918953885088},5.8353444068469318E-2]
[null,null,null,"Indirect N2O emissions - Leach., Run-Off",null,null,null,null,null,0,null,null,null,null,null,null,null,null,null,null,"TP"]
[null,null,null,null,"Fertilizers",null,{"$f":"SUMPRODUCT(B106:F106,T297:X297%)*1000*Inputs!H473*Inputs!H474*44/28","v":27.69599938312464},null,{"$f":"G68*298/1000","v":8.2534078161711424},8.7187153793500272E-3,null,null,null,null,null,null,null,null," FPCM",{"$f":"Inputs!C71*(0.1226*Inputs!C50+0.0776*U68+0.2534)","v":946631.17868476943},{"$f":"Inputs!C51-(Inputs!C51*0.19%)","v":3.0941100000000001}]
[null,null,null,null,"Crop Residues",null,{"$f":"(SUMPRODUCT(M405:Q405,B84:F84)*M380+SUMPRODUCT(M425:Q425,B87:F87)*M381+SUMPRODUCT(M445:Q445,B90:F90)*M382+SUMPRODUCT(M465:Q465,B93:F93)*M383+SUMPRODUCT(M485:Q485,B96:F96)*M384)*Inputs!H473*Inputs!H474*44/28","v":31.724168730974537},null,{"$f":"G69*298/1000","v":9.4538022818304128},9.9867852387508903E-3,null,null,null,null,null,null,null,null,"FPCM",{"$f":"(Inputs!C71*(0.337+0.116*Inputs!C50+0.06*Inputs!C51))","v":952440.46200040414}]
[null,null,null,null,"Manure",null,{"$f":"SUM(AB324:AF324)*1000*Inputs!H473*Inputs!H474*44/28","v":93.486581198818428},null,{"$f":"G70*298/1000","v":27.859001197247888},2.9429625628805755E-2,null,null,null,null,null,null,null,null," ECM",{"$f":"(Inputs!C71*(383*Inputs!C50+242*Inputs!C51+783.2)/3140)","v":939127.18451753131}]
[null,null,null,"Fuel",null,null,{"$f":"Inputs!H475*(SUMPRODUCT(B84:F84,M406:Q406)*M380+SUMPRODUCT(B87:F87,M426:Q426)*M381+SUMPRODUCT(B90:F90,M446:Q446)*M382+SUMPRODUCT(B93:F93,M466:Q466)*M383+SUMPRODUCT(B96:F96,M486:Q486)*M384)","v":1973.9177322410142},null,{"$f":"G71*298/1000","v":588.22748420782227},0.62139035503256279]
[null,null,null,null,null,"Total N2O",{"$f":"SUM(G59:G71)","v":2809.1988934920646},null,{"$f":"SUM(I59:I71)","v":837.14127026063522},0.88433731014833317]
[null,null,"CO2","Fuel consumption",null,null,{"$f":"Inputs!I475*(SUMPRODUCT(B84:F84,M406:Q406)*M380+SUMPRODUCT(B87:F87,M426:Q426)*M381+SUMPRODUCT(B90:F90,M446:Q446)*M382+SUMPRODUCT(B93:F93,M466:Q466)*M383+SUMPRODUCT(B96:F96,M486:Q486)*M384)","v":33679.971306362298},null,{"$f":"G73/1000","v":33.679971306362297},3.5578768230681547E-2]
[null,null,null,null,null,"Total CO2",{"$f":"SUM(G73)","v":33679.971306362298},null,{"$f":"SUM(I73)","v":33.679971306362297},3.5578768230681547E-2,null,null,null,null,null,null,null,null,"Total meat sold/year",{"$f":"Inputs!C31*Inputs!C34%*Inputs!C32+(Inputs!C31*12/Inputs!C33)*0.5*45+((Inputs!C31*12/Inputs!C33)*0.5-Inputs!C31*Inputs!C34%*(1-Inputs!C39/100))*IF(Inputs!C42=1,Inputs!C32,45)","v":26633.254532374096}]
[null,null,null,null,null,null,"Total eq CO2, tons",null,{"$f":"I74+I72+I58","v":1689.5910053334769},1.7848461400573781,null,null,null,null,null,null,null,null,"R=kg meat/kgmilk ",{"$f":"T74/T68","v":2.8134774273310764E-2}]
[null,null,null,null,null,null,null,null,null,{"$f":"I75-I71","v":1101.3635211256546},"Sans N20 fuel",null,null,null,null,null,null,null,"AF to milk",{"$f":"1-5.7717*T75","v":0.83761452332673225}]
[null,null,null,null,null,"Total  kg CO2 eq FPCM (kg/yr)",null,null,{"$f":"(I75*1000)/T68","v":1.7848461400573781},{"$f":"J76*1000/T68","v":1.1634557850248153},null,"Milk allocation",{"$f":"P80*T76","v":0.80947354532162774},"TOTAL GHG ",null,{"$f":"T68*J77","v":1101363.5211256547},null,null,"AF to meat",{"$f":"1-T76","v":0.16238547667326775}]
[null,null,null,null,null,"TotalCO2 eq/FPCM (kg/yr)",null,null,{"$f":"(I75*1000)/T69","v":1.7739597095495507},null,null,"Beef allocation",{"$f":"P80*T77","v":0.15692988105004296},"Economic Alloc. (cash crops)",null,{"$f":"(T78*P77)/T80","v":186535.90653444012},null,null,"Crop Income/FPCM",{"$f":"E28/T68","v":8.6432973883591641E-2}]
[null,null,null,null,null,"TotalCO2 eq/ ECM (kg/yr)",null,null,{"$f":"(I75*1000)/T70","v":1.7991077600436942},null,null,"Crop cash allocation",{"$f":"P79","v":0.19705235865314452},"Total GHG/kg FPCM from cash crops",null,{"$f":"P78/T68","v":0.19705235865314452},null,null,"Milk and others income",{"$f":"(E27+E26)/T68","v":0.42389303372727316}]
[null,null,null,null,null,null,null,null,null,null,null,null,null,"Milk and meat GHG  (CO2 eq/kg FPCM)",null,{"$f":"J77-P79","v":0.96640342637167076},null,null,"TOTAL",{"$f":"SUM(T78:T79)","v":0.51032600761086477}]
["2. Optimized variables"]
["2.1. Rotation in each Land Unit"]
["Rotation chosen for",{"$f":"M391","v":"CCC"},{"$f":"N391","v":"SCC"},{"$f":"O391","v":"CCAAA"},{"$f":"P391","v":"CCCSCAAA"},{"$f":"Q391","v":"       CCCSWAAA"}]
[{"$f":"L380","v":"LU 1"},0,0,1.0000000000000069,0,0]
[]
[null,{"$f":"M411","v":"CCC"},{"$f":"N411","v":"SCC"},{"$f":"O411","v":"CCAAA"},{"$f":"P411","v":"CCCSCAAA"},{"$f":"Q411","v":"CCCSWAAA"}]
[{"$f":"L381","v":"LU 2"},1,0,0,0,0]
[]
[null,{"$f":"M431","v":"CCC"},{"$f":"N431","v":"SCC"},{"$f":"O431","v":"CCAAA"},{"$f":"P431","v":"CCCSCAAA"},{"$f":"Q431","v":"CCCSWAAA"}]
[{"$f":"L382","v":"LU 3"},0,0,0,0.99999999999999478,0]
[]
[null,{"$f":"M451","v":"CCC"},{"$f":"N451","v":"SCC"},{"$f":"O451","v":"CCAAA"},{"$f":"P451","v":"CCCSCAAA"},{"$f":"Q451","v":"CCCSWAAA"}]
[{"$f":"L383","v":"LU 4"},1,0,0,0,0]
[]
[null,{"$f":"M471","v":"CCC"},{"$f":"N471","v":"SCC"},{"$f":"O471","v":"CCAAA"},{"$f":"P471","v":"CCCSCAAA"},{"$f":"Q471","v":"CCCSWAAA"}]
[{"$f":"L384","v":"LU 5"},0.58813301794251349,0,0,0.41186698205747385,0]
[]
["2.2. Crop Fertilization:","Purchased Inorganic Fertilizer",null,null,null,null,"Manure Application"]
["Fertilizer & manure (t/yr) chosen for",{"$f":"T295","v":"18-46-0"},"27-0-0","0-46-0","0-0-60","11-52-0","Solid","Liquid","Pasture"]
["Land Unit 1",1.5728670817862427,0,0,3.1967194307131614,0,0,752.37218245755173,0]
["Land Unit 2",0,0,0,0,0,0,0,0]
["Land Unit 3",3.7568839214621423,0,0,3.9909243130354675,0,0,1545.7513243009821,0]
["Land Unit 4",0,0,0,0,0,0,0,0]
["Land Unit 5",6.6234028382672676,9.4383684317502805,0,3.4331419696856158,0,0,2101.5686049954343,0]
["Exported manure",null,null,null,null,null,0,0]
["Total",{"$f":"SUM(B100:B105)","v":11.953153841515652},9.4383684317502805,0,10.620785713434245,0,0,4399.6921117539678,0]
[]
[]
["2.3.1 Winter Diets:"]
["Ingredients (tons DM)",{"$f":"AE136","v":"GrPast-49"},"CoSi-35","AlSi-83","MxSi-74","GrHy-52","SBw-108","CoGr-27","Barley-8","Wheat-116","Brewers grains-16","Canola-19","FatCa-40","SBMx-104","SBM48-107","CGM-25","CoDi-23","Bld Meal-14","Urea","SoyHull-103","CottonSd-w-37","CaCO3","NaH2PO4.H20","MgO","CaSO4.2H20","NaCl","MgSO4.7H20","Total"]
["Group 1",0,130.84155358460345,34.685337969004983,0,0,32.91540677182261,71.267459581278487,0,0,0,0,0,0,0,0,49.065582594221226,0,0.92268105253132504,0,3.7676560416787321,1.9546948778638231,1.7083230416642326E-2,4.4371148574304839E-2,4.7055005923990458E-2,1.5750021035905093,0,{"$f":"SUM(B111:AA111)","v":327.10388396151006}]
["Group 2",0,162.73388080796369,52.19134584678747,126.08622982440126,0,0,0,0,0,0,0,0,0,0,1.2339001158986755,61.025205302985292,0,0,0,0,2.0658005639023274,0,0,0,1.4983395579678878,0,{"$f":"SUM(B112:AA112)","v":406.83470201990656}]
["Group 3",0,24.59808000000001,30.607374463377557,0,6.1495200000000043,0,0,0,0,0,0,0,0,0,0,0,0,0,0,0,0,0,0,0,0.14022553662258103,0,{"$f":"SUM(B113:AA113)","v":61.495200000000146}]
["Group 4",0,28.438731037689514,23.288952222806316,7.6605646289898646,0,0,0,0,0,0,0,0,0,0,0.9954028983022678,10.664524139134123,0,0,0,0,0,0,0,0,4.8652667304852744E-2,0,{"$f":"SUM(B114:AA114)","v":71.096827594226937}]
["Group 5",0,74.415215481294197,91.713001843045319,8.7446324677377252,10.875581852459607,0,0,0,0,0,0,0,0,0,0,0,0,0,0,0,0,0,0,0,0.28960705869778869,0,{"$f":"SUM(B115:AA115)","v":186.03803870323463}]
["Composition, % of DM"]
["Group 1",{"$f":"B111/SUM($B$111:$AA$111)%","v":0},{"$f":"C111/SUM($B$111:$AA$111)%","v":39.999999999999822},10.603768304104383,0,0,10.062676839292966,21.787408549898004,0,0,0,0,0,0,0,0,14.999999999998385,0,0.28207584739039537,0,1.1518224718242931,0.59757617494197346,5.222570337517757E-3,1.3564849196203963E-2,1.4385340019236021E-2,0.48149905299682655,0,{"$f":"SUM(B117:AA117)","v":100}]
["Group 2",{"$f":"B112/SUM($B$112:$AA$112)%","v":0},40.000000000000263,12.828636688969992,30.992004663906918,0,0,0,0,0,0,0,0,0,0,0.30329274021425545,14.999999999999829,0,0,0,0,0.50777393217583666,0,0,0,0.36829197473291586,0,{"$f":"SUM(B118:AA118)","v":100.00000000000001}]
["Group 3",{"$f":"B113/SUM($B$113:$AA$113)%","v":0},39.999999999999922,49.771973200148111,0,9.9999999999999822,0,0,0,0,0,0,0,0,0,0,0,0,0,0,0,0,0,0,0,0.22802679985198956,0,{"$f":"SUM(B119:AA119)","v":100.00000000000001}]
["Group 4",{"$f":"B114/SUM($B$114:$AA$114)%","v":0},39.999999999998224,32.756668631860833,10.774833263603877,0,0,0,0,0,0,0,0,0,0,1.4000665458427493,15.000000000000115,0,0,0,0,0,0,0,0,6.8431558694193179E-2,0,{"$f":"SUM(B120:AA120)","v":99.999999999999986}]
["Group 5",{"$f":"B115/SUM($B$115:$AA$115)%","v":0},40.000000000000185,49.297983617933461,4.7004540193454982,5.8458914791120691,0,0,0,0,0,0,0,0,0,0,0,0,0,0,0,0,0,0,0,0.15567088360879033,0,{"$f":"SUM(B121:AA121)","v":100.00000000000001}]
["Forages, % of DM"]
["Group 1",{"$f":"IF(OR(AE$138=\"S\",AE$138=\"H\"),B117,0)","v":0},{"$f":"IF(OR(AF$138=\"S\",AF$138=\"H\"),C117,0)","v":39.999999999999822},10.603768304104383,0,0,0,0,0,0,0,0,0,0,0,0,0,0,0,0,0,0,0,0,0,0,0,{"$f":"SUM(B123:AA123)","v":50.603768304104207}]
["Group 2",{"$f":"IF(OR(AE$138=\"S\",AE$138=\"H\"),B118,0)","v":0},40.000000000000263,12.828636688969992,30.992004663906918,0,0,0,0,0,0,0,0,0,0,0,0,0,0,0,0,0,0,0,0,0,0,{"$f":"SUM(B124:AA124)","v":83.820641352877175}]
["Group 3",{"$f":"IF(OR(AE$138=\"S\",AE$138=\"H\"),B119,0)","v":0},39.999999999999922,49.771973200148111,0,9.9999999999999822,0,0,0,0,0,0,0,0,0,0,0,0,0,0,0,0,0,0,0,0,0,{"$f":"SUM(B125:AA125)","v":99.771973200148025}]
["Group 4",{"$f":"IF(OR(AE$138=\"S\",AE$138=\"H\"),B120,0)","v":0},39.999999999998224,32.756668631860833,10.774833263603877,0,0,0,0,0,0,0,0,0,0,0,0,0,0,0,0,0,0,0,0,0,0,{"$f":"SUM(B126:AA126)","v":83.531501895462938}]
["Group 5",{"$f":"IF(OR(AE$138=\"S\",AE$138=\"H\"),B121,0)","v":0},40.000000000000185,49.297983617933461,4.7004540193454982,5.8458914791120691,0,0,0,0,0,0,0,0,0,0,0,0,0,0,0,0,0,0,0,0,0,{"$f":"SUM(B127:AA127)","v":99.844329116391222}]
[]
[]
[]
[]
["3. Constraint variables"]
["3.1. Feed balance:"]
["Produced,T/y",{"$f":"AE136","v":"GrPast-49"},"CoSi-35","AlSi-83","MxSi-74","GrHy-52","SBw-108","CoGr-27","Barley-8","Wheat-116","Brewers grains-16","Canola-19","FatCa-40","SBMx-104","SBM48-107","CGM-25","CoDi-23","Bld Meal-14","Urea","SoyHull-103","CottonSd-w-37","CaCO3","NaH2PO4.H20","MgO","CaSO4.2H20","NaCl","MgSO4.7H20",null,null,null,"Feed analysis of (10) home-grown feed and (10) possible purchased feed"]
[{"$f":"L380","v":"LU 1"},{"$f":"SUMIF($R$391:$AA$391,AE136,$R$393:$AA$393)/MAX($R$392:$AA$392)*$M380*$B$84+SUMIF($AB$391:$AK$391,AE136,$AB$393:$AK$393)/MAX($AB$392:$AK$392)*$M380*$C$84+SUMIF($AL$391:$AU$391,AE136,$AL$393:$AU$393)/MAX($AL$392:$AU$392)*$M380*$D$84+SUMIF($AV$391:$BE$391,AE136,$AV$393:$BE$393)/MAX($AV$392:$BE$392)*$M380*$E$84+SUMIF($BF$391:$BO$391,AE136,$BF$393:$BO$393)/MAX($BF$392:$BO$392)*$M380*$F$84","v":0},195.67058823529547,156.24000000000106,95.76000000000063,0,0,88.329896907217119,0,0,null,null,null,null,null,null,null,null,null,null,null,null,null,null,null,null,null,null,null,null,"Feeds produced/purchased",null,null,null,null,null,null,null,null,"Feeds only purchased"]
[{"$f":"L381","v":"LU 2"},{"$f":"SUMIF($R$411:$AA$411,AE136,$R$413:$AA$413)/MAX($R$412:$AA$412)*$M381*$B$87+SUMIF($AB$411:$AK$411,AE136,$AB$413:$AK$413)/MAX($AB$412:$AK$412)*$M381*$C$87+SUMIF($AL$411:$AU$411,AE136,$AL$413:$AU$413)/MAX($AL$412:$AU$412)*$M381*$D$87+SUMIF($AV$411:$BE$411,AE136,$AV$413:$BE$413)/MAX($AV$412:$BE$412)*$M381*$E$87+SUMIF($BF$411:$BO$411,AE136,$BF$413:$BO$413)/MAX($BF$412:$BO$412)*$M381*$F$87","v":0},0,0,0,0,0,0,0,0,null,null,null,null,null,null,null,null,null,null,null,null,null,null,null,null,null,null,null,null,{"$f":"Inputs!C181","v":"GrPast-49"},{"$f":"Inputs!D181","v":"CoSi-35"},{"$f":"Inputs!E181","v":"AlSi-83"},{"$f":"Inputs!F181","v":"MxSi-74"},{"$f":"Inputs!G181","v":"GrHy-52"},{"$f":"Inputs!H181","v":"SBw-108"},{"$f":"Inputs!I181","v":"CoGr-27"},{"$f":"Inputs!J181","v":"Barley-8"},{"$f":"Inputs!K181","v":"Wheat-116"},{"$f":"Inputs!L181","v":"Brewers grains-16"},{"$f":"Inputs!M181","v":"Canola-19"},{"$f":"Inputs!N181","v":"FatCa-40"},{"$f":"Inputs!O181","v":"SBMx-104"},{"$f":"Inputs!P181","v":"SBM48-107"},{"$f":"Inputs!Q181","v":"CGM-25"},{"$f":"Inputs!R181","v":"CoDi-23"},{"$f":"Inputs!S181","v":"Bld Meal-14"},{"$f":"Inputs!T181","v":"Urea"},{"$f":"Inputs!U181","v":"SoyHull-103"},{"$f":"Inputs!V181","v":"CottonSd-w-37"},{"$f":"Inputs!W181","v":"CaCO3"},{"$f":"Inputs!X181","v":"NaH2PO4.H20"},{"$f":"Inputs!Y181","v":"MgO"},{"$f":"Inputs!Z181","v":"CaSO4.2H20"},{"$f":"Inputs!AA181","v":"NaCl"},{"$f":"Inputs!AB181","v":"MgSO4.7H20"}]
[{"$f":"L382","v":"LU 3"},{"$f":"SUMIF($R$431:$AA$431,AE136,$R$433:$AA$433)/MAX($R$432:$AA$432)*$M382*$B$90+SUMIF($AB$431:$AK$431,AE136,$AB$433:$AK$433)/MAX($AB$432:$AK$432)*$M382*$C$90+SUMIF($AL$431:$AU$431,AE136,$AL$433:$AU$433)/MAX($AL$432:$AU$432)*$M382*$D$90+SUMIF($AV$431:$BE$431,AE136,$AV$433:$BE$433)/MAX($AV$432:$BE$432)*$M382*$E$90+SUMIF($BF$431:$BO$431,AE136,$BF$433:$BO$433)/MAX($BF$432:$BO$432)*$M382*$F$90","v":0},238.65882352941051,97.64999999999948,59.849999999999675,0,18.835051546391654,113.91958762886537,0,0,null,null,null,null,null,null,null,null,null,null,null,null,null,null,null,null,null,null,null,"Unit resource, t DM",{"$f":"Inputs!C182","v":1},{"$f":"Inputs!D182","v":1},{"$f":"Inputs!E182","v":1},{"$f":"Inputs!F182","v":1},{"$f":"Inputs!G182","v":1},{"$f":"Inputs!H182","v":1},{"$f":"Inputs!I182","v":1},{"$f":"Inputs!J182","v":0},{"$f":"Inputs!K182","v":1},{"$f":"Inputs!L182","v":1},{"$f":"Inputs!M182","v":1},{"$f":"Inputs!N182","v":1},{"$f":"Inputs!O182","v":1},{"$f":"Inputs!P182","v":1},{"$f":"Inputs!Q182","v":1},{"$f":"Inputs!R182","v":1},{"$f":"Inputs!S182","v":1},{"$f":"Inputs!T182","v":1},{"$f":"Inputs!U182","v":1},{"$f":"Inputs!V182","v":1},{"$f":"Inputs!W182","v":1},{"$f":"Inputs!X182","v":1},{"$f":"Inputs!Y182","v":1},{"$f":"Inputs!Z182","v":1},{"$f":"Inputs!AA182","v":1},{"$f":"Inputs!AB182","v":1}]
[{"$f":"L383","v":"LU 4"},{"$f":"SUMIF($R$451:$AA$451,AE136,$R$453:$AA$453)/MAX($R$452:$AA$452)*$M383*$B$93+SUMIF($AB$451:$AK$451,AE136,$AB$453:$AK$453)/MAX($AB$452:$AK$452)*$M383*$C$93+SUMIF($AL$451:$AU$451,AE136,$AL$453:$AU$453)/MAX($AL$452:$AU$452)*$M383*$D$93+SUMIF($AV$451:$BE$451,AE136,$AV$453:$BE$453)/MAX($AV$452:$BE$452)*$M383*$E$93+SUMIF($BF$451:$BO$451,AE136,$BF$453:$BO$453)/MAX($BF$452:$BO$452)*$M383*$F$93","v":0},0,0,0,0,0,0,0,0,null,null,null,null,null,null,null,null,null,null,null,null,null,null,null,null,null,null,null,"Fd type (F=Forage, P=Pasture; C=Concentrate, AP=Animal protein, FA=Fatty acid, M=Mineral)",{"$f":"Inputs!C183","v":"P"},{"$f":"Inputs!D183","v":"S"},{"$f":"Inputs!E183","v":"S"},{"$f":"Inputs!F183","v":"S"},{"$f":"Inputs!G183","v":"H"},{"$f":"Inputs!H183","v":"C"},{"$f":"Inputs!I183","v":"C"},{"$f":"Inputs!J183","v":"C"},{"$f":"Inputs!K183","v":"C"},{"$f":"Inputs!L183","v":"C"},{"$f":"Inputs!M183","v":"C"},{"$f":"Inputs!N183","v":"FA"},{"$f":"Inputs!O183","v":"C"},{"$f":"Inputs!P183","v":"C"},{"$f":"Inputs!Q183","v":"C"},{"$f":"Inputs!R183","v":"C"},{"$f":"Inputs!S183","v":"AP"},"M",{"$f":"Inputs!U183","v":"C"},{"$f":"Inputs!V183","v":"C"},{"$f":"Inputs!W183","v":"M"},{"$f":"Inputs!X183","v":"M"},{"$f":"Inputs!Y183","v":"M"},{"$f":"Inputs!Z183","v":"M"},{"$f":"Inputs!AA183","v":"M"},{"$f":"Inputs!AB183","v":"M"}]
[{"$f":"L384","v":"LU 5"},{"$f":"SUMIF($R$471:$AA$471,AE136,$R$473:$AA$473)/MAX($R$472:$AA$472)*$M384*$B$96+SUMIF($AB$471:$AK$471,AE136,$AB$473:$AK$473)/MAX($AB$472:$AK$472)*$M384*$C$96+SUMIF($AL$471:$AU$471,AE136,$AL$473:$AU$473)/MAX($AL$472:$AU$472)*$M384*$D$96+SUMIF($AV$471:$BE$471,AE136,$AV$473:$BE$473)/MAX($AV$472:$BE$472)*$M384*$E$96+SUMIF($BF$471:$BO$471,AE136,$BF$473:$BO$473)/MAX($BF$472:$BO$472)*$M384*$F$96","v":0},{"$f":"SUMIF($R$471:$AA$471,AF136,$R$473:$AA$473)/MAX($R$472:$AA$472)*$M384*$B$96+SUMIF($AB$471:$AK$471,AF136,$AB$473:$AK$473)/MAX($AB$472:$AK$472)*$M384*$C$96+SUMIF($AL$471:$AU$471,AF136,$AL$473:$AU$473)/MAX($AL$472:$AU$472)*$M384*$D$96+SUMIF($AV$471:$BE$471,AF136,$AV$473:$BE$473)/MAX($AV$472:$BE$472)*$M384*$E$96+SUMIF($BF$471:$BO$471,AF136,$BF$473:$BO$473)/MAX($BF$472:$BO$472)*$M384*$F$96","v":98.29568938844605},{"$f":"SUMIF($R$471:$AA$471,AG136,$R$473:$AA$473)/MAX($R$472:$AA$472)*$M384*$B$96+SUMIF($AB$471:$AK$471,AG136,$AB$473:$AK$473)/MAX($AB$472:$AK$472)*$M384*$C$96+SUMIF($AL$471:$AU$471,AG136,$AL$473:$AU$473)/MAX($AL$472:$AU$472)*$M384*$D$96+SUMIF($AV$471:$BE$471,AG136,$AV$473:$BE$473)/MAX($AV$472:$BE$472)*$M384*$E$96+SUMIF($BF$471:$BO$471,AG136,$BF$473:$BO$473)/MAX($BF$472:$BO$472)*$M384*$F$96","v":40.218810797912319},24.650238876139806,0,7.7575358373093275,294.44489535687285,0,0,null,null,null,null,null,null,null,null,null,null,null,null,null,null,null,null,null,null,null,"Concentrates and minerals",{"$f":"IF(OR(AE138=\"C\",AE138=\"FA\",AE138=\"AP\",AE138=\"M\"),1,0)","v":0},{"$f":"IF(OR(AF138=\"C\",AF138=\"FA\",AF138=\"AP\",AF138=\"M\"),1,0)","v":0},0,0,0,1,1,1,1,1,1,1,1,1,1,1,1,1,1,1,1,1,1,1,1,1]
["Amount of DM standing in the fields, T/y",{"$f":"SUM(B135:B139)","v":0},{"$f":"SUM(C135:C139)","v":532.62510115315206},294.10881079791289,180.26023887614011,0,26.59258738370098,496.69437989295534,0,0,null,null,null,null,null,null,null,null,null,null,null,null,null,null,null,null,null,null,null,"Forages",{"$f":"IF(OR(AE138=\"P\",AE138=\"H\",AE138=\"S\"),1,0)","v":1},{"$f":"IF(OR(AF138=\"P\",AF138=\"H\",AF138=\"S\"),1,0)","v":1},1,1,1,0,0,0,0,0,0,0,0,0,0,0,0,0,0,0,0,0,0,0,0,0]
["Field & storage losses, %",{"$f":"Inputs!C217","v":15},{"$f":"Inputs!D217","v":17},{"$f":"Inputs!E217","v":17},{"$f":"Inputs!F217","v":17},{"$f":"Inputs!G217","v":18},{"$f":"Inputs!H217","v":3},{"$f":"Inputs!I217","v":3},{"$f":"Inputs!J217","v":3},{"$f":"Inputs!K217","v":3},null,null,null,null,null,null,null,null,null,null,null,null,null,null,null,null,null,null,null,"EE, (%)",{"$f":"Inputs!C185","v":2.7},{"$f":"Inputs!D185","v":3.13},{"$f":"Inputs!E185","v":2.74},{"$f":"Inputs!F185","v":2.84},{"$f":"Inputs!G185","v":2.42},{"$f":"Inputs!H185","v":19.2},{"$f":"Inputs!I185","v":4.2},{"$f":"Inputs!J185","v":2.2000000000000002},{"$f":"Inputs!K185","v":2.2999999999999998},{"$f":"Inputs!L185","v":5.2},{"$f":"Inputs!M185","v":5.4},{"$f":"Inputs!N185","v":84.5},{"$f":"Inputs!O185","v":8.1},{"$f":"Inputs!P185","v":1.1000000000000001},{"$f":"Inputs!Q185","v":2.5},{"$f":"Inputs!R185","v":10},{"$f":"Inputs!S185","v":1.2},{"$f":"Inputs!T185","v":0},{"$f":"Inputs!U185","v":2.7},{"$f":"Inputs!V185","v":19.3},{"$f":"Inputs!W185","v":0},{"$f":"Inputs!X185","v":0},{"$f":"Inputs!Y185","v":0},{"$f":"Inputs!Z185","v":0},{"$f":"Inputs!AA185","v":0},{"$f":"Inputs!AB185","v":0}]
["Field & storage losses, T/y",{"$f":"B140*B141%","v":0},{"$f":"C140*C141%","v":90.546267196035856},49.998497835645196,30.644240608943822,0,0.79777762151102938,14.900831396788659,0,0,null,null,null,null,null,null,null,null,null,null,null,null,null,null,null,null,null,null,null,"FNDF, (%)",{"$f":"Inputs!C186","v":45.8},{"$f":"Inputs!D186","v":43.01},{"$f":"Inputs!E186","v":44.72},{"$f":"Inputs!F186","v":50.43},{"$f":"Inputs!G186","v":60.43},{"$f":"Inputs!H186","v":0},{"$f":"Inputs!I186","v":0},{"$f":"Inputs!J186","v":0},{"$f":"Inputs!K186","v":0},{"$f":"Inputs!L186","v":0},{"$f":"Inputs!M186","v":0},{"$f":"Inputs!N186","v":0},{"$f":"Inputs!O186","v":0},{"$f":"Inputs!P186","v":0},{"$f":"Inputs!Q186","v":0},{"$f":"Inputs!R186","v":0},{"$f":"Inputs!S186","v":0},{"$f":"Inputs!T186","v":0},{"$f":"Inputs!U186","v":0},{"$f":"Inputs!V186","v":16.599},{"$f":"Inputs!W186","v":0},{"$f":"Inputs!X186","v":0},{"$f":"Inputs!Y186","v":0},{"$f":"Inputs!Z186","v":0},{"$f":"Inputs!AA186","v":0},{"$f":"Inputs!AB186","v":0}]
["Total, Metric tons",{"$f":"B140-B142","v":0},{"$f":"C140-C142","v":442.07883395711622},244.1103129622677,149.61599826719629,0,25.794809762189949,481.79354849616669,0,0,null,null,null,null,null,null,null,null,null,null,null,null,null,null,null,null,null,null,null,"NDF, (%)",{"$f":"Inputs!C187","v":45.8},{"$f":"Inputs!D187","v":43.01},{"$f":"Inputs!E187","v":44.72},{"$f":"Inputs!F187","v":50.43},{"$f":"Inputs!G187","v":60.43},{"$f":"Inputs!H187","v":19.5},{"$f":"Inputs!I187","v":9.5},{"$f":"Inputs!J187","v":20.8},{"$f":"Inputs!K187","v":13.4},{"$f":"Inputs!L187","v":47.4},{"$f":"Inputs!M187","v":29.8},{"$f":"Inputs!N187","v":0},{"$f":"Inputs!O187","v":21.7},{"$f":"Inputs!P187","v":9.8000000000000007},{"$f":"Inputs!Q187","v":11.1},{"$f":"Inputs!R187","v":38.799999999999997},{"$f":"Inputs!S187","v":0},{"$f":"Inputs!T187","v":0},{"$f":"Inputs!U187","v":60.3},{"$f":"Inputs!V187","v":50.3},{"$f":"Inputs!W187","v":0},{"$f":"Inputs!X187","v":0},{"$f":"Inputs!Y187","v":0},{"$f":"Inputs!Z187","v":0},{"$f":"Inputs!AA187","v":0},{"$f":"Inputs!AB187","v":0}]
["Total, Metric tons",{"$f":"SUM(B135:B139)*(1-B141%)","v":0},{"$f":"SUM(C135:C139)*(1-C141%)","v":442.07883395711616},244.1103129622677,149.61599826719629,0,25.794809762189949,481.79354849616669,0,0,null,null,null,null,null,null,null,null,null,null,null,null,null,null,null,null,null,null,null,"NFC, (%)",{"$f":"Inputs!C188","v":25.499999999999996},{"$f":"Inputs!D188","v":42.63},{"$f":"Inputs!E188","v":25.580000000000002},{"$f":"Inputs!F188","v":24.21},{"$f":"Inputs!G188","v":20.419999999999998},{"$f":"Inputs!H188","v":18.499999999999993},{"$f":"Inputs!I188","v":76.099999999999994},{"$f":"Inputs!J188","v":63.499999999999993},{"$f":"Inputs!K188","v":69.8},{"$f":"Inputs!L188","v":23},{"$f":"Inputs!M188","v":25.900000000000006},{"$f":"Inputs!N188","v":0},{"$f":"Inputs!O188","v":28.000000000000007},{"$f":"Inputs!P188","v":29.600000000000009},{"$f":"Inputs!Q188","v":21.7},{"$f":"Inputs!R188","v":24.900000000000009},{"$f":"Inputs!S188","v":0.79999999999999982},{"$f":"Inputs!T188","v":0},{"$f":"Inputs!U188","v":21.800000000000004},{"$f":"Inputs!V188","v":5.0999999999999996},{"$f":"Inputs!W188","v":0},{"$f":"Inputs!X188","v":0},{"$f":"Inputs!Y188","v":0},{"$f":"Inputs!Z188","v":0},{"$f":"Inputs!AA188","v":0},{"$f":"Inputs!AB188","v":0}]
["Used by the herd (summer + winter)",null,null,null,null,null,null,null,null,null,null,null,null,null,null,null,null,null,null,null,null,null,null,null,null,null,null,null,null,"ADL (lignin), (%)",{"$f":"Inputs!C189","v":2.1},{"$f":"Inputs!D189","v":2.83},{"$f":"Inputs!E189","v":6.86},{"$f":"Inputs!F189","v":5.97},{"$f":"Inputs!G189","v":5.26},{"$f":"Inputs!H189","v":1.2},{"$f":"Inputs!I189","v":0.9},{"$f":"Inputs!J189","v":2.1},{"$f":"Inputs!K189","v":1.7},{"$f":"Inputs!L189","v":5},{"$f":"Inputs!M189","v":9.5},{"$f":"Inputs!N189","v":0},{"$f":"Inputs!O189","v":1.5},{"$f":"Inputs!P189","v":0.5},{"$f":"Inputs!Q189","v":1.5},{"$f":"Inputs!R189","v":4.3},{"$f":"Inputs!S189","v":0},{"$f":"Inputs!T189","v":0},{"$f":"Inputs!U189","v":2.5},{"$f":"Inputs!V189","v":7.9},{"$f":"Inputs!W189","v":0},{"$f":"Inputs!X189","v":0},{"$f":"Inputs!Y189","v":0},{"$f":"Inputs!Z189","v":0},{"$f":"Inputs!AA189","v":0},{"$f":"Inputs!AB189","v":0}]
["Group 1",{"$f":"B111+(Inputs!$D$175%*(SUM(C111:F111)+K111+L111)/(365-Inputs!D173)*Inputs!D173)*$Q48","v":0},{"$f":"C111+(C111*(1-Inputs!$D$175%)/(365-Inputs!$D$173)*Inputs!$D$173)*$Q48","v":130.84155358460345},{"$f":"D111+(D111*(1-Inputs!$D$175%)/(365-Inputs!$D$173)*Inputs!$D$173)*$Q48","v":34.685337969004983},{"$f":"E111+(E111*(1-Inputs!$D$175%)/(365-Inputs!$D$173)*Inputs!$D$173)*$Q48","v":0},{"$f":"F111+(F111*(1-Inputs!$D$175%)/(365-Inputs!$D$173)*Inputs!$D$173)*$Q48","v":0},{"$f":"G111+G111/(365-Inputs!$D$173)*Inputs!$D$173*IF(AJ$138=\"M\",$Q48,$P48)","v":32.91540677182261},{"$f":"H111+H111/(365-Inputs!$D$173)*Inputs!$D$173*IF(AK$138=\"M\",$Q48,$P48)","v":71.267459581278487},{"$f":"I111+I111/(365-Inputs!$D$173)*Inputs!$D$173*IF(AL$138=\"M\",$Q48,$P48)","v":0},{"$f":"J111+J111/(365-Inputs!$D$173)*Inputs!$D$173*IF(AM$138=\"M\",$Q48,$P48)","v":0},{"$f":"K111+K111*(1-Inputs!$D$175%)/(365-Inputs!$D$173)*Inputs!$D$173*$Q48","v":0},{"$f":"L111+L111*(1-Inputs!$D$175%)/(365-Inputs!$D$173)*Inputs!$D$173*$Q48","v":0},{"$f":"M111+M111/(365-Inputs!$D$173)*Inputs!$D$173*IF(AP$138=\"M\",$Q48,$P48)","v":0},{"$f":"N111+N111/(365-Inputs!$D$173)*Inputs!$D$173*IF(AQ$138=\"M\",$Q48,$P48)","v":0},{"$f":"O111+O111/(365-Inputs!$D$173)*Inputs!$D$173*IF(AR$138=\"M\",$Q48,$P48)","v":0},{"$f":"P111+P111/(365-Inputs!$D$173)*Inputs!$D$173*IF(AS$138=\"M\",$Q48,$P48)","v":0},{"$f":"Q111+Q111/(365-Inputs!$D$173)*Inputs!$D$173*IF(AT$138=\"M\",$Q48,$P48)","v":49.065582594221226},{"$f":"R111+R111/(365-Inputs!$D$173)*Inputs!$D$173*IF(AU$138=\"M\",$Q48,$P48)","v":0},{"$f":"S111+S111/(365-Inputs!$D$173)*Inputs!$D$173*IF(AV$138=\"M\",$Q48,$P48)","v":0.92268105253132504},{"$f":"T111+T111/(365-Inputs!$D$173)*Inputs!$D$173*IF(AW$138=\"M\",$Q48,$P48)","v":0},{"$f":"U111+U111/(365-Inputs!$D$173)*Inputs!$D$173*IF(AX$138=\"M\",$Q48,$P48)","v":3.7676560416787321},{"$f":"V111+V111/(365-Inputs!$D$173)*Inputs!$D$173*IF(AY$138=\"M\",$Q48,$P48)","v":1.9546948778638231},{"$f":"W111+W111/(365-Inputs!$D$173)*Inputs!$D$173*IF(AZ$138=\"M\",$Q48,$P48)","v":1.7083230416642326E-2},{"$f":"X111+X111/(365-Inputs!$D$173)*Inputs!$D$173*IF(BA$138=\"M\",$Q48,$P48)","v":4.4371148574304839E-2},{"$f":"Y111+Y111/(365-Inputs!$D$173)*Inputs!$D$173*IF(BB$138=\"M\",$Q48,$P48)","v":4.7055005923990458E-2},{"$f":"Z111+Z111/(365-Inputs!$D$173)*Inputs!$D$173*IF(BC$138=\"M\",$Q48,$P48)","v":1.5750021035905093},{"$f":"AA111+AA111/(365-Inputs!$D$173)*Inputs!$D$173*IF(BD$138=\"M\",$Q48,$P48)","v":0},null,null,"NDICP, (%)",{"$f":"Inputs!C190","v":3.9},{"$f":"Inputs!D190","v":1.3},{"$f":"Inputs!E190","v":3.1},{"$f":"Inputs!F190","v":3.1},{"$f":"Inputs!G190","v":3.9},{"$f":"Inputs!H190","v":2.2999999999999998},{"$f":"Inputs!I190","v":0.7},{"$f":"Inputs!J190","v":1.8},{"$f":"Inputs!K190","v":1.7},{"$f":"Inputs!L190","v":9.1},{"$f":"Inputs!M190","v":6.3},{"$f":"Inputs!N190","v":0},{"$f":"Inputs!O190","v":9.6},{"$f":"Inputs!P190","v":0.7},{"$f":"Inputs!Q190","v":3.6},{"$f":"Inputs!R190","v":8.6},{"$f":"Inputs!S190","v":0},{"$f":"Inputs!T190","v":0},{"$f":"Inputs!U190","v":3.5},{"$f":"Inputs!V190","v":2.4},{"$f":"Inputs!W190","v":0},{"$f":"Inputs!X190","v":0},{"$f":"Inputs!Y190","v":0},{"$f":"Inputs!Z190","v":0},{"$f":"Inputs!AA190","v":0},{"$f":"Inputs!AB190","v":0}]
["Group 2",{"$f":"B112+(Inputs!$E$175%*(SUM(C112:F112)+K112+L112)/(365-Inputs!E173)*Inputs!E173)*$Q49","v":0},{"$f":"C112+(C112*(1-Inputs!$E$175%)/(365-Inputs!$E$173)*Inputs!$E$173)*$Q49","v":162.73388080796369},{"$f":"D112+(D112*(1-Inputs!$E$175%)/(365-Inputs!$E$173)*Inputs!$E$173)*$Q49","v":52.19134584678747},{"$f":"E112+(E112*(1-Inputs!$E$175%)/(365-Inputs!$E$173)*Inputs!$E$173)*$Q49","v":126.08622982440126},{"$f":"F112+(F112*(1-Inputs!$E$175%)/(365-Inputs!$E$173)*Inputs!$E$173)*$Q49","v":0},{"$f":"G112+G112/(365-Inputs!$E$173)*Inputs!$E$173*IF(AJ$138=\"M\",$Q49,$P49)","v":0},{"$f":"H112+H112/(365-Inputs!$E$173)*Inputs!$E$173*IF(AK$138=\"M\",$Q49,$P49)","v":0},{"$f":"I112+I112/(365-Inputs!$E$173)*Inputs!$E$173*IF(AL$138=\"M\",$Q49,$P49)","v":0},{"$f":"J112+J112/(365-Inputs!$E$173)*Inputs!$E$173*IF(AM$138=\"M\",$Q49,$P49)","v":0},{"$f":"K112+K112*(1-Inputs!$E$175%)/(365-Inputs!$E$173)*Inputs!$E$173*$Q49","v":0},{"$f":"L112+L112*(1-Inputs!$E$175%)/(365-Inputs!$E$173)*Inputs!$E$173*$Q49","v":0},{"$f":"M112+M112/(365-Inputs!$E$173)*Inputs!$E$173*IF(AP$138=\"M\",$Q49,$P49)","v":0},{"$f":"N112+N112/(365-Inputs!$E$173)*Inputs!$E$173*IF(AQ$138=\"M\",$Q49,$P49)","v":0},{"$f":"O112+O112/(365-Inputs!$E$173)*Inputs!$E$173*IF(AR$138=\"M\",$Q49,$P49)","v":0},{"$f":"P112+P112/(365-Inputs!$E$173)*Inputs!$E$173*IF(AS$138=\"M\",$Q49,$P49)","v":1.2339001158986755},{"$f":"Q112+Q112/(365-Inputs!$E$173)*Inputs!$E$173*IF(AT$138=\"M\",$Q49,$P49)","v":61.025205302985292},{"$f":"R112+R112/(365-Inputs!$E$173)*Inputs!$E$173*IF(AU$138=\"M\",$Q49,$P49)","v":0},{"$f":"S112+S112/(365-Inputs!$E$173)*Inputs!$E$173*IF(AV$138=\"M\",$Q49,$P49)","v":0},{"$f":"T112+T112/(365-Inputs!$E$173)*Inputs!$E$173*IF(AW$138=\"M\",$Q49,$P49)","v":0},{"$f":"U112+U112/(365-Inputs!$E$173)*Inputs!$E$173*IF(AX$138=\"M\",$Q49,$P49)","v":0},{"$f":"V112+V112/(365-Inputs!$E$173)*Inputs!$E$173*IF(AY$138=\"M\",$Q49,$P49)","v":2.0658005639023274},{"$f":"W112+W112/(365-Inputs!$E$173)*Inputs!$E$173*IF(AZ$138=\"M\",$Q49,$P49)","v":0},{"$f":"X112+X112/(365-Inputs!$E$173)*Inputs!$E$173*IF(BA$138=\"M\",$Q49,$P49)","v":0},{"$f":"Y112+Y112/(365-Inputs!$E$173)*Inputs!$E$173*IF(BB$138=\"M\",$Q49,$P49)","v":0},{"$f":"Z112+Z112/(365-Inputs!$E$173)*Inputs!$E$173*IF(BC$138=\"M\",$Q49,$P49)","v":1.4983395579678878},{"$f":"AA112+AA112/(365-Inputs!$E$173)*Inputs!$E$173*IF(BD$138=\"M\",$Q49,$P49)","v":0},null,null,"ADICP, (%)",{"$f":"Inputs!C191","v":1.1000000000000001},{"$f":"Inputs!D191","v":0.8},{"$f":"Inputs!E191","v":1.8},{"$f":"Inputs!F191","v":1.6},{"$f":"Inputs!G191","v":1.2},{"$f":"Inputs!H191","v":0.6},{"$f":"Inputs!I191","v":0.3},{"$f":"Inputs!J191","v":0.5},{"$f":"Inputs!K191","v":0.2},{"$f":"Inputs!L191","v":3.5},{"$f":"Inputs!M191","v":2.4},{"$f":"Inputs!N191","v":0},{"$f":"Inputs!O191","v":0.4},{"$f":"Inputs!P191","v":0.4},{"$f":"Inputs!Q191","v":3},{"$f":"Inputs!R191","v":5},{"$f":"Inputs!S191","v":0},{"$f":"Inputs!T191","v":0},{"$f":"Inputs!U191","v":1},{"$f":"Inputs!V191","v":1.9},{"$f":"Inputs!W191","v":0},{"$f":"Inputs!X191","v":0},{"$f":"Inputs!Y191","v":0},{"$f":"Inputs!Z191","v":0},{"$f":"Inputs!AA191","v":0},{"$f":"Inputs!AB191","v":0}]
["Group 3",{"$f":"B113+(Inputs!$F$175%*(SUM(C113:F113)+K113+L113)/(365-Inputs!F173)*Inputs!F173)*$Q50","v":0},{"$f":"C113+(C113*(1-Inputs!$F$175%)/(365-Inputs!$F$173)*Inputs!$F$173)*$Q50","v":24.59808000000001},{"$f":"D113+(D113*(1-Inputs!$F$175%)/(365-Inputs!$F$173)*Inputs!$F$173)*$Q50","v":30.607374463377557},{"$f":"E113+(E113*(1-Inputs!$F$175%)/(365-Inputs!$F$173)*Inputs!$F$173)*$Q50","v":0},{"$f":"F113+(F113*(1-Inputs!$F$175%)/(365-Inputs!$F$173)*Inputs!$F$173)*$Q50","v":6.1495200000000043},{"$f":"G113+G113/(365-Inputs!$F$173)*Inputs!$F$173*IF(AJ$138=\"M\",$Q50,$P50)","v":0},{"$f":"H113+H113/(365-Inputs!$F$173)*Inputs!$F$173*IF(AK$138=\"M\",$Q50,$P50)","v":0},{"$f":"I113+I113/(365-Inputs!$F$173)*Inputs!$F$173*IF(AL$138=\"M\",$Q50,$P50)","v":0},{"$f":"J113+J113/(365-Inputs!$F$173)*Inputs!$F$173*IF(AM$138=\"M\",$Q50,$P50)","v":0},{"$f":"K113+K113*(1-Inputs!$F$175%)/(365-Inputs!$F$173)*Inputs!$F$173*$Q50","v":0},{"$f":"L113+L113*(1-Inputs!$F$175%)/(365-Inputs!$F$173)*Inputs!$F$173*$Q50","v":0},{"$f":"M113+M113/(365-Inputs!$F$173)*Inputs!$F$173*IF(AP$138=\"M\",$Q50,$P50)","v":0},{"$f":"N113+N113/(365-Inputs!$F$173)*Inputs!$F$173*IF(AQ$138=\"M\",$Q50,$P50)","v":0},{"$f":"O113+O113/(365-Inputs!$F$173)*Inputs!$F$173*IF(AR$138=\"M\",$Q50,$P50)","v":0},{"$f":"P113+P113/(365-Inputs!$F$173)*Inputs!$F$173*IF(AS$138=\"M\",$Q50,$P50)","v":0},{"$f":"Q113+Q113/(365-Inputs!$F$173)*Inputs!$F$173*IF(AT$138=\"M\",$Q50,$P50)","v":0},{"$f":"R113+R113/(365-Inputs!$F$173)*Inputs!$F$173*IF(AU$138=\"M\",$Q50,$P50)","v":0},{"$f":"S113+S113/(365-Inputs!$F$173)*Inputs!$F$173*IF(AV$138=\"M\",$Q50,$P50)","v":0},{"$f":"T113+T113/(365-Inputs!$F$173)*Inputs!$F$173*IF(AW$138=\"M\",$Q50,$P50)","v":0},{"$f":"U113+U113/(365-Inputs!$F$173)*Inputs!$F$173*IF(AX$138=\"M\",$Q50,$P50)","v":0},{"$f":"V113+V113/(365-Inputs!$F$173)*Inputs!$F$173*IF(AY$138=\"M\",$Q50,$P50)","v":0},{"$f":"W113+W113/(365-Inputs!$F$173)*Inputs!$F$173*IF(AZ$138=\"M\",$Q50,$P50)","v":0},{"$f":"X113+X113/(365-Inputs!$F$173)*Inputs!$F$173*IF(BA$138=\"M\",$Q50,$P50)","v":0},{"$f":"Y113+Y113/(365-Inputs!$F$173)*Inputs!$F$173*IF(BB$138=\"M\",$Q50,$P50)","v":0},{"$f":"Z113+Z113/(365-Inputs!$F$173)*Inputs!$F$173*IF(BC$138=\"M\",$Q50,$P50)","v":0.14022553662258103},{"$f":"AA113+AA113/(365-Inputs!$F$173)*Inputs!$F$173*IF(BD$138=\"M\",$Q50,$P50)","v":0},null,null,"CP, (%)",{"$f":"Inputs!C192","v":20.100000000000001},{"$f":"Inputs!D192","v":8.23},{"$f":"Inputs!E192","v":19.260000000000002},{"$f":"Inputs!F192","v":16.52},{"$f":"Inputs!G192","v":11.83},{"$f":"Inputs!H192","v":39.200000000000003},{"$f":"Inputs!I192","v":9.4},{"$f":"Inputs!J192","v":12.4},{"$f":"Inputs!K192","v":14.2},{"$f":"Inputs!L192","v":29.2},{"$f":"Inputs!M192","v":37.799999999999997},{"$f":"Inputs!N192","v":0},{"$f":"Inputs!O192","v":46.3},{"$f":"Inputs!P192","v":53.8},{"$f":"Inputs!Q192","v":65},{"$f":"Inputs!R192","v":29.7},{"$f":"Inputs!S192","v":95.5},{"$f":"Inputs!T192","v":281},{"$f":"Inputs!U192","v":13.9},{"$f":"Inputs!V192","v":23.5},{"$f":"Inputs!W192","v":0},{"$f":"Inputs!X192","v":0},{"$f":"Inputs!Y192","v":0},{"$f":"Inputs!Z192","v":0},{"$f":"Inputs!AA192","v":0},{"$f":"Inputs!AB192","v":0}]
["Group 4",{"$f":"B114+(Inputs!$G$175%*(SUM(C114:F114)+K114+L114)/(365-Inputs!G173)*Inputs!G173)*$Q51","v":0},{"$f":"C114+(C114*(1-Inputs!$G$175%)/(365-Inputs!$G$173)*Inputs!$G$173)*$Q51","v":28.438731037689514},{"$f":"D114+(D114*(1-Inputs!$G$175%)/(365-Inputs!$G$173)*Inputs!$G$173)*$Q51","v":23.288952222806316},{"$f":"E114+(E114*(1-Inputs!$G$175%)/(365-Inputs!$G$173)*Inputs!$G$173)*$Q51","v":7.6605646289898646},{"$f":"F114+(F114*(1-Inputs!$G$175%)/(365-Inputs!$G$173)*Inputs!$G$173)*$Q51","v":0},{"$f":"G114+G114/(365-Inputs!$G$173)*Inputs!$G$173*IF(AJ$138=\"M\",$Q51,$P51)","v":0},{"$f":"H114+H114/(365-Inputs!$G$173)*Inputs!$G$173*IF(AK$138=\"M\",$Q51,$P51)","v":0},{"$f":"I114+I114/(365-Inputs!$G$173)*Inputs!$G$173*IF(AL$138=\"M\",$Q51,$P51)","v":0},{"$f":"J114+J114/(365-Inputs!$G$173)*Inputs!$G$173*IF(AM$138=\"M\",$Q51,$P51)","v":0},{"$f":"K114+K114*(1-Inputs!$G$175%)/(365-Inputs!$G$173)*Inputs!$G$173*$Q51","v":0},{"$f":"L114+L114*(1-Inputs!$G$175%)/(365-Inputs!$G$173)*Inputs!$G$173*$Q51","v":0},{"$f":"M114+M114/(365-Inputs!$G$173)*Inputs!$G$173*IF(AP$138=\"M\",$Q51,$P51)","v":0},{"$f":"N114+N114/(365-Inputs!$G$173)*Inputs!$G$173*IF(AQ$138=\"M\",$Q51,$P51)","v":0},{"$f":"O114+O114/(365-Inputs!$G$173)*Inputs!$G$173*IF(AR$138=\"M\",$Q51,$P51)","v":0},{"$f":"P114+P114/(365-Inputs!$G$173)*Inputs!$G$173*IF(AS$138=\"M\",$Q51,$P51)","v":0.9954028983022678},{"$f":"Q114+Q114/(365-Inputs!$G$173)*Inputs!$G$173*IF(AT$138=\"M\",$Q51,$P51)","v":10.664524139134123},{"$f":"R114+R114/(365-Inputs!$G$173)*Inputs!$G$173*IF(AU$138=\"M\",$Q51,$P51)","v":0},{"$f":"S114+S114/(365-Inputs!$G$173)*Inputs!$G$173*IF(AV$138=\"M\",$Q51,$P51)","v":0},{"$f":"T114+T114/(365-Inputs!$G$173)*Inputs!$G$173*IF(AW$138=\"M\",$Q51,$P51)","v":0},{"$f":"U114+U114/(365-Inputs!$G$173)*Inputs!$G$173*IF(AX$138=\"M\",$Q51,$P51)","v":0},{"$f":"V114+V114/(365-Inputs!$G$173)*Inputs!$G$173*IF(AY$138=\"M\",$Q51,$P51)","v":0},{"$f":"W114+W114/(365-Inputs!$G$173)*Inputs!$G$173*IF(AZ$138=\"M\",$Q51,$P51)","v":0},{"$f":"X114+X114/(365-Inputs!$G$173)*Inputs!$G$173*IF(BA$138=\"M\",$Q51,$P51)","v":0},{"$f":"Y114+Y114/(365-Inputs!$G$173)*Inputs!$G$173*IF(BB$138=\"M\",$Q51,$P51)","v":0},{"$f":"Z114+Z114/(365-Inputs!$G$173)*Inputs!$G$173*IF(BC$138=\"M\",$Q51,$P51)","v":4.8652667304852744E-2},{"$f":"AA114+AA114/(365-Inputs!$G$173)*Inputs!$G$173*IF(BD$138=\"M\",$Q51,$P51)","v":0},null,null,"A fraction , %CP",{"$f":"Inputs!C193","v":30.7},{"$f":"Inputs!D193","v":51.3},{"$f":"Inputs!E193","v":57.3},{"$f":"Inputs!F193","v":42.4},{"$f":"Inputs!G193","v":36.700000000000003},{"$f":"Inputs!H193","v":27.8},{"$f":"Inputs!I193","v":23.9},{"$f":"Inputs!J193","v":30.2},{"$f":"Inputs!K193","v":27.1},{"$f":"Inputs!L193","v":18.3},{"$f":"Inputs!M193","v":23.2},{"$f":"Inputs!N193","v":0},{"$f":"Inputs!O193","v":8.6999999999999993},{"$f":"Inputs!P193","v":15},{"$f":"Inputs!Q193","v":3.9},{"$f":"Inputs!R193","v":28.5},{"$f":"Inputs!S193","v":10.1},{"$f":"Inputs!T193","v":100},{"$f":"Inputs!U193","v":22.5},{"$f":"Inputs!V193","v":45.4},{"$f":"Inputs!W193","v":0},{"$f":"Inputs!X193","v":0},{"$f":"Inputs!Y193","v":0},{"$f":"Inputs!Z193","v":0},{"$f":"Inputs!AA193","v":0},{"$f":"Inputs!AB193","v":0}]
["Group 5",{"$f":"B115+(Inputs!$H$175%*(SUM(C115:F115)+K115+L115)/(365-Inputs!H173)*Inputs!H173)*$Q52","v":0},{"$f":"C115+(C115*(1-Inputs!$H$175%)/(365-Inputs!$H$173)*Inputs!$H$173)*$Q52","v":74.415215481294197},{"$f":"D115+(D115*(1-Inputs!$H$175%)/(365-Inputs!$H$173)*Inputs!$H$173)*$Q52","v":91.713001843045319},{"$f":"E115+(E115*(1-Inputs!$H$175%)/(365-Inputs!$H$173)*Inputs!$H$173)*$Q52","v":8.7446324677377252},{"$f":"F115+(F115*(1-Inputs!$H$175%)/(365-Inputs!$H$173)*Inputs!$H$173)*$Q52","v":10.875581852459607},{"$f":"G115+G115/(365-Inputs!$H$173)*Inputs!$H$173*IF(AJ$138=\"M\",$Q52,$P52)","v":0},{"$f":"H115+H115/(365-Inputs!$H$173)*Inputs!$H$173*IF(AK$138=\"M\",$Q52,$P52)","v":0},{"$f":"I115+I115/(365-Inputs!$H$173)*Inputs!$H$173*IF(AL$138=\"M\",$Q52,$P52)","v":0},{"$f":"J115+J115/(365-Inputs!$H$173)*Inputs!$H$173*IF(AM$138=\"M\",$Q52,$P52)","v":0},{"$f":"K115+K115*(1-Inputs!$H$175%)/(365-Inputs!$H$173)*Inputs!$H$173*$Q52","v":0},{"$f":"L115+L115*(1-Inputs!$H$175%)/(365-Inputs!$H$173)*Inputs!$H$173*$Q52","v":0},{"$f":"M115+M115/(365-Inputs!$H$173)*Inputs!$H$173*IF(AJ$138=\"M\",$Q52,$P52)","v":0},{"$f":"N115+N115/(365-Inputs!$H$173)*Inputs!$H$173*IF(AK$138=\"M\",$Q52,$P52)","v":0},{"$f":"O115+O115/(365-Inputs!$H$173)*Inputs!$H$173*IF(AL$138=\"M\",$Q52,$P52)","v":0},{"$f":"P115+P115/(365-Inputs!$H$173)*Inputs!$H$173*IF(AM$138=\"M\",$Q52,$P52)","v":0},{"$f":"Q115+Q115/(365-Inputs!$H$173)*Inputs!$H$173*IF(AN$138=\"M\",$Q52,$P52)","v":0},{"$f":"R115+R115/(365-Inputs!$H$173)*Inputs!$H$173*IF(AO$138=\"M\",$Q52,$P52)","v":0},{"$f":"S115+S115/(365-Inputs!$H$173)*Inputs!$H$173*IF(AP$138=\"M\",$Q52,$P52)","v":0},{"$f":"T115+T115/(365-Inputs!$H$173)*Inputs!$H$173*IF(AQ$138=\"M\",$Q52,$P52)","v":0},{"$f":"U115+U115/(365-Inputs!$H$173)*Inputs!$H$173*IF(AR$138=\"M\",$Q52,$P52)","v":0},{"$f":"V115+V115/(365-Inputs!$H$173)*Inputs!$H$173*IF(AS$138=\"M\",$Q52,$P52)","v":0},{"$f":"W115+W115/(365-Inputs!$H$173)*Inputs!$H$173*IF(AT$138=\"M\",$Q52,$P52)","v":0},{"$f":"X115+X115/(365-Inputs!$H$173)*Inputs!$H$173*IF(AU$138=\"M\",$Q52,$P52)","v":0},{"$f":"Y115+Y115/(365-Inputs!$H$173)*Inputs!$H$173*IF(AV$138=\"M\",$Q52,$P52)","v":0},{"$f":"Z115+Z115/(365-Inputs!$H$173)*Inputs!$H$173*IF(AW$138=\"M\",$Q52,$P52)","v":0.28960705869778869},{"$f":"AA115+AA115/(365-Inputs!$H$173)*Inputs!$H$173*IF(AX$138=\"M\",$Q52,$P52)","v":0},null,null,"B fraction, % CP",{"$f":"Inputs!C194","v":63.5},{"$f":"Inputs!D194","v":30.2},{"$f":"Inputs!E194","v":35.299999999999997},{"$f":"Inputs!F194","v":48.1},{"$f":"Inputs!G194","v":51.7},{"$f":"Inputs!H194","v":70.2},{"$f":"Inputs!I194","v":72.5},{"$f":"Inputs!J194","v":61.2},{"$f":"Inputs!K194","v":65.099999999999994},{"$f":"Inputs!L194","v":64.599999999999994},{"$f":"Inputs!M194","v":70.400000000000006},{"$f":"Inputs!N194","v":0},{"$f":"Inputs!O194","v":91.3},{"$f":"Inputs!P194","v":84.4},{"$f":"Inputs!Q194","v":90.9},{"$f":"Inputs!R194","v":63.3},{"$f":"Inputs!S194","v":60.9},{"$f":"Inputs!T194","v":0},{"$f":"Inputs!U194","v":72.2},{"$f":"Inputs!V194","v":46.7},{"$f":"Inputs!W194","v":0},{"$f":"Inputs!X194","v":0},{"$f":"Inputs!Y194","v":0},{"$f":"Inputs!Z194","v":0},{"$f":"Inputs!AA194","v":0},{"$f":"Inputs!AB194","v":0}]
["Refusals, % of used",{"$f":"Inputs!C218","v":0},{"$f":"Inputs!D218","v":5},{"$f":"Inputs!E218","v":5},{"$f":"Inputs!F218","v":5},{"$f":"Inputs!G218","v":10},{"$f":"Inputs!H218","v":2},{"$f":"Inputs!I218","v":2},{"$f":"Inputs!J218","v":2},{"$f":"Inputs!K218","v":2},{"$f":"Inputs!L218","v":2},{"$f":"Inputs!M218","v":2},{"$f":"Inputs!N218","v":2},{"$f":"Inputs!O218","v":2},{"$f":"Inputs!P218","v":2},{"$f":"Inputs!Q218","v":2},{"$f":"Inputs!R218","v":2},{"$f":"Inputs!S218","v":2},{"$f":"Inputs!T218","v":1},{"$f":"Inputs!U218","v":2},{"$f":"Inputs!V218","v":2},{"$f":"Inputs!W218","v":1},{"$f":"Inputs!X218","v":1},{"$f":"Inputs!Y218","v":1},{"$f":"Inputs!Z218","v":1},{"$f":"Inputs!AA218","v":1},{"$f":"Inputs!AB218","v":1},null,null,"C fraction, % CP",{"$f":"Inputs!C195","v":5.8},{"$f":"Inputs!D195","v":18.5},{"$f":"Inputs!E195","v":7.4},{"$f":"Inputs!F195","v":9.5},{"$f":"Inputs!G195","v":11.6},{"$f":"Inputs!H195","v":2},{"$f":"Inputs!I195","v":3.6},{"$f":"Inputs!J195","v":8.6},{"$f":"Inputs!K195","v":7.8},{"$f":"Inputs!L195","v":17.100000000000001},{"$f":"Inputs!M195","v":6.4},{"$f":"Inputs!N195","v":0},{"$f":"Inputs!O195","v":0},{"$f":"Inputs!P195","v":0.6},{"$f":"Inputs!Q195","v":5.2},{"$f":"Inputs!R195","v":8.1999999999999993},{"$f":"Inputs!S195","v":29},{"$f":"Inputs!T195","v":0},{"$f":"Inputs!U195","v":5.3},{"$f":"Inputs!V195","v":7.9},{"$f":"Inputs!W195","v":0},{"$f":"Inputs!X195","v":0},{"$f":"Inputs!Y195","v":0},{"$f":"Inputs!Z195","v":0},{"$f":"Inputs!AA195","v":0},{"$f":"Inputs!AB195","v":0}]
["Total, Metric tons",{"$f":"SUM(B146:B150)*(1+B151%)","v":0},442.07883395712838,244.11031296227276,149.61599826718529,18.727612037705576,33.57371490725906,72.692808772904058,0,0,0,0,0,0,0,2.2738890744849622,123.17041827706747,0,{"$f":"SUM(S146:S150)*(1+S151%)","v":0.93190786305663831},0,3.8430091625123071,4.0607003961838117,1.725406272080875E-2,4.4814860060047888E-2,4.7525555983230362E-2,3.5873451934254557,0,null,null,"Kd fraction B, %/h",{"$f":"Inputs!C196","v":12.3},{"$f":"Inputs!D196","v":4.4000000000000004},{"$f":"Inputs!E196","v":12.2},{"$f":"Inputs!F196","v":15.5},{"$f":"Inputs!G196","v":8.1},{"$f":"Inputs!H196","v":10.9},{"$f":"Inputs!I196","v":4.9000000000000004},{"$f":"Inputs!J196","v":22.7},{"$f":"Inputs!K196","v":18.8},{"$f":"Inputs!L196","v":4.7},{"$f":"Inputs!M196","v":10.4},{"$f":"Inputs!N196","v":0},{"$f":"Inputs!O196","v":2.4},{"$f":"Inputs!P196","v":7.5},{"$f":"Inputs!Q196","v":2.2999999999999998},{"$f":"Inputs!R196","v":3.6},{"$f":"Inputs!S196","v":1.9},{"$f":"Inputs!T196","v":0},{"$f":"Inputs!U196","v":6.2},{"$f":"Inputs!V196","v":15.7},{"$f":"Inputs!W196","v":0},{"$f":"Inputs!X196","v":0},{"$f":"Inputs!Y196","v":0},{"$f":"Inputs!Z196","v":0},{"$f":"Inputs!AA196","v":0},{"$f":"Inputs!AB196","v":0}]
["Sold/Purchased(-)",{"$f":"B144-B152","v":0},-1.2221335055073723E-11,-5.0590642786119133E-12,1.0999201549566351E-11,-18.727612037705576,-7.7789051450691105,409.10073972326262,0,0,0,0,0,0,0,-2.2738890744849622,-123.17041827706747,0,-0.93190786305663831,0,-3.8430091625123071,-4.0607003961838117,-1.725406272080875E-2,-4.4814860060047888E-2,-4.7525555983230362E-2,-3.5873451934254557,0,null,null,"Ca, (%)",{"$f":"Inputs!C197","v":0.56000000000000005},{"$f":"Inputs!D197","v":0.2},{"$f":"Inputs!E197","v":1.27},{"$f":"Inputs!F197","v":0.99},{"$f":"Inputs!G197","v":0.56999999999999995},{"$f":"Inputs!H197","v":0.32},{"$f":"Inputs!I197","v":0.04},{"$f":"Inputs!J197","v":0.06},{"$f":"Inputs!K197","v":0.05},{"$f":"Inputs!L197","v":0.3},{"$f":"Inputs!M197","v":0.75},{"$f":"Inputs!N197","v":12},{"$f":"Inputs!O197","v":0.36},{"$f":"Inputs!P197","v":0.35},{"$f":"Inputs!Q197","v":0.06},{"$f":"Inputs!R197","v":0.22},{"$f":"Inputs!S197","v":0.3},{"$f":"Inputs!T197","v":0},{"$f":"Inputs!U197","v":0.63},{"$f":"Inputs!V197","v":0.17},{"$f":"Inputs!W197","v":39.39},{"$f":"Inputs!X197","v":0},{"$f":"Inputs!Y197","v":0},{"$f":"Inputs!Z197","v":23.28},{"$f":"Inputs!AA197","v":0},{"$f":"Inputs!AB197","v":0}]
["Minimum, t",{"$f":"Inputs!C220","v":0},{"$f":"Inputs!D220","v":0},{"$f":"Inputs!E220","v":0},{"$f":"Inputs!F220","v":0},"* If min = 0 and max = 0, then amount produced = amount used",null,null,null,null,null,null,null,null,null,null,null,null,null,null,null,null,null,null,null,null,null,null,null,"Ca availibility (%)",{"$f":"Inputs!C198","v":0.3},{"$f":"Inputs!D198","v":0.6},{"$f":"Inputs!E198","v":0.3},{"$f":"Inputs!F198","v":0.3},{"$f":"Inputs!G198","v":0.3},{"$f":"Inputs!H198","v":0.6},{"$f":"Inputs!I198","v":0.6},{"$f":"Inputs!J198","v":0.6},{"$f":"Inputs!K198","v":0.6},{"$f":"Inputs!L198","v":0.6},{"$f":"Inputs!M198","v":0.6},{"$f":"Inputs!N198","v":0.8},{"$f":"Inputs!O198","v":0.6},{"$f":"Inputs!P198","v":0.6},{"$f":"Inputs!Q198","v":0.6},{"$f":"Inputs!R198","v":0.6},{"$f":"Inputs!S198","v":0.6},{"$f":"Inputs!T198","v":0},{"$f":"Inputs!U198","v":0.6},{"$f":"Inputs!V198","v":0.6},{"$f":"Inputs!W198","v":0.75},{"$f":"Inputs!X198","v":0},{"$f":"Inputs!Y198","v":0},{"$f":"Inputs!Z198","v":0.7},{"$f":"Inputs!AA198","v":0},{"$f":"Inputs!AB198","v":0}]
["(Inventory change) Max., t",{"$f":"Inputs!C221","v":0},{"$f":"Inputs!D221","v":0},{"$f":"Inputs!E221","v":0},{"$f":"Inputs!F221","v":0},"* If min = 0 and max > 0 then amount produced > amount used and the excess is sold",null,null,null,null,null,null,null,null,null,null,null,null,null,null,null,null,null,null,null,null,null,null,null,"P, (%)",{"$f":"Inputs!C199","v":0.44},{"$f":"Inputs!D199","v":0.26},{"$f":"Inputs!E199","v":0.35},{"$f":"Inputs!F199","v":0.34},{"$f":"Inputs!G199","v":0.25},{"$f":"Inputs!H199","v":0.6},{"$f":"Inputs!I199","v":0.3},{"$f":"Inputs!J199","v":0.39},{"$f":"Inputs!K199","v":0.43},{"$f":"Inputs!L199","v":0.67},{"$f":"Inputs!M199","v":1.1000000000000001},{"$f":"Inputs!N199","v":0},{"$f":"Inputs!O199","v":0.66},{"$f":"Inputs!P199","v":0.7},{"$f":"Inputs!Q199","v":0.6},{"$f":"Inputs!R199","v":0.83},{"$f":"Inputs!S199","v":0.3},{"$f":"Inputs!T199","v":0},{"$f":"Inputs!U199","v":0.17},{"$f":"Inputs!V199","v":0.6},{"$f":"Inputs!W199","v":0.04},{"$f":"Inputs!X199","v":22.5},{"$f":"Inputs!Y199","v":0},{"$f":"Inputs!Z199","v":0},{"$f":"Inputs!AA199","v":0},{"$f":"Inputs!AB199","v":0}]
[null,null,null,null,null,"* If min < 0 and max = 0 then amount produced < amount used and the deficit is purchased",null,null,null,null,null,null,null,null,null,null,null,null,null,null,null,null,null,null,null,null,null,null,null,"P availibility (%)",{"$f":"Inputs!C200","v":0.64},{"$f":"Inputs!D200","v":0.7},{"$f":"Inputs!E200","v":0.64},{"$f":"Inputs!F200","v":0.64},{"$f":"Inputs!G200","v":0.64},{"$f":"Inputs!H200","v":0.7},{"$f":"Inputs!I200","v":0.7},{"$f":"Inputs!J200","v":0.7},{"$f":"Inputs!K200","v":0.7},{"$f":"Inputs!L200","v":0.7},{"$f":"Inputs!M200","v":0.7},{"$f":"Inputs!N200","v":0},{"$f":"Inputs!O200","v":0.7},{"$f":"Inputs!P200","v":0.7},{"$f":"Inputs!Q200","v":0.7},{"$f":"Inputs!R200","v":0.7},{"$f":"Inputs!S200","v":0.7},{"$f":"Inputs!T200","v":0},{"$f":"Inputs!U200","v":0.7},{"$f":"Inputs!V200","v":0.7},{"$f":"Inputs!W200","v":0.7},{"$f":"Inputs!X200","v":0.9},{"$f":"Inputs!Y200","v":0},{"$f":"Inputs!Z200","v":0},{"$f":"Inputs!AA200","v":0},{"$f":"Inputs!AB200","v":0}]
[null,null,null,null,null,"* If min < 0 and max > 0 then N-CyCLE decides whether one should overproduce or underproduce",null,null,null,null,null,null,null,null,null,null,null,null,null,null,null,null,null,null,null,null,null,null,null,"K, (%)",{"$f":"Inputs!C201","v":3.36},{"$f":"Inputs!D201","v":0.99},{"$f":"Inputs!E201","v":2.57},{"$f":"Inputs!F201","v":2.42},{"$f":"Inputs!G201","v":1.85},{"$f":"Inputs!H201","v":1.99},{"$f":"Inputs!I201","v":0.42},{"$f":"Inputs!J201","v":0.56000000000000005},{"$f":"Inputs!K201","v":0.5},{"$f":"Inputs!L201","v":0.5},{"$f":"Inputs!M201","v":1.41},{"$f":"Inputs!N201","v":0},{"$f":"Inputs!O201","v":2.12},{"$f":"Inputs!P201","v":2.41},{"$f":"Inputs!Q201","v":0.46},{"$f":"Inputs!R201","v":1.1000000000000001},{"$f":"Inputs!S201","v":0.33},{"$f":"Inputs!T201","v":0},{"$f":"Inputs!U201","v":1.51},{"$f":"Inputs!V201","v":1.1299999999999999},{"$f":"Inputs!W201","v":0.06},{"$f":"Inputs!X201","v":0},{"$f":"Inputs!Y201","v":0},{"$f":"Inputs!Z201","v":0},{"$f":"Inputs!AA201","v":0},{"$f":"Inputs!AB201","v":0}]
[null,null,null,null,null,null,null,null,null,null,null,null,null,null,null,null,null,null,null,null,null,null,null,null,null,null,null,null,null,"K availibility (%)",{"$f":"Inputs!C202","v":0.9},{"$f":"Inputs!D202","v":0.9},{"$f":"Inputs!E202","v":0.9},{"$f":"Inputs!F202","v":0.9},{"$f":"Inputs!G202","v":0.9},{"$f":"Inputs!H202","v":0.9},{"$f":"Inputs!I202","v":0.9},{"$f":"Inputs!J202","v":0.9},{"$f":"Inputs!K202","v":0.9},{"$f":"Inputs!L202","v":0.9},{"$f":"Inputs!M202","v":0.9},{"$f":"Inputs!N202","v":0},{"$f":"Inputs!O202","v":0.9},{"$f":"Inputs!P202","v":0.9},{"$f":"Inputs!Q202","v":0.9},{"$f":"Inputs!R202","v":0.9},{"$f":"Inputs!S202","v":0.9},{"$f":"Inputs!T202","v":0},{"$f":"Inputs!U202","v":0.9},{"$f":"Inputs!V202","v":0.9},{"$f":"Inputs!W202","v":0.9},{"$f":"Inputs!X202","v":0},{"$f":"Inputs!Y202","v":0},{"$f":"Inputs!Z202","v":0},{"$f":"Inputs!AA202","v":0.9},{"$f":"Inputs!AB202","v":0}]
["Used by the herd (summer)",{"$f":"B134","v":"GrPast-49"},"CoSi-35","AlSi-83","MxSi-74","GrHy-52","SBw-108","CoGr-27","Barley-8","Wheat-116","Brewers grains-16","Canola-19","FatCa-40","SBMx-104","SBM48-107","CGM-25","CoDi-23","Bld Meal-14","Urea","SoyHull-103","CottonSd-w-37","CaCO3","NaH2PO4.H20","MgO","CaSO4.2H20","NaCl","MgSO4.7H20","Total",null,"Mg, (%)",{"$f":"Inputs!C203","v":0.2},{"$f":"Inputs!D203","v":0.15},{"$f":"Inputs!E203","v":0.26},{"$f":"Inputs!F203","v":0.24},{"$f":"Inputs!G203","v":0.17},{"$f":"Inputs!H203","v":0.25},{"$f":"Inputs!I203","v":0.12},{"$f":"Inputs!J203","v":0.14000000000000001},{"$f":"Inputs!K203","v":0.15},{"$f":"Inputs!L203","v":0.26},{"$f":"Inputs!M203","v":0.53},{"$f":"Inputs!N203","v":0},{"$f":"Inputs!O203","v":0.3},{"$f":"Inputs!P203","v":0.28999999999999998},{"$f":"Inputs!Q203","v":0.14000000000000001},{"$f":"Inputs!R203","v":0.33},{"$f":"Inputs!S203","v":0.03},{"$f":"Inputs!T203","v":0},{"$f":"Inputs!U203","v":0.25},{"$f":"Inputs!V203","v":0.37},{"$f":"Inputs!W203","v":0.05},{"$f":"Inputs!X203","v":0},{"$f":"Inputs!Y203","v":56.2},{"$f":"Inputs!Z203","v":0},{"$f":"Inputs!AA203","v":0},{"$f":"Inputs!AB203","v":9.8000000000000007}]
["Group 1",{"$f":"B146-B111","v":0},0,0,0,0,0,0,0,0,0,0,0,0,0,0,0,0,0,0,0,0,0,0,0,0,0,{"$f":"SUM(B160:AA160)","v":0},null,"Mg availibility (%)",{"$f":"Inputs!C204","v":0.16},{"$f":"Inputs!D204","v":0.16},{"$f":"Inputs!E204","v":0.16},{"$f":"Inputs!F204","v":0.16},{"$f":"Inputs!G204","v":0.16},{"$f":"Inputs!H204","v":0.16},{"$f":"Inputs!I204","v":0.16},{"$f":"Inputs!J204","v":0.16},{"$f":"Inputs!K204","v":0.16},{"$f":"Inputs!L204","v":0.16},{"$f":"Inputs!M204","v":0.16},{"$f":"Inputs!N204","v":0},{"$f":"Inputs!O204","v":0.16},{"$f":"Inputs!P204","v":0.16},{"$f":"Inputs!Q204","v":0.16},{"$f":"Inputs!R204","v":0.16},{"$f":"Inputs!S204","v":0.16},{"$f":"Inputs!T204","v":0},{"$f":"Inputs!U204","v":0.16},{"$f":"Inputs!V204","v":0.16},{"$f":"Inputs!W204","v":0.16},{"$f":"Inputs!X204","v":0},{"$f":"Inputs!Y204","v":0.7},{"$f":"Inputs!Z204","v":0},{"$f":"Inputs!AA204","v":0},{"$f":"Inputs!AB204","v":0.9}]
["Group 2",{"$f":"B147-B112","v":0},0,0,0,0,0,0,0,0,0,0,0,0,0,0,0,0,0,0,0,0,0,0,0,0,0,{"$f":"SUM(B161:AA161)","v":0},null,"Na, (%)",{"$f":"Inputs!C205","v":0.02},{"$f":"Inputs!D205","v":0.01},{"$f":"Inputs!E205","v":0.02},{"$f":"Inputs!F205","v":0.08},{"$f":"Inputs!G205","v":0.08},{"$f":"Inputs!H205","v":0.01},{"$f":"Inputs!I205","v":0.02},{"$f":"Inputs!J205","v":0.02},{"$f":"Inputs!K205","v":0.01},{"$f":"Inputs!L205","v":0.04},{"$f":"Inputs!M205","v":7.0000000000000007E-2},{"$f":"Inputs!N205","v":0},{"$f":"Inputs!O205","v":0.04},{"$f":"Inputs!P205","v":0.03},{"$f":"Inputs!Q205","v":0.05},{"$f":"Inputs!R205","v":0.3},{"$f":"Inputs!S205","v":0.4},{"$f":"Inputs!T205","v":0},{"$f":"Inputs!U205","v":0.01},{"$f":"Inputs!V205","v":0.02},{"$f":"Inputs!W205","v":0.06},{"$f":"Inputs!X205","v":16.68},{"$f":"Inputs!Y205","v":0},{"$f":"Inputs!Z205","v":0},{"$f":"Inputs!AA205","v":39.340000000000003},{"$f":"Inputs!AB205","v":0}]
["Group 3",{"$f":"B148-B113","v":0},0,0,0,0,0,0,0,0,0,0,0,0,0,0,0,0,0,0,0,0,0,0,0,0,0,{"$f":"SUM(B162:AA162)","v":0},null,"Na availibility (%)",{"$f":"Inputs!C206","v":0.9},{"$f":"Inputs!D206","v":0.9},{"$f":"Inputs!E206","v":0.9},{"$f":"Inputs!F206","v":0.9},{"$f":"Inputs!G206","v":0.9},{"$f":"Inputs!H206","v":0.9},{"$f":"Inputs!I206","v":0.9},{"$f":"Inputs!J206","v":0.9},{"$f":"Inputs!K206","v":0.9},{"$f":"Inputs!L206","v":0.9},{"$f":"Inputs!M206","v":0.9},{"$f":"Inputs!N206","v":0},{"$f":"Inputs!O206","v":0.9},{"$f":"Inputs!P206","v":0.9},{"$f":"Inputs!Q206","v":0.9},{"$f":"Inputs!R206","v":0.9},{"$f":"Inputs!S206","v":0.9},{"$f":"Inputs!T206","v":0},{"$f":"Inputs!U206","v":0.9},{"$f":"Inputs!V206","v":0.9},{"$f":"Inputs!W206","v":0.9},{"$f":"Inputs!X206","v":0.9},{"$f":"Inputs!Y206","v":0},{"$f":"Inputs!Z206","v":0},{"$f":"Inputs!AA206","v":0.9},{"$f":"Inputs!AB206","v":0}]
["Group 4",{"$f":"B149-B114","v":0},0,0,0,0,0,0,0,0,0,0,0,0,0,0,0,0,0,0,0,0,0,0,0,0,0,{"$f":"SUM(B163:AA163)","v":0},null,"Cl, (%)",{"$f":"Inputs!C207","v":0.56000000000000005},{"$f":"Inputs!D207","v":0.28999999999999998},{"$f":"Inputs!E207","v":0.61},{"$f":"Inputs!F207","v":0.43},{"$f":"Inputs!G207","v":0.92},{"$f":"Inputs!H207","v":0.04},{"$f":"Inputs!I207","v":0.08},{"$f":"Inputs!J207","v":0.13},{"$f":"Inputs!K207","v":0.11},{"$f":"Inputs!L207","v":7.0000000000000007E-2},{"$f":"Inputs!M207","v":0.04},{"$f":"Inputs!N207","v":0},{"$f":"Inputs!O207","v":0.1},{"$f":"Inputs!P207","v":0.13},{"$f":"Inputs!Q207","v":0.11},{"$f":"Inputs!R207","v":0.26},{"$f":"Inputs!S207","v":0.33},{"$f":"Inputs!T207","v":0},{"$f":"Inputs!U207","v":0.05},{"$f":"Inputs!V207","v":0.06},{"$f":"Inputs!W207","v":0},{"$f":"Inputs!X207","v":0},{"$f":"Inputs!Y207","v":0},{"$f":"Inputs!Z207","v":0},{"$f":"Inputs!AA207","v":60.662999999999997},{"$f":"Inputs!AB207","v":0}]
["Group 5",{"$f":"B150-B115","v":0},0,0,0,0,0,0,0,0,0,0,0,0,0,0,0,0,0,0,0,0,0,0,0,0,0,{"$f":"SUM(B164:AA164)","v":0},null,"Cl availibility (%)",{"$f":"Inputs!C208","v":0.9},{"$f":"Inputs!D208","v":0.9},{"$f":"Inputs!E208","v":0.9},{"$f":"Inputs!F208","v":0.9},{"$f":"Inputs!G208","v":0.9},{"$f":"Inputs!H208","v":0.9},{"$f":"Inputs!I208","v":0.9},{"$f":"Inputs!J208","v":0.9},{"$f":"Inputs!K208","v":0.9},{"$f":"Inputs!L208","v":0.9},{"$f":"Inputs!M208","v":0.9},{"$f":"Inputs!N208","v":0},{"$f":"Inputs!O208","v":0.9},{"$f":"Inputs!P208","v":0.9},{"$f":"Inputs!Q208","v":0.9},{"$f":"Inputs!R208","v":0.9},{"$f":"Inputs!S208","v":0.9},{"$f":"Inputs!T208","v":0},{"$f":"Inputs!U208","v":0.9},{"$f":"Inputs!V208","v":0.9},{"$f":"Inputs!W208","v":0.9},{"$f":"Inputs!X208","v":0},{"$f":"Inputs!Y208","v":0},{"$f":"Inputs!Z208","v":0},{"$f":"Inputs!AA208","v":0.9},{"$f":"Inputs!AB208","v":0}]
["Refusals, % of used",{"$f":"B151","v":0},{"$f":"C151","v":5},5,5,10,2,2,2,2,2,2,2,2,2,2,2,2,1,2,2,1,1,1,1,1,1,null,null,"S, (%)",{"$f":"Inputs!C209","v":0.2},{"$f":"Inputs!D209","v":0.14000000000000001},{"$f":"Inputs!E209","v":0.28000000000000003},{"$f":"Inputs!F209","v":0.26},{"$f":"Inputs!G209","v":0.24},{"$f":"Inputs!H209","v":0.31},{"$f":"Inputs!I209","v":0.1},{"$f":"Inputs!J209","v":0.12},{"$f":"Inputs!K209","v":0.15},{"$f":"Inputs!L209","v":0.38},{"$f":"Inputs!M209","v":0.73},{"$f":"Inputs!N209","v":0},{"$f":"Inputs!O209","v":0.34},{"$f":"Inputs!P209","v":0.39},{"$f":"Inputs!Q209","v":0.86},{"$f":"Inputs!R209","v":0.44},{"$f":"Inputs!S209","v":0.77},{"$f":"Inputs!T209","v":0},{"$f":"Inputs!U209","v":0.12},{"$f":"Inputs!V209","v":0.23},{"$f":"Inputs!W209","v":0},{"$f":"Inputs!X209","v":0},{"$f":"Inputs!Y209","v":0},{"$f":"Inputs!Z209","v":18.62},{"$f":"Inputs!AA209","v":0},{"$f":"Inputs!AB209","v":13.31}]
["Total, Metric tons",{"$f":"SUM(B160:B164)*(1+B165%)","v":0},0,0,0,0,0,0,0,0,0,0,0,0,0,0,0,0,0,0,0,0,0,0,0,0,0,null,null,"DCAD (meq/kg)",{"$f":"Inputs!C210","v":585.62206726398017},{"$f":"Inputs!D210","v":88.613288229254522},{"$f":"Inputs!E210","v":319.6663707531103},{"$f":"Inputs!F210","v":370.62093011142207},{"$f":"Inputs!G210","v":99.072811842135138},{"$f":"Inputs!H210","v":309.0746726383469},{"$f":"Inputs!I210","v":31.308853274084726},{"$f":"Inputs!J210","v":40.563433635968153},{"$f":"Inputs!K210","v":7.8348779917937037},{"$f":"Inputs!L210","v":-111.00169205912886},{"$f":"Inputs!M210","v":-74.608750854704397},{"$f":"Inputs!N210","v":0},{"$f":"Inputs!O210","v":319.77551448875818},{"$f":"Inputs!P210","v":350.01231435525887},{"$f":"Inputs!Q210","v":-426.95128501254027},{"$f":"Inputs!R210","v":64.610946040174554},{"$f":"Inputs!S210","v":-313.99096168312093},{"$f":"Inputs!T210","v":0},{"$f":"Inputs!U210","v":301.75608084689907},{"$f":"Inputs!V210","v":137.62244054694986},{"$f":"Inputs!W210","v":41.444466409521866},{"$f":"Inputs!X210","v":7255.3915214573426},{"$f":"Inputs!Y210","v":0},{"$f":"Inputs!Z210","v":-11590.413943355119},{"$f":"Inputs!AA210","v":1.1138185150521167},{"$f":"Inputs!AB210","v":-8285.0918145035794}]
["Composition, % of DM",null,null,null,null,null,null,null,null,null,null,null,null,null,null,null,null,null,null,null,null,null,null,null,null,null,null,null,null,"Ash, (%)",{"$f":"Inputs!C211","v":9.8000000000000007},{"$f":"Inputs!D211","v":4.3},{"$f":"Inputs!E211","v":10.8},{"$f":"Inputs!F211","v":9.1},{"$f":"Inputs!G211","v":8.8000000000000007},{"$f":"Inputs!H211","v":5.9},{"$f":"Inputs!I211","v":1.5},{"$f":"Inputs!J211","v":2.9},{"$f":"Inputs!K211","v":2},{"$f":"Inputs!L211","v":4.3},{"$f":"Inputs!M211","v":7.4},{"$f":"Inputs!N211","v":15.5},{"$f":"Inputs!O211","v":5.5},{"$f":"Inputs!P211","v":6.4},{"$f":"Inputs!Q211","v":3.3},{"$f":"Inputs!R211","v":5.2},{"$f":"Inputs!S211","v":2.5},{"$f":"Inputs!T211","v":100},{"$f":"Inputs!U211","v":4.8},{"$f":"Inputs!V211","v":4.2},{"$f":"Inputs!W211","v":100},{"$f":"Inputs!X211","v":100},{"$f":"Inputs!Y211","v":100},{"$f":"Inputs!Z211","v":100},{"$f":"Inputs!AA211","v":100},{"$f":"Inputs!AB211","v":100}]
["Group 1",{"$f":"IF(SUM($B160:$AA160)>0,B160/SUM($B160:$AA160)%,0)","v":0},{"$f":"IF(SUM($B160:$AA160)>0,C160/SUM($B160:$AA160)%,0)","v":0},0,0,0,0,0,0,0,0,0,0,0,0,0,0,0,0,0,0,0,0,0,0,0,0,{"$f":"SUM(B168:AA168)","v":0},null,"Energy used (MJ/t DM)",{"$f":"Inputs!C213","v":0},{"$f":"Inputs!D213","v":0},{"$f":"Inputs!E213","v":0},{"$f":"Inputs!F213","v":0},{"$f":"Inputs!G213","v":0},{"$f":"Inputs!H213","v":0},{"$f":"Inputs!I213","v":0},{"$f":"Inputs!J213","v":0},{"$f":"Inputs!K213","v":0},{"$f":"Inputs!L213","v":0},{"$f":"Inputs!M213","v":0},{"$f":"Inputs!N213","v":0},{"$f":"Inputs!O213","v":0},{"$f":"Inputs!P213","v":0},{"$f":"Inputs!Q213","v":0},{"$f":"Inputs!R213","v":0},{"$f":"Inputs!S213","v":0},{"$f":"Inputs!T213","v":0},{"$f":"Inputs!U213","v":0},{"$f":"Inputs!V213","v":0},{"$f":"Inputs!W213","v":0},{"$f":"Inputs!X213","v":0},{"$f":"Inputs!Y213","v":0},{"$f":"Inputs!Z213","v":0},{"$f":"Inputs!Y213","v":0},{"$f":"Inputs!Z213","v":0}]
["Group 2",{"$f":"IF(SUM($B161:$AA161)>0,B161/SUM($B161:$AA161)%,0)","v":0},{"$f":"IF(SUM($B161:$AA161)>0,C161/SUM($B161:$AA161)%,0)","v":0},0,0,0,0,0,0,0,0,0,0,0,0,0,0,0,0,0,0,0,0,0,0,0,0,{"$f":"SUM(B169:AA169)","v":0},null,"Price, $/t DM",{"$f":"Inputs!C214","v":122},{"$f":"Inputs!D214","v":110},{"$f":"Inputs!E214","v":205},{"$f":"Inputs!F214","v":157},{"$f":"Inputs!G214","v":160},{"$f":"Inputs!H214","v":425},{"$f":"Inputs!I214","v":200},{"$f":"Inputs!J214","v":171},{"$f":"Inputs!K214","v":262},{"$f":"Inputs!L214","v":353},{"$f":"Inputs!M214","v":346},{"$f":"Inputs!N214","v":1100},{"$f":"Inputs!O214","v":524},{"$f":"Inputs!P214","v":387},{"$f":"Inputs!Q214","v":618},{"$f":"Inputs!R214","v":181},{"$f":"Inputs!S214","v":1026},{"$f":"Inputs!T214","v":631},{"$f":"Inputs!U214","v":225},{"$f":"Inputs!V214","v":288},{"$f":"Inputs!W214","v":253.2654},{"$f":"Inputs!X214","v":705.15899999999999},{"$f":"Inputs!Y214","v":690.15600000000006},{"$f":"Inputs!Z214","v":454.54500000000002},{"$f":"Inputs!AA214","v":321.42599999999999},{"$f":"Inputs!AB214","v":545.94000000000005}]
["Group 3",{"$f":"IF(SUM($B162:$AA162)>0,B162/SUM($B162:$AA162)%,0)","v":0},{"$f":"IF(SUM($B162:$AA162)>0,C162/SUM($B162:$AA162)%,0)","v":0},0,0,0,0,0,0,0,0,0,0,0,0,0,0,0,0,0,0,0,0,0,0,0,0,{"$f":"SUM(B170:AA170)","v":0},null,"Transport costs, $/t DM",{"$f":"Inputs!C215","v":0},{"$f":"Inputs!D215","v":0},{"$f":"Inputs!E215","v":0},{"$f":"Inputs!F215","v":0},{"$f":"Inputs!G215","v":0},{"$f":"Inputs!H215","v":0},{"$f":"Inputs!I215","v":0},{"$f":"Inputs!J215","v":0},{"$f":"Inputs!K215","v":0},{"$f":"Inputs!L215","v":0},{"$f":"Inputs!M215","v":0},{"$f":"Inputs!N215","v":0},{"$f":"Inputs!O215","v":0},{"$f":"Inputs!P215","v":0},{"$f":"Inputs!Q215","v":0},{"$f":"Inputs!R215","v":0},{"$f":"Inputs!S215","v":0},{"$f":"Inputs!T215","v":0},{"$f":"Inputs!U215","v":0},{"$f":"Inputs!V215","v":0},{"$f":"Inputs!W215","v":0},{"$f":"Inputs!X215","v":0},{"$f":"Inputs!Y215","v":0},{"$f":"Inputs!Z215","v":0},{"$f":"Inputs!AA215","v":0},{"$f":"Inputs!AB215","v":0}]
["Group 4",{"$f":"IF(SUM($B163:$AA163)>0,B163/SUM($B163:$AA163)%,0)","v":0},{"$f":"IF(SUM($B163:$AA163)>0,C163/SUM($B163:$AA163)%,0)","v":0},0,0,0,0,0,0,0,0,0,0,0,0,0,0,0,0,0,0,0,0,0,0,0,0,{"$f":"SUM(B171:AA171)","v":0},null,"Storage costs, $/t DM",{"$f":"Inputs!C216","v":0},{"$f":"Inputs!D216","v":4.1900000000000004},{"$f":"Inputs!E216","v":4.1900000000000004},{"$f":"Inputs!F216","v":4.1900000000000004},{"$f":"Inputs!G216","v":4.1900000000000004},{"$f":"Inputs!H216","v":2},{"$f":"Inputs!I216","v":2},{"$f":"Inputs!J216","v":2},{"$f":"Inputs!K216","v":2},{"$f":"Inputs!L216","v":2},{"$f":"Inputs!M216","v":2},{"$f":"Inputs!N216","v":0},{"$f":"Inputs!O216","v":2},{"$f":"Inputs!P216","v":2},{"$f":"Inputs!Q216","v":2},{"$f":"Inputs!R216","v":2},{"$f":"Inputs!S216","v":0},{"$f":"Inputs!T216","v":1.3},{"$f":"Inputs!U216","v":2},{"$f":"Inputs!V216","v":2},{"$f":"Inputs!W216","v":1.3},{"$f":"Inputs!X216","v":1.3},{"$f":"Inputs!Y216","v":1.3},{"$f":"Inputs!Z216","v":1.3},{"$f":"Inputs!AA216","v":1.3},{"$f":"Inputs!AB216","v":1.3}]
["Group 5",{"$f":"IF(SUM($B164:$AA164)>0,B164/SUM($B164:$AA164)%,0)","v":0},{"$f":"IF(SUM($B164:$AA164)>0,C164/SUM($B164:$AA164)%,0)","v":0},0,0,0,0,0,0,0,0,0,0,0,0,0,0,0,0,0,0,0,0,0,0,0,0,{"$f":"SUM(B172:AA172)","v":0}]
[null,null,null,null,null,null,null,null,null,null,null,null,null,null,null,null,null,null,null,null,null,null,null,null,null,null,null,null,null,"GE, (Mcal/kg)",{"$f":"IF(OR(AE138=\"M\",AE138=0),0,(4143+(56*AE141)+(15*AE148)-(44*AE167))/1000)","v":4.1645000000000003},4.2525300000000001,4.1101399999999995,4.1494400000000002,4.0687700000000007,5.5465999999999998,4.4531999999999998,4.3245999999999993,4.3967999999999998,4.6829999999999998,4.686799999999999,8.1929999999999996,5.0491000000000001,4.7300000000000004,5.1128,4.9196999999999997,5.5327000000000002,0,4.2915000000000001,5.3914999999999997,0,0,0,0,0,0]
[null,null,null,null,null,null,null,null,null,null,null,null,null,null,null,null,null,null,null,null,null,null,null,null,null,null,null,null,null,"NDFn",{"$f":"IF(AE137=0,0,AE143-AE146)","v":41.9},41.71,41.62,47.33,56.53,17.2,8.8000000000000007,0,11.700000000000001,38.299999999999997,23.5,0,12.1,9.1000000000000014,7.5,30.199999999999996,0,0,56.8,47.9,0,0,0,0,0,0]
["3.2.1 Dietary requirements and diet formulation for winter diet",null,null,null,null,null,null,null,null,null,null,null,null,null,null,null,null,null,null,null,null,null,null,null,null,null,null,null,null,"tdNDF",{"$f":"IF(AE137=0,0,IF(AE174=0,0,(0.75*(AE174-AE145)*(1-(AE145/AE174)^0.667))))","v":25.796335032300412},24.313492763740658,18.237602290557607,23.223483113612627,30.562954432137108,9.9681218361934398,4.6302134894441771,0,5.4284723991867123,18.552192474540156,4.7610997039249288,0,5.9748405705082455,5.5186946477951278,2.9618470565992374,14.131781077223334,0,0,35.653496391351197,20.983152239336999,0,0,0,0,0,0]
[null,"Tons of DM and Diet Chemical composition for each group",null,null,null,null,"Minimum Dietary Requirements",null,null,null,null,"Maximum Dietary Requirements",null,null,null,null,"Max/Min",null,null,null,null,null,null,null,null,null,null,null,null,"tdNFC",{"$f":"IF(AE137=0,0,AE144*0.98)","v":24.989999999999995},41.7774,25.0684,23.7258,20.011599999999998,18.129999999999992,74.577999999999989,0,68.403999999999996,22.54,25.382000000000005,0,27.440000000000005,29.008000000000006,21.265999999999998,24.402000000000008,0.78399999999999981,0,21.364000000000004,4.9979999999999993,0,0,0,0,0,0]
["Animals needs",1,2,3,4,5,1,2,3,4,5,1,2,3,4,5,null,null,null,null,null,null,null,null,null,null,null,null,null,"tdCP",{"$f":"IF(AE148=0,0,IF(OR(AE138=\"H\",AE138=\"S\",AE138=\"P\"),EXP(-1.2*AE147/AE148)*AE148,IF(AE138=\"AP\",AE148*0.86,(1-(0.4*(AE147/AE148)))*AE148)))","v":18.822409850451539},7.3238752903617028,17.216717744497647,14.707374105012448,10.474191180694911,38.96,9.2799999999999994,12.200000000000001,14.12,27.8,36.839999999999996,0,46.139999999999993,53.64,63.800000000000004,27.7,82.13,281,13.5,22.740000000000002,0,0,0,0,0,0]
["DM, t/yr   (> min & < max)",{"$f":"SUMPRODUCT($AE$137:$BD$137,$B$111:$AA$111)","v":327.10388396151006},{"$f":"SUMPRODUCT($AE$137:$BD$137,$B$112:$AA$112)","v":406.83470201990656},{"$f":"SUMPRODUCT(AE137:BD137,$B$113:$AA$113)","v":61.495200000000146},{"$f":"SUMPRODUCT(AE137:BD137,$B$114:$AA$114)","v":71.096827594226937},{"$f":"SUMPRODUCT(AE137:BD137,$B$115:$AA$115)","v":186.03803870323463},{"$f":"Inputs!D125*(365-Inputs!D173)/365","v":327.10388396146294},{"$f":"Inputs!E125*(365-Inputs!E173)/365","v":406.83470201991008},{"$f":"Inputs!F125*(365-Inputs!F173)/365","v":61.495199999999997},{"$f":"Inputs!G125*(365-Inputs!G173)/365","v":71.096827594227406},{"$f":"Inputs!H125*(365-Inputs!H173)/365","v":186.03803870323563},{"$f":"Inputs!D125*(365-Inputs!D173)/365","v":327.10388396146294},{"$f":"Inputs!E125*(365-Inputs!E173)/365","v":406.83470201991008},{"$f":"Inputs!F125*(365-Inputs!F173)/365","v":61.495199999999997},{"$f":"Inputs!G125*(365-Inputs!G173)/365","v":71.096827594227406},{"$f":"Inputs!H125*(365-Inputs!H173)/365","v":186.03803870323563},1,null,null,null,null,null,null,null,null,null,null,null,null,"tdFA",{"$f":"IF(AE137=0,0,IF(AE141<1,0,AE141-1))","v":1.7000000000000002},2.13,1.7400000000000002,1.8399999999999999,1.42,18.2,3.2,0,1.2999999999999998,4.2,4.4000000000000004,83.5,7.1,0.10000000000000009,1.5,9,0.19999999999999996,0,1.7000000000000002,18.3,0,0,0,0,0,0]
["TDNpX, %",{"$f":"SUMPRODUCT($AE186:$BD186,$B$111:$AA$111)%/G178*100","v":67.690338082153971},{"$f":"SUMPRODUCT($AE199:$BD199,$B$112:$AA$112)%/H178*100","v":63.642059734600309},{"$f":"SUMPRODUCT(AE212:$BD$212,$B$113:$AA$113)%/I178*100","v":62.79516840554804},{"$f":"SUMPRODUCT(AE225:$BD$225,$B$114:$AA$114)%/J178*100","v":65.981915193951352},{"$f":"SUMPRODUCT(AE238:BD238,$B$115:$AA$115)%/K178*100","v":62.908662119615556},null,null,null,null,null,null,null,null,null,null,null,null,null,null,null,null,null,null,null,null,null,null,null,"TDN1X, %",{"$f":"IF(AE137=0,0,IF(AE138=\"M\",0,IF(AE138=\"FA\",AE141*0.86*2.25,IF(AE138=\"AP\",(0.86*AE148+AE178*2.25+0.98*(100-AE148-AE167-AE141)-7),(AE175+AE176+AE177+AE178*2.25-7)))))","v":66.433744882751952},71.207268054102357,57.437720035055264,58.796657218625072,57.243745612832015,101.00812183619342,88.688213489444166,0,83.877472399186715,71.342192474540155,69.883099703924927,163.50749999999999,88.529840570508242,81.391694647795134,84.402847056599242,79.483781077223341,76.364000000000004,0,67.342496391351204,82.896152239336999,0,0,0,0,0,0]
["DEpX, Mcal",{"$f":"SUMPRODUCT($AE187:$BD187,$B$111:$AA$111)*1000","v":988410.51472653332},{"$f":"SUMPRODUCT($AE200:$BD200,$B$112:$AA$112)*1000","v":1161388.4022803241},{"$f":"SUMPRODUCT(AE213:BD213,$B$113:$AA$113)*1000","v":172563.26174544814},{"$f":"SUMPRODUCT(AE226:BD226,$B$114:$AA$114)*1000","v":211460.0898475665},{"$f":"SUMPRODUCT(AE239:BD239,$B$115:$AA$115)*1000","v":523385.06693517149},null,null,null,null,null,null,null,null,null,null,null,null,null,null,null,null,null,null,null,null,null,null,null,"DE1X, Mcal/kg",{"$f":"IF(AE137=0,0,IF(AE138=\"M\",0,IF(AE138=\"FA\",(9.4*0.86*AE141/100),IF(AE138=\"AP\",((4.2*AE176/100)+(5.6*AE177/100)+(9.4*AE178/100)-0.3),((4.2*AE175/100)+(4.2*AE176/100)+(5.6*AE177/100)+(9.4*AE178/100)-0.3)))))","v":3.0468810229819039},3.0861745123373634,2.6465482898952879,2.6684428406524274,2.5441659922686735,4.7726811171201238,3.847224966556654,0,3.7138838407658419,3.3774720839306869,3.4426501875648472,6.8309799999999994,4.3546633039613463,4.1633611752073953,4.4313695763771683,3.7156188052433805,4.3510079999999993,0,3.0105348484367505,3.7848483940521547,0,0,0,0,0,0]
["NELpX, Mcal",{"$f":"SUMPRODUCT($AE189:$BD189,$B$111:$AA$111)*1000","v":547413.6158544051},{"$f":"SUMPRODUCT($AE202:$BD202,$B$112:$AA$112)*1000","v":624167.85192554945},{"$f":"SUMPRODUCT(AE215:BD215,$B$113:$AA$113)*1000","v":91483.136366150793},{"$f":"SUMPRODUCT(AE228:BD228,$B$114:$AA$114)*1000","v":114830.11805991316},{"$f":"SUMPRODUCT(AE241:BD241,$B$115:$AA$115)*1000","v":277641.42008711462},{"$f":"Inputs!D129*Inputs!D125*1000*(365-Inputs!D173)/365","v":547413.61585440522},{"$f":"Inputs!E129*Inputs!E125*1000*(365-Inputs!E173)/365","v":601560.62486536987},{"$f":"Inputs!F129*Inputs!F125*1000*(365-Inputs!F173)/365","v":81143.061866630582},{"$f":"Inputs!G129*Inputs!G125*1000*(365-Inputs!G173)/365","v":101656.91134019636},{"$f":"Inputs!H129*Inputs!H125*1000*(365-Inputs!H173)/365","v":243401.85131594419},{"$f":"Inputs!D130*Inputs!D125*1000*(365-Inputs!D173)/365","v":656896.33902528614},{"$f":"Inputs!E130*Inputs!E125*1000*(365-Inputs!E173)/365","v":721872.74983844382},{"$f":"Inputs!F130*Inputs!F125*1000*(365-Inputs!F173)/365","v":97371.674239956687},{"$f":"Inputs!G130*Inputs!G125*1000*(365-Inputs!G173)/365","v":121988.2936082356},{"$f":"Inputs!H130*Inputs!H125*1000*(365-Inputs!H173)/365","v":292082.22157913301},null,null,null,null,null,null,null,null,null,null,null,null,null,"Ddig",{"$f":"IF(AE137=0,0,IF(OR(AE179=0,AE179<60),0,((0.18*AE179)-10.3)/AE179))","v":2.4958311198949618E-2},3.5351844250306103E-2,0,0,0,7.8028001978853873E-2,6.3862808881295974E-2,0,5.720183136920718E-2,3.5625407031389514E-2,3.2611002608095387E-2,0.11700594773940032,6.3655048584474475E-2,5.3451461545664915E-2,5.7966201861733631E-2,5.041381448634253E-2,4.511968990623854E-2,0,2.7050517103746261E-2,5.5748153300747456E-2,0,0,0,0,0,0]
["GE, MJ",{"$f":"SUMPRODUCT(B111:AA111*1000,AE173:BD173*4.184)","v":6111181.0993071385},{"$f":"SUMPRODUCT(B112:AA112*1000,AE173:BD173*4.184)","v":7264537.2824656507},{"$f":"SUMPRODUCT(B113:AA113*1000,AE173:BD173*4.184)","v":1068700.9183854128},{"$f":"SUMPRODUCT(B114:AA114*1000,AE173:BD173*4.184)","v":1280304.0821260817},{"$f":"SUMPRODUCT(B115:AA115*1000,AE173:BD173*4.184)","v":3238172.4184260312},null,null,null,null,null,null,null,null,null,null,null,null,null,null,null,null,null,null,null,null,null,null,null,"Group 1"]
["VS, t",{"$f":"Inputs!D120*Inputs!D115*(365-Inputs!D173)/1000*(1-B179%)-B199","v":86.032395562494287},{"$f":"Inputs!E120*Inputs!E115*(365-Inputs!E173)/1000*(1-C179%)-C199","v":117.03047929764963},{"$f":"Inputs!F120*Inputs!F115*(365-Inputs!F173)/1000*(1-D179%)-D199","v":17.834488420004064},{"$f":"Inputs!G120*Inputs!G115*(365-Inputs!G173)/1000*(1-E179%)-E199","v":19.114539231308861},{"$f":"Inputs!H120*Inputs!H115*(365-Inputs!H173)/1000*(1-F179%)-F199","v":53.856719240434593},null,null,null,null,null,null,null,null,null,null,null,null,null,null,null,null,null,null,null,null,null,null,null,"pX",{"$f":"IF(Inputs!$C$8=1,'Scenario 1'!$R$149,'Scenario 2'!$R$149)","v":4},{"$f":"IF(Inputs!$C$8=1,'Scenario 1'!$R$149,'Scenario 2'!$R$149)","v":4},{"$f":"IF(Inputs!$C$8=1,'Scenario 1'!$R$149,'Scenario 2'!$R$149)","v":4},{"$f":"IF(Inputs!$C$8=1,'Scenario 1'!$R$149,'Scenario 2'!$R$149)","v":4},{"$f":"IF(Inputs!$C$8=1,'Scenario 1'!$R$149,'Scenario 2'!$R$149)","v":4},{"$f":"IF(Inputs!$C$8=1,'Scenario 1'!$R$149,'Scenario 2'!$R$149)","v":4},{"$f":"IF(Inputs!$C$8=1,'Scenario 1'!$R$149,'Scenario 2'!$R$149)","v":4},{"$f":"IF(Inputs!$C$8=1,'Scenario 1'!$R$149,'Scenario 2'!$R$149)","v":4},{"$f":"IF(Inputs!$C$8=1,'Scenario 1'!$R$149,'Scenario 2'!$R$149)","v":4},{"$f":"IF(Inputs!$C$8=1,'Scenario 1'!$R$149,'Scenario 2'!$R$149)","v":4},{"$f":"IF(Inputs!$C$8=1,'Scenario 1'!$R$149,'Scenario 2'!$R$149)","v":4},{"$f":"IF(Inputs!$C$8=1,'Scenario 1'!$R$149,'Scenario 2'!$R$149)","v":4},{"$f":"IF(Inputs!$C$8=1,'Scenario 1'!$R$149,'Scenario 2'!$R$149)","v":4},{"$f":"IF(Inputs!$C$8=1,'Scenario 1'!$R$149,'Scenario 2'!$R$149)","v":4},{"$f":"IF(Inputs!$C$8=1,'Scenario 1'!$R$149,'Scenario 2'!$R$149)","v":4},{"$f":"IF(Inputs!$C$8=1,'Scenario 1'!$R$149,'Scenario 2'!$R$149)","v":4},{"$f":"IF(Inputs!$C$8=1,'Scenario 1'!$R$149,'Scenario 2'!$R$149)","v":4},{"$f":"IF(Inputs!$C$8=1,'Scenario 1'!$R$149,'Scenario 2'!$R$149)","v":4},{"$f":"IF(Inputs!$C$8=1,'Scenario 1'!$R$149,'Scenario 2'!$R$149)","v":4},{"$f":"IF(Inputs!$C$8=1,'Scenario 1'!$R$149,'Scenario 2'!$R$149)","v":4},{"$f":"IF(Inputs!$C$8=1,'Scenario 1'!$R$149,'Scenario 2'!$R$149)","v":4},{"$f":"IF(Inputs!$C$8=1,'Scenario 1'!$R$149,'Scenario 2'!$R$149)","v":4},{"$f":"IF(Inputs!$C$8=1,'Scenario 1'!$R$149,'Scenario 2'!$R$149)","v":4},{"$f":"IF(Inputs!$C$8=1,'Scenario 1'!$R$149,'Scenario 2'!$R$149)","v":4},{"$f":"IF(Inputs!$C$8=1,'Scenario 1'!$R$149,'Scenario 2'!$R$149)","v":4},{"$f":"IF(Inputs!$C$8=1,'Scenario 1'!$R$149,'Scenario 2'!$R$149)","v":4}]
["EE, (t) (<max)",{"$f":"SUMPRODUCT($AE141:$BD141,$B$111:$AA$111)%","v":19.992426165618582},{"$f":"SUMPRODUCT($AE141:$BD141,$B$112:$AA$112)%","v":16.237830305700232},{"$f":"SUMPRODUCT(AE141:BD141,$B$113:$AA$113)/100","v":1.7573803482965458},{"$f":"SUMPRODUCT(AE141:BD141,$B$114:$AA$114)/100","v":2.8371470942188561},{"$f":"SUMPRODUCT(AE141:BD141,$B$115:$AA$115)/100","v":5.3536691379772243},null,null,null,null,null,{"$f":"Inputs!D132*Inputs!D125%*(365-Inputs!D173)/365","v":21.261752457495092},{"$f":"Inputs!E132*Inputs!E125%*(365-Inputs!E173)/365","v":26.444255631294158},{"$f":"Inputs!F132*Inputs!F125%*(365-Inputs!F173)/365","v":3.074759999999999},{"$f":"Inputs!G132*Inputs!G125%*(365-Inputs!G173)/365","v":3.1993572417402327},{"$f":"Inputs!H132*Inputs!H125%*(365-Inputs!H173)/365","v":8.3717117416456031},null,null,null,null,null,null,null,null,null,null,null,null,null,"TDN1X in diet, %",{"$f":"IF(Inputs!$C$8=1,'Scenario 1'!$R$150,'Scenario 2'!$R$150)","v":73.605503292553948},{"$f":"IF(Inputs!$C$8=1,'Scenario 1'!$R$150,'Scenario 2'!$R$150)","v":73.605503292553948},{"$f":"IF(Inputs!$C$8=1,'Scenario 1'!$R$150,'Scenario 2'!$R$150)","v":73.605503292553948},{"$f":"IF(Inputs!$C$8=1,'Scenario 1'!$R$150,'Scenario 2'!$R$150)","v":73.605503292553948},{"$f":"IF(Inputs!$C$8=1,'Scenario 1'!$R$150,'Scenario 2'!$R$150)","v":73.605503292553948},{"$f":"IF(Inputs!$C$8=1,'Scenario 1'!$R$150,'Scenario 2'!$R$150)","v":73.605503292553948},{"$f":"IF(Inputs!$C$8=1,'Scenario 1'!$R$150,'Scenario 2'!$R$150)","v":73.605503292553948},{"$f":"IF(Inputs!$C$8=1,'Scenario 1'!$R$150,'Scenario 2'!$R$150)","v":73.605503292553948},{"$f":"IF(Inputs!$C$8=1,'Scenario 1'!$R$150,'Scenario 2'!$R$150)","v":73.605503292553948},{"$f":"IF(Inputs!$C$8=1,'Scenario 1'!$R$150,'Scenario 2'!$R$150)","v":73.605503292553948},{"$f":"IF(Inputs!$C$8=1,'Scenario 1'!$R$150,'Scenario 2'!$R$150)","v":73.605503292553948},{"$f":"IF(Inputs!$C$8=1,'Scenario 1'!$R$150,'Scenario 2'!$R$150)","v":73.605503292553948},{"$f":"IF(Inputs!$C$8=1,'Scenario 1'!$R$150,'Scenario 2'!$R$150)","v":73.605503292553948},{"$f":"IF(Inputs!$C$8=1,'Scenario 1'!$R$150,'Scenario 2'!$R$150)","v":73.605503292553948},{"$f":"IF(Inputs!$C$8=1,'Scenario 1'!$R$150,'Scenario 2'!$R$150)","v":73.605503292553948},{"$f":"IF(Inputs!$C$8=1,'Scenario 1'!$R$150,'Scenario 2'!$R$150)","v":73.605503292553948},{"$f":"IF(Inputs!$C$8=1,'Scenario 1'!$R$150,'Scenario 2'!$R$150)","v":73.605503292553948},{"$f":"IF(Inputs!$C$8=1,'Scenario 1'!$R$150,'Scenario 2'!$R$150)","v":73.605503292553948},{"$f":"IF(Inputs!$C$8=1,'Scenario 1'!$R$150,'Scenario 2'!$R$150)","v":73.605503292553948},{"$f":"IF(Inputs!$C$8=1,'Scenario 1'!$R$150,'Scenario 2'!$R$150)","v":73.605503292553948},{"$f":"IF(Inputs!$C$8=1,'Scenario 1'!$R$150,'Scenario 2'!$R$150)","v":73.605503292553948},{"$f":"IF(Inputs!$C$8=1,'Scenario 1'!$R$150,'Scenario 2'!$R$150)","v":73.605503292553948},{"$f":"IF(Inputs!$C$8=1,'Scenario 1'!$R$150,'Scenario 2'!$R$150)","v":73.605503292553948},{"$f":"IF(Inputs!$C$8=1,'Scenario 1'!$R$150,'Scenario 2'!$R$150)","v":73.605503292553948},{"$f":"IF(Inputs!$C$8=1,'Scenario 1'!$R$150,'Scenario 2'!$R$150)","v":73.605503292553948},{"$f":"IF(Inputs!$C$8=1,'Scenario 1'!$R$150,'Scenario 2'!$R$150)","v":73.605503292553948}]
["FNDF, (t) (>min)",{"$f":"SUMPRODUCT($AE142:$BD142,$B$111:$AA$111)%","v":72.411628562835219},{"$f":"SUMPRODUCT($AE142:$BD142,$B$112:$AA$112)%","v":156.91709769863411},{"$f":"SUMPRODUCT(AE142:BD142,$B$113:$AA$113)/100","v":27.983407004022446},{"$f":"SUMPRODUCT(AE142:BD142,$B$114:$AA$114)/100","v":26.509540395748832},{"$f":"SUMPRODUCT(AE142:BD142,$B$115:$AA$115)/100","v":84.002070869635972},{"$f":"Inputs!D134*Inputs!D125%*(365-Inputs!D173)/365","v":55.607660273448701},{"$f":"Inputs!E134*Inputs!E125%*(365-Inputs!E173)/365","v":73.230246363583817},{"$f":"Inputs!F134*Inputs!F125%*(365-Inputs!F173)/365","v":14.758848},{"$f":"Inputs!G134*Inputs!G125%*(365-Inputs!G173)/365","v":12.797428966960931},{"$f":"Inputs!H134*Inputs!H125%*(365-Inputs!H173)/365","v":33.486846966582412},null,null,null,null,null,null,null,null,null,null,null,null,null,null,null,null,null,null,"Cdig",{"$f":"IF(AE137=0,0,(1-(IF(AE184<60,0,((0.18*AE184)-10.3)/AE184))*(AE183-1)))","v":0.87980556640152607},0.87980556640152607,0.87980556640152607,0.87980556640152607,0.87980556640152607,0.87980556640152607,0.87980556640152607,0,0.87980556640152607,0.87980556640152607,0.87980556640152607,0.87980556640152607,0.87980556640152607,0.87980556640152607,0.87980556640152607,0.87980556640152607,0.87980556640152607,0.87980556640152607,0.87980556640152607,0.87980556640152607,0.87980556640152607,0.87980556640152607,0.87980556640152607,0.87980556640152607,0.87980556640152607,0.87980556640152607]
["NDF, (t) (> min)",{"$f":"SUMPRODUCT($AE143:$BD143,$B$111:$AA$111)%","v":105.90772535272609},{"$f":"SUMPRODUCT($AE143:$BD143,$B$112:$AA$112)%","v":180.73184026905713},{"$f":"SUMPRODUCT(AE143:BD143,B113:AA113)/100","v":27.983407004022446},{"$f":"SUMPRODUCT(AE143:BD143,$B$114:$AA$114)/100","v":30.757865483444419},{"$f":"SUMPRODUCT(AE143:BD143,$B$115:$AA$115)/100","v":84.002070869635972},{"$f":"Inputs!D135*Inputs!D125%*(365-Inputs!D173)/365","v":81.775970990365735},{"$f":"Inputs!E135*Inputs!E125%*(365-Inputs!E173)/365","v":113.91371656557483},{"$f":"Inputs!F135*Inputs!F125%*(365-Inputs!F173)/365","v":18.448559999999997},{"$f":"Inputs!G135*Inputs!G125%*(365-Inputs!G173)/365","v":19.907111726383675},{"$f":"Inputs!H135*Inputs!H125%*(365-Inputs!H173)/365","v":52.090650836905979},{"$f":"Inputs!D136*Inputs!D125%*(365-Inputs!D173)/365","v":327.10388396146294},{"$f":"Inputs!E136*Inputs!E125%*(365-Inputs!E173)/365","v":406.83470201991014},{"$f":"Inputs!F136*Inputs!F125%*(365-Inputs!F173)/365","v":61.495199999999997},{"$f":"Inputs!G136*Inputs!G125%*(365-Inputs!G173)/365","v":71.096827594227406},{"$f":"Inputs!H136*Inputs!H125%*(365-Inputs!H173)/365","v":186.03803870323563},null,null,null,null,null,null,null,null,null,null,null,null,null,"TDNpX, %",{"$f":"IF(AE137=0,0,IF(AE179=0,0,AE179*AE185))","v":58.448778544744066},62.64855080224482,50.534025808254079,51.729626306748806,50.363366031842546,88.867507843246514,78.028383902219886,0,73.795867112494832,62.767258058389494,61.483540116905992,143.85480864839752,77.889046526572812,71.608866009983458,74.258094660532677,69.930273030381386,67.185472272686141,0,59.248303180485472,72.932496173437016,0,0,0,0,0,0]
["NFC, (t) (>min & <max)",{"$f":"SUMPRODUCT($AE144:$BD144,$B$111:$AA$111)%","v":137.38363126381472},{"$f":"SUMPRODUCT($AE144:$BD144,$B$112:$AA$112)%","v":128.71250834212407},{"$f":"SUMPRODUCT(AE144:BD144,$B$113:$AA$113)/100","v":19.571259875731986},{"$f":"SUMPRODUCT(AE144:BD144,$B$114:$AA$114)/100","v":22.806836656215332},{"$f":"SUMPRODUCT(AE144:BD144,$B$115:$AA$115)/100","v":59.521261565838266},{"$f":"Inputs!D138*Inputs!D125%*(365-Inputs!D173)/365","v":0},{"$f":"Inputs!E138*Inputs!E125%*(365-Inputs!E173)/365","v":0},{"$f":"Inputs!F138*Inputs!F125%*(365-Inputs!F173)/365","v":0},{"$f":"Inputs!G138*Inputs!G125%*(365-Inputs!G173)/365","v":0},{"$f":"Inputs!H138*Inputs!H125%*(365-Inputs!H173)/365","v":0},{"$f":"Inputs!D139*Inputs!D125%*(365-Inputs!D173)/365","v":137.38363126381444},{"$f":"Inputs!E139*Inputs!E125%*(365-Inputs!E173)/365","v":162.73388080796406},{"$f":"Inputs!F139*Inputs!F125%*(365-Inputs!F173)/365","v":23.368175999999998},{"$f":"Inputs!G139*Inputs!G125%*(365-Inputs!G173)/365","v":29.86066758957551},{"$f":"Inputs!H139*Inputs!H125%*(365-Inputs!H173)/365","v":74.415215481294254},null,null,null,null,null,null,null,null,null,null,null,null,null,"DEpX, Mcal/kg",{"$f":"IF(AE137=0,0,IF(AE180=0,0,AE180*AE185))","v":2.680662884182655},2.7152335148409277,2.3284479172003141,2.3477108648303062,2.238371401847441,4.1990314135017384,3.3848099407754693,0,3.2674956760744664,2.9715187398079808,3.0288627981928102,6.0099342279774959,3.831257014629653,3.6629483368874656,3.8987436200790051,3.269022107479314,3.8280410578575705,0,2.6486853175004277,3.3299306850729624,0,0,0,0,0,0]
["CP (t)  (< max)",{"$f":"SUMPRODUCT($AE148:$BD148,$B$111:$AA$111)%","v":55.101247565929086},{"$f":"SUMPRODUCT($AE$148:$BD$148,$B$112:$AA$112)%","v":63.201017817898538},{"$f":"SUMPRODUCT($AE$148:$BD$148,$B$113:$AA$113)/100","v":8.6468905216465188},{"$f":"SUMPRODUCT($AE$148:$BD$148,$B$114:$AA$114)/100","v":11.905860592442778},{"$f":"SUMPRODUCT($AE$148:$BD$148,$B$115:$AA$115)/100","v":26.51949100589729},null,null,null,null,null,{"$f":"Inputs!D146*Inputs!D125%*(365-Inputs!D173)/365","v":63.161978417327362},{"$f":"Inputs!E146*Inputs!E125%*(365-Inputs!E173)/365","v":71.01707596730887},{"$f":"Inputs!F146*Inputs!F125%*(365-Inputs!F173)/365","v":8.5869695382875761},{"$f":"Inputs!G146*Inputs!G125%*(365-Inputs!G173)/365","v":12.542364681538597},{"$f":"Inputs!H146*Inputs!H125%*(365-Inputs!H173)/365","v":26.599525513789406},null,null,null,null,null,null,null,null,null,null,null,null,null,"MEpX, Mcal/kg",{"$f":"IF(AE137=0,0,IF(AE138=\"M\",0,IF(AE138=\"FA\",AE187,IF(AE141<3,1.01*AE187-0.45,(1.01*AE187-0.45)+(0.0046*(AE141-3))))))","v":2.2574695130244815},2.2929838499893367,1.9017323963723174,1.9211879734786093,1.8107551158659156,3.8655417276367561,2.9741780401832241,0,2.8501706328352108,2.5613539272060604,2.6201914261747383,6.0099342279774959,3.4430295847759496,3.2495778202563401,3.4877310562797952,2.8839123285541071,3.4163214684361463,0,2.2251721706754317,2.988209991923692,0,0,0,0,0,0]
["RDP, (t) (> min & < max)",{"$f":"SUMPRODUCT($AE193:$BD193,$B$111:$AA$111)%","v":35.644766278096448},{"$f":"SUMPRODUCT($AE206:$BD206,$B$112:$AA$112)%","v":42.758564771299149},{"$f":"SUMPRODUCT(AE219:BD219,$B$113:$AA$113)%","v":6.820853995531527},{"$f":"SUMPRODUCT(AE232:BD232,$B$114:$AA$114)%","v":8.1276757986907757},{"$f":"SUMPRODUCT(AE245:BD245,$B$115:$AA$115)%","v":20.815026260487976},{"$f":"Inputs!D141*Inputs!D125%*(365-Inputs!D173)/365","v":35.644766278096995},{"$f":"Inputs!E141*Inputs!E125%*(365-Inputs!E173)/365","v":40.459698336567619},{"$f":"Inputs!F141*Inputs!F125%*(365-Inputs!F173)/365","v":5.6376030297792781},{"$f":"Inputs!G141*Inputs!G125%*(365-Inputs!G173)/365","v":7.0113439102292565},{"$f":"Inputs!H141*Inputs!H125%*(365-Inputs!H173)/365","v":16.9863906478895},{"$f":"Inputs!D142*Inputs!D125%*(365-Inputs!D173)/365","v":44.555957847621244},{"$f":"Inputs!E142*Inputs!E125%*(365-Inputs!E173)/365","v":50.574622920709523},{"$f":"Inputs!F142*Inputs!F125%*(365-Inputs!F173)/365","v":7.0470037872240976},{"$f":"Inputs!G142*Inputs!G125%*(365-Inputs!G173)/365","v":8.76417988778657},{"$f":"Inputs!H142*Inputs!H125%*(365-Inputs!H173)/365","v":21.232988309861877},null,null,null,null,null,null,null,null,null,null,null,null,null,"NELpX, Mcal/kg",{"$f":"IF(AE137=0,0,IF(AE138=\"M\",0,IF(AE141<3,0.703*AE188-0.19,(0.703*AE188-0.19)+((0.097*AE188+0.19)/97)*(AE141-3))))","v":1.3970010676562106},1.4225203736182601,1.146917874649739,1.1605951453554624,1.0829608464537386,2.6218295692792415,1.906766691360944,0,1.813669954883153,1.6205760678162291,1.6629840629514954,4.6844325771060769,2.2579989397014995,2.0944532076402069,2.2618749325646959,1.8712890934796018,2.2116739923106108,0,1.3742960359848284,1.9913472822422578,0,0,0,0,0,0]
["RUP, (t)  (> min)",{"$f":"SUMPRODUCT($AE194:$BD194,$B$111:$AA$111)%","v":19.456481287832649},{"$f":"SUMPRODUCT($AE207:$BD207,$B$112:$AA$112)%","v":20.442453046599386},{"$f":"SUMPRODUCT(AE220:BD220,$B$113:$AA$113)%","v":1.8260365261149938},{"$f":"SUMPRODUCT(AE233:BD233,$B$114:$AA$114)%","v":3.7781847937520023},{"$f":"SUMPRODUCT(AE246:BD246,$B$115:$AA$115)%","v":5.7044647454093091},{"$f":"Inputs!D143*Inputs!D125%*(365-Inputs!D173)/365","v":18.606020569706118},{"$f":"Inputs!E143*Inputs!E125%*(365-Inputs!E173)/365","v":20.442453046599351},{"$f":"Inputs!F143*Inputs!F125%*(365-Inputs!F173)/365","v":1.5399657510634774},{"$f":"Inputs!G143*Inputs!G125%*(365-Inputs!G173)/365","v":3.7781847937520254},{"$f":"Inputs!H143*Inputs!H125%*(365-Inputs!H173)/365","v":5.3665372039275239},"na","na","No constraints applied to Max RUP",null,null,null,null,null,null,null,null,null,null,null,null,null,null,null,"DMI, %BW",{"$f":"IF(Inputs!$C$8=1,'Scenario 1'!$R$102,'Scenario 2'!$R$102)","v":3.779415589372273},{"$f":"IF(Inputs!$C$8=1,'Scenario 1'!$R$102,'Scenario 2'!$R$102)","v":3.779415589372273},{"$f":"IF(Inputs!$C$8=1,'Scenario 1'!$R$102,'Scenario 2'!$R$102)","v":3.779415589372273},{"$f":"IF(Inputs!$C$8=1,'Scenario 1'!$R$102,'Scenario 2'!$R$102)","v":3.779415589372273},{"$f":"IF(Inputs!$C$8=1,'Scenario 1'!$R$102,'Scenario 2'!$R$102)","v":3.779415589372273},{"$f":"IF(Inputs!$C$8=1,'Scenario 1'!$R$102,'Scenario 2'!$R$102)","v":3.779415589372273},{"$f":"IF(Inputs!$C$8=1,'Scenario 1'!$R$102,'Scenario 2'!$R$102)","v":3.779415589372273},{"$f":"IF(Inputs!$C$8=1,'Scenario 1'!$R$102,'Scenario 2'!$R$102)","v":3.779415589372273},{"$f":"IF(Inputs!$C$8=1,'Scenario 1'!$R$102,'Scenario 2'!$R$102)","v":3.779415589372273},{"$f":"IF(Inputs!$C$8=1,'Scenario 1'!$R$102,'Scenario 2'!$R$102)","v":3.779415589372273},{"$f":"IF(Inputs!$C$8=1,'Scenario 1'!$R$102,'Scenario 2'!$R$102)","v":3.779415589372273},{"$f":"IF(Inputs!$C$8=1,'Scenario 1'!$R$102,'Scenario 2'!$R$102)","v":3.779415589372273},{"$f":"IF(Inputs!$C$8=1,'Scenario 1'!$R$102,'Scenario 2'!$R$102)","v":3.779415589372273},{"$f":"IF(Inputs!$C$8=1,'Scenario 1'!$R$102,'Scenario 2'!$R$102)","v":3.779415589372273},{"$f":"IF(Inputs!$C$8=1,'Scenario 1'!$R$102,'Scenario 2'!$R$102)","v":3.779415589372273},{"$f":"IF(Inputs!$C$8=1,'Scenario 1'!$R$102,'Scenario 2'!$R$102)","v":3.779415589372273},{"$f":"IF(Inputs!$C$8=1,'Scenario 1'!$R$102,'Scenario 2'!$R$102)","v":3.779415589372273},{"$f":"IF(Inputs!$C$8=1,'Scenario 1'!$R$102,'Scenario 2'!$R$102)","v":3.779415589372273},{"$f":"IF(Inputs!$C$8=1,'Scenario 1'!$R$102,'Scenario 2'!$R$102)","v":3.779415589372273},{"$f":"IF(Inputs!$C$8=1,'Scenario 1'!$R$102,'Scenario 2'!$R$102)","v":3.779415589372273},{"$f":"IF(Inputs!$C$8=1,'Scenario 1'!$R$102,'Scenario 2'!$R$102)","v":3.779415589372273},{"$f":"IF(Inputs!$C$8=1,'Scenario 1'!$R$102,'Scenario 2'!$R$102)","v":3.779415589372273},{"$f":"IF(Inputs!$C$8=1,'Scenario 1'!$R$102,'Scenario 2'!$R$102)","v":3.779415589372273},{"$f":"IF(Inputs!$C$8=1,'Scenario 1'!$R$102,'Scenario 2'!$R$102)","v":3.779415589372273},{"$f":"IF(Inputs!$C$8=1,'Scenario 1'!$R$102,'Scenario 2'!$R$102)","v":3.779415589372273},{"$f":"IF(Inputs!$C$8=1,'Scenario 1'!$R$102,'Scenario 2'!$R$102)","v":3.779415589372273}]
["Ca, (t abs) (> min & <max)",{"$f":"SUMPRODUCT($AE153:$BD153,$AE154:$BD154,$B$111:$AA$111)%","v":1.0232061695100172},{"$f":"SUMPRODUCT($AE153:$BD153,$AE154:$BD154,$B$112:$AA$112)%","v":1.4598923938567976},{"$f":"SUMPRODUCT($AE153:$BD153,$AE154:$BD154,$B$113:$AA$113)/100","v":0.15664747190546852},{"$f":"SUMPRODUCT($AE153:$BD153,$AE154:$BD154,$B$114:$AA$114)/100","v":0.16004477906926526},{"$f":"SUMPRODUCT($AE153:$BD153,$AE154:$BD154,$B$115:$AA$115)/100","v":0.48329359899644275},{"$f":"Inputs!D159*Inputs!D125%*(365-Inputs!D173)/365","v":1.0232061695099997},{"$f":"Inputs!E159*Inputs!E125%*(365-Inputs!E173)/365","v":1.4598923938568118},{"$f":"Inputs!F159*Inputs!F125%*(365-Inputs!F173)/365","v":9.7360586179250613E-2},{"$f":"Inputs!G159*Inputs!G125%*(365-Inputs!G173)/365","v":0.16004477906926257},{"$f":"Inputs!H159*Inputs!H125%*(365-Inputs!H173)/365","v":0.25454706675484501},{"$f":"G191*$Q191","v":2.0464123390199993},{"$f":"H191*$Q$191","v":2.9197847877136236},{"$f":"I191*$Q$191","v":0.19472117235850123},{"$f":"J191*$Q$191","v":0.32008955813852513},{"$f":"K191*$Q$191","v":0.50909413350969002},2,null,null,null,null,null,null,null,null,null,null,null,null,"Concentrate, %",{"$f":"IF(Inputs!$C$8=1,'Scenario 1'!$R$147,'Scenario 2'!$R$147)","v":50},{"$f":"IF(Inputs!$C$8=1,'Scenario 1'!$R$147,'Scenario 2'!$R$147)","v":50},{"$f":"IF(Inputs!$C$8=1,'Scenario 1'!$R$147,'Scenario 2'!$R$147)","v":50},{"$f":"IF(Inputs!$C$8=1,'Scenario 1'!$R$147,'Scenario 2'!$R$147)","v":50},{"$f":"IF(Inputs!$C$8=1,'Scenario 1'!$R$147,'Scenario 2'!$R$147)","v":50},{"$f":"IF(Inputs!$C$8=1,'Scenario 1'!$R$147,'Scenario 2'!$R$147)","v":50},{"$f":"IF(Inputs!$C$8=1,'Scenario 1'!$R$147,'Scenario 2'!$R$147)","v":50},{"$f":"IF(Inputs!$C$8=1,'Scenario 1'!$R$147,'Scenario 2'!$R$147)","v":50},{"$f":"IF(Inputs!$C$8=1,'Scenario 1'!$R$147,'Scenario 2'!$R$147)","v":50},{"$f":"IF(Inputs!$C$8=1,'Scenario 1'!$R$147,'Scenario 2'!$R$147)","v":50},{"$f":"IF(Inputs!$C$8=1,'Scenario 1'!$R$147,'Scenario 2'!$R$147)","v":50},{"$f":"IF(Inputs!$C$8=1,'Scenario 1'!$R$147,'Scenario 2'!$R$147)","v":50},{"$f":"IF(Inputs!$C$8=1,'Scenario 1'!$R$147,'Scenario 2'!$R$147)","v":50},{"$f":"IF(Inputs!$C$8=1,'Scenario 1'!$R$147,'Scenario 2'!$R$147)","v":50},{"$f":"IF(Inputs!$C$8=1,'Scenario 1'!$R$147,'Scenario 2'!$R$147)","v":50},{"$f":"IF(Inputs!$C$8=1,'Scenario 1'!$R$147,'Scenario 2'!$R$147)","v":50},{"$f":"IF(Inputs!$C$8=1,'Scenario 1'!$R$147,'Scenario 2'!$R$147)","v":50},{"$f":"IF(Inputs!$C$8=1,'Scenario 1'!$R$147,'Scenario 2'!$R$147)","v":50},{"$f":"IF(Inputs!$C$8=1,'Scenario 1'!$R$147,'Scenario 2'!$R$147)","v":50},{"$f":"IF(Inputs!$C$8=1,'Scenario 1'!$R$147,'Scenario 2'!$R$147)","v":50},{"$f":"IF(Inputs!$C$8=1,'Scenario 1'!$R$147,'Scenario 2'!$R$147)","v":50},{"$f":"IF(Inputs!$C$8=1,'Scenario 1'!$R$147,'Scenario 2'!$R$147)","v":50},{"$f":"IF(Inputs!$C$8=1,'Scenario 1'!$R$147,'Scenario 2'!$R$147)","v":50},{"$f":"IF(Inputs!$C$8=1,'Scenario 1'!$R$147,'Scenario 2'!$R$147)","v":50},{"$f":"IF(Inputs!$C$8=1,'Scenario 1'!$R$147,'Scenario 2'!$R$147)","v":50},{"$f":"IF(Inputs!$C$8=1,'Scenario 1'!$R$147,'Scenario 2'!$R$147)","v":50}]
["P, (t abs) (> min & < max)",{"$f":"SUMPRODUCT($AE$156:$BD$156,$AE$155:$BD$155,$B$111:$AA$111)%","v":0.90863501710953709},{"$f":"SUMPRODUCT($AE$156:$BD$156,$AE$155:$BD$155,$B$112:$AA$112)%","v":1.0477651613202066},{"$f":"SUMPRODUCT($AE155:$BD155,$AE156:$BD156,$B$113:$AA$113)/100","v":0.12316825639796575},{"$f":"SUMPRODUCT($AE155:$BD155,$AE156:$BD156,$B$114:$AA$114)/100","v":0.18673670952160176},{"$f":"SUMPRODUCT($AE155:$BD155,$AE156:$BD156,$B$115:$AA$115)/100","v":0.37730206751810963},{"$f":"Inputs!D149*Inputs!D125%*(365-Inputs!D173)/365","v":0.90863501710953587},{"$f":"Inputs!E149*Inputs!E125%*(365-Inputs!E173)/365","v":0.91707707043998166},{"$f":"Inputs!F149*Inputs!F125%*(365-Inputs!F173)/365","v":9.748123700825248E-2},{"$f":"Inputs!G149*Inputs!G125%*(365-Inputs!G173)/365","v":0.16235060865816031},{"$f":"Inputs!H149*Inputs!H125%*(365-Inputs!H173)/365","v":0.28760778261286207},{"$f":"Inputs!D150*Inputs!D125%*(365-Inputs!D173)/365","v":1.362952525664304},{"$f":"Inputs!E150*Inputs!E125%*(365-Inputs!E173)/365","v":1.3756156056599724},{"$f":"Inputs!F150*Inputs!F125%*(365-Inputs!F173)/365","v":0.14622185551237871},{"$f":"Inputs!G150*Inputs!G125%*(365-Inputs!G173)/365","v":0.24352591298724049},{"$f":"Inputs!H150*Inputs!H125%*(365-Inputs!H173)/365","v":0.43141167391929308},null,null,null,null,null,null,null,null,null,null,null,null,null,"Kp",{"$f":"IF(OR(AE138=\"C\",AE138=\"FA\",AE138=\"M\"),2.904+(1.375*AE190)-(0.02*AE191),IF(AE138=\"H\",3.362+(0.479*AE190)-(0.017*AE143)-(0.007*AE191),IF(OR(AE138=\"S\",AE138=\"P\"),3.054+(0.614*AE190),0)))","v":5.3745611718745749},5.3745611718745749,5.3745611718745749,5.3745611718745749,3.7950300673093191,7.100696435386876,7.100696435386876,7.100696435386876,7.100696435386876,7.100696435386876,7.100696435386876,7.100696435386876,7.100696435386876,7.100696435386876,7.100696435386876,7.100696435386876,0,7.100696435386876,7.100696435386876,7.100696435386876,7.100696435386876,7.100696435386876,7.100696435386876,7.100696435386876,7.100696435386876,7.100696435386876]
["K, (t abs) (>min)",{"$f":"SUMPRODUCT($AE$157:$BD$157,$AE$158:$BD$158,$B$111:$AA$111)%","v":3.3520979070231869},{"$f":"SUMPRODUCT($AE$157:$BD$157,$AE$158:$BD$158,$B$112:$AA$112)%","v":6.0136762042944918},{"$f":"SUMPRODUCT($AE157:$BD157,$AE158:$BD158,$B$113:$AA$113)/100","v":1.0295069721379229},{"$f":"SUMPRODUCT($AE157:$BD157,$AE158:$BD158,$B$114:$AA$114)/100","v":1.068609413055122},{"$f":"SUMPRODUCT($AE157:$BD157,$AE158:$BD158,$B$115:$AA$115)/100","v":3.1558978355587488},{"$f":"Inputs!D156*Inputs!D125%*(365-Inputs!D173)/365","v":3.3520979070231687},{"$f":"Inputs!E156*Inputs!E125%*(365-Inputs!E173)/365","v":3.8821237327650238},{"$f":"Inputs!F156*Inputs!F125%*(365-Inputs!F173)/365","v":0.31010022225},{"$f":"Inputs!G156*Inputs!G125%*(365-Inputs!G173)/365","v":0.31975490390056033},{"$f":"Inputs!H156*Inputs!H125%*(365-Inputs!H173)/365","v":0.83769684235737563},{"$f":"G193*$Q$193","v":33.520979070231689},{"$f":"H193*$Q$193","v":38.821237327650238},{"$f":"I193*$Q$193","v":3.1010022225},{"$f":"J193*$Q$193","v":3.1975490390056032},{"$f":"K193*$Q$193","v":8.3769684235737571},10,null,null,null,null,null,null,null,null,null,null,null,null,"RDP, %MS",{"$f":"IF(AE148>0,(((AE152/(AE152 + AE192)*(AE150%*AE148)))+AE149%*AE148),0)","v":15.053016707801433},5.3408150610643705,15.755592352696528,12.904717086945171,8.5064158659515563,27.56087528363507,5.0292301731565692,9.5253951070137681,10.558095250637265,12.856465065670459,24.583626660127134,0,14.706534016913071,31.394503834941645,16.990897064014423,14.789355621189582,67.805000000000007,281,7.8055978952693597,18.225771368289848,0,0,0,0,0,0]
["Mg, (t abs)  (> min & < max)",{"$f":"SUMPRODUCT($AE$160:$BD$160,$AE$159:$BD$159,$B$111:$AA$111)%","v":0.11842965382952869},{"$f":"SUMPRODUCT($AE$160:$BD$160,$AE$159:$BD$159,$B$112:$AA$112)%","v":0.14184780958979468},{"$f":"SUMPRODUCT($AE159:$BD159,$AE160:$BD160,$B$113:$AA$113)/100","v":2.030887641676507E-2},{"$f":"SUMPRODUCT($AE159:$BD159,$AE160:$BD160,$B$114:$AA$114)/100","v":2.5308995385947542E-2},{"$f":"SUMPRODUCT($AE159:$BD159,$AE160:$BD160,$B$115:$AA$115)/100","v":6.232835761369776E-2},{"$f":"Inputs!D153*Inputs!D125%*(365-Inputs!D173)/365","v":0.11842965382499998},{"$f":"Inputs!E153*Inputs!E125%*(365-Inputs!E173)/365","v":0.12200764018275001},{"$f":"Inputs!F153*Inputs!F125%*(365-Inputs!F173)/365","v":1.2658747500000001E-2},{"$f":"Inputs!G153*Inputs!G125%*(365-Inputs!G173)/365","v":1.3767420805999476E-2},{"$f":"Inputs!H153*Inputs!H125%*(365-Inputs!H173)/365","v":3.0115907227754663E-2},{"$f":"G194*$Q$194","v":0.35528896147499994},{"$f":"H194*$Q$194","v":0.36602292054825003},{"$f":"I194*$Q$194","v":3.7976242500000007E-2},{"$f":"J194*$Q$194","v":4.1302262417998427E-2},{"$f":"K194*$Q$194","v":9.0347721683263993E-2},3,null,null,null,null,null,null,null,null,null,null,null,null,"RUP, %MS",{"$f":"AE148-AE193","v":5.0469832921985684},2.8891849389356299,3.5044076473034735,3.6152829130548287,3.3235841340484438,11.639124716364933,4.3707698268434312,2.8746048929862322,3.6419047493627339,16.34353493432954,13.216373339872863,0,31.593465983086926,22.405496165058352,48.009102935985581,14.910644378810417,27.694999999999993,0,6.0944021047306407,5.2742286317101517,0,0,0,0,0,0]
["Na (t abs)  (> min & < max)",{"$f":"SUMPRODUCT($AE$161:$BD$161,$AE$162:$BD$162,$B$111:$AA$111)%","v":0.72823019566447755},{"$f":"SUMPRODUCT($AE$161:$BD$161,$AE$162:$BD$162,$B$112:$AA$112)%","v":0.8117635225675397},{"$f":"SUMPRODUCT($AE161:$BD161,$AE162:$BD162,$B$113:$AA$113)/100","v":6.1799062499999009E-2},{"$f":"SUMPRODUCT($AE161:$BD161,$AE162:$BD162,$B$114:$AA$114)/100","v":5.8735213592224216E-2},{"$f":"SUMPRODUCT($AE161:$BD161,$AE162:$BD162,$B$115:$AA$115)/100","v":0.1398705392381458},{"$f":"Inputs!D162*Inputs!D125%*(365-Inputs!D173)/365","v":0.7282301956649998},{"$f":"Inputs!E162*Inputs!E125%*(365-Inputs!E173)/365","v":0.81176352256754991},{"$f":"Inputs!F162*Inputs!F125%*(365-Inputs!F173)/365","v":6.1799062499999995E-2},{"$f":"Inputs!G162*Inputs!G125%*(365-Inputs!G173)/365","v":5.8735213592227609E-2},{"$f":"Inputs!H162*Inputs!H125%*(365-Inputs!H173)/365","v":0.13987053923814383},{"$f":"G195*$Q$195","v":3.6411509783249989},{"$f":"H195*$Q$195","v":4.0588176128377498},{"$f":"I195*$Q$195","v":0.30899531249999995},{"$f":"J195*$Q$195","v":0.29367606796113804},{"$f":"K195*$Q$195","v":0.69935269619071916},5,null,null,null,null,null,null,null,null,null,null,null,null,"Group 2"]
["Cl (t abs)  (> min & < max)",{"$f":"SUMPRODUCT($AE$164:$BD$164,$AE$163:$BD$163,$B$111:$AA$111)%","v":1.5718282486660127},{"$f":"SUMPRODUCT($AE$164:$BD$164,$AE$163:$BD$163,$B$112:$AA$112)%","v":2.1612841219968608},{"$f":"SUMPRODUCT($AE163:$BD163,$AE164:$BD164,$B$113:$AA$113)/100","v":0.35971201575716366},{"$f":"SUMPRODUCT($AE163:$BD163,$AE164:$BD164,$B$114:$AA$114)/100","v":0.28423100699108877},{"$f":"SUMPRODUCT($AE163:$BD163,$AE164:$BD164,$B$115:$AA$115)/100","v":0.97973553492906262},{"$f":"Inputs!D165*Inputs!D125%*(365-Inputs!D173)/365","v":0.90341686732499982},{"$f":"Inputs!E165*Inputs!E125%*(365-Inputs!E173)/365","v":0.87657529706774995},{"$f":"Inputs!F165*Inputs!F125%*(365-Inputs!F173)/365","v":8.6461199999999988E-2},{"$f":"Inputs!G165*Inputs!G125%*(365-Inputs!G173)/365","v":7.5029785704168753E-2},{"$f":"Inputs!H165*Inputs!H125%*(365-Inputs!H173)/365","v":0.19594710698581283},{"$f":"G196*$Q$196","v":4.5170843366249986},{"$f":"H196*$Q$196","v":4.3828764853387501},{"$f":"I196*$Q$196","v":0.43230599999999997},{"$f":"J196*$Q$196","v":0.37514892852084375},{"$f":"K196*$Q$196","v":0.97973553492906418},5,null,null,null,null,null,null,null,null,null,null,null,null,"pX",{"$f":"IF(Inputs!$C$8=1,'Scenario 1'!$S$149,'Scenario 2'!$S$149)","v":3},{"$f":"IF(Inputs!$C$8=1,'Scenario 1'!$S$149,'Scenario 2'!$S$149)","v":3},{"$f":"IF(Inputs!$C$8=1,'Scenario 1'!$S$149,'Scenario 2'!$S$149)","v":3},{"$f":"IF(Inputs!$C$8=1,'Scenario 1'!$S$149,'Scenario 2'!$S$149)","v":3},{"$f":"IF(Inputs!$C$8=1,'Scenario 1'!$S$149,'Scenario 2'!$S$149)","v":3},{"$f":"IF(Inputs!$C$8=1,'Scenario 1'!$S$149,'Scenario 2'!$S$149)","v":3},{"$f":"IF(Inputs!$C$8=1,'Scenario 1'!$S$149,'Scenario 2'!$S$149)","v":3},{"$f":"IF(Inputs!$C$8=1,'Scenario 1'!$S$149,'Scenario 2'!$S$149)","v":3},{"$f":"IF(Inputs!$C$8=1,'Scenario 1'!$S$149,'Scenario 2'!$S$149)","v":3},{"$f":"IF(Inputs!$C$8=1,'Scenario 1'!$S$149,'Scenario 2'!$S$149)","v":3},{"$f":"IF(Inputs!$C$8=1,'Scenario 1'!$S$149,'Scenario 2'!$S$149)","v":3},{"$f":"IF(Inputs!$C$8=1,'Scenario 1'!$S$149,'Scenario 2'!$S$149)","v":3},{"$f":"IF(Inputs!$C$8=1,'Scenario 1'!$S$149,'Scenario 2'!$S$149)","v":3},{"$f":"IF(Inputs!$C$8=1,'Scenario 1'!$S$149,'Scenario 2'!$S$149)","v":3},{"$f":"IF(Inputs!$C$8=1,'Scenario 1'!$S$149,'Scenario 2'!$S$149)","v":3},{"$f":"IF(Inputs!$C$8=1,'Scenario 1'!$S$149,'Scenario 2'!$S$149)","v":3},{"$f":"IF(Inputs!$C$8=1,'Scenario 1'!$S$149,'Scenario 2'!$S$149)","v":3},{"$f":"IF(Inputs!$C$8=1,'Scenario 1'!$S$149,'Scenario 2'!$S$149)","v":3},{"$f":"IF(Inputs!$C$8=1,'Scenario 1'!$S$149,'Scenario 2'!$S$149)","v":3},{"$f":"IF(Inputs!$C$8=1,'Scenario 1'!$S$149,'Scenario 2'!$S$149)","v":3},{"$f":"IF(Inputs!$C$8=1,'Scenario 1'!$S$149,'Scenario 2'!$S$149)","v":3},{"$f":"IF(Inputs!$C$8=1,'Scenario 1'!$S$149,'Scenario 2'!$S$149)","v":3},{"$f":"IF(Inputs!$C$8=1,'Scenario 1'!$S$149,'Scenario 2'!$S$149)","v":3},{"$f":"IF(Inputs!$C$8=1,'Scenario 1'!$S$149,'Scenario 2'!$S$149)","v":3},{"$f":"IF(Inputs!$C$8=1,'Scenario 1'!$S$149,'Scenario 2'!$S$149)","v":3},{"$f":"IF(Inputs!$C$8=1,'Scenario 1'!$S$149,'Scenario 2'!$S$149)","v":3}]
["S (t)  (> min & < max)",{"$f":"SUMPRODUCT($AE$165:$BD$165,$B$111:$AA$111)%","v":0.68691815631906894},{"$f":"SUMPRODUCT($AE$165:$BD$165,$B$112:$AA$112)%","v":0.98090984337546128},{"$f":"SUMPRODUCT($AE165:$BD165,$B$113:$AA$113)/100","v":0.13489680849745719},{"$f":"SUMPRODUCT($AE165:$BD165,$B$114:$AA$114)/100","v":0.18042512884958634},{"$f":"SUMPRODUCT($AE165:$BD165,$B$115:$AA$115)/100","v":0.4098151476963599},{"$f":"Inputs!D168*Inputs!D125%*(365-Inputs!D173)/365","v":0.68691815631907216},{"$f":"Inputs!E168*Inputs!E125%*(365-Inputs!E173)/365","v":0.85435287424181139},{"$f":"Inputs!F168*Inputs!F125%*(365-Inputs!F173)/365","v":0.12913991999999999},{"$f":"Inputs!G168*Inputs!G125%*(365-Inputs!G173)/365","v":0.14930333794787756},{"$f":"Inputs!H168*Inputs!H125%*(365-Inputs!H173)/365","v":0.39067988127679487},{"$f":"0.4/100*Inputs!D122/1000*Inputs!D115*(365-Inputs!D173)","v":1.308415535845852},{"$f":"0.4/100*Inputs!E122/1000*Inputs!E115*(365-Inputs!E173)","v":1.6273388080796405},{"$f":"0.4/100*Inputs!F122/1000*Inputs!F115*(365-Inputs!F173)","v":0.24598079999999997},{"$f":"0.4/100*Inputs!G122/1000*Inputs!G115*(365-Inputs!G173)","v":0.28438731037690962},{"$f":"0.4/100*Inputs!H122/1000*Inputs!H115*(365-Inputs!H173)","v":0.74415215481294239},null,null,null,null,null,null,null,null,null,null,null,null,null,"TDN1X in diet, %",{"$f":"IF(Inputs!$C$8=1,'Scenario 1'!$S$150,'Scenario 2'!$S$150)","v":64.253932274380077},{"$f":"IF(Inputs!$C$8=1,'Scenario 1'!$S$150,'Scenario 2'!$S$150)","v":64.253932274380077},{"$f":"IF(Inputs!$C$8=1,'Scenario 1'!$S$150,'Scenario 2'!$S$150)","v":64.253932274380077},{"$f":"IF(Inputs!$C$8=1,'Scenario 1'!$S$150,'Scenario 2'!$S$150)","v":64.253932274380077},{"$f":"IF(Inputs!$C$8=1,'Scenario 1'!$S$150,'Scenario 2'!$S$150)","v":64.253932274380077},{"$f":"IF(Inputs!$C$8=1,'Scenario 1'!$S$150,'Scenario 2'!$S$150)","v":64.253932274380077},{"$f":"IF(Inputs!$C$8=1,'Scenario 1'!$S$150,'Scenario 2'!$S$150)","v":64.253932274380077},{"$f":"IF(Inputs!$C$8=1,'Scenario 1'!$S$150,'Scenario 2'!$S$150)","v":64.253932274380077},{"$f":"IF(Inputs!$C$8=1,'Scenario 1'!$S$150,'Scenario 2'!$S$150)","v":64.253932274380077},{"$f":"IF(Inputs!$C$8=1,'Scenario 1'!$S$150,'Scenario 2'!$S$150)","v":64.253932274380077},{"$f":"IF(Inputs!$C$8=1,'Scenario 1'!$S$150,'Scenario 2'!$S$150)","v":64.253932274380077},{"$f":"IF(Inputs!$C$8=1,'Scenario 1'!$S$150,'Scenario 2'!$S$150)","v":64.253932274380077},{"$f":"IF(Inputs!$C$8=1,'Scenario 1'!$S$150,'Scenario 2'!$S$150)","v":64.253932274380077},{"$f":"IF(Inputs!$C$8=1,'Scenario 1'!$S$150,'Scenario 2'!$S$150)","v":64.253932274380077},{"$f":"IF(Inputs!$C$8=1,'Scenario 1'!$S$150,'Scenario 2'!$S$150)","v":64.253932274380077},{"$f":"IF(Inputs!$C$8=1,'Scenario 1'!$S$150,'Scenario 2'!$S$150)","v":64.253932274380077},{"$f":"IF(Inputs!$C$8=1,'Scenario 1'!$S$150,'Scenario 2'!$S$150)","v":64.253932274380077},{"$f":"IF(Inputs!$C$8=1,'Scenario 1'!$S$150,'Scenario 2'!$S$150)","v":64.253932274380077},{"$f":"IF(Inputs!$C$8=1,'Scenario 1'!$S$150,'Scenario 2'!$S$150)","v":64.253932274380077},{"$f":"IF(Inputs!$C$8=1,'Scenario 1'!$S$150,'Scenario 2'!$S$150)","v":64.253932274380077},{"$f":"IF(Inputs!$C$8=1,'Scenario 1'!$S$150,'Scenario 2'!$S$150)","v":64.253932274380077},{"$f":"IF(Inputs!$C$8=1,'Scenario 1'!$S$150,'Scenario 2'!$S$150)","v":64.253932274380077},{"$f":"IF(Inputs!$C$8=1,'Scenario 1'!$S$150,'Scenario 2'!$S$150)","v":64.253932274380077},{"$f":"IF(Inputs!$C$8=1,'Scenario 1'!$S$150,'Scenario 2'!$S$150)","v":64.253932274380077},{"$f":"IF(Inputs!$C$8=1,'Scenario 1'!$S$150,'Scenario 2'!$S$150)","v":64.253932274380077},{"$f":"IF(Inputs!$C$8=1,'Scenario 1'!$S$150,'Scenario 2'!$S$150)","v":64.253932274380077}]
["DCAD (meq/kg)",{"$f":"SUMPRODUCT($AE$166:$BD$166,$B$111:$AA$111)/B178","v":117.50600072261015},{"$f":"SUMPRODUCT($AE$166:$BD$166,$B$112:$AA$112)/C178","v":199.92828451327401},{"$f":"SUMPRODUCT($AE$166:$BD$166,$B$113:$AA$113)/D178","v":204.45939666175545},{"$f":"SUMPRODUCT($AE$166:$BD$166,$B$114:$AA$114)/E178","v":183.80595834720671},{"$f":"SUMPRODUCT($AE$166:$BD$166,$B$115:$AA$115)/F178","v":216.24867974029098},{"$f":"Inputs!D170","v":0},{"$f":"Inputs!E170","v":0},{"$f":"Inputs!F170","v":0},null,{"$f":"Inputs!H170","v":0},null,null,null,{"$f":"Inputs!G170","v":0},null,null,null,null,null,null,null,null,null,null,null,null,null,null,"Cdig",{"$f":"IF(AE137=0,0,(1-(IF(AE197<60,0,((0.18*AE197)-10.3)/AE197))*(AE196-1)))","v":0.96060294632292609},0.96060294632292609,0.96060294632292609,0.96060294632292609,0.96060294632292609,0.96060294632292609,0.96060294632292609,0,0.96060294632292609,0.96060294632292609,0.96060294632292609,0.96060294632292609,0.96060294632292609,0.96060294632292609,0.96060294632292609,0.96060294632292609,0.96060294632292609,0.96060294632292609,0.96060294632292609,0.96060294632292609,0.96060294632292609,0.96060294632292609,0.96060294632292609,0.96060294632292609,0.96060294632292609,0.96060294632292609]
["Ash, (t)",{"$f":"SUMPRODUCT($B$111:$AA$111,$AE$167:$BD$167)%","v":19.653763465597805},{"$f":"SUMPRODUCT($B$112:$AA$112,$AE$167:$BD$167)%","v":30.886238641666104},{"$f":"SUMPRODUCT($B$113:$AA$113,$AE$167:$BD$167)%","v":5.0446971786673576},{"$f":"SUMPRODUCT($B$114:$AA$114,$AE$167:$BD$167)%","v":5.0712398741056113},{"$f":"SUMPRODUCT($B$115:$AA$115,$AE$167:$BD$167)%","v":15.147278281022912},null,null,null,null,null,null,null,null,null,null,null,null,null,null,null,null,null,null,null,null,null,null,null,"TDNpX, %",{"$f":"IF(AE137=0,0,IF(AE179=0,0,AE179*AE198))","v":63.816451069637139},68.401911492377096,55.174843095745452,56.480242158150382,54.988510694246507,97.028699438392493,85.194159182076746,0,80.572947116778664,68.531520288180559,67.129911473769084,157.06578624589582,85.042025689529126,78.18510168488794,81.077623560612537,76.352354287667183,73.355483393003936,0,64.689400446272984,79.630288079940954,0,0,0,0,0,0]
[null,null,null,{"$f":"B210/Inputs!D115/Inputs!D173","v":{"$error":"#DIV/0!"}},{"$f":"C210/Inputs!E115/Inputs!E173","v":{"$error":"#DIV/0!"}},{"$f":"D210/Inputs!F115/Inputs!F173","v":{"$error":"#DIV/0!"}},{"$f":"E210/Inputs!G115/Inputs!G173","v":{"$error":"#DIV/0!"}},{"$f":"F210/Inputs!H115/Inputs!H173","v":{"$error":"#DIV/0!"}},null,null,{"$f":"(0.0929*Inputs!C$63+0.0547*Inputs!C$64+0.192)","v":0.62040849999999992},null,null,null,null,null,null,null,null,null,null,null,null,null,null,null,null,null,null,"DEpX, Mcal/kg",{"$f":"IF(AE137=0,0,IF(AE180=0,0,AE180*AE198))","v":2.9268428877718278},2.9645883294179907,2.5422820848593153,2.5633140548250402,2.4439333481078784,4.5846515429653856,3.6956556380414427,0,3.5675677597407724,3.2444096349472509,3.3070199133339662,6.5618595142729808,4.1831024000295969,3.9993370115107041,4.2567866713136846,3.569234371729662,4.1795911042746212,0,2.8919286454161863,3.6357365187120951,0,0,0,0,0,0]
[null,null,null,null,null,null,null,null,null,null,null,null,null,null,null,null,null,null,null,null,null,null,null,null,null,null,null,null,null,"MEpX, Mcal/kg",{"$f":"IF(AE137=0,0,IF(AE138=\"M\",0,IF(AE138=\"FA\",AE200,IF(AE141<3,1.01*AE200-0.45,(1.01*AE200-0.45)+(0.0046*(AE141-3))))))","v":2.5061113166495459},2.5448322127121705,2.1177049057079085,2.1389471953732904,2.0183726815889571,4.2550180583950388,3.2881321944218573,0,3.1532434373381801,2.8369737312967231,2.9011301124673055,6.5618595142729808,3.7983934240298929,3.5893303816258113,3.8493545380268213,3.1871267154469582,3.7713870153173676,0,2.470847931870348,3.2970738838992162,0,0,0,0,0,0]
[null,null,null,null,null,null,null,null,null,null,null,null,null,null,null,null,null,null,null,null,null,null,null,null,null,null,null,null,null,"NELpX, Mcal/kg",{"$f":"IF(AE137=0,0,IF(AE138=\"M\",0,IF(AE141<3,0.703*AE201-0.19,(0.703*AE201-0.19)+((0.097*AE201+0.19)/97)*(AE141-3))))","v":1.5717962556046308},1.5996025128995661,1.2987465487126597,1.3136798783474231,1.2289159951570368,2.9019409463605981,2.1278532067757894,0,2.0267301364487404,1.8149431536609644,1.8611582122622723,5.1174179642048845,2.5096320742772167,2.333299258282945,2.5160962402328551,2.086571308173526,2.4612850717681094,0,1.5470060961048546,2.2135130797402525,0,0,0,0,0,0]
["3.2.2 Dietary requirements and diet formulation for summer diet :",null,null,null,null,null,null,null,null,null,null,null,null,null,null,null,null,null,"Adjustment for energy requirements on pasture",null,null,null,null,null,null,null,null,null,null,"DMI, %BW",{"$f":"IF(Inputs!$C$8=1,'Scenario 1'!$S$102,'Scenario 2'!$S$102)","v":3.307857377648256},{"$f":"IF(Inputs!$C$8=1,'Scenario 1'!$S$102,'Scenario 2'!$S$102)","v":3.307857377648256},{"$f":"IF(Inputs!$C$8=1,'Scenario 1'!$S$102,'Scenario 2'!$S$102)","v":3.307857377648256},{"$f":"IF(Inputs!$C$8=1,'Scenario 1'!$S$102,'Scenario 2'!$S$102)","v":3.307857377648256},{"$f":"IF(Inputs!$C$8=1,'Scenario 1'!$S$102,'Scenario 2'!$S$102)","v":3.307857377648256},{"$f":"IF(Inputs!$C$8=1,'Scenario 1'!$S$102,'Scenario 2'!$S$102)","v":3.307857377648256},{"$f":"IF(Inputs!$C$8=1,'Scenario 1'!$S$102,'Scenario 2'!$S$102)","v":3.307857377648256},{"$f":"IF(Inputs!$C$8=1,'Scenario 1'!$S$102,'Scenario 2'!$S$102)","v":3.307857377648256},{"$f":"IF(Inputs!$C$8=1,'Scenario 1'!$S$102,'Scenario 2'!$S$102)","v":3.307857377648256},{"$f":"IF(Inputs!$C$8=1,'Scenario 1'!$S$102,'Scenario 2'!$S$102)","v":3.307857377648256},{"$f":"IF(Inputs!$C$8=1,'Scenario 1'!$S$102,'Scenario 2'!$S$102)","v":3.307857377648256},{"$f":"IF(Inputs!$C$8=1,'Scenario 1'!$S$102,'Scenario 2'!$S$102)","v":3.307857377648256},{"$f":"IF(Inputs!$C$8=1,'Scenario 1'!$S$102,'Scenario 2'!$S$102)","v":3.307857377648256},{"$f":"IF(Inputs!$C$8=1,'Scenario 1'!$S$102,'Scenario 2'!$S$102)","v":3.307857377648256},{"$f":"IF(Inputs!$C$8=1,'Scenario 1'!$S$102,'Scenario 2'!$S$102)","v":3.307857377648256},{"$f":"IF(Inputs!$C$8=1,'Scenario 1'!$S$102,'Scenario 2'!$S$102)","v":3.307857377648256},{"$f":"IF(Inputs!$C$8=1,'Scenario 1'!$S$102,'Scenario 2'!$S$102)","v":3.307857377648256},{"$f":"IF(Inputs!$C$8=1,'Scenario 1'!$S$102,'Scenario 2'!$S$102)","v":3.307857377648256},{"$f":"IF(Inputs!$C$8=1,'Scenario 1'!$S$102,'Scenario 2'!$S$102)","v":3.307857377648256},{"$f":"IF(Inputs!$C$8=1,'Scenario 1'!$S$102,'Scenario 2'!$S$102)","v":3.307857377648256},{"$f":"IF(Inputs!$C$8=1,'Scenario 1'!$S$102,'Scenario 2'!$S$102)","v":3.307857377648256},{"$f":"IF(Inputs!$C$8=1,'Scenario 1'!$S$102,'Scenario 2'!$S$102)","v":3.307857377648256},{"$f":"IF(Inputs!$C$8=1,'Scenario 1'!$S$102,'Scenario 2'!$S$102)","v":3.307857377648256},{"$f":"IF(Inputs!$C$8=1,'Scenario 1'!$S$102,'Scenario 2'!$S$102)","v":3.307857377648256},{"$f":"IF(Inputs!$C$8=1,'Scenario 1'!$S$102,'Scenario 2'!$S$102)","v":3.307857377648256},{"$f":"IF(Inputs!$C$8=1,'Scenario 1'!$S$102,'Scenario 2'!$S$102)","v":3.307857377648256}]
[null,"Tons of DM and Diet Chemical composition for each group",null,null,null,null,"Minimum Dietary Requirements",null,null,null,null,"Maximum Dietary Requirements",null,null,null,null,"Max/Min",null,null,null,"NEL3X (Mcal/tms)",null,"Proportion needed",null,"Actual proportion",null,"Ratios",null,null,"Concentrate, %",{"$f":"IF(Inputs!$C$8=1,'Scenario 1'!$S$147,'Scenario 2'!$S$147)","v":35},{"$f":"IF(Inputs!$C$8=1,'Scenario 1'!$S$147,'Scenario 2'!$S$147)","v":35},{"$f":"IF(Inputs!$C$8=1,'Scenario 1'!$S$147,'Scenario 2'!$S$147)","v":35},{"$f":"IF(Inputs!$C$8=1,'Scenario 1'!$S$147,'Scenario 2'!$S$147)","v":35},{"$f":"IF(Inputs!$C$8=1,'Scenario 1'!$S$147,'Scenario 2'!$S$147)","v":35},{"$f":"IF(Inputs!$C$8=1,'Scenario 1'!$S$147,'Scenario 2'!$S$147)","v":35},{"$f":"IF(Inputs!$C$8=1,'Scenario 1'!$S$147,'Scenario 2'!$S$147)","v":35},{"$f":"IF(Inputs!$C$8=1,'Scenario 1'!$S$147,'Scenario 2'!$S$147)","v":35},{"$f":"IF(Inputs!$C$8=1,'Scenario 1'!$S$147,'Scenario 2'!$S$147)","v":35},{"$f":"IF(Inputs!$C$8=1,'Scenario 1'!$S$147,'Scenario 2'!$S$147)","v":35},{"$f":"IF(Inputs!$C$8=1,'Scenario 1'!$S$147,'Scenario 2'!$S$147)","v":35},{"$f":"IF(Inputs!$C$8=1,'Scenario 1'!$S$147,'Scenario 2'!$S$147)","v":35},{"$f":"IF(Inputs!$C$8=1,'Scenario 1'!$S$147,'Scenario 2'!$S$147)","v":35},{"$f":"IF(Inputs!$C$8=1,'Scenario 1'!$S$147,'Scenario 2'!$S$147)","v":35},{"$f":"IF(Inputs!$C$8=1,'Scenario 1'!$S$147,'Scenario 2'!$S$147)","v":35},{"$f":"IF(Inputs!$C$8=1,'Scenario 1'!$S$147,'Scenario 2'!$S$147)","v":35},{"$f":"IF(Inputs!$C$8=1,'Scenario 1'!$S$147,'Scenario 2'!$S$147)","v":35},{"$f":"IF(Inputs!$C$8=1,'Scenario 1'!$S$147,'Scenario 2'!$S$147)","v":35},{"$f":"IF(Inputs!$C$8=1,'Scenario 1'!$S$147,'Scenario 2'!$S$147)","v":35},{"$f":"IF(Inputs!$C$8=1,'Scenario 1'!$S$147,'Scenario 2'!$S$147)","v":35},{"$f":"IF(Inputs!$C$8=1,'Scenario 1'!$S$147,'Scenario 2'!$S$147)","v":35},{"$f":"IF(Inputs!$C$8=1,'Scenario 1'!$S$147,'Scenario 2'!$S$147)","v":35},{"$f":"IF(Inputs!$C$8=1,'Scenario 1'!$S$147,'Scenario 2'!$S$147)","v":35},{"$f":"IF(Inputs!$C$8=1,'Scenario 1'!$S$147,'Scenario 2'!$S$147)","v":35},{"$f":"IF(Inputs!$C$8=1,'Scenario 1'!$S$147,'Scenario 2'!$S$147)","v":35},{"$f":"IF(Inputs!$C$8=1,'Scenario 1'!$S$147,'Scenario 2'!$S$147)","v":35}]
["Animals needs",1,2,3,4,5,1,2,3,4,5,1,2,3,4,5,null,null,"Group","Needed","Forages","Concentrates","Concentrates","Forages","Concentrates","Forages","Concentrates","Forages",null,"Kp",{"$f":"IF(OR(AE138=\"C\",AE138=\"FA\",AE138=\"AP\",AE138=\"M\"),2.904+(1.375*AE203)-(0.02*AE204),IF(AE138=\"H\",3.362+(0.479*AE203)-(0.017*AE143)-(0.007*AE204),IF(OR(AE138=\"S\",AE138=\"P\"),3.054+(0.614*AE203),0)))","v":5.0850244298760288},5.0850244298760288,5.0850244298760288,5.0850244298760288,3.6741536838935147,6.752303894266352,6.752303894266352,6.752303894266352,6.752303894266352,6.752303894266352,6.752303894266352,6.752303894266352,6.752303894266352,6.752303894266352,6.752303894266352,6.752303894266352,6.752303894266352,6.752303894266352,6.752303894266352,6.752303894266352,6.752303894266352,6.752303894266352,6.752303894266352,6.752303894266352,6.752303894266352,6.752303894266352]
["DM, t/yr   (> min & < max)",{"$f":"SUMPRODUCT($AE137:$BD137,$B$160:$AA$160)","v":0},{"$f":"SUMPRODUCT($AE137:$BD137,$B$161:$AA$161)","v":0},{"$f":"SUMPRODUCT($AE137:$BD137,$B$162:$AA$162)","v":0},{"$f":"SUMPRODUCT($AE137:$BD137,$B$163:$AA$163)","v":0},{"$f":"SUMPRODUCT($AE137:$BD137,$B$164:$AA$164)","v":0},{"$f":"Inputs!D125*Inputs!D173/365","v":0},{"$f":"Inputs!E125*Inputs!E173/365","v":0},{"$f":"Inputs!F125*Inputs!F173/365","v":0},{"$f":"Inputs!G125*Inputs!G173/365","v":0},{"$f":"Inputs!H125*Inputs!H173/365","v":0},{"$f":"Inputs!D125*Inputs!D173/365","v":0},{"$f":"Inputs!E125*Inputs!E173/365","v":0},{"$f":"Inputs!F125*Inputs!F173/365","v":0},{"$f":"Inputs!G125*Inputs!G173/365","v":0},{"$f":"Inputs!H125*Inputs!H173/365","v":0},1,null,1,{"$f":"$G$209/$G$206","v":{"$error":"#DIV/0!"}},{"$f":"IF(SUMPRODUCT($B160:$AA160,AE$140:BD$140)=0,0,SUMPRODUCT($B160:$AA160,$AE$140:$BD$140,$AE$189:$BD$189)*1000/SUMPRODUCT($B160:$AA160,AE$140:BD$140))","v":0},{"$f":"IF(SUMPRODUCT($B160:$AA160,$AE$139:$BD$139)=0,0,SUMPRODUCT($B160:$AA160,$AE$139:$BD$139,$AE$189:$BD$189)*1000/SUMPRODUCT($B160:$AA160,$AE$139:$BD$139))","v":0},{"$f":"IF(U206>T206,0,(T206-U206)/(V206-U206))","v":{"$error":"#DIV/0!"}},{"$f":"1-W206","v":{"$error":"#DIV/0!"}},{"$f":"SUMPRODUCT($B160:$AA160,$AE$139:$BD$139)/$AB160","v":{"$error":"#DIV/0!"}},{"$f":"SUMPRODUCT($B160:$AA160,$AE$140:$BD$140)/$AB160","v":{"$error":"#DIV/0!"}},{"$f":"IF(Y206=0,0,W206/Y206)","v":{"$error":"#DIV/0!"}},{"$f":"X206/Z206","v":{"$error":"#DIV/0!"}},null,"RDP, %CP",{"$f":"IF(AE148>0,(((AE152/(AE152 + AE205)*(AE150%*AE148)))+AE149%*AE148),0)","v":15.20094615428277},5.374967947590056,15.834649295290948,12.987706321618788,8.5491727964470208,27.889747982305416,5.1124281060135797,9.5937740095862569,10.649581226488806,13.08501524871572,24.904836508520219,0,15.113020384205885,31.964663103345956,17.54725561882373,15.002209933098555,22.417017430545563,281,7.9314299037404492,18.343029837267622,0,0,0,0,0,0]
["TDNpX, %",{"$f":"IF(G206=0,0,SUMPRODUCT($AE186:$BD186,$B$160:$AA$160)%/G206*100)","v":0},{"$f":"IF(H206=0,0,SUMPRODUCT($AE199:$BD199,$B$161:$AA$161)%/H206*100)","v":0},{"$f":"IF(I206=0,0,SUMPRODUCT(AE212:$BD$212,$B$162:$AA$162)%/I206*100)","v":0},{"$f":"IF(J206=0,0,SUMPRODUCT(AE225:$BD$225,$B$163:$AA$163)%/J206*100)","v":0},{"$f":"IF(K206=0,0,SUMPRODUCT(AE238:BD238,$B$115:$AA$115)%/K206*100)","v":0},null,null,null,null,null,null,null,null,null,null,null,null,2,{"$f":"$H$209/$H$206","v":{"$error":"#DIV/0!"}},{"$f":"IF(SUMPRODUCT($B161:$AA161,AE$140:BD$140)=0,0,SUMPRODUCT($B161:$AA161,$AE$140:$BD$140,$AE$189:$BD$189)*1000/SUMPRODUCT($B161:$AA161,AE$140:BD$140))","v":0},{"$f":"IF(SUMPRODUCT($B161:$AA161,$AE$139:$BD$139)=0,0,SUMPRODUCT($B161:$AA161,$AE$139:$BD$139,$AE$189:$BD$189)*1000/SUMPRODUCT($B161:$AA161,$AE$139:$BD$139))","v":0},{"$f":"IF(U207>T207,0,(T207-U207)/(V207-U207))","v":{"$error":"#DIV/0!"}},{"$f":"1-W207","v":{"$error":"#DIV/0!"}},{"$f":"SUMPRODUCT($B161:$AA161,$AE$139:$BD$139)/$AB161","v":{"$error":"#DIV/0!"}},{"$f":"SUMPRODUCT($B161:$AA161,$AE$140:$BD$140)/$AB161","v":{"$error":"#DIV/0!"}},{"$f":"IF(Y207=0,0,W207/Y207)","v":{"$error":"#DIV/0!"}},{"$f":"X207/Z207","v":{"$error":"#DIV/0!"}},null,"RUP, %CP",{"$f":"AE148-AE206","v":4.8990538457172317},2.8550320524099444,3.4253507047090537,3.5322936783812118,3.2808272035529793,11.310252017694587,4.2875718939864207,2.8062259904137434,3.5504187735111934,16.114984751284279,12.895163491479778,0,31.186979615794112,21.835336896654042,47.452744381176274,14.697790066901444,73.08298256945443,0,5.9685700962595511,5.1569701627323781,0,0,0,0,0,0]
["DEpX, Mcal",{"$f":"SUMPRODUCT($AE187:$BD187,$B$160:$AA$160)*1000","v":0},{"$f":"SUMPRODUCT($AE200:$BD200,$B$161:$AA$161)*1000","v":0},{"$f":"SUMPRODUCT(AE213:BD213,$B$162:$AA$162)*1000","v":0},{"$f":"SUMPRODUCT(AE226:BD226,$B$163:$AA$163)*1000","v":0},{"$f":"SUMPRODUCT(AE239:BD239,$B$164:$AA$164)*1000","v":0},null,null,null,null,null,null,null,null,null,null,null,null,3,{"$f":"$I$209/$I$206","v":{"$error":"#DIV/0!"}},{"$f":"IF(SUMPRODUCT($B162:$AA162,AE$140:BD$140)=0,0,SUMPRODUCT($B162:$AA162,$AE$140:$BD$140,$AE$189:$BD$189)*1000/SUMPRODUCT($B162:$AA162,AE$140:BD$140))","v":0},{"$f":"IF(SUMPRODUCT($B162:$AA162,$AE$139:$BD$139)=0,0,SUMPRODUCT($B162:$AA162,$AE$139:$BD$139,$AE$189:$BD$189)*1000/SUMPRODUCT($B162:$AA162,$AE$139:$BD$139))","v":0},{"$f":"IF(U208>T208,0,(T208-U208)/(V208-U208))","v":{"$error":"#DIV/0!"}},{"$f":"1-W208","v":{"$error":"#DIV/0!"}},{"$f":"SUMPRODUCT($B162:$AA162,$AE$139:$BD$139)/$AB162","v":{"$error":"#DIV/0!"}},{"$f":"SUMPRODUCT($B162:$AA162,$AE$140:$BD$140)/$AB162","v":{"$error":"#DIV/0!"}},{"$f":"IF(Y208=0,0,W208/Y208)","v":{"$error":"#DIV/0!"}},{"$f":"X208/Z208","v":{"$error":"#DIV/0!"}},null,"Group 3"]
["NELpX, Mcal",{"$f":"SUMPRODUCT($AE189:$BD189,$B$160:$AA$160)*1000","v":0},{"$f":"SUMPRODUCT($AE202:$BD202,$B$161:$AA$161)*1000","v":0},{"$f":"SUMPRODUCT(AE215:BD215,$B$162:$AA$162)*1000","v":0},{"$f":"SUMPRODUCT(AE228:BD228,$B$163:$AA$163)*1000","v":0},{"$f":"SUMPRODUCT(AE235:BD235,$B$164:$AA$164)*1000","v":0},{"$f":"Inputs!D129*Inputs!D125*1000*Inputs!D173/365","v":0},{"$f":"Inputs!E129*Inputs!E125*1000*Inputs!E173/365","v":0},{"$f":"Inputs!F129*Inputs!F125*1000*Inputs!F173/365","v":0},{"$f":"Inputs!G129*Inputs!G125*1000*Inputs!G173/365","v":0},{"$f":"Inputs!H129*Inputs!H125*1000*Inputs!H173/365","v":0},{"$f":"Inputs!D130*Inputs!D125*1000*Inputs!D173/365","v":0},{"$f":"Inputs!E130*Inputs!E125*1000*Inputs!E173/365","v":0},{"$f":"Inputs!F130*Inputs!F125*1000*Inputs!F173/365","v":0},{"$f":"Inputs!G130*Inputs!G125*1000*Inputs!G173/365","v":0},{"$f":"Inputs!H130*Inputs!H125*1000*Inputs!H173/365","v":0},null,null,4,{"$f":"$J$209/$J$206","v":{"$error":"#DIV/0!"}},{"$f":"IF(SUMPRODUCT($B163:$AA163,AE$140:BD$140)=0,0,SUMPRODUCT($B163:$AA163,$AE$140:$BD$140,$AE$189:$BD$189)*1000/SUMPRODUCT($B163:$AA163,AE$140:BD$140))","v":0},{"$f":"IF(SUMPRODUCT($B163:$AA163,$AE$139:$BD$139)=0,0,SUMPRODUCT($B163:$AA163,$AE$139:$BD$139,$AE$189:$BD$189)*1000/SUMPRODUCT($B163:$AA163,$AE$139:$BD$139))","v":0},{"$f":"IF(U209>T209,0,(T209-U209)/(V209-U209))","v":{"$error":"#DIV/0!"}},{"$f":"1-W209","v":{"$error":"#DIV/0!"}},{"$f":"SUMPRODUCT($B163:$AA163,$AE$139:$BD$139)/$AB163","v":{"$error":"#DIV/0!"}},{"$f":"SUMPRODUCT($B163:$AA163,$AE$140:$BD$140)/$AB163","v":{"$error":"#DIV/0!"}},{"$f":"IF(Y209=0,0,W209/Y209)","v":{"$error":"#DIV/0!"}},{"$f":"X209/Z209","v":{"$error":"#DIV/0!"}},null,"pX",{"$f":"IF(Inputs!$C$8=1,'Scenario 1'!$T$149,'Scenario 2'!$T$149)","v":1.3},{"$f":"IF(Inputs!$C$8=1,'Scenario 1'!$T$149,'Scenario 2'!$T$149)","v":1.3},{"$f":"IF(Inputs!$C$8=1,'Scenario 1'!$T$149,'Scenario 2'!$T$149)","v":1.3},{"$f":"IF(Inputs!$C$8=1,'Scenario 1'!$T$149,'Scenario 2'!$T$149)","v":1.3},{"$f":"IF(Inputs!$C$8=1,'Scenario 1'!$T$149,'Scenario 2'!$T$149)","v":1.3},{"$f":"IF(Inputs!$C$8=1,'Scenario 1'!$T$149,'Scenario 2'!$T$149)","v":1.3},{"$f":"IF(Inputs!$C$8=1,'Scenario 1'!$T$149,'Scenario 2'!$T$149)","v":1.3},{"$f":"IF(Inputs!$C$8=1,'Scenario 1'!$T$149,'Scenario 2'!$T$149)","v":1.3},{"$f":"IF(Inputs!$C$8=1,'Scenario 1'!$T$149,'Scenario 2'!$T$149)","v":1.3},{"$f":"IF(Inputs!$C$8=1,'Scenario 1'!$T$149,'Scenario 2'!$T$149)","v":1.3},{"$f":"IF(Inputs!$C$8=1,'Scenario 1'!$T$149,'Scenario 2'!$T$149)","v":1.3},{"$f":"IF(Inputs!$C$8=1,'Scenario 1'!$T$149,'Scenario 2'!$T$149)","v":1.3},{"$f":"IF(Inputs!$C$8=1,'Scenario 1'!$T$149,'Scenario 2'!$T$149)","v":1.3},{"$f":"IF(Inputs!$C$8=1,'Scenario 1'!$T$149,'Scenario 2'!$T$149)","v":1.3},{"$f":"IF(Inputs!$C$8=1,'Scenario 1'!$T$149,'Scenario 2'!$T$149)","v":1.3},{"$f":"IF(Inputs!$C$8=1,'Scenario 1'!$T$149,'Scenario 2'!$T$149)","v":1.3},{"$f":"IF(Inputs!$C$8=1,'Scenario 1'!$T$149,'Scenario 2'!$T$149)","v":1.3},{"$f":"IF(Inputs!$C$8=1,'Scenario 1'!$T$149,'Scenario 2'!$T$149)","v":1.3},{"$f":"IF(Inputs!$C$8=1,'Scenario 1'!$T$149,'Scenario 2'!$T$149)","v":1.3},{"$f":"IF(Inputs!$C$8=1,'Scenario 1'!$T$149,'Scenario 2'!$T$149)","v":1.3},{"$f":"IF(Inputs!$C$8=1,'Scenario 1'!$T$149,'Scenario 2'!$T$149)","v":1.3},{"$f":"IF(Inputs!$C$8=1,'Scenario 1'!$T$149,'Scenario 2'!$T$149)","v":1.3},{"$f":"IF(Inputs!$C$8=1,'Scenario 1'!$T$149,'Scenario 2'!$T$149)","v":1.3},{"$f":"IF(Inputs!$C$8=1,'Scenario 1'!$T$149,'Scenario 2'!$T$149)","v":1.3},{"$f":"IF(Inputs!$C$8=1,'Scenario 1'!$T$149,'Scenario 2'!$T$149)","v":1.3},{"$f":"IF(Inputs!$C$8=1,'Scenario 1'!$T$149,'Scenario 2'!$T$149)","v":1.3}]
["GE, MJ",{"$f":"SUMPRODUCT($B$160:$AA$160*1000,AE173:BD173*4.184)","v":0},{"$f":"SUMPRODUCT($B$161:$AA$161*1000,AE173:BD173*4.184)","v":0},{"$f":"SUMPRODUCT($B$162:$AA$162*1000,AE173:BD173*4.184)","v":0},{"$f":"SUMPRODUCT($B$163:$AA$163*1000,AE173:BD173*4.184)","v":0},{"$f":"SUMPRODUCT($B$164:$AA$164*1000,AE173:BD173*4.184)","v":0},null,null,null,null,null,null,null,null,null,null,null,null,5,{"$f":"$K$209/$K$206","v":{"$error":"#DIV/0!"}},{"$f":"IF(SUMPRODUCT($B164:$AA164,AE$140:BD$140)=0,0,SUMPRODUCT($B164:$AA164,$AE$140:$BD$140,$AE$189:$BD$189)*1000/SUMPRODUCT($B164:$AA164,AE$140:BD$140))","v":0},{"$f":"IF(SUMPRODUCT($B164:$AA164,$AE$139:$BD$139)=0,0,SUMPRODUCT($B164:$AA164,$AE$139:$BD$139,$AE$189:$BD$189)*1000/SUMPRODUCT($B164:$AA164,$AE$139:$BD$139))","v":0},{"$f":"IF(U210>T210,0,(T210-U210)/(V210-U210))","v":{"$error":"#DIV/0!"}},{"$f":"1-W210","v":{"$error":"#DIV/0!"}},{"$f":"SUMPRODUCT($B164:$AA164,$AE$139:$BD$139)/$AB164","v":{"$error":"#DIV/0!"}},{"$f":"SUMPRODUCT($B164:$AA164,$AE$140:$BD$140)/$AB164","v":{"$error":"#DIV/0!"}},{"$f":"IF(Y210=0,0,W210/Y210)","v":{"$error":"#DIV/0!"}},{"$f":"X210/Z210","v":{"$error":"#DIV/0!"}},null,"TDN1X in diet, %",{"$f":"IF(Inputs!$C$8=1,'Scenario 1'!$T$150,'Scenario 2'!$T$150)","v":55.154279707626756},{"$f":"IF(Inputs!$C$8=1,'Scenario 1'!$T$150,'Scenario 2'!$T$150)","v":55.154279707626756},{"$f":"IF(Inputs!$C$8=1,'Scenario 1'!$T$150,'Scenario 2'!$T$150)","v":55.154279707626756},{"$f":"IF(Inputs!$C$8=1,'Scenario 1'!$T$150,'Scenario 2'!$T$150)","v":55.154279707626756},{"$f":"IF(Inputs!$C$8=1,'Scenario 1'!$T$150,'Scenario 2'!$T$150)","v":55.154279707626756},{"$f":"IF(Inputs!$C$8=1,'Scenario 1'!$T$150,'Scenario 2'!$T$150)","v":55.154279707626756},{"$f":"IF(Inputs!$C$8=1,'Scenario 1'!$T$150,'Scenario 2'!$T$150)","v":55.154279707626756},{"$f":"IF(Inputs!$C$8=1,'Scenario 1'!$T$150,'Scenario 2'!$T$150)","v":55.154279707626756},{"$f":"IF(Inputs!$C$8=1,'Scenario 1'!$T$150,'Scenario 2'!$T$150)","v":55.154279707626756},{"$f":"IF(Inputs!$C$8=1,'Scenario 1'!$T$150,'Scenario 2'!$T$150)","v":55.154279707626756},{"$f":"IF(Inputs!$C$8=1,'Scenario 1'!$T$150,'Scenario 2'!$T$150)","v":55.154279707626756},{"$f":"IF(Inputs!$C$8=1,'Scenario 1'!$T$150,'Scenario 2'!$T$150)","v":55.154279707626756},{"$f":"IF(Inputs!$C$8=1,'Scenario 1'!$T$150,'Scenario 2'!$T$150)","v":55.154279707626756},{"$f":"IF(Inputs!$C$8=1,'Scenario 1'!$T$150,'Scenario 2'!$T$150)","v":55.154279707626756},{"$f":"IF(Inputs!$C$8=1,'Scenario 1'!$T$150,'Scenario 2'!$T$150)","v":55.154279707626756},{"$f":"IF(Inputs!$C$8=1,'Scenario 1'!$T$150,'Scenario 2'!$T$150)","v":55.154279707626756},{"$f":"IF(Inputs!$C$8=1,'Scenario 1'!$T$150,'Scenario 2'!$T$150)","v":55.154279707626756},{"$f":"IF(Inputs!$C$8=1,'Scenario 1'!$T$150,'Scenario 2'!$T$150)","v":55.154279707626756},{"$f":"IF(Inputs!$C$8=1,'Scenario 1'!$T$150,'Scenario 2'!$T$150)","v":55.154279707626756},{"$f":"IF(Inputs!$C$8=1,'Scenario 1'!$T$150,'Scenario 2'!$T$150)","v":55.154279707626756},{"$f":"IF(Inputs!$C$8=1,'Scenario 1'!$T$150,'Scenario 2'!$T$150)","v":55.154279707626756},{"$f":"IF(Inputs!$C$8=1,'Scenario 1'!$T$150,'Scenario 2'!$T$150)","v":55.154279707626756},{"$f":"IF(Inputs!$C$8=1,'Scenario 1'!$T$150,'Scenario 2'!$T$150)","v":55.154279707626756},{"$f":"IF(Inputs!$C$8=1,'Scenario 1'!$T$150,'Scenario 2'!$T$150)","v":55.154279707626756},{"$f":"IF(Inputs!$C$8=1,'Scenario 1'!$T$150,'Scenario 2'!$T$150)","v":55.154279707626756},{"$f":"IF(Inputs!$C$8=1,'Scenario 1'!$T$150,'Scenario 2'!$T$150)","v":55.154279707626756}]
["VS, t",{"$f":"Inputs!D120*Inputs!D115*Inputs!D173/1000*(1-B207%)-B227","v":0},{"$f":"Inputs!E120*Inputs!E115*Inputs!E173/1000*(1-C207%)-C227","v":0},{"$f":"Inputs!F120*Inputs!F115*Inputs!F173/1000*(1-D207%)-D227","v":0},{"$f":"Inputs!G120*Inputs!G115*Inputs!G173/1000*(1-E207%)-E227","v":0},{"$f":"Inputs!H120*Inputs!H115*Inputs!H173/1000*(1-F207%)-F227","v":0},null,null,null,null,null,null,null,null,null,null,null,null,null,null,null,null,null,null,null,null,null,null,null,"Cdig",{"$f":"IF(AE137=0,0,(1-(IF(AE210<60,0,((0.18*AE210)-10.3)/AE210))*(AE209-1)))","v":1},1,1,1,1,1,1,0,1,1,1,1,1,1,1,1,1,1,1,1,1,1,1,1,1,1]
["EE, (t) (<max)",{"$f":"SUMPRODUCT($AE141:$BD141,$B$160:$AA$160)%","v":0},{"$f":"SUMPRODUCT($AE141:$BD141,$B$161:$AA$161)%","v":0},{"$f":"SUMPRODUCT($AE141:$BD141,$B$162:$AA$162)%","v":0},{"$f":"SUMPRODUCT($AE141:$BD141,$B$163:$AA$163)%","v":0},{"$f":"SUMPRODUCT($AE141:$BD141,$B$164:$AA$164)%","v":0},null,null,null,null,null,{"$f":"Inputs!D132*Inputs!D125%*Inputs!D173/365","v":0},{"$f":"Inputs!E132*Inputs!E125%*Inputs!E173/365","v":0},{"$f":"Inputs!F132*Inputs!F125%*Inputs!F173/365","v":0},{"$f":"Inputs!G132*Inputs!G125%*Inputs!G173/365","v":0},{"$f":"Inputs!H132*Inputs!H125%*Inputs!H173/365","v":0},null,null,null,null,null,null,null,null,null,null,null,null,null,"TDNpX, %",{"$f":"IF(AE137=0,0,IF(AE179=0,0,AE179*AE211))","v":66.433744882751952},71.207268054102357,57.437720035055264,58.796657218625072,57.243745612832015,101.00812183619342,88.688213489444166,0,83.877472399186715,71.342192474540155,69.883099703924927,163.50749999999999,88.529840570508242,81.391694647795134,84.402847056599242,79.483781077223341,76.364000000000004,0,67.342496391351204,82.896152239336999,0,0,0,0,0,0]
["FNDF, (t) (>min)",{"$f":"SUMPRODUCT($AE142:$BD142,$B$160:$AA$160)%","v":0},{"$f":"SUMPRODUCT($AE142:$BD142,$B$161:$AA$161)%","v":0},{"$f":"SUMPRODUCT($AE142:$BD142,$B$162:$AA$162)%","v":0},{"$f":"SUMPRODUCT($AE142:$BD142,$B$163:$AA$163)%","v":0},{"$f":"SUMPRODUCT($AE142:$BD142,$B$164:$AA$164)%","v":0},{"$f":"Inputs!D134*Inputs!D125%*Inputs!D173/365","v":0},{"$f":"Inputs!E134*Inputs!E125%*Inputs!E173/365","v":0},{"$f":"Inputs!F134*Inputs!F125%*Inputs!F173/365","v":0},{"$f":"Inputs!G134*Inputs!G125%*Inputs!G173/365","v":0},{"$f":"Inputs!H134*Inputs!H125%*Inputs!H173/365","v":0},null,null,null,null,null,null,null,null,null,null,null,null,null,null,null,null,null,null,"DEpX, Mcal/kg",{"$f":"IF(AE137=0,0,IF(AE180=0,0,AE180*AE211))","v":3.0468810229819039},3.0861745123373634,2.6465482898952879,2.6684428406524274,2.5441659922686735,4.7726811171201238,3.847224966556654,0,3.7138838407658419,3.3774720839306869,3.4426501875648472,6.8309799999999994,4.3546633039613463,4.1633611752073953,4.4313695763771683,3.7156188052433805,4.3510079999999993,0,3.0105348484367505,3.7848483940521547,0,0,0,0,0,0]
["NDF, (t) (> min)",{"$f":"SUMPRODUCT($AE143:$BD143,$B$160:$AA$160)%","v":0},{"$f":"SUMPRODUCT($AE143:$BD143,$B$161:$AA$161)%","v":0},{"$f":"SUMPRODUCT($AE143:$BD143,$B$162:$AA$162)%","v":0},{"$f":"SUMPRODUCT($AE143:$BD143,$B$163:$AA$163)%","v":0},{"$f":"SUMPRODUCT($AE143:$BD143,$B$164:$AA$164)%","v":0},{"$f":"Inputs!D135*Inputs!D125%*Inputs!D173/365","v":0},{"$f":"Inputs!E135*Inputs!E125%*Inputs!E173/365","v":0},{"$f":"Inputs!F135*Inputs!F125%*Inputs!F173/365","v":0},{"$f":"Inputs!G135*Inputs!G125%*Inputs!G173/365","v":0},{"$f":"Inputs!H135*Inputs!H125%*Inputs!H173/365","v":0},{"$f":"Inputs!D136*Inputs!D125%*Inputs!D173/365","v":0},{"$f":"Inputs!E136*Inputs!E125%*Inputs!E173/365","v":0},{"$f":"Inputs!F136*Inputs!F125%*Inputs!F173/365","v":0},{"$f":"Inputs!G136*Inputs!G125%*Inputs!G173/365","v":0},{"$f":"Inputs!H136*Inputs!H125%*Inputs!H173/365","v":0},null,null,null,null,null,null,null,null,null,null,null,null,null,"MEpX, Mcal/kg",{"$f":"IF(AE137=0,0,IF(AE138=\"M\",0,IF(AE138=\"FA\",AE213,IF(AE141<3,1.01*AE213-0.45,(1.01*AE213-0.45)+(0.0046*(AE141-3))))))","v":2.6273498332117229},2.6676342574607368,2.2230137727942405,2.2451272690589517,2.1196076521913598,4.4449279282913245,3.4412172162222205,0,3.3010226791735002,2.9713668047699939,3.0381166894404954,6.8309799999999994,3.9716699370009598,3.7549947869594691,4.0256832721409399,3.3349749932958144,3.944518079999999,0,2.5906401969211177,3.4476768779926763,0,0,0,0,0,0]
["NFC, (t) (>min & <max)",{"$f":"SUMPRODUCT($AE144:$BD144,$B$160:$AA$160)%","v":0},{"$f":"SUMPRODUCT($AE144:$BD144,$B$161:$AA$161)%","v":0},{"$f":"SUMPRODUCT($AE144:$BD144,$B$162:$AA$162)%","v":0},{"$f":"SUMPRODUCT($AE144:$BD144,$B$163:$AA$163)%","v":0},{"$f":"SUMPRODUCT($AE144:$BD144,$B$164:$AA$164)%","v":0},{"$f":"Inputs!D138*Inputs!D125%*Inputs!D173/365","v":0},{"$f":"Inputs!E138*Inputs!E125%*Inputs!E173/365","v":0},{"$f":"Inputs!F138*Inputs!F125%*Inputs!F173/365","v":0},{"$f":"Inputs!G138*Inputs!G125%*Inputs!G173/365","v":0},{"$f":"Inputs!H138*Inputs!H125%*Inputs!H173/365","v":0},{"$f":"Inputs!D139*Inputs!D125%*Inputs!D173/365","v":0},{"$f":"Inputs!E139*Inputs!E125%*Inputs!E173/365","v":0},{"$f":"Inputs!F139*Inputs!F125%*Inputs!F173/365","v":0},{"$f":"Inputs!G139*Inputs!G125%*Inputs!G173/365","v":0},{"$f":"Inputs!H139*Inputs!H125%*Inputs!H173/365","v":0},null,null,null,null,null,null,null,null,null,null,null,null,null,"NELpX, Mcal/kg",{"$f":"IF(AE137=0,0,IF(AE138=\"M\",0,IF(AE141<3,0.703*AE214-0.19,(0.703*AE214-0.19)+((0.097*AE214+0.19)/97)*(AE141-3))))","v":1.6570269327478411},1.6859483146236256,1.3727786822743511,1.388324470148443,1.300084179490526,3.038524124790007,2.2356556791276048,0,2.1306189434589706,1.9097171490743152,1.9577885436591604,5.3285429852577311,2.6323291731120291,2.4497613352325067,2.6400553403150808,2.1915435854462135,2.5829962102399993,0,1.6312200584355456,2.3218418133916781,0,0,0,0,0,0]
["CP (t)  (< max)",{"$f":"SUMPRODUCT($AE148:$BD148,$B$160:$AA$160)%","v":0},{"$f":"SUMPRODUCT($AE$148:$BD$148,$B$161:$AA$161)%","v":0},{"$f":"SUMPRODUCT($AE$148:$BD$148,$B$162:$AA$162)/100","v":0},{"$f":"SUMPRODUCT($AE$148:$BD$148,$B$163:$AA$163)/100","v":0},{"$f":"SUMPRODUCT($AE$148:$BD$148,$B$164:$AA$164)/100","v":0},null,null,null,null,null,{"$f":"Inputs!D146*Inputs!D125%*Inputs!D173/365","v":0},{"$f":"Inputs!E146*Inputs!E125%*Inputs!E173/365","v":0},{"$f":"Inputs!F146*Inputs!F125%*Inputs!F173/365","v":0},{"$f":"Inputs!G146*Inputs!G125%*Inputs!G173/365","v":0},{"$f":"Inputs!H146*Inputs!H125%*Inputs!H173/365","v":0},null,null,null,null,null,null,null,null,null,null,null,null,null,"DMI, %BW",{"$f":"IF(Inputs!$C$8=1,'Scenario 1'!$T$102,'Scenario 2'!$T$102)","v":1.7999999999999998},{"$f":"IF(Inputs!$C$8=1,'Scenario 1'!$T$102,'Scenario 2'!$T$102)","v":1.7999999999999998},{"$f":"IF(Inputs!$C$8=1,'Scenario 1'!$T$102,'Scenario 2'!$T$102)","v":1.7999999999999998},{"$f":"IF(Inputs!$C$8=1,'Scenario 1'!$T$102,'Scenario 2'!$T$102)","v":1.7999999999999998},{"$f":"IF(Inputs!$C$8=1,'Scenario 1'!$T$102,'Scenario 2'!$T$102)","v":1.7999999999999998},{"$f":"IF(Inputs!$C$8=1,'Scenario 1'!$T$102,'Scenario 2'!$T$102)","v":1.7999999999999998},{"$f":"IF(Inputs!$C$8=1,'Scenario 1'!$T$102,'Scenario 2'!$T$102)","v":1.7999999999999998},{"$f":"IF(Inputs!$C$8=1,'Scenario 1'!$T$102,'Scenario 2'!$T$102)","v":1.7999999999999998},{"$f":"IF(Inputs!$C$8=1,'Scenario 1'!$T$102,'Scenario 2'!$T$102)","v":1.7999999999999998},{"$f":"IF(Inputs!$C$8=1,'Scenario 1'!$T$102,'Scenario 2'!$T$102)","v":1.7999999999999998},{"$f":"IF(Inputs!$C$8=1,'Scenario 1'!$T$102,'Scenario 2'!$T$102)","v":1.7999999999999998},{"$f":"IF(Inputs!$C$8=1,'Scenario 1'!$T$102,'Scenario 2'!$T$102)","v":1.7999999999999998},{"$f":"IF(Inputs!$C$8=1,'Scenario 1'!$T$102,'Scenario 2'!$T$102)","v":1.7999999999999998},{"$f":"IF(Inputs!$C$8=1,'Scenario 1'!$T$102,'Scenario 2'!$T$102)","v":1.7999999999999998},{"$f":"IF(Inputs!$C$8=1,'Scenario 1'!$T$102,'Scenario 2'!$T$102)","v":1.7999999999999998},{"$f":"IF(Inputs!$C$8=1,'Scenario 1'!$T$102,'Scenario 2'!$T$102)","v":1.7999999999999998},{"$f":"IF(Inputs!$C$8=1,'Scenario 1'!$T$102,'Scenario 2'!$T$102)","v":1.7999999999999998},{"$f":"IF(Inputs!$C$8=1,'Scenario 1'!$T$102,'Scenario 2'!$T$102)","v":1.7999999999999998},{"$f":"IF(Inputs!$C$8=1,'Scenario 1'!$T$102,'Scenario 2'!$T$102)","v":1.7999999999999998},{"$f":"IF(Inputs!$C$8=1,'Scenario 1'!$T$102,'Scenario 2'!$T$102)","v":1.7999999999999998},{"$f":"IF(Inputs!$C$8=1,'Scenario 1'!$T$102,'Scenario 2'!$T$102)","v":1.7999999999999998},{"$f":"IF(Inputs!$C$8=1,'Scenario 1'!$T$102,'Scenario 2'!$T$102)","v":1.7999999999999998},{"$f":"IF(Inputs!$C$8=1,'Scenario 1'!$T$102,'Scenario 2'!$T$102)","v":1.7999999999999998},{"$f":"IF(Inputs!$C$8=1,'Scenario 1'!$T$102,'Scenario 2'!$T$102)","v":1.7999999999999998},{"$f":"IF(Inputs!$C$8=1,'Scenario 1'!$T$102,'Scenario 2'!$T$102)","v":1.7999999999999998},{"$f":"IF(Inputs!$C$8=1,'Scenario 1'!$T$102,'Scenario 2'!$T$102)","v":1.7999999999999998}]
["RDP Lactating groups, (t) (> min & < max)",{"$f":"SUMPRODUCT($AE193:$BD193,$B$160:$AA$160)%","v":0},{"$f":"SUMPRODUCT($AE206:$BD206,$B$161:$AA$161)%","v":0},{"$f":"SUMPRODUCT(AE219:BD219,$B$162:$AA$162)%","v":0},{"$f":"SUMPRODUCT(AE232:BD232,$B$163:$AA$163)%","v":0},{"$f":"SUMPRODUCT(AE245:BD245,$B$164:$AA$164)%","v":0},{"$f":"Inputs!D169*Inputs!D152%*Inputs!D201/365","v":0},{"$f":"Inputs!E169*Inputs!E152%*Inputs!E201/365","v":0},{"$f":"Inputs!F169*Inputs!F152%*Inputs!F201/365","v":0},{"$f":"Inputs!G169*Inputs!G152%*Inputs!G201/365","v":0},{"$f":"Inputs!H169*Inputs!H152%*Inputs!H201/365","v":0},{"$f":"Inputs!D142*Inputs!D125%*Inputs!D173/365","v":0},{"$f":"Inputs!E142*Inputs!E125%*Inputs!E173/365","v":0},{"$f":"Inputs!F142*Inputs!F125%*Inputs!F173/365","v":0},{"$f":"Inputs!G142*Inputs!G125%*Inputs!G173/365","v":0},{"$f":"Inputs!H142*Inputs!H125%*Inputs!H173/365","v":0},null,null,null,null,null,null,null,null,null,null,null,null,null,"Concentrate, %",{"$f":"IF(Inputs!$C$8=1,'Scenario 1'!$T$147,'Scenario 2'!$T$147)","v":10},{"$f":"IF(Inputs!$C$8=1,'Scenario 1'!$T$147,'Scenario 2'!$T$147)","v":10},{"$f":"IF(Inputs!$C$8=1,'Scenario 1'!$T$147,'Scenario 2'!$T$147)","v":10},{"$f":"IF(Inputs!$C$8=1,'Scenario 1'!$T$147,'Scenario 2'!$T$147)","v":10},{"$f":"IF(Inputs!$C$8=1,'Scenario 1'!$T$147,'Scenario 2'!$T$147)","v":10},{"$f":"IF(Inputs!$C$8=1,'Scenario 1'!$T$147,'Scenario 2'!$T$147)","v":10},{"$f":"IF(Inputs!$C$8=1,'Scenario 1'!$T$147,'Scenario 2'!$T$147)","v":10},{"$f":"IF(Inputs!$C$8=1,'Scenario 1'!$T$147,'Scenario 2'!$T$147)","v":10},{"$f":"IF(Inputs!$C$8=1,'Scenario 1'!$T$147,'Scenario 2'!$T$147)","v":10},{"$f":"IF(Inputs!$C$8=1,'Scenario 1'!$T$147,'Scenario 2'!$T$147)","v":10},{"$f":"IF(Inputs!$C$8=1,'Scenario 1'!$T$147,'Scenario 2'!$T$147)","v":10},{"$f":"IF(Inputs!$C$8=1,'Scenario 1'!$T$147,'Scenario 2'!$T$147)","v":10},{"$f":"IF(Inputs!$C$8=1,'Scenario 1'!$T$147,'Scenario 2'!$T$147)","v":10},{"$f":"IF(Inputs!$C$8=1,'Scenario 1'!$T$147,'Scenario 2'!$T$147)","v":10},{"$f":"IF(Inputs!$C$8=1,'Scenario 1'!$T$147,'Scenario 2'!$T$147)","v":10},{"$f":"IF(Inputs!$C$8=1,'Scenario 1'!$T$147,'Scenario 2'!$T$147)","v":10},{"$f":"IF(Inputs!$C$8=1,'Scenario 1'!$T$147,'Scenario 2'!$T$147)","v":10},{"$f":"IF(Inputs!$C$8=1,'Scenario 1'!$T$147,'Scenario 2'!$T$147)","v":10},{"$f":"IF(Inputs!$C$8=1,'Scenario 1'!$T$147,'Scenario 2'!$T$147)","v":10},{"$f":"IF(Inputs!$C$8=1,'Scenario 1'!$T$147,'Scenario 2'!$T$147)","v":10},{"$f":"IF(Inputs!$C$8=1,'Scenario 1'!$T$147,'Scenario 2'!$T$147)","v":10},{"$f":"IF(Inputs!$C$8=1,'Scenario 1'!$T$147,'Scenario 2'!$T$147)","v":10},{"$f":"IF(Inputs!$C$8=1,'Scenario 1'!$T$147,'Scenario 2'!$T$147)","v":10},{"$f":"IF(Inputs!$C$8=1,'Scenario 1'!$T$147,'Scenario 2'!$T$147)","v":10},{"$f":"IF(Inputs!$C$8=1,'Scenario 1'!$T$147,'Scenario 2'!$T$147)","v":10},{"$f":"IF(Inputs!$C$8=1,'Scenario 1'!$T$147,'Scenario 2'!$T$147)","v":10}]
["RUP Non-lactating groups, (t)  (> min)",{"$f":"SUMPRODUCT($AE194:$BD194,$B$160:$AA$160)%","v":0},{"$f":"SUMPRODUCT($AE207:$BD207,$B$161:$AA$161)%","v":0},{"$f":"SUMPRODUCT(AE220:BD220,$B$162:$AA$162)%","v":0},{"$f":"SUMPRODUCT(AE233:BD233,$B$163:$AA$163%)","v":0},{"$f":"SUMPRODUCT(AE246:BD246,$B$164:$AA$164)%","v":0},{"$f":"Inputs!D143*Inputs!D125%*Inputs!D173/365","v":0},{"$f":"Inputs!E143*Inputs!E125%*Inputs!E173/365","v":0},{"$f":"Inputs!F143*Inputs!F125%*Inputs!F173/365","v":0},{"$f":"Inputs!G143*Inputs!G125%*Inputs!G173/365","v":0},{"$f":"Inputs!H143*Inputs!H125%*Inputs!H173/365","v":0},"na","na","No constraints applied to Max RUP",null,null,null,null,null,null,null,null,null,null,null,null,null,null,null,"Kp",{"$f":"IF(OR(AE138=\"C\",AE138=\"FA\",AE138=\"AP\",AE138=\"M\"),2.904+(1.375*AE216)-(0.02*AE217),IF(AE138=\"H\",3.362+(0.479*AE216)-(0.017*AE143)-(0.007*AE217),IF(OR(AE138=\"S\",AE138=\"P\"),3.054+(0.614*AE216),0)))","v":4.1592000000000002},4.1592000000000002,4.1592000000000002,4.1592000000000002,3.1268899999999999,5.1789999999999994,5.1789999999999994,5.1789999999999994,5.1789999999999994,5.1789999999999994,5.1789999999999994,5.1789999999999994,5.1789999999999994,5.1789999999999994,5.1789999999999994,5.1789999999999994,5.1789999999999994,5.1789999999999994,5.1789999999999994,5.1789999999999994,5.1789999999999994,5.1789999999999994,5.1789999999999994,5.1789999999999994,5.1789999999999994,5.1789999999999994]
["Ca, (t abs) (> min & <max)",{"$f":"SUMPRODUCT($AE153:$BD153,$AE154:$BD154,$B$160:$AA$160)%","v":0},{"$f":"SUMPRODUCT($AE153:$BD153,$AE154:$BD154,$B$161:$AA$161)%","v":0},{"$f":"SUMPRODUCT($AE153:$BD153,$AE154:$BD154,$B$162:$AA$162)/100","v":0},{"$f":"SUMPRODUCT($AE153:$BD153,$AE154:$BD154,$B$163:$AA$163)/100","v":0},{"$f":"SUMPRODUCT($AE153:$BD153,$AE154:$BD154,$B$164:$AA$164)/100","v":0},{"$f":"Inputs!D$122*Inputs!D$115*(Inputs!D$173)*Inputs!D159/100/1000","v":0},{"$f":"Inputs!E$122*Inputs!E$115*(Inputs!E$173)*Inputs!E159/100/1000","v":0},{"$f":"Inputs!F$122*Inputs!F$115*(Inputs!F$173)*Inputs!F159/100/1000","v":0},{"$f":"Inputs!G$122*Inputs!G$115*(Inputs!G$173)*Inputs!G159/100/1000","v":0},{"$f":"Inputs!H$122*Inputs!H$115*(Inputs!H$173)*Inputs!H159/100/1000","v":0},{"$f":"G219*$Q219","v":0},{"$f":"H219*$Q219","v":0},{"$f":"I219*$Q219","v":0},{"$f":"J219*$Q219","v":0},{"$f":"K219*$Q219","v":0},2,null,null,null,null,null,null,null,null,null,null,null,null,"RDP, %CP",{"$f":"IF(AE148>0,(((AE152/(AE152 + AE218)*(AE150%*AE148)))+AE149%*AE148),0)","v":15.708894444444443},5.4996823076923071,16.106222799158882,13.269478575730448,8.7542737920207649,29.552401915542013,5.5597759103085629,9.9238508985257727,11.095831677718003,14.317892944630021,26.534314038128251,0,17.41410870827286,34.92968924994085,20.705276774969917,16.173847306071305,25.255480223195367,281,8.5956395553212062,18.921294171176783,0,0,0,0,0,0]
["P, (t abs) (> min & < max)",{"$f":"SUMPRODUCT($AE155:$BD155,$AE156:$BD156,$B$160:$AA$160)%","v":0},{"$f":"SUMPRODUCT($AE155:$BD155,$AE156:$BD156,$B$161:$AA$161)%","v":0},{"$f":"SUMPRODUCT($AE155:$BD155,$AE156:$BD156,$B$162:$AA$162)/100","v":0},{"$f":"SUMPRODUCT($AE155:$BD155,$AE156:$BD156,$B$163:$AA$163)/100","v":0},{"$f":"SUMPRODUCT($AE155:$BD155,$AE156:$BD156,$B$164:$AA$164)/100","v":0},{"$f":"Inputs!D$122*Inputs!D$115*(Inputs!D$173)*Inputs!D149/100/1000","v":0},{"$f":"Inputs!E$122*Inputs!E$115*(Inputs!E$173)*Inputs!E149/100/1000","v":0},{"$f":"Inputs!F$122*Inputs!F$115*(Inputs!F$173)*Inputs!F149/100/1000","v":0},{"$f":"Inputs!G$122*Inputs!G$115*(Inputs!G$173)*Inputs!G149/100/1000","v":0},{"$f":"Inputs!H$122*Inputs!H$115*(Inputs!H$173)*Inputs!H149/100/1000","v":0},{"$f":"(Inputs!D122*Inputs!D115*(Inputs!D173)*Inputs!D150/100)/1000","v":0},{"$f":"(Inputs!E122*Inputs!E115*(Inputs!E173)*Inputs!E150/100)/1000","v":0},{"$f":"(Inputs!F122*Inputs!F115*(Inputs!F173)*Inputs!F150/100)/1000","v":0},{"$f":"(Inputs!G122*Inputs!G115*(Inputs!G173)*Inputs!G150/100)/1000","v":0},{"$f":"(Inputs!H122*Inputs!H115*(Inputs!H173)*Inputs!H150/100)/1000","v":0},null,null,null,null,null,null,null,null,null,null,null,null,null,"RUP, %CP",{"$f":"AE148-AE219","v":4.3911055555555585},2.7303176923076933,3.1537772008411196,3.2505214242695519,3.0757262079792351,9.6475980844579894,3.8402240896914375,2.4761491014742276,3.1041683222819962,14.882107055369978,11.265685961871746,0,28.885891291727138,18.870310750059147,44.294723225030083,13.526152693928694,70.244519776804637,0,5.3043604446787942,4.5787058288232174,0,0,0,0,0,0]
["K, (t abs) (>min)",{"$f":"SUMPRODUCT($AE157:$BD157,$AE158:$BD158,$B$160:$AA$160)%","v":0},{"$f":"SUMPRODUCT($AE157:$BD157,$AE158:$BD158,$B$161:$AA$161)%","v":0},{"$f":"SUMPRODUCT($AE157:$BD157,$AE158:$BD158,$B$162:$AA$162)/100","v":0},{"$f":"SUMPRODUCT($AE157:$BD157,$AE158:$BD158,$B$163:$AA$163)/100","v":0},{"$f":"SUMPRODUCT($AE157:$BD157,$AE158:$BD158,$B$164:$AA$164)/100","v":0},{"$f":"Inputs!D$122*Inputs!D$115*(Inputs!D$173)*Inputs!D156/100/1000","v":0},{"$f":"Inputs!E$122*Inputs!E$115*(Inputs!E$173)*Inputs!E156/100/1000","v":0},{"$f":"Inputs!F$122*Inputs!F$115*(Inputs!F$173)*Inputs!F156/100/1000","v":0},{"$f":"Inputs!G$122*Inputs!G$115*(Inputs!G$173)*Inputs!G156/100/1000","v":0},{"$f":"Inputs!H$122*Inputs!H$115*(Inputs!H$173)*Inputs!H156/100/1000","v":0},{"$f":"G221*$Q221","v":0},0,0,0,0,2.5,null,null,null,null,null,null,null,null,null,null,null,null,"Group 4"]
["Mg, (t abs)  (> min & < max)",{"$f":"SUMPRODUCT($AE159:$BD159,$AE160:$BD160,$B$160:$AA$160)%","v":0},{"$f":"SUMPRODUCT($AE159:$BD159,$AE160:$BD160,$B$161:$AA$161)%","v":0},{"$f":"SUMPRODUCT($AE159:$BD159,$AE160:$BD160,$B$162:$AA$162)/100","v":0},{"$f":"SUMPRODUCT($AE159:$BD159,$AE160:$BD160,$B$163:$AA$163)/100","v":0},{"$f":"SUMPRODUCT($AE159:$BD159,$AE160:$BD160,$B$164:$AA$164)/100","v":0},{"$f":"Inputs!D$122*Inputs!D$115*(Inputs!D$173)*Inputs!D153/100/1000","v":0},{"$f":"Inputs!E$122*Inputs!E$115*(Inputs!E$173)*Inputs!E153/100/1000","v":0},{"$f":"Inputs!F$122*Inputs!F$115*(Inputs!F$173)*Inputs!F153/100/1000","v":0},{"$f":"Inputs!G$122*Inputs!G$115*(Inputs!G$173)*Inputs!G153/100/1000","v":0},{"$f":"Inputs!H$122*Inputs!H$115*(Inputs!H$173)*Inputs!H153/100/1000","v":0},0,0,0,0,0,3,null,null,null,null,null,null,null,null,null,null,null,null,"pX",{"$f":"IF(Inputs!$C$8=1,'Scenario 1'!$U$149,'Scenario 2'!$U$149)","v":2},{"$f":"IF(Inputs!$C$8=1,'Scenario 1'!$U$149,'Scenario 2'!$U$149)","v":2},{"$f":"IF(Inputs!$C$8=1,'Scenario 1'!$U$149,'Scenario 2'!$U$149)","v":2},{"$f":"IF(Inputs!$C$8=1,'Scenario 1'!$U$149,'Scenario 2'!$U$149)","v":2},{"$f":"IF(Inputs!$C$8=1,'Scenario 1'!$U$149,'Scenario 2'!$U$149)","v":2},{"$f":"IF(Inputs!$C$8=1,'Scenario 1'!$U$149,'Scenario 2'!$U$149)","v":2},{"$f":"IF(Inputs!$C$8=1,'Scenario 1'!$U$149,'Scenario 2'!$U$149)","v":2},{"$f":"IF(Inputs!$C$8=1,'Scenario 1'!$U$149,'Scenario 2'!$U$149)","v":2},{"$f":"IF(Inputs!$C$8=1,'Scenario 1'!$U$149,'Scenario 2'!$U$149)","v":2},{"$f":"IF(Inputs!$C$8=1,'Scenario 1'!$U$149,'Scenario 2'!$U$149)","v":2},{"$f":"IF(Inputs!$C$8=1,'Scenario 1'!$U$149,'Scenario 2'!$U$149)","v":2},{"$f":"IF(Inputs!$C$8=1,'Scenario 1'!$U$149,'Scenario 2'!$U$149)","v":2},{"$f":"IF(Inputs!$C$8=1,'Scenario 1'!$U$149,'Scenario 2'!$U$149)","v":2},{"$f":"IF(Inputs!$C$8=1,'Scenario 1'!$U$149,'Scenario 2'!$U$149)","v":2},{"$f":"IF(Inputs!$C$8=1,'Scenario 1'!$U$149,'Scenario 2'!$U$149)","v":2},{"$f":"IF(Inputs!$C$8=1,'Scenario 1'!$U$149,'Scenario 2'!$U$149)","v":2},{"$f":"IF(Inputs!$C$8=1,'Scenario 1'!$U$149,'Scenario 2'!$U$149)","v":2},{"$f":"IF(Inputs!$C$8=1,'Scenario 1'!$U$149,'Scenario 2'!$U$149)","v":2},{"$f":"IF(Inputs!$C$8=1,'Scenario 1'!$U$149,'Scenario 2'!$U$149)","v":2},{"$f":"IF(Inputs!$C$8=1,'Scenario 1'!$U$149,'Scenario 2'!$U$149)","v":2},{"$f":"IF(Inputs!$C$8=1,'Scenario 1'!$U$149,'Scenario 2'!$U$149)","v":2},{"$f":"IF(Inputs!$C$8=1,'Scenario 1'!$U$149,'Scenario 2'!$U$149)","v":2},{"$f":"IF(Inputs!$C$8=1,'Scenario 1'!$U$149,'Scenario 2'!$U$149)","v":2},{"$f":"IF(Inputs!$C$8=1,'Scenario 1'!$U$149,'Scenario 2'!$U$149)","v":2},{"$f":"IF(Inputs!$C$8=1,'Scenario 1'!$U$149,'Scenario 2'!$U$149)","v":2},{"$f":"IF(Inputs!$C$8=1,'Scenario 1'!$U$149,'Scenario 2'!$U$149)","v":2}]
["Na (t abs)  (> min & < max)",{"$f":"SUMPRODUCT($AE161:$BD161,$AE162:$BD162,$B$160:$AA$160)%","v":0},{"$f":"SUMPRODUCT($AE161:$BD161,$AE162:$BD162,$B$161:$AA$161)%","v":0},{"$f":"SUMPRODUCT($AE161:$BD161,$AE162:$BD162,$B$162:$AA$162)/100","v":0},{"$f":"SUMPRODUCT($AE161:$BD161,$AE162:$BD162,$B$163:$AA$163)/100","v":0},{"$f":"SUMPRODUCT($AE161:$BD161,$AE162:$BD162,$B$164:$AA$164)/100","v":0},{"$f":"Inputs!D$122*Inputs!D$115*(Inputs!D$173)*Inputs!D162/100/1000","v":0},{"$f":"Inputs!E$122*Inputs!E$115*(Inputs!E$173)*Inputs!E162/100/1000","v":0},{"$f":"Inputs!F$122*Inputs!F$115*(Inputs!F$173)*Inputs!F162/100/1000","v":0},{"$f":"Inputs!G$122*Inputs!G$115*(Inputs!G$173)*Inputs!G162/100/1000","v":0},{"$f":"Inputs!H$122*Inputs!H$115*(Inputs!H$173)*Inputs!H162/100/1000","v":0},0,0,0,0,0,5,null,null,null,null,null,null,null,null,null,null,null,null,"TDN1X in diet, %",{"$f":"IF(Inputs!$C$8=1,'Scenario 1'!$U$150,'Scenario 2'!$U$150)","v":61.060829903333911},{"$f":"IF(Inputs!$C$8=1,'Scenario 1'!$U$150,'Scenario 2'!$U$150)","v":61.060829903333911},{"$f":"IF(Inputs!$C$8=1,'Scenario 1'!$U$150,'Scenario 2'!$U$150)","v":61.060829903333911},{"$f":"IF(Inputs!$C$8=1,'Scenario 1'!$U$150,'Scenario 2'!$U$150)","v":61.060829903333911},{"$f":"IF(Inputs!$C$8=1,'Scenario 1'!$U$150,'Scenario 2'!$U$150)","v":61.060829903333911},{"$f":"IF(Inputs!$C$8=1,'Scenario 1'!$U$150,'Scenario 2'!$U$150)","v":61.060829903333911},{"$f":"IF(Inputs!$C$8=1,'Scenario 1'!$U$150,'Scenario 2'!$U$150)","v":61.060829903333911},{"$f":"IF(Inputs!$C$8=1,'Scenario 1'!$U$150,'Scenario 2'!$U$150)","v":61.060829903333911},{"$f":"IF(Inputs!$C$8=1,'Scenario 1'!$U$150,'Scenario 2'!$U$150)","v":61.060829903333911},{"$f":"IF(Inputs!$C$8=1,'Scenario 1'!$U$150,'Scenario 2'!$U$150)","v":61.060829903333911},{"$f":"IF(Inputs!$C$8=1,'Scenario 1'!$U$150,'Scenario 2'!$U$150)","v":61.060829903333911},{"$f":"IF(Inputs!$C$8=1,'Scenario 1'!$U$150,'Scenario 2'!$U$150)","v":61.060829903333911},{"$f":"IF(Inputs!$C$8=1,'Scenario 1'!$U$150,'Scenario 2'!$U$150)","v":61.060829903333911},{"$f":"IF(Inputs!$C$8=1,'Scenario 1'!$U$150,'Scenario 2'!$U$150)","v":61.060829903333911},{"$f":"IF(Inputs!$C$8=1,'Scenario 1'!$U$150,'Scenario 2'!$U$150)","v":61.060829903333911},{"$f":"IF(Inputs!$C$8=1,'Scenario 1'!$U$150,'Scenario 2'!$U$150)","v":61.060829903333911},{"$f":"IF(Inputs!$C$8=1,'Scenario 1'!$U$150,'Scenario 2'!$U$150)","v":61.060829903333911},{"$f":"IF(Inputs!$C$8=1,'Scenario 1'!$U$150,'Scenario 2'!$U$150)","v":61.060829903333911},{"$f":"IF(Inputs!$C$8=1,'Scenario 1'!$U$150,'Scenario 2'!$U$150)","v":61.060829903333911},{"$f":"IF(Inputs!$C$8=1,'Scenario 1'!$U$150,'Scenario 2'!$U$150)","v":61.060829903333911},{"$f":"IF(Inputs!$C$8=1,'Scenario 1'!$U$150,'Scenario 2'!$U$150)","v":61.060829903333911},{"$f":"IF(Inputs!$C$8=1,'Scenario 1'!$U$150,'Scenario 2'!$U$150)","v":61.060829903333911},{"$f":"IF(Inputs!$C$8=1,'Scenario 1'!$U$150,'Scenario 2'!$U$150)","v":61.060829903333911},{"$f":"IF(Inputs!$C$8=1,'Scenario 1'!$U$150,'Scenario 2'!$U$150)","v":61.060829903333911},{"$f":"IF(Inputs!$C$8=1,'Scenario 1'!$U$150,'Scenario 2'!$U$150)","v":61.060829903333911},{"$f":"IF(Inputs!$C$8=1,'Scenario 1'!$U$150,'Scenario 2'!$U$150)","v":61.060829903333911}]
["Cl (t abs)  (> min & < max)",{"$f":"SUMPRODUCT($AE163:$BD163,$AE164:$BD164,$B$160:$AA$160)%","v":0},{"$f":"SUMPRODUCT($AE163:$BD163,$AE164:$BD164,$B$161:$AA$161)%","v":0},{"$f":"SUMPRODUCT($AE163:$BD163,$AE164:$BD164,$B$162:$AA$162)/100","v":0},{"$f":"SUMPRODUCT($AE163:$BD163,$AE164:$BD164,$B$163:$AA$163)/100","v":0},{"$f":"SUMPRODUCT($AE163:$BD163,$AE164:$BD164,$B$164:$AA$164)/100","v":0},{"$f":"Inputs!D$122*Inputs!D$115*(Inputs!D$173)*Inputs!D165/100/1000","v":0},{"$f":"Inputs!E$122*Inputs!E$115*(Inputs!E$173)*Inputs!E165/100/1000","v":0},{"$f":"Inputs!F$122*Inputs!F$115*(Inputs!F$173)*Inputs!F165/100/1000","v":0},{"$f":"Inputs!G$122*Inputs!G$115*(Inputs!G$173)*Inputs!G165/100/1000","v":0},{"$f":"Inputs!H$122*Inputs!H$115*(Inputs!H$173)*Inputs!H165/100/1000","v":0},0,0,0,0,0,5,null,null,null,null,null,null,null,null,null,null,null,null,"Cdig",{"$f":"IF(AE137=0,0,(1-(IF(AE223<60,0,((0.18*AE223)-10.3)/AE223))*(AE222-1)))","v":0.98868424514219755},0.98868424514219755,0.98868424514219755,0.98868424514219755,0.98868424514219755,0.98868424514219755,0.98868424514219755,0,0.98868424514219755,0.98868424514219755,0.98868424514219755,0.98868424514219755,0.98868424514219755,0.98868424514219755,0.98868424514219755,0.98868424514219755,0.98868424514219755,0.98868424514219755,0.98868424514219755,0.98868424514219755,0.98868424514219755,0.98868424514219755,0.98868424514219755,0.98868424514219755,0.98868424514219755,0.98868424514219755]
["S (t)  (> min & < max)",{"$f":"SUMPRODUCT($AE165:$BD165,$B$160:$AA$160)%","v":0},{"$f":"SUMPRODUCT($AE165:$BD165,$B$161:$AA$161)%","v":0},{"$f":"SUMPRODUCT($AE165:$BD165,$B$162:$AA$162)/100","v":0},{"$f":"SUMPRODUCT($AE165:$BD165,$B$163:$AA$163)/100","v":0},{"$f":"SUMPRODUCT($AE165:$BD165,$B$164:$AA$164)/100","v":0},{"$f":"Inputs!D$122*Inputs!D$115*(Inputs!D$173)*Inputs!D168/100/1000","v":0},{"$f":"Inputs!E$122*Inputs!E$115*(Inputs!E$173)*Inputs!E168/100/1000","v":0},{"$f":"Inputs!F$122*Inputs!F$115*(Inputs!F$173)*Inputs!F168/100/1000","v":0},{"$f":"Inputs!G$122*Inputs!G$115*(Inputs!G$173)*Inputs!G168/100/1000","v":0},{"$f":"Inputs!H$122*Inputs!H$115*(Inputs!H$173)*Inputs!H168/100/1000","v":0},{"$f":"0.4/100*Inputs!D122/1000*Inputs!D115*(Inputs!D173)","v":0},{"$f":"0.4/100*Inputs!E122/1000*Inputs!E115*(Inputs!E173)","v":0},{"$f":"0.4/100*Inputs!F122/1000*Inputs!F115*(Inputs!F173)","v":0},{"$f":"0.4/100*Inputs!G122/1000*Inputs!G115*(Inputs!G173)","v":0},{"$f":"0.4/100*Inputs!H122/1000*Inputs!H115*(Inputs!H173)","v":0},null,null,null,null,null,null,null,null,null,null,null,null,null,"TDNpX, %",{"$f":"IF(AE137=0,0,IF(AE179=0,0,AE179*AE224))","v":65.681996911372948},70.401504064708305,56.787768875547492,58.131328659080872,56.595989420334803,99.865138690848013,87.684639406821162,0,82.928335483425428,70.534901713480096,69.092319678971947,161.65728921258787,87.528058597012034,80.47068618369957,83.447765130006175,78.584362095382247,75.499883696038779,0,66.580465210674234,81.958119701941584,0,0,0,0,0,0]
["DCAD (meq/kg)",{"$f":"SUMPRODUCT($AE166:$BD166,$B$160:$AA$160)/B206","v":{"$error":"#DIV/0!"}},{"$f":"SUMPRODUCT($AE166:$BD166,$B$161:$AA$161)/C206","v":{"$error":"#DIV/0!"}},{"$f":"SUMPRODUCT($AE166:$BD166,$B$162:$AA$162)/D206","v":{"$error":"#DIV/0!"}},{"$f":"SUMPRODUCT($AE166:$BD166,$B$163:$AA$163)/E206","v":{"$error":"#DIV/0!"}},{"$f":"SUMPRODUCT($AE166:$BD166,$B$164:$AA$164)/F206","v":{"$error":"#DIV/0!"}},{"$f":"Inputs!D170","v":0},{"$f":"Inputs!E170","v":0},{"$f":"Inputs!F170","v":0},null,{"$f":"Inputs!H170","v":0},null,null,null,0,null,null,null,null,null,null,null,null,null,null,null,null,null,null,"DEpX, Mcal/kg",{"$f":"IF(AE137=0,0,IF(AE180=0,0,AE180*AE224))","v":3.0124032642449503},3.0512521181073557,2.6166005982274965,2.6382473956155463,2.5153768335826032,4.7186746275843294,3.8036907119522816,0,3.6718584416533817,3.3392534377898562,3.4036940019811959,6.7536823048814476,4.3053870015254514,4.1162496007642559,4.3812252845665602,3.6735737736982057,4.3017730600876618,0,2.9764683741009685,3.7420199774511134,0,0,0,0,0,0]
["Ash, (t)",{"$f":"SUMPRODUCT($B$160:$AA$160,$AE$167:$BD$167)%","v":0},{"$f":"SUMPRODUCT($B$161:$AA$161,$AE$167:$BD$167)%","v":0},{"$f":"SUMPRODUCT($B$162:$AA$162,$AE$167:$BD$167)%","v":0},{"$f":"SUMPRODUCT($B$163:$AA$163,$AE$167:$BD$167)%","v":0},{"$f":"SUMPRODUCT($B$164:$AA$164,$AE$167:$BD$167)%","v":0},null,null,null,null,null,null,null,null,null,null,null,null,null,null,null,null,null,null,null,null,null,null,null,"MEpX, Mcal/kg",{"$f":"IF(AE137=0,0,IF(AE138=\"M\",0,IF(AE138=\"FA\",AE226,IF(AE141<3,1.01*AE226-0.45,(1.01*AE226-0.45)+(0.0046*(AE141-3))))))","v":2.5925272968873996},2.6323626392884294,2.1927666042097713,2.2146298695717017,2.0905306019184291,4.3903813738601727,3.3972476190718046,0,3.2585770260699154,2.9327659721677546,2.9987709420010078,6.7536823048814476,3.9219008715407062,3.7074120967718986,3.9750375374122253,3.2925095114351874,3.8947907906885382,0,2.5562330578419781,3.4044201772256244,0,0,0,0,0,0]
[null,null,null,null,null,null,null,null,null,null,null,null,null,null,null,null,null,null,null,null,null,null,null,null,null,null,null,null,null,"NELpX, Mcal/kg",{"$f":"IF(AE137=0,0,IF(AE138=\"M\",0,IF(AE141<3,0.703*AE227-0.19,(0.703*AE227-0.19)+((0.097*AE227+0.19)/97)*(AE141-3))))","v":1.6325466897118419},1.661147781738131,1.3515149227594692,1.3668847983089063,1.2796430131486556,2.9992942428431224,2.2046922888142824,0,2.1007796493271504,1.8824958419232161,1.930034053415346,5.2679029434372273,2.5970876978596236,2.4163107040306446,2.6044513888007943,2.1613930933251684,2.5480379258540422,0,1.6070318396629106,2.2907272685299382,0,0,0,0,0,0]
[null,null,null,null,null,null,null,null,null,null,null,null,null,null,null,null,null,null,null,null,null,null,null,null,null,null,null,null,null,"DMI, %BW",{"$f":"IF(Inputs!$C$8=1,'Scenario 1'!$U$102,'Scenario 2'!$U$102)","v":2.6600000000000006},{"$f":"IF(Inputs!$C$8=1,'Scenario 1'!$U$102,'Scenario 2'!$U$102)","v":2.6600000000000006},{"$f":"IF(Inputs!$C$8=1,'Scenario 1'!$U$102,'Scenario 2'!$U$102)","v":2.6600000000000006},{"$f":"IF(Inputs!$C$8=1,'Scenario 1'!$U$102,'Scenario 2'!$U$102)","v":2.6600000000000006},{"$f":"IF(Inputs!$C$8=1,'Scenario 1'!$U$102,'Scenario 2'!$U$102)","v":2.6600000000000006},{"$f":"IF(Inputs!$C$8=1,'Scenario 1'!$U$102,'Scenario 2'!$U$102)","v":2.6600000000000006},{"$f":"IF(Inputs!$C$8=1,'Scenario 1'!$U$102,'Scenario 2'!$U$102)","v":2.6600000000000006},{"$f":"IF(Inputs!$C$8=1,'Scenario 1'!$U$102,'Scenario 2'!$U$102)","v":2.6600000000000006},{"$f":"IF(Inputs!$C$8=1,'Scenario 1'!$U$102,'Scenario 2'!$U$102)","v":2.6600000000000006},{"$f":"IF(Inputs!$C$8=1,'Scenario 1'!$U$102,'Scenario 2'!$U$102)","v":2.6600000000000006},{"$f":"IF(Inputs!$C$8=1,'Scenario 1'!$U$102,'Scenario 2'!$U$102)","v":2.6600000000000006},{"$f":"IF(Inputs!$C$8=1,'Scenario 1'!$U$102,'Scenario 2'!$U$102)","v":2.6600000000000006},{"$f":"IF(Inputs!$C$8=1,'Scenario 1'!$U$102,'Scenario 2'!$U$102)","v":2.6600000000000006},{"$f":"IF(Inputs!$C$8=1,'Scenario 1'!$U$102,'Scenario 2'!$U$102)","v":2.6600000000000006},{"$f":"IF(Inputs!$C$8=1,'Scenario 1'!$U$102,'Scenario 2'!$U$102)","v":2.6600000000000006},{"$f":"IF(Inputs!$C$8=1,'Scenario 1'!$U$102,'Scenario 2'!$U$102)","v":2.6600000000000006},{"$f":"IF(Inputs!$C$8=1,'Scenario 1'!$U$102,'Scenario 2'!$U$102)","v":2.6600000000000006},{"$f":"IF(Inputs!$C$8=1,'Scenario 1'!$U$102,'Scenario 2'!$U$102)","v":2.6600000000000006},{"$f":"IF(Inputs!$C$8=1,'Scenario 1'!$U$102,'Scenario 2'!$U$102)","v":2.6600000000000006},{"$f":"IF(Inputs!$C$8=1,'Scenario 1'!$U$102,'Scenario 2'!$U$102)","v":2.6600000000000006},{"$f":"IF(Inputs!$C$8=1,'Scenario 1'!$U$102,'Scenario 2'!$U$102)","v":2.6600000000000006},{"$f":"IF(Inputs!$C$8=1,'Scenario 1'!$U$102,'Scenario 2'!$U$102)","v":2.6600000000000006},{"$f":"IF(Inputs!$C$8=1,'Scenario 1'!$U$102,'Scenario 2'!$U$102)","v":2.6600000000000006},{"$f":"IF(Inputs!$C$8=1,'Scenario 1'!$U$102,'Scenario 2'!$U$102)","v":2.6600000000000006},{"$f":"IF(Inputs!$C$8=1,'Scenario 1'!$U$102,'Scenario 2'!$U$102)","v":2.6600000000000006},{"$f":"IF(Inputs!$C$8=1,'Scenario 1'!$U$102,'Scenario 2'!$U$102)","v":2.6600000000000006}]
[null,null,null,null,null,null,null,null,null,null,null,null,null,null,null,null,null,null,null,null,null,null,null,null,null,null,null,null,null,"Concentrate, %",{"$f":"IF(Inputs!$C$8=1,'Scenario 1'!$U$147,'Scenario 2'!$U$147)","v":40},{"$f":"IF(Inputs!$C$8=1,'Scenario 1'!$U$147,'Scenario 2'!$U$147)","v":40},{"$f":"IF(Inputs!$C$8=1,'Scenario 1'!$U$147,'Scenario 2'!$U$147)","v":40},{"$f":"IF(Inputs!$C$8=1,'Scenario 1'!$U$147,'Scenario 2'!$U$147)","v":40},{"$f":"IF(Inputs!$C$8=1,'Scenario 1'!$U$147,'Scenario 2'!$U$147)","v":40},{"$f":"IF(Inputs!$C$8=1,'Scenario 1'!$U$147,'Scenario 2'!$U$147)","v":40},{"$f":"IF(Inputs!$C$8=1,'Scenario 1'!$U$147,'Scenario 2'!$U$147)","v":40},{"$f":"IF(Inputs!$C$8=1,'Scenario 1'!$U$147,'Scenario 2'!$U$147)","v":40},{"$f":"IF(Inputs!$C$8=1,'Scenario 1'!$U$147,'Scenario 2'!$U$147)","v":40},{"$f":"IF(Inputs!$C$8=1,'Scenario 1'!$U$147,'Scenario 2'!$U$147)","v":40},{"$f":"IF(Inputs!$C$8=1,'Scenario 1'!$U$147,'Scenario 2'!$U$147)","v":40},{"$f":"IF(Inputs!$C$8=1,'Scenario 1'!$U$147,'Scenario 2'!$U$147)","v":40},{"$f":"IF(Inputs!$C$8=1,'Scenario 1'!$U$147,'Scenario 2'!$U$147)","v":40},{"$f":"IF(Inputs!$C$8=1,'Scenario 1'!$U$147,'Scenario 2'!$U$147)","v":40},{"$f":"IF(Inputs!$C$8=1,'Scenario 1'!$U$147,'Scenario 2'!$U$147)","v":40},{"$f":"IF(Inputs!$C$8=1,'Scenario 1'!$U$147,'Scenario 2'!$U$147)","v":40},{"$f":"IF(Inputs!$C$8=1,'Scenario 1'!$U$147,'Scenario 2'!$U$147)","v":40},{"$f":"IF(Inputs!$C$8=1,'Scenario 1'!$U$147,'Scenario 2'!$U$147)","v":40},{"$f":"IF(Inputs!$C$8=1,'Scenario 1'!$U$147,'Scenario 2'!$U$147)","v":40},{"$f":"IF(Inputs!$C$8=1,'Scenario 1'!$U$147,'Scenario 2'!$U$147)","v":40},{"$f":"IF(Inputs!$C$8=1,'Scenario 1'!$U$147,'Scenario 2'!$U$147)","v":40},{"$f":"IF(Inputs!$C$8=1,'Scenario 1'!$U$147,'Scenario 2'!$U$147)","v":40},{"$f":"IF(Inputs!$C$8=1,'Scenario 1'!$U$147,'Scenario 2'!$U$147)","v":40},{"$f":"IF(Inputs!$C$8=1,'Scenario 1'!$U$147,'Scenario 2'!$U$147)","v":40},{"$f":"IF(Inputs!$C$8=1,'Scenario 1'!$U$147,'Scenario 2'!$U$147)","v":40},{"$f":"IF(Inputs!$C$8=1,'Scenario 1'!$U$147,'Scenario 2'!$U$147)","v":40}]
["3.3 Feeds used in limited amounts in the rations",null,null,null,null,null,null,null,null,null,{"$f":"B178*G256/100","v":0},null,null,null,null,null,null,null,null,null,null,null,null,null,null,null,null,null,null,"Kp",{"$f":"IF(OR(AE138=\"C\",AE138=\"FA\",AE138=\"AP\",AE138=\"M\"),2.904+(1.375*AE229)-(0.02*AE230),IF(AE138=\"H\",3.362+(0.479*AE229)-(0.017*AE143)-(0.007*AE230),IF(OR(AE138=\"S\",AE138=\"P\"),3.054+(0.614*AE229),0)))","v":4.6872400000000001},4.6872400000000001,4.6872400000000001,4.6872400000000001,3.32883,5.7615000000000007,5.7615000000000007,5.7615000000000007,5.7615000000000007,5.7615000000000007,5.7615000000000007,5.7615000000000007,5.7615000000000007,5.7615000000000007,5.7615000000000007,5.7615000000000007,5.7615000000000007,5.7615000000000007,5.7615000000000007,5.7615000000000007,5.7615000000000007,5.7615000000000007,5.7615000000000007,5.7615000000000007,5.7615000000000007,5.7615000000000007]
[null,"Tons of Ingredient in the diet of each group",null,null,null,null,null,null,null,null,null,"Maximum allowable tons of Ingredient in the diet of each group",null,null,null,null,null,null,null,null,null,null,null,null,null,null,null,null,null,"RDP, %CP",{"$f":"IF(AE148>0,(((AE152/(AE152 + AE231)*(AE150%*AE148)))+AE149%*AE148),0)","v":15.412404361626727},5.4254383517547682,15.947683511053317,13.10560427454174,8.6763048900281134,28.90021441046725,5.378757763916898,9.7973889359309947,10.923947002422489,13.818201156621896,25.894030281842653,0,16.458726723028853,33.749900463748439,19.392346647646217,15.69414909469636,24.068661260849701,281,8.3293526104585549,18.697313491601239,0,0,0,0,0,0]
[{"$f":"Inputs!B225","v":"CoGr-27"},{"$f":"SUMPRODUCT($B$246:$AA$246,$B$111:$AA$111)","v":71.267459581278487},{"$f":"SUMPRODUCT($B$246:$AA$246,$B$112:$AA$112)","v":0},{"$f":"SUMPRODUCT($B$246:$AA$246,$B$113:$AA$113)","v":0},{"$f":"SUMPRODUCT($B$246:$AA$246,$B$114:$AA$114)","v":0},{"$f":"SUMPRODUCT($B$246:$AA$246,$B$115:$AA$115)","v":0},null,null,null,null,null,{"$f":"B$178*HLOOKUP($A233,$B$245:$AA$256,12,FALSE)%","v":130.84155358460404},{"$f":"C$178*HLOOKUP($A233,$B$245:$AA$256,12,FALSE)%","v":162.73388080796263},{"$f":"D$178*HLOOKUP($A233,$B$245:$AA$256,12,FALSE)%","v":24.59808000000006},{"$f":"E$178*HLOOKUP($A233,$B$245:$AA$256,12,FALSE)%","v":28.438731037690776},{"$f":"F$178*HLOOKUP($A233,$B$245:$AA$256,12,FALSE)%","v":74.415215481293856},null,null,null,null,null,null,null,null,null,null,null,null,null,"RUP, %CP",{"$f":"AE148-AE232","v":4.6875956383732742},2.8045616482452322,3.312316488946685,3.4143957254582595,3.1536951099718866,10.299785589532753,4.0212422360831024,2.6026110640690057,3.2760529975775103,15.381798843378103,11.905969718157344,0,29.841273276971144,20.050099536251558,45.607653352353779,14.005850905303639,71.431338739150306,0,5.5706473895414454,4.8026865083987609,0,0,0,0,0,0]
[{"$f":"Inputs!B226","v":"SoyHull-103"},{"$f":"SUMPRODUCT($B$247:$AA$247,$B$111:$AA$111)","v":0},{"$f":"SUMPRODUCT($B$247:$AA$247,$B$112:$AA$112)","v":0},{"$f":"SUMPRODUCT($B$247:$AA$247,$B$113:$AA$113)","v":0},{"$f":"SUMPRODUCT($B$247:$AA$247,$B$114:$AA$114)","v":0},{"$f":"SUMPRODUCT($B$247:$AA$247,$B$115:$AA$115)","v":0},null,null,null,null,null,{"$f":"B$178*HLOOKUP($A234,$B$245:$AA$256,12,FALSE)%","v":32.710388396151011},40.683470201990659,6.149520000000015,7.1096827594226939,18.603803870323464,null,null,null,null,null,null,null,null,null,null,null,null,null,"Group 5"]
[{"$f":"Inputs!B227","v":"Wheat-116"},{"$f":"SUMPRODUCT($B$248:$AA$248,$B$111:$AA$111)","v":0},{"$f":"SUMPRODUCT($B$248:$AA$248,$B$112:$AA$112)","v":0},{"$f":"SUMPRODUCT($B$248:$AA$248,$B$113:$AA$113)","v":0},{"$f":"SUMPRODUCT($B$248:$AA$248,$B$114:$AA$114)","v":0},{"$f":"SUMPRODUCT($B$248:$AA$248,$B$115:$AA$115)","v":0},null,null,null,null,null,65.420776792302021,81.366940403981317,12.29904000000003,14.219365518845388,37.207607740646928,null,null,null,null,null,null,null,null,null,null,null,null,null,"pX",{"$f":"IF(Inputs!$C$8=1,'Scenario 1'!$V$149,'Scenario 2'!$V$149)","v":2},{"$f":"IF(Inputs!$C$8=1,'Scenario 1'!$V$149,'Scenario 2'!$V$149)","v":2},{"$f":"IF(Inputs!$C$8=1,'Scenario 1'!$V$149,'Scenario 2'!$V$149)","v":2},{"$f":"IF(Inputs!$C$8=1,'Scenario 1'!$V$149,'Scenario 2'!$V$149)","v":2},{"$f":"IF(Inputs!$C$8=1,'Scenario 1'!$V$149,'Scenario 2'!$V$149)","v":2},{"$f":"IF(Inputs!$C$8=1,'Scenario 1'!$V$149,'Scenario 2'!$V$149)","v":2},{"$f":"IF(Inputs!$C$8=1,'Scenario 1'!$V$149,'Scenario 2'!$V$149)","v":2},{"$f":"IF(Inputs!$C$8=1,'Scenario 1'!$V$149,'Scenario 2'!$V$149)","v":2},{"$f":"IF(Inputs!$C$8=1,'Scenario 1'!$V$149,'Scenario 2'!$V$149)","v":2},{"$f":"IF(Inputs!$C$8=1,'Scenario 1'!$V$149,'Scenario 2'!$V$149)","v":2},{"$f":"IF(Inputs!$C$8=1,'Scenario 1'!$V$149,'Scenario 2'!$V$149)","v":2},{"$f":"IF(Inputs!$C$8=1,'Scenario 1'!$V$149,'Scenario 2'!$V$149)","v":2},{"$f":"IF(Inputs!$C$8=1,'Scenario 1'!$V$149,'Scenario 2'!$V$149)","v":2},{"$f":"IF(Inputs!$C$8=1,'Scenario 1'!$V$149,'Scenario 2'!$V$149)","v":2},{"$f":"IF(Inputs!$C$8=1,'Scenario 1'!$V$149,'Scenario 2'!$V$149)","v":2},{"$f":"IF(Inputs!$C$8=1,'Scenario 1'!$V$149,'Scenario 2'!$V$149)","v":2},{"$f":"IF(Inputs!$C$8=1,'Scenario 1'!$V$149,'Scenario 2'!$V$149)","v":2},{"$f":"IF(Inputs!$C$8=1,'Scenario 1'!$V$149,'Scenario 2'!$V$149)","v":2},{"$f":"IF(Inputs!$C$8=1,'Scenario 1'!$V$149,'Scenario 2'!$V$149)","v":2},{"$f":"IF(Inputs!$C$8=1,'Scenario 1'!$V$149,'Scenario 2'!$V$149)","v":2},{"$f":"IF(Inputs!$C$8=1,'Scenario 1'!$V$149,'Scenario 2'!$V$149)","v":2},{"$f":"IF(Inputs!$C$8=1,'Scenario 1'!$V$149,'Scenario 2'!$V$149)","v":2},{"$f":"IF(Inputs!$C$8=1,'Scenario 1'!$V$149,'Scenario 2'!$V$149)","v":2},{"$f":"IF(Inputs!$C$8=1,'Scenario 1'!$V$149,'Scenario 2'!$V$149)","v":2},{"$f":"IF(Inputs!$C$8=1,'Scenario 1'!$V$149,'Scenario 2'!$V$149)","v":2},{"$f":"IF(Inputs!$C$8=1,'Scenario 1'!$V$149,'Scenario 2'!$V$149)","v":2}]
[{"$f":"Inputs!B228","v":"CoSi-35"},{"$f":"SUMPRODUCT($B$249:$AA$249,$B$111:$AA$111)","v":130.84155358460345},{"$f":"SUMPRODUCT($B$249:$AA$249,$B$112:$AA$112)","v":162.73388080796369},{"$f":"SUMPRODUCT($B$249:$AA$249,$B$113:$AA$113)","v":24.59808000000001},{"$f":"SUMPRODUCT($B$249:$AA$249,$B$114:$AA$114)","v":28.438731037689514},{"$f":"SUMPRODUCT($B$249:$AA$249,$B$115:$AA$115)","v":74.415215481294197},null,null,null,null,null,130.84155358460404,162.73388080796263,24.59808000000006,28.438731037690776,74.415215481293856,null,null,null,null,null,null,null,null,null,null,null,null,null,"TDN1X in diet, %",{"$f":"IF(Inputs!$C$8=1,'Scenario 1'!$V$150,'Scenario 2'!$V$150)","v":56.534168698797117},{"$f":"IF(Inputs!$C$8=1,'Scenario 1'!$V$150,'Scenario 2'!$V$150)","v":56.534168698797117},{"$f":"IF(Inputs!$C$8=1,'Scenario 1'!$V$150,'Scenario 2'!$V$150)","v":56.534168698797117},{"$f":"IF(Inputs!$C$8=1,'Scenario 1'!$V$150,'Scenario 2'!$V$150)","v":56.534168698797117},{"$f":"IF(Inputs!$C$8=1,'Scenario 1'!$V$150,'Scenario 2'!$V$150)","v":56.534168698797117},{"$f":"IF(Inputs!$C$8=1,'Scenario 1'!$V$150,'Scenario 2'!$V$150)","v":56.534168698797117},{"$f":"IF(Inputs!$C$8=1,'Scenario 1'!$V$150,'Scenario 2'!$V$150)","v":56.534168698797117},{"$f":"IF(Inputs!$C$8=1,'Scenario 1'!$V$150,'Scenario 2'!$V$150)","v":56.534168698797117},{"$f":"IF(Inputs!$C$8=1,'Scenario 1'!$V$150,'Scenario 2'!$V$150)","v":56.534168698797117},{"$f":"IF(Inputs!$C$8=1,'Scenario 1'!$V$150,'Scenario 2'!$V$150)","v":56.534168698797117},{"$f":"IF(Inputs!$C$8=1,'Scenario 1'!$V$150,'Scenario 2'!$V$150)","v":56.534168698797117},{"$f":"IF(Inputs!$C$8=1,'Scenario 1'!$V$150,'Scenario 2'!$V$150)","v":56.534168698797117},{"$f":"IF(Inputs!$C$8=1,'Scenario 1'!$V$150,'Scenario 2'!$V$150)","v":56.534168698797117},{"$f":"IF(Inputs!$C$8=1,'Scenario 1'!$V$150,'Scenario 2'!$V$150)","v":56.534168698797117},{"$f":"IF(Inputs!$C$8=1,'Scenario 1'!$V$150,'Scenario 2'!$V$150)","v":56.534168698797117},{"$f":"IF(Inputs!$C$8=1,'Scenario 1'!$V$150,'Scenario 2'!$V$150)","v":56.534168698797117},{"$f":"IF(Inputs!$C$8=1,'Scenario 1'!$V$150,'Scenario 2'!$V$150)","v":56.534168698797117},{"$f":"IF(Inputs!$C$8=1,'Scenario 1'!$V$150,'Scenario 2'!$V$150)","v":56.534168698797117},{"$f":"IF(Inputs!$C$8=1,'Scenario 1'!$V$150,'Scenario 2'!$V$150)","v":56.534168698797117},{"$f":"IF(Inputs!$C$8=1,'Scenario 1'!$V$150,'Scenario 2'!$V$150)","v":56.534168698797117},{"$f":"IF(Inputs!$C$8=1,'Scenario 1'!$V$150,'Scenario 2'!$V$150)","v":56.534168698797117},{"$f":"IF(Inputs!$C$8=1,'Scenario 1'!$V$150,'Scenario 2'!$V$150)","v":56.534168698797117},{"$f":"IF(Inputs!$C$8=1,'Scenario 1'!$V$150,'Scenario 2'!$V$150)","v":56.534168698797117},{"$f":"IF(Inputs!$C$8=1,'Scenario 1'!$V$150,'Scenario 2'!$V$150)","v":56.534168698797117},{"$f":"IF(Inputs!$C$8=1,'Scenario 1'!$V$150,'Scenario 2'!$V$150)","v":56.534168698797117},{"$f":"IF(Inputs!$C$8=1,'Scenario 1'!$V$150,'Scenario 2'!$V$150)","v":56.534168698797117}]
[{"$f":"Inputs!B229","v":"GrHy-52"},{"$f":"SUMPRODUCT($B$250:$AA$250,$B$111:$AA$111)","v":0},{"$f":"SUMPRODUCT($B$250:$AA$250,$B$112:$AA$112)","v":0},{"$f":"SUMPRODUCT($B$250:$AA$250,$B$113:$AA$113)","v":6.1495200000000043},{"$f":"SUMPRODUCT($B$250:$AA$250,$B$114:$AA$114)","v":0},{"$f":"SUMPRODUCT($B$250:$AA$250,$B$115:$AA$115)","v":10.875581852459607},null,null,null,null,null,32.710388396151011,40.683470201990659,6.149520000000015,7.1096827594226939,18.603803870323464,null,null,null,null,null,null,null,null,null,null,null,null,null,"Cdig",{"$f":"IF(AE137=0,0,(1-(IF(AE236<60,0,((0.18*AE236)-10.3)/AE236))*(AE235-1)))","v":1},1,1,1,1,1,1,0,1,1,1,1,1,1,1,1,1,1,1,1,1,1,1,1,1,1]
[{"$f":"Inputs!B230","v":"CoDi-23"},{"$f":"SUMPRODUCT($B$251:$AA$251,$B$111:$AA$111)","v":49.065582594221226},{"$f":"SUMPRODUCT($B$251:$AA$251,$B$112:$AA$112)","v":61.025205302985292},{"$f":"SUMPRODUCT($B$251:$AA$251,$B$113:$AA$113)","v":0},{"$f":"SUMPRODUCT($B$251:$AA$251,$B$114:$AA$114)","v":10.664524139134123},{"$f":"SUMPRODUCT($B$251:$AA$251,$B$115:$AA$115)","v":0},null,null,null,null,null,49.065582594226505,61.025205302985981,9.2242800000000216,10.66452413913404,27.905705805485194,null,null,null,null,null,null,null,null,null,null,null,null,null,"TDNpX, %",{"$f":"IF(AE137=0,0,IF(AE179=0,0,AE179*AE237))","v":66.433744882751952},71.207268054102357,57.437720035055264,58.796657218625072,57.243745612832015,101.00812183619342,88.688213489444166,0,83.877472399186715,71.342192474540155,69.883099703924927,163.50749999999999,88.529840570508242,81.391694647795134,84.402847056599242,79.483781077223341,76.364000000000004,0,67.342496391351204,82.896152239336999,0,0,0,0,0,0]
[{"$f":"Inputs!B231","v":"Bld Meal-14"},{"$f":"SUMPRODUCT($B$252:$AA$252,$B$111:$AA$111)","v":0},{"$f":"SUMPRODUCT($B$252:$AA$252,$B$112:$AA$112)","v":0},{"$f":"SUMPRODUCT($B$252:$AA$252,$B$113:$AA$113)","v":0},{"$f":"SUMPRODUCT($B$252:$AA$252,$B$114:$AA$114)","v":0},{"$f":"SUMPRODUCT($B$252:$AA$252,$B$115:$AA$115)","v":0},null,null,null,null,null,16.355194198075505,20.341735100995329,3.0747600000000075,3.5548413797113469,9.301901935161732,null,null,null,null,null,null,null,null,null,null,null,null,null,"DEpX, Mcal/kg",{"$f":"IF(AE137=0,0,IF(AE180=0,0,AE180*AE237))","v":3.0468810229819039},3.0861745123373634,2.6465482898952879,2.6684428406524274,2.5441659922686735,4.7726811171201238,3.847224966556654,0,3.7138838407658419,3.3774720839306869,3.4426501875648472,6.8309799999999994,4.3546633039613463,4.1633611752073953,4.4313695763771683,3.7156188052433805,4.3510079999999993,0,3.0105348484367505,3.7848483940521547,0,0,0,0,0,0]
[{"$f":"Inputs!B232","v":"CottonSd-w-37"},{"$f":"SUMPRODUCT($B$253:$AA$253,$B$111:$AA$111)","v":3.7676560416787321},{"$f":"SUMPRODUCT($B$253:$AA$253,$B$112:$AA$112)","v":0},{"$f":"SUMPRODUCT($B$253:$AA$253,$B$113:$AA$113)","v":0},{"$f":"SUMPRODUCT($B$253:$AA$253,$B$114:$AA$114)","v":0},{"$f":"SUMPRODUCT($B$253:$AA$253,$B$115:$AA$115)","v":0},null,null,null,null,null,65.420776792302021,81.366940403981317,12.29904000000003,14.219365518845388,37.207607740646928,null,null,null,null,null,null,null,null,null,null,null,null,null,"MEpX, Mcal/kg",{"$f":"IF(AE137=0,0,IF(AE138=\"M\",0,IF(AE138=\"FA\",AE239,IF(AE141<3,1.01*AE239-0.45,(1.01*AE239-0.45)+(0.0046*(AE141-3))))))","v":2.6273498332117229},2.6676342574607368,2.2230137727942405,2.2451272690589517,2.1196076521913598,4.4449279282913245,3.4412172162222205,0,3.3010226791735002,2.9713668047699939,3.0381166894404954,6.8309799999999994,3.9716699370009598,3.7549947869594691,4.0256832721409399,3.3349749932958144,3.944518079999999,0,2.5906401969211177,3.4476768779926763,0,0,0,0,0,0]
[{"$f":"Inputs!B233","v":"Urea"},{"$f":"SUMPRODUCT($B$254:$AA$254,$B$111:$AA$111)","v":0.92268105253132504},{"$f":"SUMPRODUCT($B$254:$AA$254,$B$112:$AA$112)","v":0},{"$f":"SUMPRODUCT($B$254:$AA$254,$B$113:$AA$113)","v":0},{"$f":"SUMPRODUCT($B$254:$AA$254,$B$114:$AA$114)","v":0},{"$f":"SUMPRODUCT($B$254:$AA$254,$B$115:$AA$115)","v":0},null,null,null,null,null,4.9065582594226509,6.1025205302985981,0.92242800000000214,1.066452413913404,2.7905705805485193,null,null,null,null,null,null,null,null,null,null,null,null,null,"NELpX, Mcal/kg",{"$f":"IF(AE137=0,0,IF(AE138=\"M\",0,IF(AE141<3,0.703*AE240-0.19,(0.703*AE240-0.19)+((0.097*AE240+0.19)/97)*(AE141-3))))","v":1.6570269327478411},1.6859483146236256,1.3727786822743511,1.388324470148443,1.300084179490526,3.038524124790007,2.2356556791276048,0,2.1306189434589706,1.9097171490743152,1.9577885436591604,5.3285429852577311,2.6323291731120291,2.4497613352325067,2.6400553403150808,2.1915435854462135,2.5829962102399993,0,1.6312200584355456,2.3218418133916781,0,0,0,0,0,0]
[{"$f":"Inputs!B234","v":"NaCl"},{"$f":"SUMPRODUCT($B$255:$AA$255,$B$111:$AA$111)","v":1.5750021035905093},{"$f":"SUMPRODUCT($B$255:$AA$255,$B$112:$AA$112)","v":1.4983395579678878},{"$f":"SUMPRODUCT($B$255:$AA$255,$B$113:$AA$113)","v":0.14022553662258103},{"$f":"SUMPRODUCT($B$255:$AA$255,$B$114:$AA$114)","v":4.8652667304852744E-2},{"$f":"SUMPRODUCT($B$255:$AA$255,$B$115:$AA$115)","v":0.28960705869778869},null,null,null,null,null,11.448635938652853,14.239214570696731,2.1523320000000052,2.488388965797943,6.5113313546132128,null,null,null,null,null,null,null,null,null,null,null,null,null,"DMI, %BW",{"$f":"IF(Inputs!$C$8=1,'Scenario 1'!$V$102,'Scenario 2'!$V$102)","v":2.3971582902771256},{"$f":"IF(Inputs!$C$8=1,'Scenario 1'!$V$102,'Scenario 2'!$V$102)","v":2.3971582902771256},{"$f":"IF(Inputs!$C$8=1,'Scenario 1'!$V$102,'Scenario 2'!$V$102)","v":2.3971582902771256},{"$f":"IF(Inputs!$C$8=1,'Scenario 1'!$V$102,'Scenario 2'!$V$102)","v":2.3971582902771256},{"$f":"IF(Inputs!$C$8=1,'Scenario 1'!$V$102,'Scenario 2'!$V$102)","v":2.3971582902771256},{"$f":"IF(Inputs!$C$8=1,'Scenario 1'!$V$102,'Scenario 2'!$V$102)","v":2.3971582902771256},{"$f":"IF(Inputs!$C$8=1,'Scenario 1'!$V$102,'Scenario 2'!$V$102)","v":2.3971582902771256},{"$f":"IF(Inputs!$C$8=1,'Scenario 1'!$V$102,'Scenario 2'!$V$102)","v":2.3971582902771256},{"$f":"IF(Inputs!$C$8=1,'Scenario 1'!$V$102,'Scenario 2'!$V$102)","v":2.3971582902771256},{"$f":"IF(Inputs!$C$8=1,'Scenario 1'!$V$102,'Scenario 2'!$V$102)","v":2.3971582902771256},{"$f":"IF(Inputs!$C$8=1,'Scenario 1'!$V$102,'Scenario 2'!$V$102)","v":2.3971582902771256},{"$f":"IF(Inputs!$C$8=1,'Scenario 1'!$V$102,'Scenario 2'!$V$102)","v":2.3971582902771256},{"$f":"IF(Inputs!$C$8=1,'Scenario 1'!$V$102,'Scenario 2'!$V$102)","v":2.3971582902771256},{"$f":"IF(Inputs!$C$8=1,'Scenario 1'!$V$102,'Scenario 2'!$V$102)","v":2.3971582902771256},{"$f":"IF(Inputs!$C$8=1,'Scenario 1'!$V$102,'Scenario 2'!$V$102)","v":2.3971582902771256},{"$f":"IF(Inputs!$C$8=1,'Scenario 1'!$V$102,'Scenario 2'!$V$102)","v":2.3971582902771256},{"$f":"IF(Inputs!$C$8=1,'Scenario 1'!$V$102,'Scenario 2'!$V$102)","v":2.3971582902771256},{"$f":"IF(Inputs!$C$8=1,'Scenario 1'!$V$102,'Scenario 2'!$V$102)","v":2.3971582902771256},{"$f":"IF(Inputs!$C$8=1,'Scenario 1'!$V$102,'Scenario 2'!$V$102)","v":2.3971582902771256},{"$f":"IF(Inputs!$C$8=1,'Scenario 1'!$V$102,'Scenario 2'!$V$102)","v":2.3971582902771256},{"$f":"IF(Inputs!$C$8=1,'Scenario 1'!$V$102,'Scenario 2'!$V$102)","v":2.3971582902771256},{"$f":"IF(Inputs!$C$8=1,'Scenario 1'!$V$102,'Scenario 2'!$V$102)","v":2.3971582902771256},{"$f":"IF(Inputs!$C$8=1,'Scenario 1'!$V$102,'Scenario 2'!$V$102)","v":2.3971582902771256},{"$f":"IF(Inputs!$C$8=1,'Scenario 1'!$V$102,'Scenario 2'!$V$102)","v":2.3971582902771256},{"$f":"IF(Inputs!$C$8=1,'Scenario 1'!$V$102,'Scenario 2'!$V$102)","v":2.3971582902771256},{"$f":"IF(Inputs!$C$8=1,'Scenario 1'!$V$102,'Scenario 2'!$V$102)","v":2.3971582902771256}]
[null,null,null,null,null,null,null,null,null,null,null,"Note that zeros in this box can be used to exclude an ingredient from the ration of a group of animals",null,null,null,null,null,null,null,null,null,null,null,null,null,null,null,null,null,"Concentrate, %",{"$f":"IF(Inputs!$C$8=1,'Scenario 1'!$V$147,'Scenario 2'!$V$147)","v":15},{"$f":"IF(Inputs!$C$8=1,'Scenario 1'!$V$147,'Scenario 2'!$V$147)","v":15},{"$f":"IF(Inputs!$C$8=1,'Scenario 1'!$V$147,'Scenario 2'!$V$147)","v":15},{"$f":"IF(Inputs!$C$8=1,'Scenario 1'!$V$147,'Scenario 2'!$V$147)","v":15},{"$f":"IF(Inputs!$C$8=1,'Scenario 1'!$V$147,'Scenario 2'!$V$147)","v":15},{"$f":"IF(Inputs!$C$8=1,'Scenario 1'!$V$147,'Scenario 2'!$V$147)","v":15},{"$f":"IF(Inputs!$C$8=1,'Scenario 1'!$V$147,'Scenario 2'!$V$147)","v":15},{"$f":"IF(Inputs!$C$8=1,'Scenario 1'!$V$147,'Scenario 2'!$V$147)","v":15},{"$f":"IF(Inputs!$C$8=1,'Scenario 1'!$V$147,'Scenario 2'!$V$147)","v":15},{"$f":"IF(Inputs!$C$8=1,'Scenario 1'!$V$147,'Scenario 2'!$V$147)","v":15},{"$f":"IF(Inputs!$C$8=1,'Scenario 1'!$V$147,'Scenario 2'!$V$147)","v":15},{"$f":"IF(Inputs!$C$8=1,'Scenario 1'!$V$147,'Scenario 2'!$V$147)","v":15},{"$f":"IF(Inputs!$C$8=1,'Scenario 1'!$V$147,'Scenario 2'!$V$147)","v":15},{"$f":"IF(Inputs!$C$8=1,'Scenario 1'!$V$147,'Scenario 2'!$V$147)","v":15},{"$f":"IF(Inputs!$C$8=1,'Scenario 1'!$V$147,'Scenario 2'!$V$147)","v":15},{"$f":"IF(Inputs!$C$8=1,'Scenario 1'!$V$147,'Scenario 2'!$V$147)","v":15},{"$f":"IF(Inputs!$C$8=1,'Scenario 1'!$V$147,'Scenario 2'!$V$147)","v":15},{"$f":"IF(Inputs!$C$8=1,'Scenario 1'!$V$147,'Scenario 2'!$V$147)","v":15},{"$f":"IF(Inputs!$C$8=1,'Scenario 1'!$V$147,'Scenario 2'!$V$147)","v":15},{"$f":"IF(Inputs!$C$8=1,'Scenario 1'!$V$147,'Scenario 2'!$V$147)","v":15},{"$f":"IF(Inputs!$C$8=1,'Scenario 1'!$V$147,'Scenario 2'!$V$147)","v":15},{"$f":"IF(Inputs!$C$8=1,'Scenario 1'!$V$147,'Scenario 2'!$V$147)","v":15},{"$f":"IF(Inputs!$C$8=1,'Scenario 1'!$V$147,'Scenario 2'!$V$147)","v":15},{"$f":"IF(Inputs!$C$8=1,'Scenario 1'!$V$147,'Scenario 2'!$V$147)","v":15},{"$f":"IF(Inputs!$C$8=1,'Scenario 1'!$V$147,'Scenario 2'!$V$147)","v":15},{"$f":"IF(Inputs!$C$8=1,'Scenario 1'!$V$147,'Scenario 2'!$V$147)","v":15}]
[null,null,null,null,null,null,null,null,null,null,null,null,null,null,null,null,null,null,null,null,null,null,null,null,null,null,null,null,null,"Kp",{"$f":"IF(OR(AE138=\"C\",AE138=\"FA\",AE138=\"AP\",AE138=\"M\"),2.904+(1.375*AE242)-(0.02*AE243),IF(AE138=\"H\",3.362+(0.479*AE242)-(0.017*AE143)-(0.007*AE243),IF(OR(AE138=\"S\",AE138=\"P\"),3.054+(0.614*AE242),0)))","v":4.5258551902301551},4.5258551902301551,4.5258551902301551,4.5258551902301551,3.3779288210427434,5.9000926491310475,5.9000926491310475,5.9000926491310475,5.9000926491310475,5.9000926491310475,5.9000926491310475,5.9000926491310475,5.9000926491310475,5.9000926491310475,5.9000926491310475,5.9000926491310475,5.9000926491310475,5.9000926491310475,5.9000926491310475,5.9000926491310475,5.9000926491310475,5.9000926491310475,5.9000926491310475,5.9000926491310475,5.9000926491310475,5.9000926491310475]
[null,{"$f":"Inputs!C181","v":"GrPast-49"},{"$f":"Inputs!D181","v":"CoSi-35"},{"$f":"Inputs!E181","v":"AlSi-83"},{"$f":"Inputs!F181","v":"MxSi-74"},{"$f":"Inputs!G181","v":"GrHy-52"},{"$f":"Inputs!H181","v":"SBw-108"},{"$f":"Inputs!I181","v":"CoGr-27"},{"$f":"Inputs!J181","v":"Barley-8"},{"$f":"Inputs!K181","v":"Wheat-116"},{"$f":"Inputs!L181","v":"Brewers grains-16"},{"$f":"Inputs!M181","v":"Canola-19"},{"$f":"Inputs!N181","v":"FatCa-40"},{"$f":"Inputs!O181","v":"SBMx-104"},{"$f":"Inputs!P181","v":"SBM48-107"},{"$f":"Inputs!Q181","v":"CGM-25"},{"$f":"Inputs!R181","v":"CoDi-23"},{"$f":"Inputs!S181","v":"Bld Meal-14"},{"$f":"Inputs!T181","v":"Urea"},{"$f":"Inputs!U181","v":"SoyHull-103"},{"$f":"Inputs!V181","v":"CottonSd-w-37"},{"$f":"Inputs!W181","v":"CaCO3"},{"$f":"Inputs!X181","v":"NaH2PO4.H20"},{"$f":"Inputs!Y181","v":"MgO"},{"$f":"Inputs!Z181","v":"CaSO4.2H20"},{"$f":"Inputs!AA181","v":"NaCl"},{"$f":"Inputs!AB181","v":"MgSO4.7H20"},null,null,"RDP, %CP",{"$f":"IF(AE148>0,(((AE152/(AE152 + AE244)*(AE150%*AE148)))+AE149%*AE148),0)","v":15.50104596013616},5.4471974190011601,15.995075666955767,13.154772151322828,8.6577624846866357,28.75170153767899,5.3385642159446451,9.7680588094512313,10.884244863018518,13.707398594464902,25.748428645784031,0,16.251163559491861,33.484301894553234,19.10743470467381,15.588678942211745,23.812389416667422,281,8.2697713696715685,18.645801433161047,0,0,0,0,0,0]
[{"$f":"Inputs!B225","v":"CoGr-27"},{"$f":"Inputs!C225","v":0},{"$f":"Inputs!D225","v":0},{"$f":"Inputs!E225","v":0},{"$f":"Inputs!F225","v":0},{"$f":"Inputs!G225","v":0},{"$f":"Inputs!H225","v":0},{"$f":"Inputs!I225","v":1},{"$f":"Inputs!J225","v":0},{"$f":"Inputs!K225","v":0},{"$f":"Inputs!L225","v":0},{"$f":"Inputs!M225","v":0},{"$f":"Inputs!N225","v":0},{"$f":"Inputs!O225","v":0},{"$f":"Inputs!P225","v":0},{"$f":"Inputs!Q225","v":0},{"$f":"Inputs!R225","v":0},{"$f":"Inputs!S225","v":0},{"$f":"Inputs!T225","v":0},{"$f":"Inputs!U225","v":0},{"$f":"Inputs!V225","v":0},{"$f":"Inputs!W225","v":0},{"$f":"Inputs!X225","v":0},{"$f":"Inputs!Y225","v":0},{"$f":"Inputs!Z225","v":0},{"$f":"Inputs!AA225","v":0},{"$f":"Inputs!AB225","v":0},null,null,"RUP, %CP",{"$f":"AE148-AE245","v":4.5989540398638411},2.7828025809988404,3.2649243330442346,3.3652278486771721,3.1722375153133644,10.448298462321013,4.0614357840553552,2.6319411905487691,3.3157551369814815,15.492601405535098,12.051571354215966,0,30.048836440508136,20.315698105446764,45.892565295326193,14.111321057788254,71.687610583332571,0,5.6302286303284319,4.8541985668389529,0,0,0,0,0,0]
[{"$f":"Inputs!B226","v":"SoyHull-103"},{"$f":"Inputs!C226","v":0},{"$f":"Inputs!D226","v":0},{"$f":"Inputs!E226","v":0},{"$f":"Inputs!F226","v":0},{"$f":"Inputs!G226","v":0},{"$f":"Inputs!H226","v":0},{"$f":"Inputs!I226","v":0},{"$f":"Inputs!J226","v":0},{"$f":"Inputs!K226","v":0},{"$f":"Inputs!L226","v":0},{"$f":"Inputs!M226","v":0},{"$f":"Inputs!N226","v":0},{"$f":"Inputs!O226","v":0},{"$f":"Inputs!P226","v":0},{"$f":"Inputs!Q226","v":0},{"$f":"Inputs!R226","v":0},{"$f":"Inputs!S226","v":0},{"$f":"Inputs!T226","v":0},{"$f":"Inputs!U226","v":1},{"$f":"Inputs!V226","v":0},{"$f":"Inputs!W226","v":0},{"$f":"Inputs!X226","v":0},{"$f":"Inputs!Y226","v":0},{"$f":"Inputs!Z226","v":0},{"$f":"Inputs!AA226","v":0},{"$f":"Inputs!AB226","v":0}]
[{"$f":"Inputs!B227","v":"Wheat-116"},{"$f":"Inputs!C227","v":0},{"$f":"Inputs!D227","v":0},{"$f":"Inputs!E227","v":0},{"$f":"Inputs!F227","v":0},{"$f":"Inputs!G227","v":0},{"$f":"Inputs!H227","v":0},{"$f":"Inputs!I227","v":0},{"$f":"Inputs!J227","v":0},{"$f":"Inputs!K227","v":1},{"$f":"Inputs!L227","v":0},{"$f":"Inputs!M227","v":0},{"$f":"Inputs!N227","v":0},{"$f":"Inputs!O227","v":0},{"$f":"Inputs!P227","v":0},{"$f":"Inputs!Q227","v":0},{"$f":"Inputs!R227","v":0},{"$f":"Inputs!S227","v":0},{"$f":"Inputs!T227","v":0},{"$f":"Inputs!U227","v":0},{"$f":"Inputs!V227","v":0},{"$f":"Inputs!W227","v":0},{"$f":"Inputs!X227","v":0},{"$f":"Inputs!Y227","v":0},{"$f":"Inputs!Z227","v":0},{"$f":"Inputs!AA227","v":0},{"$f":"Inputs!AB227","v":0}]
[{"$f":"Inputs!B228","v":"CoSi-35"},{"$f":"Inputs!C228","v":0},{"$f":"Inputs!D228","v":1},{"$f":"Inputs!E228","v":0},{"$f":"Inputs!F228","v":0},{"$f":"Inputs!G228","v":0},{"$f":"Inputs!H228","v":0},{"$f":"Inputs!I228","v":0},{"$f":"Inputs!J228","v":0},{"$f":"Inputs!K228","v":0},{"$f":"Inputs!L228","v":0},{"$f":"Inputs!M228","v":0},{"$f":"Inputs!N228","v":0},{"$f":"Inputs!O228","v":0},{"$f":"Inputs!P228","v":0},{"$f":"Inputs!Q228","v":0},{"$f":"Inputs!R228","v":0},{"$f":"Inputs!S228","v":0},{"$f":"Inputs!T228","v":0},{"$f":"Inputs!U228","v":0},{"$f":"Inputs!V228","v":0},{"$f":"Inputs!W228","v":0},{"$f":"Inputs!X228","v":0},{"$f":"Inputs!Y228","v":0},{"$f":"Inputs!Z228","v":0},{"$f":"Inputs!AA228","v":0},{"$f":"Inputs!AB228","v":0}]
[{"$f":"Inputs!B229","v":"GrHy-52"},{"$f":"Inputs!C229","v":0},{"$f":"Inputs!D229","v":0},{"$f":"Inputs!E229","v":0},{"$f":"Inputs!F229","v":0},{"$f":"Inputs!G229","v":1},{"$f":"Inputs!H229","v":0},{"$f":"Inputs!I229","v":0},{"$f":"Inputs!J229","v":0},{"$f":"Inputs!K229","v":0},{"$f":"Inputs!L229","v":0},{"$f":"Inputs!M229","v":0},{"$f":"Inputs!N229","v":0},{"$f":"Inputs!O229","v":0},{"$f":"Inputs!P229","v":0},{"$f":"Inputs!Q229","v":0},{"$f":"Inputs!R229","v":0},{"$f":"Inputs!S229","v":0},{"$f":"Inputs!T229","v":0},{"$f":"Inputs!U229","v":0},{"$f":"Inputs!V229","v":0},{"$f":"Inputs!W229","v":0},{"$f":"Inputs!X229","v":0},{"$f":"Inputs!Y229","v":0},{"$f":"Inputs!Z229","v":0},{"$f":"Inputs!AA229","v":0},{"$f":"Inputs!AB229","v":0}]
[{"$f":"Inputs!B230","v":"CoDi-23"},{"$f":"Inputs!C230","v":0},{"$f":"Inputs!D230","v":0},{"$f":"Inputs!E230","v":0},{"$f":"Inputs!F230","v":0},{"$f":"Inputs!G230","v":0},{"$f":"Inputs!H230","v":0},{"$f":"Inputs!I230","v":0},{"$f":"Inputs!J230","v":0},{"$f":"Inputs!K230","v":0},{"$f":"Inputs!L230","v":0},{"$f":"Inputs!M230","v":0},{"$f":"Inputs!N230","v":0},{"$f":"Inputs!O230","v":0},{"$f":"Inputs!P230","v":0},{"$f":"Inputs!Q230","v":0},{"$f":"Inputs!R230","v":1},{"$f":"Inputs!S230","v":0},{"$f":"Inputs!T230","v":0},{"$f":"Inputs!U230","v":0},{"$f":"Inputs!V230","v":0},{"$f":"Inputs!W230","v":0},{"$f":"Inputs!X230","v":0},{"$f":"Inputs!Y230","v":0},{"$f":"Inputs!Z230","v":0},{"$f":"Inputs!AA230","v":0},{"$f":"Inputs!AB230","v":0}]
[{"$f":"Inputs!B231","v":"Bld Meal-14"},{"$f":"Inputs!C231","v":0},{"$f":"Inputs!D231","v":0},{"$f":"Inputs!E231","v":0},{"$f":"Inputs!F231","v":0},{"$f":"Inputs!G231","v":0},{"$f":"Inputs!H231","v":0},{"$f":"Inputs!I231","v":0},{"$f":"Inputs!J231","v":0},{"$f":"Inputs!K231","v":0},{"$f":"Inputs!L231","v":0},{"$f":"Inputs!M231","v":0},{"$f":"Inputs!N231","v":0},{"$f":"Inputs!O231","v":0},{"$f":"Inputs!P231","v":0},{"$f":"Inputs!Q231","v":0},{"$f":"Inputs!R231","v":0},{"$f":"Inputs!S231","v":1},{"$f":"Inputs!T231","v":0},{"$f":"Inputs!U231","v":0},{"$f":"Inputs!V231","v":0},{"$f":"Inputs!W231","v":0},{"$f":"Inputs!X231","v":0},{"$f":"Inputs!Y231","v":0},{"$f":"Inputs!Z231","v":0},{"$f":"Inputs!AA231","v":0},{"$f":"Inputs!AB231","v":0}]
[{"$f":"Inputs!B232","v":"CottonSd-w-37"},{"$f":"Inputs!C232","v":0},{"$f":"Inputs!D232","v":0},{"$f":"Inputs!E232","v":0},{"$f":"Inputs!F232","v":0},{"$f":"Inputs!G232","v":0},{"$f":"Inputs!H232","v":0},{"$f":"Inputs!I232","v":0},{"$f":"Inputs!J232","v":0},{"$f":"Inputs!K232","v":0},{"$f":"Inputs!L232","v":0},{"$f":"Inputs!M232","v":0},{"$f":"Inputs!N232","v":0},{"$f":"Inputs!O232","v":0},{"$f":"Inputs!P232","v":0},{"$f":"Inputs!Q232","v":0},{"$f":"Inputs!R232","v":0},{"$f":"Inputs!S232","v":0},{"$f":"Inputs!T232","v":0},{"$f":"Inputs!U232","v":0},{"$f":"Inputs!V232","v":1},{"$f":"Inputs!W232","v":0},{"$f":"Inputs!X232","v":0},{"$f":"Inputs!Y232","v":0},{"$f":"Inputs!Z232","v":0},{"$f":"Inputs!AA232","v":0},{"$f":"Inputs!AB232","v":0}]
[{"$f":"Inputs!B233","v":"Urea"},{"$f":"Inputs!C233","v":0},{"$f":"Inputs!D233","v":0},{"$f":"Inputs!E233","v":0},{"$f":"Inputs!F233","v":0},{"$f":"Inputs!G233","v":0},{"$f":"Inputs!H233","v":0},{"$f":"Inputs!I233","v":0},{"$f":"Inputs!J233","v":0},{"$f":"Inputs!K233","v":0},{"$f":"Inputs!L233","v":0},{"$f":"Inputs!M233","v":0},{"$f":"Inputs!N233","v":0},{"$f":"Inputs!O233","v":0},{"$f":"Inputs!P233","v":0},{"$f":"Inputs!Q233","v":0},{"$f":"Inputs!R233","v":0},{"$f":"Inputs!S233","v":0},{"$f":"Inputs!T233","v":1},{"$f":"Inputs!U233","v":0},{"$f":"Inputs!V233","v":0},{"$f":"Inputs!W233","v":0},{"$f":"Inputs!X233","v":0},{"$f":"Inputs!Y233","v":0},{"$f":"Inputs!Z233","v":0},{"$f":"Inputs!AA233","v":0},{"$f":"Inputs!AB233","v":0}]
[{"$f":"Inputs!B234","v":"NaCl"},{"$f":"Inputs!C234","v":0},{"$f":"Inputs!D234","v":0},{"$f":"Inputs!E234","v":0},{"$f":"Inputs!F234","v":0},{"$f":"Inputs!G234","v":0},{"$f":"Inputs!H234","v":0},{"$f":"Inputs!I234","v":0},{"$f":"Inputs!J234","v":0},{"$f":"Inputs!K234","v":0},{"$f":"Inputs!L234","v":0},{"$f":"Inputs!M234","v":0},{"$f":"Inputs!N234","v":0},{"$f":"Inputs!O234","v":0},{"$f":"Inputs!P234","v":0},{"$f":"Inputs!Q234","v":0},{"$f":"Inputs!R234","v":0},{"$f":"Inputs!S234","v":0},{"$f":"Inputs!T234","v":0},{"$f":"Inputs!U234","v":0},{"$f":"Inputs!V234","v":0},{"$f":"Inputs!W234","v":0},{"$f":"Inputs!X234","v":0},{"$f":"Inputs!Y234","v":0},{"$f":"Inputs!Z234","v":0},{"$f":"Inputs!AA234","v":1},{"$f":"Inputs!AB234","v":0}]
["Desired Limit (% of ration DM)",{"$f":"IF(Inputs!C235=\"\",100,Inputs!C235)","v":0},{"$f":"IF(Inputs!D235=\"\",100,Inputs!D235)","v":40},{"$f":"IF(Inputs!E235=\"\",100,Inputs!E235)","v":0},{"$f":"IF(Inputs!F235=\"\",100,Inputs!F235)","v":0},{"$f":"IF(Inputs!G235=\"\",100,Inputs!G235)","v":10},{"$f":"IF(Inputs!H235=\"\",100,Inputs!H235)","v":0},{"$f":"IF(Inputs!I235=\"\",100,Inputs!I235)","v":40},{"$f":"IF(Inputs!J235=\"\",100,Inputs!J235)","v":0},{"$f":"IF(Inputs!K235=\"\",100,Inputs!K235)","v":20},{"$f":"IF(Inputs!L235=\"\",100,Inputs!L235)","v":0},{"$f":"IF(Inputs!M235=\"\",100,Inputs!M235)","v":0},{"$f":"IF(Inputs!N235=\"\",100,Inputs!N235)","v":0},{"$f":"IF(Inputs!O235=\"\",100,Inputs!O235)","v":0},{"$f":"IF(Inputs!P235=\"\",100,Inputs!P235)","v":0},{"$f":"IF(Inputs!Q235=\"\",100,Inputs!Q235)","v":0},{"$f":"IF(Inputs!R235=\"\",100,Inputs!R235)","v":15},{"$f":"IF(Inputs!S235=\"\",100,Inputs!S235)","v":5},{"$f":"IF(Inputs!T235=\"\",100,Inputs!T235)","v":1.5},{"$f":"IF(Inputs!U235=\"\",100,Inputs!U235)","v":10},{"$f":"IF(Inputs!V235=\"\",100,Inputs!V235)","v":20},{"$f":"IF(Inputs!W235=\"\",100,Inputs!W235)","v":0},{"$f":"IF(Inputs!X235=\"\",100,Inputs!X235)","v":0},{"$f":"IF(Inputs!Y235=\"\",100,Inputs!Y235)","v":0},{"$f":"IF(Inputs!Z235=\"\",100,Inputs!Z235)","v":0},{"$f":"IF(Inputs!AA235=\"\",100,Inputs!AA235)","v":3.5},{"$f":"IF(Inputs!AB235=\"\",100,Inputs!AB235)","v":0}]
[]
["3.3. Manure Balance."]
[null,"Solid (S)","Liquid (L)","Pasture"]
["Produced, t",{"$f":"M307","v":0},{"$f":"M306","v":4399.6921117539632},{"$f":"M308","v":0}]
["Used, t",{"$f":"SUM(G100:G104)*Y296","v":0},{"$f":"SUM(H100:H104)*Z296","v":4399.6921117539678},{"$f":"SUM(I100:I104)*AA296","v":0}]
["Exported, t",{"$f":"G105*Y296","v":0},{"$f":"H105*Z296","v":0},"n.a.","Manure Exported must be less than pre-set Max. Exprtd."]
["Balance, t",{"$f":"B260-B261-B262","v":0},{"$f":"C260-C261-C262","v":-4.5474735088646412E-12},{"$f":"D260-D261","v":0},"Manure Produced - Manure Used - Manure Exprted = 0 "]
["Max exported, t",{"$f":"Inputs!P293","v":0},{"$f":"Inputs!Q293","v":0},"n.a."]
[]
[]
["3.4 Land Used."]
[null,"Land Unit 1","Land Unit 2","Land Unit 3","Land Unit 4","Land Unit 5","Available land minus cropped land must be"]
[null,{"$f":"1-SUM(B84:F84)","v":-6.8833827526759706E-15},{"$f":"1-SUM(B87:F87)","v":0},{"$f":"1-SUM(B90:F90)","v":5.2180482157382357E-15},{"$f":"1-SUM(B93:F93)","v":0},{"$f":"1-SUM(B96:F96)","v":1.2656542480726785E-14},"equal to zero (all available land must be cropped)."]
["Note that to study the land required to feed a herd and to use the manure of a herd, this constraints should simply modified (in the solver to greater than instead of equal to 0)."]
[]
["3.5. Rotation Nutrient Requirements."]
[null,"Land Unit 1","Land Unit 2","Land Unit 3","Land Unit 4","Land Unit 5"]
[null,"Minimum Plant Nutrient Application: (nutrient supplied - nutrient recom. >0)"]
["N,  kg",{"$f":"SUMPRODUCT($B$100:$F$100,$T$296:$X$296,T297:X297)*10+SUMPRODUCT($G$100:$I$100,$Y$296:$AA$296,Y297:AA297)*10-SUMPRODUCT($B$84:$F$84,M394:Q394)*$M$380","v":-5.3728399507235736E-10},{"$f":"SUMPRODUCT($B$101:$F$101,$T$296:$X$296,T297:X297)*10+SUMPRODUCT($G$101:$I$101,$Y$296:$AA$296,Y297:AA297)*10-SUMPRODUCT($B$87:$F$87,M414:Q414)*$M$381","v":0},{"$f":"SUMPRODUCT($B$102:$F$102,$T$296:$X$296,T297:X297)*10+SUMPRODUCT($G$102:$I$102,$Y$296:$AA$296,Y297:AA297)*10-SUMPRODUCT($B$90:$F$90,M434:Q434)*$M$382","v":-1.0618350643198937E-9},{"$f":"SUMPRODUCT($B$103:$F$103,$T$296:$X$296,T297:X297)*10+SUMPRODUCT($G$103:$I$103,$Y$296:$AA$296,Y297:AA297)*10-SUMPRODUCT($B$93:$F$93,M454:Q454)*$M$383","v":0},{"$f":"SUMPRODUCT($B$104:$F$104,$T$296:$X$296,T297:X297)*10+SUMPRODUCT($G$104:$I$104,$Y$296:$AA$296,Y297:AA297)*10-SUMPRODUCT($B$96:$F$96,M474:Q474)*$M$384","v":-1.3851604308001697E-9},"Crop nutrient needs must be met:"]
["P2O5,  kg",{"$f":"SUMPRODUCT($B$100:$F$100,$T$296:$X$296,T298:X298)*10+SUMPRODUCT($G$100:$I$100,$Y$296:$AA$296,Y298:AA298)*10-SUMPRODUCT($B$84:$F$84,M395:Q395)*$M$380","v":-1.0936673788819462E-10},{"$f":"SUMPRODUCT($B$101:$F$101,$T$296:$X$296,T298:X298)*10+SUMPRODUCT($G$101:$I$101,$Y$296:$AA$296,Y298:AA298)*10-SUMPRODUCT($B$87:$F$87,M415:Q415)*$M$381","v":0},{"$f":"SUMPRODUCT($B$102:$F$102,$T$296:$X$296,T298:X298)*10+SUMPRODUCT($G$102:$I$102,$Y$296:$AA$296,Y298:AA298)*10-SUMPRODUCT($B$90:$F$90,M435:Q435)*$M$382","v":1.2246346159372479E-9},{"$f":"SUMPRODUCT($B$103:$F$103,$T$296:$X$296,T298:X298)*10+SUMPRODUCT($G$103:$I$103,$Y$296:$AA$296,Y298:AA298)*10-SUMPRODUCT($B$93:$F$93,M455:Q455)*$M$383","v":0},{"$f":"SUMPRODUCT($B$104:$F$104,$T$296:$X$296,T298:X298)*10+SUMPRODUCT($G$104:$I$104,$Y$296:$AA$296,Y298:AA298)*10-SUMPRODUCT($B$96:$F$96,M475:Q475)*$M$384","v":1.7080310499295592E-9},"Nutrient supplied minus nutrient need must be"]
["K2O, kg",{"$f":"SUMPRODUCT($B$100:$F$100,$T$296:$X$296,T299:X299)*10+SUMPRODUCT($G$100:$I$100,$Y$296:$AA$296,Y299:AA299)*10-SUMPRODUCT($B$84:$F$84,M396:Q396)*$M$380","v":-3.092281986027956E-11},{"$f":"SUMPRODUCT($B$101:$F$101,$T$296:$X$296,T299:X299)*10+SUMPRODUCT($G$101:$I$101,$Y$296:$AA$296,Y299:AA299)*10-SUMPRODUCT($B$87:$F$87,M416:Q416)*$M$381","v":0},{"$f":"SUMPRODUCT($B$102:$F$102,$T$296:$X$296,T299:X299)*10+SUMPRODUCT($G$102:$I$102,$Y$296:$AA$296,Y299:AA299)*10-SUMPRODUCT($B$90:$F$90,M436:Q436)*$M$382","v":6.9121597334742546E-11},{"$f":"SUMPRODUCT($B$103:$F$103,$T$296:$X$296,T299:X299)*10+SUMPRODUCT($G$103:$I$103,$Y$296:$AA$296,Y299:AA299)*10-SUMPRODUCT($B$93:$F$93,M456:Q456)*$M$383","v":0},{"$f":"SUMPRODUCT($B$104:$F$104,$T$296:$X$296,T299:X299)*10+SUMPRODUCT($G$104:$I$104,$Y$296:$AA$296,Y299:AA299)*10-SUMPRODUCT($B$96:$F$96,M476:Q476)*$M$384","v":1.2823875294998288E-10},"equal to or greater than zero."]
["Cl, kg",{"$f":"SUMPRODUCT($B$100:$F$100,$T$296:$X$296,T301:X301)*10+SUMPRODUCT($G$100:$I$100,$Y$296:$AA$296,Y301:AA301)*10-SUMPRODUCT($B$84:$F$84,M399:Q399)*$M$380","v":2920.723550567137},{"$f":"SUMPRODUCT($B$101:$F$101,$T$296:$X$296,T301:X301)*10+SUMPRODUCT($G$101:$I$101,$Y$296:$AA$296,Y301:AA301)*10-SUMPRODUCT($B$87:$F$87,M419:Q419)*$M$381","v":0},{"$f":"SUMPRODUCT($B$102:$F$102,$T$296:$X$296,T301:X301)*10+SUMPRODUCT($G$102:$I$102,$Y$296:$AA$296,Y301:AA301)*10-SUMPRODUCT($B$90:$F$90,M439:Q439)*$M$382","v":4776.6820364181376},{"$f":"SUMPRODUCT($B$103:$F$103,$T$296:$X$296,T301:X301)*10+SUMPRODUCT($G$103:$I$103,$Y$296:$AA$296,Y301:AA301)*10-SUMPRODUCT($B$93:$F$93,M459:Q459)*$M$383","v":0},{"$f":"SUMPRODUCT($B$104:$F$104,$T$296:$X$296,T301:X301)*10+SUMPRODUCT($G$104:$I$104,$Y$296:$AA$296,Y301:AA301)*10-SUMPRODUCT($B$96:$F$96,M479:Q479)*$M$384","v":5547.675462946173}]
[null,"Maximum application above requirements for plant available nutrient"]
["N,  kg",{"$f":"$M$380*Inputs!D434","v":2016},{"$f":"$M$381*Inputs!D435","v":0},{"$f":"$M$382*Inputs!D$436","v":2016},{"$f":"$M$383*Inputs!D$437","v":0},{"$f":"$M$384*Inputs!D$438","v":2016},"Nutrient applied must be kept within the pre-set"]
["P2O5,  kg",{"$f":"M$380*Inputs!E434","v":0},{"$f":"$M$381*Inputs!E435","v":0},{"$f":"$M$382*Inputs!E$436","v":504},{"$f":"$M$383*Inputs!E$437","v":0},{"$f":"$M$384*Inputs!E$438","v":1008},"allowed excess (above agronomic needs) or"]
["K2O, kg",{"$f":"$M$380*Inputs!F434","v":5040},{"$f":"$M$381*E433","v":0},{"$f":"$M$382*Inputs!F$436","v":5040},{"$f":"$M$383*Inputs!F$437","v":0},{"$f":"$M$384*Inputs!F$438","v":5040},"within any specified legal limits."]
[null,"Maximum amount that can be drawn from soil reserves"]
["N,  kg",{"$f":"-$M$380*Inputs!D444","v":0},{"$f":"-$M$381*Inputs!D445","v":0},{"$f":"-$M$382*Inputs!D446","v":0},{"$f":"-$M$383*Inputs!D447","v":0},{"$f":"-$M$384*Inputs!D448","v":0},null,null,null,null,null,null,null,null,null,null,null,null,null,null,null,null,null,null,null,null,null,null,null,null,null,null,null,null,null,null,null,null,null,null,null,null,null,"Recommended Application",null,null,null,null,"Applied commercial NPK fertilizer"]
["P2O5,  kg",{"$f":"-$M$380*Inputs!E444","v":0},{"$f":"-$M$381*Inputs!E445","v":0},{"$f":"-$M$382*Inputs!E446","v":0},{"$f":"-$M$383*Inputs!E447","v":0},{"$f":"-$M$384*Inputs!E448","v":0},null,null,null,null,null,null,null,null,null,null,null,null,null,null,null,null,null,null,null,null,null,null,null,null,null,null,null,null,null,null,null,null,null,null,null,null,null,"kg/ha","Kg/ha","kg/ha",null,null,"kg/ha","kg/ha","kg/ha"]
["K2O, kg",{"$f":"-$M$380*Inputs!F444","v":0},{"$f":"-$M$381*Inputs!F445","v":0},{"$f":"-$M$382*Inputs!F446","v":0},{"$f":"-$M$383*Inputs!F447","v":0},{"$f":"-$M$384*Inputs!F448","v":0},null,null,null,null,null,null,null,null,null,null,null,null,null,null,null,null,null,null,null,null,null,null,null,null,null,null,null,null,null,null,null,null,null,null,null,null,null,"N","P2O5","K20",null,null,"N","P2O5","K2O"]
[null,null,null,null,null,null,null,null,null,null,null,null,null,null,null,null,null,null,null,null,null,null,null,null,null,null,null,null,null,null,null,null,null,null,null,null,null,null,null,null,null,null,"LU1",{"$f":"SUMPRODUCT(B84:F84,M394:Q394)","v":25.200000000000173},{"$f":"SUMPRODUCT(B84:F84,M395:Q395)","v":28.208504814670281},{"$f":"SUMPRODUCT(B84:F84,M396:Q396)","v":73.400000000000517},null,"LU 1",{"$f":"IF(M380=0,0,(B100*0.18+C100*0.27+F100*0.11)*1000/M380)","v":5.6173824349508665},{"$f":"IF(M380=0,0,(B100*0.46+D100*0.46+F100*0.52)*1000/M380)","v":14.355532889318884},{"$f":"IF(M380=0,0,E100*0.6*1000/M380)","v":38.056183698966208}]
["END OF CONSTRAINTS VARIABLES",null,null,null,null,null,null,null,null,null,null,null,null,null,null,null,null,null,null,null,null,null,null,null,null,null,null,null,null,null,null,null,null,null,null,null,null,null,null,null,null,null,"LU2",{"$f":"SUMPRODUCT(B87:F87,M414:Q414)","v":164},{"$f":"SUMPRODUCT(B87:F87,M415:Q415)","v":50},{"$f":"SUMPRODUCT(B87:F87,M416:Q416)","v":45},null,"LU2",{"$f":"IF(M381=0,0,(B101*0.18+C101*0.27+F101*0.11)*1000/M381)","v":0},{"$f":"IF(M381=0,0,(B101*0.46+D101*0.46+F101*0.52)*1000/M381)","v":0},{"$f":"IF(M381=0,0,E101*0.6*1000/M381)","v":0}]
[null,null,null,null,null,null,null,null,null,null,null,null,null,null,null,null,null,null,null,null,null,null,null,null,null,null,null,null,null,null,null,null,null,null,null,null,null,null,null,null,null,null,"LU3",{"$f":"SUMPRODUCT(B90:F90,M434:Q434)","v":53.649999999999721},{"$f":"SUMPRODUCT(B90:F90,M435:Q435)","v":62.749999999999673},{"$f":"SUMPRODUCT(B90:F90,M436:Q436)","v":120.12499999999937},null,"LU3",{"$f":"IF(M382=0,0,(B102*0.18+C102*0.27+F102*0.11)*1000/M382)","v":13.417442576650508},{"$f":"IF(M382=0,0,(B102*0.46+D102*0.46+F102*0.52)*1000/M382)","v":34.289019918106852},{"$f":"IF(M382=0,0,E102*0.6*1000/M382)","v":47.511003726612707}]
[null,null,null,null,null,null,null,null,null,null,null,null,null,null,null,null,null,null,null,null,null,null,null,null,null,null,null,null,null,null,null,null,null,null,null,null,null,null,null,null,null,null,"LU4",{"$f":"SUMPRODUCT(B93:F93,M454:Q454)","v":174},{"$f":"SUMPRODUCT(B93:F93,M455:Q455)","v":84},{"$f":"SUMPRODUCT(B93:F93,M456:Q456)","v":90},null,"LU4",{"$f":"IF(M383=0,0,(B103*0.18+C103*0.27+F103*0.11)*1000/M383)","v":0},{"$f":"IF(M383=0,0,(B103*0.46+D103*0.46+F103*0.52)*1000/M383)","v":0},{"$f":"IF(M383=0,0,E103*0.6*1000/M383)","v":0}]
[null,null,null,null,null,null,null,null,null,null,null,null,null,null,null,null,null,null,null,null,null,null,null,null,null,null,null,null,null,null,null,null,null,null,null,null,null,null,null,null,null,null,"LU5",{"$f":"SUMPRODUCT(B96:F96,M474:Q474)","v":128.91697498180892},{"$f":"SUMPRODUCT(B96:F96,M475:Q475)","v":99.14659858074009},{"$f":"SUMPRODUCT(B96:F96,M476:Q476)","v":139.59508779784932},null,"LU5",{"$f":"IF(M384=0,0,(B104*0.18+C104*0.27+F104*0.11)*1000/M384)","v":74.217698163902455},{"$f":"IF(M384=0,0,(B104*0.46+D104*0.46+F104*0.52)*1000/M384)","v":60.451692571486966},{"$f":"IF(M384=0,0,E104*0.6*1000/M384)","v":40.870737734352566}]
[null,null,null,null,null,null,null,null,null,null,"Manure Excretion (as-is) and manure to haul to the fields",null,null,null,null,null,null,null,"Fertilizer analisys and plant-available manure nutrients",null,null,null,null,null,null,null,null,null,"Nutrient remaining in",null,null,null,null,"Fertilzer purchase and spreading costs"]
[null,null,null,null,null,null,null,null,null,null,null,"Animal group",1,2,3,4,5,null,null,null,null,null,null,null,null,"Overall Manure nutrients",null,null,"manure before application",null,null,null,null,null,{"$f":"T295","v":"18-46-0"},"27-0-0","0-46-0","0-0-60","11-52-0","Solid","Liquid",null,"Cost of spreading commercial fertilizer",null,null,null,null,null,null,null,null,null,null,null,null,null,null,null,null,null,null,"Calculation of change in soil test P (ppm)"]
[null,null,null,null,null,null,null,null,null,null,null,"Animal type",{"$f":"Inputs!C57","v":"Early lactation"},{"$f":"Inputs!D57","v":"Mid-late lac."},{"$f":"Inputs!E57","v":"Dry cows"},{"$f":"Inputs!F57","v":"Heifers<1yr old"},{"$f":"Inputs!G57","v":"Heifers>1yr old"},null,null,"Purchased fertilizer",null,null,null,null,null,"available to plant uptake",null,null,"and when exported",null,null,null,null,"Costs $/t",{"$f":"Inputs!K280","v":755},{"$f":"Inputs!L280","v":381},{"$f":"Inputs!M280","v":715},{"$f":"Inputs!N280","v":700},{"$f":"Inputs!O280","v":755},{"$f":"Inputs!P280","v":0},{"$f":"Inputs!Q280","v":0},null,null,null,null,null,null,null,null,null,null,null,null,null,null,null,null,null,null,null,null,"Item",null,{"$f":"B273","v":"Land Unit 1"},{"$f":"C273","v":"Land Unit 2"},{"$f":"D273","v":"Land Unit 3"},{"$f":"E273","v":"Land Unit 4"},{"$f":"F273","v":"Land Unit 5"},"Total"]
[null,null,null,null,null,null,null,null,null,null,null,"Method of collection",{"$f":"Inputs!E272","v":"Liquid"},{"$f":"Inputs!E273","v":"Liquid"},{"$f":"Inputs!E274","v":"Liquid"},{"$f":"Inputs!E275","v":"Liquid"},{"$f":"Inputs!E276","v":"Liquid"},null,null,{"$f":"Inputs!K271","v":"18-46-0"},{"$f":"Inputs!L271","v":"27-0-0"},{"$f":"Inputs!M271","v":"0-46-0"},{"$f":"Inputs!N271","v":"0-0-60"},{"$f":"Inputs!O271","v":"11-52-0"},"Solid","Liquid","Pasture","Solid","Liquid","Pasture",null,null,null,"Costs of spreading, $/t",{"$f":"Inputs!K283","v":0},{"$f":"Inputs!L283","v":0},{"$f":"Inputs!M283","v":0},{"$f":"Inputs!N283","v":0},{"$f":"Inputs!O283","v":0},{"$f":"Inputs!P283","v":0},{"$f":"Inputs!Q283","v":0},null,null,null,null,null,null,null,null,null,null,null,null,null,null,null,null,null,null,null,null,"Recommended fertilization (nutrient need)"]
[null,null,null,null,null,null,null,null,null,null,null,"Total excreta, t/yr",null,null,null,null,null,null,"Unit resource, t",{"$f":"Inputs!K273","v":1},{"$f":"Inputs!L273","v":1},{"$f":"Inputs!M273","v":1},{"$f":"Inputs!N273","v":1},{"$f":"Inputs!O273","v":1},1,1,1,1,1,1,null,null,null,"Land Unit 1",null,null,null,null,null,{"$f":"Inputs!P284","v":1.5},{"$f":"Inputs!Q284","v":1.5},null,null,null,null,null,null,null,null,null,null,"Hectares of each rotation in each LU",null,null,null,null,null,null,null,null,null,"N,  kg",null,{"$f":"SUMPRODUCT($B$84:$F$84,M394:Q394)*$M$380","v":1270.0800000000088},{"$f":"SUMPRODUCT($B$87:$F$87,M414:Q414)*$M$381","v":0},{"$f":"SUMPRODUCT($B$90:$F$90,M434:Q434)*$M$382","v":2703.9599999999859},{"$f":"SUMPRODUCT($B$93:$F$93,M454:Q454)*$M$383","v":0},{"$f":"SUMPRODUCT($B$96:$F$96,M474:Q474)*$M$384","v":6497.4155390831693}]
[null,null,null,null,null,null,null,null,null,null,null,"Manure excreted, kg/d as-is",{"$f":"Inputs!E253","v":68.830999473846333},{"$f":"Inputs!F253","v":63.575962200610931},{"$f":"Inputs!G253","v":35.572000000000003},{"$f":"Inputs!H260","v":15.3209254},{"$f":"Inputs!I260","v":27.165544539999999},null,"N,  %",{"$f":"Inputs!K274","v":18},{"$f":"Inputs!L274","v":27},{"$f":"Inputs!M274","v":0},{"$f":"Inputs!N274","v":0},{"$f":"Inputs!O274","v":11},{"$f":"IF(OR($M$295=\"Solid\",$N$295=\"Solid\",$O$295=\"Solid\",$P$295=\"Solid\",$Q$295=\"Solid\"),((IF($M$295=\"Solid\",T324,0))+(IF($N$295=\"Solid\",U324,0))+(IF($O$295=\"Solid\",V324,0))+(IF($P$295=\"Solid\",W324,0))+(IF($Q$295=\"Solid\",X324,0)))/B$260*100,0)","v":0},{"$f":"IF(OR($M$295=\"Liquid\",$N$295=\"Liquid\",$O$295=\"Liquid\",$P$295=\"Liquid\",$Q$295=\"Liquid\"),((IF($M$295=\"Liquid\",T324,0))+(IF($N$295=\"Liquid\",U324,0))+(IF($O$295=\"Liquid\",V324,0))+(IF($P$295=\"Liquid\",W324,0))+(IF($Q$295=\"Liquid\",X324,0)))/C$260*100,0)","v":0.13118027862940451},{"$f":"IF(D$260=0,0,Y335/$D$260*100)","v":0},{"$f":"IF(OR($M$295=\"Solid\",$N$295=\"Solid\",$O$295=\"Solid\",$P$295=\"Solid\",$Q$295=\"Solid\"),((IF($M$295=\"Solid\",AB324,0))+(IF($N$295=\"Solid\",AC324,0))+(IF($O$295=\"Solid\",AD324,0))+(IF($P$295=\"Solid\",AE324,0))+(IF($Q$295=\"Solid\",AF324,0)))/B$260*100,0)","v":0},{"$f":"IF(OR($M$295=\"Liquid\",$N$295=\"Liquid\",$O$295=\"Liquid\",$P$295=\"Liquid\",$Q$295=\"Liquid\"),((IF($M$295=\"Liquid\",AB324,0))+(IF($N$295=\"Liquid\",AC324,0))+(IF($O$295=\"Liquid\",AD324,0))+(IF($P$295=\"Liquid\",AE324,0))+(IF($Q$295=\"Liquid\",AF324,0)))/C$260*100,0)","v":0.3605795390633541},{"$f":"IF(D$260=0,0,AG335/$D$260*100)","v":0},null,null,null,"Land Unit 2",null,null,null,null,null,{"$f":"Inputs!P285","v":1.5},{"$f":"Inputs!Q285","v":1.5},null,null,null,null,null,null,null,null,null,null,{"$f":"B83","v":"CCC"},{"$f":"C83","v":"SCC"},{"$f":"D83","v":"CCAAA"},{"$f":"E83","v":"CCCSCAAA"},{"$f":"F83","v":"       CCCSWAAA"},null,null,null,null,null,"P2O5,  kg",null,{"$f":"SUMPRODUCT($B$84:$F$84,M395:Q395)*$M$380","v":1421.7086426593821},{"$f":"SUMPRODUCT($B$87:$F$87,M415:Q415)*$M$381","v":0},{"$f":"SUMPRODUCT($B$90:$F$90,M435:Q435)*$M$382","v":3162.5999999999835},{"$f":"SUMPRODUCT($B$93:$F$93,M455:Q455)*$M$383","v":0},{"$f":"SUMPRODUCT($B$96:$F$96,M475:Q475)*$M$384","v":4996.9885684692999}]
[null,null,null,null,null,null,null,null,null,null,null,"Manure excreted, t/y as-is",{"$f":"M297*Inputs!D115*365/1000","v":954.68596270224862},{"$f":"N297*Inputs!E115*365/1000","v":1253.0822149740416},{"$f":"O297*Inputs!F115*365/1000","v":194.75670000000002},{"$f":"P297*Inputs!G115*365/1000","v":216.76513977037004},{"$f":"Q297*Inputs!H115*365/1000","v":407.44500319716042},null,"P2O5,  %",{"$f":"Inputs!K275","v":46},{"$f":"Inputs!L275","v":0},{"$f":"Inputs!M275","v":46},{"$f":"Inputs!N275","v":0},{"$f":"Inputs!O275","v":52},{"$f":"IF(OR($M$295=\"Solid\",$N$295=\"Solid\",$O$295=\"Solid\",$P$295=\"Solid\",$Q$295=\"Solid\"),((IF($M$295=\"Solid\",T325,0))+(IF($N$295=\"Solid\",U325,0))+(IF($O$295=\"Solid\",V325,0))+(IF($P$295=\"Solid\",W325,0))+(IF($Q$295=\"Solid\",X325,0)))/B$260*100,0)","v":0},9.2798458172261358E-2,0,0,0.12540332185440722,0,null,null,null,"Land Unit 3",null,null,null,null,null,{"$f":"Inputs!P286","v":1.5},{"$f":"Inputs!Q286","v":1.5},null,null,null,null,null,null,null,null,null,"LU1",{"$f":"B84*$M$380","v":0},{"$f":"C84*$M$380","v":0},{"$f":"D84*$M$380","v":50.400000000000347},{"$f":"E84*$M$380","v":0},{"$f":"F84*$M$380","v":0},{"$f":"SUM(AZ298:BD298)","v":50.400000000000347},{"$f":"IF(OR(AR310>0,AS310>0,AT310>0,AU310>0,AV310>0),BE298*$AS$304,0)","v":0},null,null,null,"K2O, kg",null,{"$f":"SUMPRODUCT($B$84:$F$84,M396:Q396)*$M$380","v":3699.360000000026},{"$f":"SUMPRODUCT($B$87:$F$87,M416:Q416)*$M$381","v":0},{"$f":"SUMPRODUCT($B$90:$F$90,M436:Q436)*$M$382","v":6054.2999999999683},{"$f":"SUMPRODUCT($B$93:$F$93,M456:Q456)*$M$383","v":0},{"$f":"SUMPRODUCT($B$96:$F$96,M476:Q476)*$M$384","v":7035.592425011605}]
[null,null,null,null,null,null,null,null,null,null,null,"Manure produced on pasture, t/y",{"$f":"M297*Inputs!D173*Inputs!D174%*Inputs!D115/1000","v":0},{"$f":"N297*Inputs!E173*Inputs!E174%*Inputs!E115/1000","v":0},{"$f":"O297*Inputs!F173*Inputs!F174%*Inputs!F115/1000","v":0},{"$f":"P297*Inputs!G173*Inputs!G174%*Inputs!G115/1000","v":0},{"$f":"Q297*Inputs!H173*Inputs!H174%*Inputs!H115/1000","v":0},null,"K2O, %",{"$f":"Inputs!K276","v":0},{"$f":"Inputs!L276","v":0},{"$f":"Inputs!M276","v":0},{"$f":"Inputs!N276","v":60},{"$f":"Inputs!O276","v":0},{"$f":"IF(OR($M$295=\"Solid\",$N$295=\"Solid\",$O$295=\"S\",$P$295=\"Solid\",$Q$295=\"Solid\"),((IF($M$295=\"Solid\",T326,0))+(IF($N$295=\"Solid\",U326,0))+(IF($O$295=\"Solid\",V326,0))+(IF($P$295=\"Solid\",W326,0))+(IF($Q$295=\"Solid\",X326,0)))/B$260*100,0)","v":0},0.23676158995585933,0,0,0.27575307472147603,0,null,null,null,"Land Unit 4",null,null,null,null,null,{"$f":"Inputs!P287","v":1.5},{"$f":"Inputs!Q287","v":1.5},null,null,null,null,null,null,null,null,null,"LU2",{"$f":"B87*$M$381","v":0},{"$f":"C87*$M$381","v":0},{"$f":"D87*$M$381","v":0},{"$f":"E87*$M$381","v":0},{"$f":"F87*$M$381","v":0},{"$f":"SUM(AZ299:BD299)","v":0},{"$f":"IF(OR(AR311>0,AS311>0,AT311>0,AU311>0,AV311>0),BE299*$AS$304,0)","v":0},null,null,null,"Supplied with fertilizers"]
[null,null,null,null,null,null,null,null,null,null,null,"% DM",{"$f":"Inputs!D272","v":8.9},{"$f":"Inputs!D273","v":8.9},{"$f":"Inputs!D274","v":8.9},{"$f":"Inputs!D275","v":8.9},{"$f":"Inputs!D276","v":8.9},null,"Na, %",{"$f":"Inputs!K277","v":0},{"$f":"Inputs!L277","v":0},{"$f":"Inputs!M277","v":0},{"$f":"Inputs!N277","v":0},{"$f":"Inputs!O277","v":0},{"$f":"IF(OR($M$295=\"Solid\",$N$295=\"Solid\",$O$295=\"Solid\",$P$295=\"Solid\",$Q$295=\"Solid\"),((IF($M$295=\"Solid\",T327,0))+(IF($N$295=\"Solid\",U327,0))+(IF($O$295=\"Solid\",V327,0))+(IF($P$295=\"Solid\",W327,0))+(IF($Q$295=\"Solid\",X327,0)))/B$260*100,0)","v":0},9.0409756807609612E-2,0,0,9.0409756807609612E-2,0,null,null,null,"Land Unit 5",null,null,null,null,null,{"$f":"Inputs!P288","v":1.5},{"$f":"Inputs!Q288","v":1.5},null,null,null,null,null,null,null,null,null,"LU3",{"$f":"B90*$M$382","v":0},{"$f":"C90*$M$382","v":0},{"$f":"D90*$M$382","v":0},{"$f":"E90*$M$382","v":50.399999999999736},{"$f":"F90*$M$382","v":0},{"$f":"SUM(AZ300:BD300)","v":50.399999999999736},{"$f":"IF(OR(AR312>0,AS312>0,AT312>0,AU312>0,AV312>0),BE300*$AS$304,0)","v":0},null,null,null,"N,  kg",null,{"$f":"SUMPRODUCT($B$100:$F$100,$T$296:$X$296,$T$297:$X$297)*10","v":283.11607472152366},{"$f":"SUMPRODUCT($B$101:$F$101,$T$296:$X$296,$T$297:$X$297)*10","v":0},{"$f":"SUMPRODUCT($B$102:$F$102,$T$296:$X$296,$T$297:$X$297)*10","v":676.23910586318561},{"$f":"SUMPRODUCT($B$103:$F$103,$T$296:$X$296,$T$297:$X$297)*10","v":0},{"$f":"SUMPRODUCT($B$104:$F$104,$T$296:$X$296,$T$297:$X$297)*10","v":3740.5719874606839}]
[null,null,null,null,null,null,null,null,null,null,null,"DM adjustment factor*",null,null,null,null,null,null,"Cl, %",{"$f":"Inputs!K278","v":0},{"$f":"Inputs!L278","v":0},{"$f":"Inputs!M278","v":0},{"$f":"Inputs!N278","v":47.5},{"$f":"Inputs!O278","v":0},{"$f":"IF(OR($M$295=\"Solid\",$N$295=\"Solid\",$O$295=\"Solid\",$P$295=\"Solid\",$Q$295=\"Solid\"),((IF($M$295=\"Solid\",T328,0))+(IF($N$295=\"Solid\",U328,0))+(IF($O$295=\"Solid\",V328,0))+(IF($P$295=\"Solid\",W328,0))+(IF($Q$295=\"Solid\",X328,0)))/B$260*100,0)","v":0},0.18638140187453051,0,0,0.18638140187453051,0,null,null,null,"Cost to export, $/t",null,null,null,null,null,{"$f":"Inputs!P292","v":6},{"$f":"Inputs!Q292","v":6},null,null,null,null,null,null,null,null,null,"LU4",{"$f":"B93*$M$383","v":0},{"$f":"C93*$M$383","v":0},{"$f":"D93*$M$383","v":0},{"$f":"E93*$M$383","v":0},{"$f":"F93*$M$383","v":0},{"$f":"SUM(AZ301:BD301)","v":0},{"$f":"IF(OR(AR313>0,AS313>0,AT313>0,AU313>0,AV313>0),BE301*$AS$304,0)","v":0},null,null,null,"P2O5,  kg",null,{"$f":"SUMPRODUCT($B$100:$F$100,$T$296:$X$296,$T$298:$X$298)*10","v":723.5188576216716},{"$f":"SUMPRODUCT($B$101:$F$101,$T$296:$X$296,$T$298:$X$298)*10","v":0},{"$f":"SUMPRODUCT($B$102:$F$102,$T$296:$X$296,$T$298:$X$298)*10","v":1728.1666038725853},{"$f":"SUMPRODUCT($B$103:$F$103,$T$296:$X$296,$T$298:$X$298)*10","v":0},{"$f":"SUMPRODUCT($B$104:$F$104,$T$296:$X$296,$T$298:$X$298)*10","v":3046.765305602943}]
[null,null,null,null,null,null,null,null,null,null,null,"If handled as a Liquid:",{"$f":"IF(M295=\"Liquid\",(21114*(M300/100)^2-5597*(M300/100)+476.25)/100,\"na\")","v":1.45360994},{"$f":"IF(N295=\"Liquid\",(21114*(N300/100)^2-5597*(N300/100)+476.25)/100,\"na\")","v":1.45360994},{"$f":"IF(O295=\"Liquid\",(21114*(O300/100)^2-5597*(O300/100)+476.25)/100,\"na\")","v":1.45360994},{"$f":"IF(P295=\"Liquid\",(21114*(P300/100)^2-5597*(P300/100)+476.25)/100,\"na\")","v":1.45360994},{"$f":"IF(Q295=\"Liquid\",(21114*(Q300/100)^2-5597*(Q300/100)+476.25)/100,\"na\")","v":1.45360994},null,"S, %",{"$f":"Inputs!K279","v":0},{"$f":"Inputs!L279","v":0},{"$f":"Inputs!M279","v":0},{"$f":"Inputs!N279","v":0},{"$f":"Inputs!O279","v":0},{"$f":"IF(OR($M$295=\"Solid\",$N$295=\"Solid\",$O$295=\"Solid\",$P$295=\"Solid\",$Q$295=\"Solid\"),((IF($M$295=\"Solid\",T329,0))+(IF($N$295=\"Solid\",U329,0))+(IF($O$295=\"Solid\",V329,0))+(IF($P$295=\"Solid\",W329,0))+(IF($Q$295=\"Solid\",X329,0)))/B$260*100,0)","v":0},7.4399436481050393E-2,0,0,7.4399436481050393E-2,0,null,null,null,null,null,null,null,null,null,null,null,null,null,null,null,null,null,null,null,null,"LU5",{"$f":"B96*$M$384","v":29.641904104302679},{"$f":"C96*$M$384","v":0},{"$f":"D96*$M$384","v":0},{"$f":"E96*$M$384","v":20.75809589569668},{"$f":"F96*$M$384","v":0},{"$f":"SUM(AZ302:BD302)","v":50.399999999999359},{"$f":"IF(OR(AR314>0,AS314>0,AT314>0,AU314>0,AV314>0),BE302*$AS$304,0)","v":0},null,null,null,"K2O, kg",null,{"$f":"SUMPRODUCT($B$100:$F$100,$T$296:$X$296,$T$299:$X$299)*10","v":1918.0316584278969},{"$f":"SUMPRODUCT($B$101:$F$101,$T$296:$X$296,$T$299:$X$299)*10","v":0},{"$f":"SUMPRODUCT($B$102:$F$102,$T$296:$X$296,$T$299:$X$299)*10","v":2394.5545878212806},{"$f":"SUMPRODUCT($B$103:$F$103,$T$296:$X$296,$T$299:$X$299)*10","v":0},{"$f":"SUMPRODUCT($B$104:$F$104,$T$296:$X$296,$T$299:$X$299)*10","v":2059.8851818113694},null,"Plant Available"]
[null,null,null,null,null,null,null,null,null,null,null,"If handled as s solid:",{"$f":"IF(M295=\"Solid\",(299.28*(M300/100)^2+5.6361*(M300/100)+95.343)/100,\"na\")","v":"na"},{"$f":"IF(N295=\"Solid\",(299.28*(N300/100)^2+5.6361*(N300/100)+95.343)/100,\"na\")","v":"na"},{"$f":"IF(O295=\"Solid\",(299.28*(O300/100)^2+5.6361*(O300/100)+95.343)/100,\"na\")","v":"na"},{"$f":"IF(P295=\"Solid\",(299.28*(P300/100)^2+5.6361*(P300/100)+95.343)/100,\"na\")","v":"na"},{"$f":"IF(Q295=\"Solid\",(299.28*(Q300/100)^2+5.6361*(Q300/100)+95.343)/100,\"na\")","v":"na"},null,null,null,null,null,null,null,null,null,null,null,null,null,null,null,null,null,null,null,null,null,null,null,null,null,null,null,null,null,null,null,null,null,null,"Potential (max) hectares requiring N annually",null,null,null,null,"Total","Sprd $/y",null,null,null,"Supplied with Manure",null,null,null,null,null,null,"\"Recycled\"","Exported","Total"]
[null,null,null,null,null,null,null,null,null,null,null,"Manure to handle as liquid, t/yr",{"$f":"IF(M302<>\"na\",(M298-M299)*M302,0)","v":1387.7410049624577},{"$f":"IF(N302<>\"na\",(N298-N299)*N302,0)","v":1821.4927633234836},{"$f":"IF(O302<>\"na\",(O298-O299)*O302,0)","v":283.10027500159805},{"$f":"IF(P302<>\"na\",(P298-P299)*P302,0)","v":315.09196181569922},{"$f":"IF(Q302<>\"na\",(Q298-Q299)*Q302,0)","v":592.26610665072417},null,null,null,null,null,null,null,null,null,null,null,null,null,null,null,null,null,null,null,null,null,null,null,null,null,"Cost of spreading ",null,{"$f":"Inputs!J282","v":0},"$/hectare",null,null,null,null,"LU1",{"$f":"AZ298*AU325","v":0},{"$f":"BA298*AV325","v":0},{"$f":"BB298*AW325","v":30.240000000000208},{"$f":"BC298*AX325","v":0},{"$f":"BD298*AY325","v":0},{"$f":"SUM(AZ304:BD304)","v":30.240000000000208},{"$f":"IF(OR(AR310>0,AS310>0,AV310>0),BE304*$AS$304,0)","v":0},null,null,null,"N,  kg",null,{"$f":"+SUMPRODUCT($G$100:$I$100,$Y$296:$AA$296,$Y$297:$AA$297)*10","v":986.96392527794796},{"$f":"+SUMPRODUCT($G$101:$I$101,$Y$296:$AA$296,$Y$297:$AA$297)*10","v":0},{"$f":"+SUMPRODUCT($G$102:$I$102,$Y$296:$AA$296,$Y$297:$AA$297)*10","v":2027.7208941357385},{"$f":"+SUMPRODUCT($G$103:$I$103,$Y$296:$AA$296,$Y$297:$AA$297)*10","v":0},{"$f":"+SUMPRODUCT($G$104:$I$104,$Y$296:$AA$296,$Y$297:$AA$297)*10","v":2756.8435516211002},{"$f":"SUM(BL304:BP304)","v":5771.5283710347867},{"$f":"(Y324+Y335)*1000-BQ304","v":-7.2759576141834259E-12},{"$f":"SUM(BQ304:BR304)","v":5771.5283710347794}]
[null,null,null,null,null,null,null,null,null,null,null,"Manure to handle as solid, t/yr",{"$f":"IF(M303<>\"na\",M303*(M298-M299),0)","v":0},{"$f":"IF(N303<>\"na\",N303*(N298-N299),0)","v":0},{"$f":"IF(O303<>\"na\",O303*(O298-O299),0)","v":0},{"$f":"IF(P303<>\"na\",P303*(P298-P299),0)","v":0},{"$f":"IF(Q303<>\"na\",Q303*(Q298-Q299),0)","v":0},null,null,null,null,null,null,null,null,null,null,null,null,null,null,null,null,null,null,null,null,null,null,null,null,null,null,null,null,null,null,null,null,null,"LU2",{"$f":"AZ299*AU325","v":0},{"$f":"BA299*AV325","v":0},{"$f":"BB299*AW325","v":0},{"$f":"BC299*AX325","v":0},{"$f":"BD299*AY325","v":0},{"$f":"SUM(AZ305:BD305)","v":0},{"$f":"IF(OR(AR311>0,AS311>0,AV311>0),BE305*$AS$304,0)","v":0},null,null,null,"P2O5,  kg",null,{"$f":"+SUMPRODUCT($G$100:$I$100,$Y$296:$AA$296,$Y$298:$AA$298)*10","v":698.18978503760104},{"$f":"+SUMPRODUCT($G$101:$I$101,$Y$296:$AA$296,$Y$298:$AA$298)*10","v":0},{"$f":"+SUMPRODUCT($G$102:$I$102,$Y$296:$AA$296,$Y$298:$AA$298)*10","v":1434.4333961286229},{"$f":"+SUMPRODUCT($G$103:$I$103,$Y$296:$AA$296,$Y$298:$AA$298)*10","v":0},{"$f":"+SUMPRODUCT($G$104:$I$104,$Y$296:$AA$296,$Y$298:$AA$298)*10","v":1950.2232628680645},{"$f":"SUM(BL305:BP305)","v":4082.8464440342882},{"$f":"(Y325+Y336)*1000-BQ305","v":-4.0927261579781771E-12},{"$f":"SUM(BQ305:BR305)","v":4082.8464440342841}]
[null,null,null,null,null,null,null,null,null,null,null,"Total Liquid manure, t/y",{"$f":"SUM(M304:Q304)","v":4399.6921117539632},null,null,null,null,null,null,null,null,null,null,null,null,null,null,null,null,null,null,null,null,null,null,null,null,null,null,null,null,null,null,null,null,null,null,null,null,null,"LU3",{"$f":"AZ300*AU325","v":0},{"$f":"BA300*AV325","v":0},{"$f":"BB300*AW325","v":0},{"$f":"BC300*AX325","v":12.599999999999934},{"$f":"BD300*AY325","v":0},{"$f":"SUM(AZ306:BD306)","v":12.599999999999934},{"$f":"IF(OR(AR312>0,AS312>0,AV312>0),BE306*$AS$304,0)","v":0},null,null,null,"K2O, kg",null,{"$f":"+SUMPRODUCT($G$100:$I$100,$Y$296:$AA$296,$Y$299:$AA$299)*10","v":1781.3283415720985},{"$f":"+SUMPRODUCT($G$101:$I$101,$Y$296:$AA$296,$Y$299:$AA$299)*10","v":0},{"$f":"+SUMPRODUCT($G$102:$I$102,$Y$296:$AA$296,$Y$299:$AA$299)*10","v":3659.7454121787564},{"$f":"+SUMPRODUCT($G$103:$I$103,$Y$296:$AA$296,$Y$299:$AA$299)*10","v":0},{"$f":"+SUMPRODUCT($G$104:$I$104,$Y$296:$AA$296,$Y$299:$AA$299)*10","v":4975.7072432003633},{"$f":"SUM(BL306:BP306)","v":10416.780996951218},{"$f":"(Y326+Y337)*1000-BQ306","v":0},{"$f":"SUM(BQ306:BR306)","v":10416.780996951218}]
[null,null,null,null,null,null,null,null,null,null,null,"Total solid manure, t/y",{"$f":"SUM(M305:Q305)","v":0},null,null,null,null,null,null,null,null,null,null,null,null,null,null,null,null,null,null,null,null,null,null,null,null,null,null,null,null,null,null,null,null,null,null,null,null,null,"LU4",{"$f":"AZ301*AU325","v":0},{"$f":"BA301*AV325","v":0},{"$f":"BB301*AW325","v":0},{"$f":"BC301*AX325","v":0},{"$f":"BD301*AY325","v":0},{"$f":"SUM(AZ307:BD307)","v":0},{"$f":"IF(OR(AR313>0,AS313>0,AV313>0),BE307*$AS$304,0)","v":0},null,null,null,"Nutrient supplied minus nutrient need"]
[null,null,null,null,null,null,null,null,null,null,null,"Total pasture manure, t/y",{"$f":"SUM(M299:Q299)","v":0},null,null,null,null,null,null,null,null,null,null,null,null,null,null,null,null,null,null,null,null,null,null,null,null,null,null,null,null,null,"Fertilizer purchased (t/yr)",null,null,null,null,null,null,null,"LU5",{"$f":"AZ302*AU325","v":88.925712312908033},{"$f":"BA302*AV325","v":0},{"$f":"BB302*AW325","v":0},{"$f":"BC302*AX325","v":5.1895239739241701},{"$f":"BD302*AY325","v":0},{"$f":"SUM(AZ308:BD308)","v":94.1152362868322},{"$f":"IF(OR(AR314>0,AS314>0,AV314>0),BE308*$AS$304,0)","v":0},null,null,null,"N,  kg",null,{"$f":"BL300+BL304-BL296","v":-5.3728399507235736E-10},0,-1.0618350643198937E-9,0,-1.3851604308001697E-9]
[null,null,null,null,null,null,null,null,null,null,null,null,null,null,null,null,null,null,null,null,null,null,null,null,null,null,null,null,null,null,null,null,null,null,null,null,null,null,null,null,null,null,null,{"$f":"B99","v":"18-46-0"},"27-0-0","0-46-0","0-0-60","11-52-0",null,null,null,"Potential (max) hectares requiring a PK spreading annually",null,null,null,null,null,null,null,null,null,"P2O5,  kg",null,-1.0936673788819462E-10,0,1.2246346159372479E-9,0,1.7080310499295592E-9]
[null,null,null,null,null,null,null,null,null,null,"Nutrient excreted in Manure",null,null,null,null,null,null,null,null,null,null,null,null,null,null,null,null,null,null,null,null,null,null,null,null,null,null,null,null,null,null,null,"LU1",1.5728670817862427,0,0,3.1967194307131614,0,null,null,"LU1",{"$f":"AZ298*AU327","v":0},{"$f":"BA298*AV327","v":0},{"$f":"BB298*AW327","v":16.800000000000114},{"$f":"BC298*AX327","v":0},{"$f":"BD298*AY327","v":0},{"$f":"SUM(AZ310:BD310)","v":16.800000000000114},{"$f":"IF(OR(AT310>0,AU310>0),BE310*$AS$304,0)","v":0},null,null,null,"K2O, kg",null,-3.092281986027956E-11,0,6.9121597334742546E-11,0,1.2823875294998288E-10]
[null,null,null,null,null,null,null,null,null,null,null,null,null,null,null,null,null,null,null,null,null,null,null,null,null,null,null,null,null,null,null,null,null,null,null,null,null,null,null,null,null,null,"LU2",0,0,0,0,0,null,null,"LU2",{"$f":"AZ299*AU327","v":0},{"$f":"BA299*AV327","v":0},{"$f":"BB299*AW327","v":0},{"$f":"BC299*AX327","v":0},{"$f":"BD299*AY327","v":0},{"$f":"SUM(AZ311:BD311)","v":0},{"$f":"IF(OR(AT311>0,AU311>0),BE311*$AS$304,0)","v":0}]
[null,null,null,null,null,null,null,null,null,null,null,"Animal group",1,2,3,4,5,"Total",null,null,null,null,null,null,null,null,null,null,null,null,null,null,null,null,null,null,null,null,null,null,null,null,"LU3",3.7568839214621423,0,0,3.9909243130354675,0,null,null,"LU3",{"$f":"AZ300*AU327","v":0},{"$f":"BA300*AV327","v":0},{"$f":"BB300*AW327","v":0},{"$f":"BC300*AX327","v":16.799999999999912},{"$f":"BD300*AY327","v":0},{"$f":"SUM(AZ312:BD312)","v":16.799999999999912},{"$f":"IF(OR(AT312>0,AU312>0),BE312*$AS$304,0)","v":0},null,null,null,null,null,null,null,null,null,null,null,"Manure Nutrient exported"]
[null,null,null,null,null,null,null,null,null,null,null,"N, ton/yr",{"$f":"(Inputs!D$122*Inputs!D$145/6.25*IF(O348=0,M$348,O348)/100-Inputs!C$61*(Inputs!C$64/6.38)/100-Inputs!C$66*0.02048/100-IF(Inputs!C$65>190,((0.69*Inputs!C$65-69.2)*45/45)/6.25/1000,0))*Inputs!D$115*365/1000","v":7.5238907134232171},{"$f":"(Inputs!E$122*Inputs!E$145/6.25*IF(O348=0,M$348,O348)/100-Inputs!D$61*(Inputs!D$64/6.38)/100-Inputs!D$66*0.02048/100-IF(Inputs!D$65>190,((0.69*Inputs!D$65-69.2)*45/45)/6.25/1000,0))*Inputs!E$115*365/1000","v":8.6541151983602145},{"$f":"(Inputs!F$122*Inputs!F$145/6.25*IF(O348=0,M$348,O348)/100-Inputs!E$66*0.02048/100-IF(Inputs!E$65>190,((0.69*Inputs!E$65-69.2)*45/45)/6.25/1000,0))*Inputs!F$115*365/1000","v":1.2212376076960532},{"$f":"(Inputs!G$122*Inputs!G$145/6.25*IF(O348=0,M$348,O348)/100-Inputs!F$66*0.02048/100-IF(Inputs!F$65>190,((0.69*Inputs!F$65-69.2)*45/45)/6.25/1000,0))*Inputs!G$115*365/1000","v":1.9695099711857431},{"$f":"(Inputs!H$122*Inputs!H$145/6.25*IF(O348=0,M$348,O348)/100-Inputs!G$66*0.02048/100-IF(Inputs!G$65>190,((0.69*Inputs!G$65-69.2)*45/45)/6.25/1000,0))*Inputs!H$115*365/1000","v":4.0826265010110836},{"$f":"SUM(M313:Q313)","v":23.451379991676312},null,null,null,null,null,null,null,null,null,null,null,null,null,null,null,null,null,null,null,null,null,null,null,null,"LU4",0,0,0,0,0,null,null,"LU4",{"$f":"AZ301*AU327","v":0},{"$f":"BA301*AV327","v":0},{"$f":"BB301*AW327","v":0},{"$f":"BC301*AX327","v":0},{"$f":"BD301*AY327","v":0},{"$f":"SUM(AZ313:BD313)","v":0},{"$f":"IF(OR(AT313>0,AU313>0),BE313*$AS$304,0)","v":0},null,null,null,"Manure Nutrient applied",null,null,null,null,null,null,"Field applied","N/P205/K20","N/P/K","Total"]
[null,null,null,null,null,null,null,null,null,null,null,"P2O5, ton/yr",{"$f":"((Inputs!D$122*Inputs!D$149*IF(O349=0,M$349,O349)/100/0.74)-(0.9*Inputs!C61/1000))*Inputs!D$115*365/1000*2.29","v":1.8030715667091519},{"$f":"((Inputs!E$122*Inputs!E$149*IF(O349=0,M$349,O349)/100/0.71)-((0.02743*EXP((0.05527-0.000075*Inputs!D65)*Inputs!D65)-0.02743*EXP((0.05527-0.000075*(Inputs!D65-1))*(Inputs!D65-1))+0.9*Inputs!D61)/1000))*Inputs!E$115*365/1000*2.29","v":2.139539773467289},{"$f":"((Inputs!F$122*Inputs!F$149*IF(O349=0,M$349,O349)/100/0.69)-((0.02743*EXP((0.05527-0.000075*Inputs!E65)*Inputs!E65)-0.02743*EXP((0.05527-0.000075*(Inputs!E65-1))*(Inputs!E65-1)))/1000))*Inputs!F$115*365/1000*2.29","v":0.28858708085618706},{"$f":"((Inputs!G$122*Inputs!G$149*IF(O349=0,M$349,O349)/100/0.73)-(IF(Inputs!$C$23=4,(0.02743*EXP((0.05527-0.000075*Inputs!F65)*Inputs!F65)-0.02743*EXP((0.05527-0.000075*(Inputs!F65-1))*(Inputs!F65-1)))/1000,(1.2+(4.635*Inputs!C60^0.22)*(Inputs!F60^(-0.22)))*Inputs!F66/1000)))*Inputs!G$115*365/1000*2.29","v":0.35529233361885915},{"$f":"((Inputs!H$122*Inputs!H$149*IF(O349=0,M$349,O349)/100/0.695)-(((((1.2+(4.635*D151^0.22)*(Inputs!G60^(-0.22)))*Inputs!G66))+IF(Inputs!G65>190,(0.02743*EXP((0.05527-0.000075*InputsH79)*Inputs!G65)-0.02743*EXP((0.05527-0.000075*(Inputs!G65-1))*Inputs!G65-1)),0))/1000))*Inputs!H$115*365/1000*2.29","v":0.93086930485430108},5.5173600595057888,null,null,null,null,null,null,null,null,null,null,null,null,null,null,null,null,null,null,null,null,null,null,null,null,"LU5",6.6234028382672676,9.4383684317502805,0,3.4331419696856158,0,null,null,"LU5",{"$f":"AZ302*AU327","v":9.8806347014342251},{"$f":"BA302*AV327","v":0},{"$f":"BB302*AW327","v":0},{"$f":"BC302*AX327","v":6.9193652985655598},{"$f":"BD302*AY327","v":0},{"$f":"SUM(AZ314:BD314)","v":16.799999999999784},{"$f":"IF(OR(AT314>0,AU314>0),BE314*$AS$304,0)","v":0},null,null,null,"N,  kg",null,{"$f":"SUMPRODUCT($G$100:$I$100,$AB$296:$AD$296,$AB$297:$AD$297)*10","v":2712.9001475463378},{"$f":"+SUMPRODUCT($G$101:$I$101,$AB$296:$AD$296,$AB$297:$AD$297)*10","v":0},{"$f":"+SUMPRODUCT($G$102:$I$102,$AB$296:$AD$296,$AB$297:$AD$297)*10","v":5573.6630002301727},{"$f":"+SUMPRODUCT($G$103:$I$103,$AB$296:$AD$296,$AB$297:$AD$297)*10","v":0},{"$f":"+SUMPRODUCT($G$104:$I$104,$AB$296:$AD$296,$AB$297:$AD$297)*10","v":7577.8263889926975},{"$f":"SUM(BL314:BP314)","v":15864.389536769209},{"$f":"(AG324+AG335)*1000-BQ314","v":-2.0008883439004421E-11},{"$f":"BR314","v":-2.0008883439004421E-11},{"$f":"SUM(BQ314:BR314)","v":15864.389536769189}]
[null,null,null,null,null,null,null,null,null,null,null,"K2O, ton/yr",{"$f":"(Inputs!D$122*Inputs!D$156*IF(O350=0,M$350,O350)/100+M495/1000-1.5*Inputs!C61/1000)*Inputs!D$115*365/1000*1.2","v":4.3975848137252305},{"$f":"(Inputs!E$122*Inputs!E$156*IF(O350=0,M$350,O350)/100+N495/1000-(1.027+1.5*Inputs!D61)/1000)*Inputs!E$115*365/1000*1.2","v":5.4015437265641459},{"$f":"(Inputs!F$122*Inputs!F$156*IF(O350=0,M$350,O350)/100+O495/1000-1.027/1000)*Inputs!F$115*365/1000*1.2","v":0.49693384549887665},{"$f":"(Inputs!G$122*Inputs!G$156*IF(O350=0,M$350,O350)/100+P495/1000-IF(Inputs!$C$23=4,1.027/1000,1.6*Inputs!F66/1000))*Inputs!G$115*365/1000*1.2","v":0.49835775662751308},{"$f":"(Inputs!H$122*Inputs!H$156*IF(O350=0,M$350,O350)/100+Q495/1000-(1.6*Inputs!G66+IF(Inputs!G65>190,1.027,0))/1000)*Inputs!H$115*365/1000*1.2","v":1.3378661340240263},12.132286276439793,null,null,null,null,null,null,null,null,null,null,null,null,null,null,null,null,null,null,null,null,null,null,null,null,null,null,null,null,null,null,null,null,null,null,null,null,null,null,null,null,null,null,null,"P2O5,  kg",null,{"$f":"SUMPRODUCT($G$100:$I$100,$AB$296:$AD$296,$AB$298:$AD$298)*10","v":943.4997095102716},{"$f":"+SUMPRODUCT($G$101:$I$101,$AB$296:$AD$296,$AB$298:$AD$298)*10","v":0},{"$f":"+SUMPRODUCT($G$102:$I$102,$AB$296:$AD$296,$AB$298:$AD$298)*10","v":1938.4235082819225},{"$f":"+SUMPRODUCT($G$103:$I$103,$AB$296:$AD$296,$AB$298:$AD$298)*10","v":0},{"$f":"+SUMPRODUCT($G$104:$I$104,$AB$296:$AD$296,$AB$298:$AD$298)*10","v":2635.4368417136002},{"$f":"SUM(BL315:BP315)","v":5517.3600595057942},{"$f":"(AG325+AG336)*1000-BQ315","v":0},{"$f":"BR315/2.29","v":0},{"$f":"SUM(BQ315:BR315)","v":5517.3600595057942}]
[null,null,null,null,null,null,null,null,null,null,null,"Na, ton/yr",{"$f":"(Inputs!D$122*Inputs!D$162*IF(O351=0,$M$351,O351)/100/0.9+M496/1000-0.63*Inputs!C61/1000)*Inputs!D$115*365/1000","v":1.5115552836459523},{"$f":"(Inputs!E$122*Inputs!E$162*IF(O351=0,$M$351,O351)/100/0.9+N496/1000-(0.63*Inputs!D61+IF(Inputs!D65>190,1.39,0))/1000)*Inputs!E$115*365/1000","v":1.7876381094835405},{"$f":"(Inputs!F$122*Inputs!F$162*IF(O351=0,$M$351,O351)/100/0.9+O496/1000-IF(Inputs!E65>190,1.39,0)/1000)*Inputs!F$115*365/1000","v":0.15823567201670527},{"$f":"(Inputs!G$122*Inputs!G$162*IF(O351=0,$M$351,O351)/100/0.9+P496/1000-IF(Inputs!$C$23=4,1.39/1000,1.4*Inputs!F66/1000))*Inputs!G$115*365/1000","v":0.15193176320269258},{"$f":"(Inputs!H$122*Inputs!H$162*IF(O351=0,$M$351,O351)/100/0.9+Q496/1000-(1.4*Inputs!G66+IF(Inputs!G65>190,1.39,0))/1000)*Inputs!H$115*365/1000","v":0.36839011017145157},3.9777509385203422,null,null,null,null,null,null,null,null,null,null,null,null,null,null,null,null,null,null,null,null,null,null,null,null,null,null,null,null,null,null,null,null,null,null,null,null,null,null,null,null,null,null,null,"K2O, kg",null,{"$f":"SUMPRODUCT($G$100:$I$100,$AB$296:$AD$296,$AB$299:$AD$299)*10","v":2074.6894264757725},{"$f":"+SUMPRODUCT($G$101:$I$101,$AB$296:$AD$296,$AB$299:$AD$299)*10","v":0},{"$f":"+SUMPRODUCT($G$102:$I$102,$AB$296:$AD$296,$AB$299:$AD$299)*10","v":4262.4568043078925},{"$f":"+SUMPRODUCT($G$103:$I$103,$AB$296:$AD$296,$AB$299:$AD$299)*10","v":0},{"$f":"+SUMPRODUCT($G$104:$I$104,$AB$296:$AD$296,$AB$299:$AD$299)*10","v":5795.1400456561423},{"$f":"SUM(BL316:BP316)","v":12132.286276439807},{"$f":"(AG326+AG337)*1000-BQ316","v":-1.4551915228366852E-11},{"$f":"BR316*0.833","v":-1.2121745385229587E-11},{"$f":"SUM(BQ316:BR316)","v":12132.286276439792}]
[null,null,null,null,null,null,null,null,null,null,null,"Cl, ton/yr",{"$f":"(((Inputs!D$122*Inputs!D$165*IF(O352=0,$M$352,O352)/100/0.9)+M497/1000-1.15*Inputs!C61/1000)*Inputs!D$115*365/1000)","v":3.0680765266947594},{"$f":"(((Inputs!E$122*Inputs!E$165*IF(O352=0,$M$352,O352)/100/0.9)+N497/1000-IF(Inputs!D65>190,1+1.15*Inputs!D61)/1000)*Inputs!E$115*365/1000)","v":3.6388172232033558},{"$f":"(((Inputs!F$122*Inputs!F$165*IF(O352=0,$M$352,O352)/100/0.9)+O497/1000-IF(Inputs!E65>190,1/1000))*Inputs!F$115*365/1000)","v":0.35752242423334035},{"$f":"(((Inputs!G$122*Inputs!G$165*IF(O352=0,$M$352,O352)/100/0.9)+P497/1000-IF(Inputs!$C$23=4,IF(Inputs!F65>190,1),(1*Inputs!F66))/1000)*Inputs!G$115*365/1000)","v":0.31521351055169644},{"$f":"(((Inputs!H$122*Inputs!H$165*IF(O352=0,$M$352,O352)/100/0.9)+Q497/1000-((1*Inputs!G66)+IF(Inputs!G65>190,1))/1000)*Inputs!H$115*365/1000)","v":0.8205781513670195},8.200207836050172]
[null,null,null,null,null,null,null,null,null,null,null,"S, ton/yr",{"$f":"(((Inputs!D$122*Inputs!D$168*IF(O353=0,$M$353,O353)/100)+M498/1000-0.142*Inputs!C61/1000)*Inputs!D$115*365/1000)","v":1.0094953605533508},{"$f":"(((Inputs!E$122*Inputs!E$168*IF(O353=0,$M$353,O353)/100)+N498/1000-0.142*Inputs!C61/1000)*Inputs!E$115*365/1000)","v":1.2383045515356961},{"$f":"(((Inputs!F$122*Inputs!F$168*IF(O353=0,$M$353,O353)/100)+O498/1000-0)*Inputs!F$115*365/1000)","v":0.20439743127429211},{"$f":"(((Inputs!G$122*Inputs!G$168*IF(O353=0,$M$353,O353)/100)+P498/1000-IF(Inputs!$C$23=4,0,1.5*Inputs!F66/1000))*Inputs!G$115*365/1000)","v":0.22116047898965957},{"$f":"(((Inputs!H$122*Inputs!H$168*IF(O353=0,$M$353,O353)/100)+Q498/1000-(1.5*Inputs!G66)/1000)*Inputs!H$115*365/1000)","v":0.59998831569317601},3.2733461380461746,null,null,null,null,null,null,null,null,null,null,null,null,null,null,null,null,null,null,null,null,null,null,null,null,null,null,null,null,null,null,null,null,null,null,null,null,null,null,null,null,null,null,null,"Recommended Fertilization (nutrient need)"]
[null,null,null,null,null,null,null,null,null,null,null,"N:P2O5",{"$f":"M313/M314","v":4.1728186791583264},{"$f":"N313/N314","v":4.0448489463393118},{"$f":"O313/O314","v":4.2317819774636352},{"$f":"P313/P314","v":5.5433506012503511},{"$f":"Q313/Q314","v":4.3858213819286833},null,null,null,null,null,null,null,null,null,null,null,null,null,null,null,null,null,null,null,null,null,null,null,null,null,null,null,null,null,null,null,null,null,null,null,null,null,null,null,null,null,null,null,null,"N,  kg/ha",null,{"$f":"SUMPRODUCT($B$84:$F$84,M394:Q394)","v":25.200000000000173},{"$f":"SUMPRODUCT($B$84:$F$84,M414:Q414)","v":26.20000000000018},{"$f":"SUMPRODUCT($B$84:$F$84,M434:Q434)","v":27.200000000000188},{"$f":"SUMPRODUCT($B$84:$F$84,M454:Q454)","v":28.200000000000195},{"$f":"SUMPRODUCT($B$84:$F$84,M474:Q474)","v":29.200000000000202}]
[null,null,null,null,null,null,null,null,null,null,null,null,null,null,null,null,null,null,null,null,null,null,null,null,null,null,null,null,null,null,null,null,null,null,null,null,null,null,null,null,null,null,null,null,null,null,null,null,"ROTATION",null,null,null,null,null,null,null,null,null,null,null,null,"P2O5,  kg/ha",null,{"$f":"SUMPRODUCT($B$84:$F$84,M395:Q395)","v":28.208504814670281},{"$f":"SUMPRODUCT($B$84:$F$84,M415:Q415)","v":45.600000000000314},{"$f":"SUMPRODUCT($B$84:$F$84,M435:Q435)","v":63.000000000000433},{"$f":"SUMPRODUCT($B$84:$F$84,M455:Q455)","v":84.80000000000058},{"$f":"SUMPRODUCT($B$84:$F$84,M475:Q475)","v":98.200000000000685}]
[null,null,null,null,null,null,null,null,null,null,"Nutrient collected in storage facility",null,null,null,null,null,null,null,null,"Manure nutrients available to plant uptake",null,null,null,null,null,null,null,"Nutrients remaining in manure before field application and for exportation",null,null,null,null,null,null,null,null,null,null,null,null,null,null,null,null,null,null,null,null,null,null,null,null,null,null,null,null,null,null,null,null,null,"K2O, kg/ha",null,{"$f":"SUMPRODUCT($B$84:$F$84,M396:Q396)","v":73.400000000000517},{"$f":"SUMPRODUCT($B$84:$F$84,M416:Q416)","v":105.00000000000072},{"$f":"SUMPRODUCT($B$84:$F$84,M436:Q436)","v":136.40000000000094},{"$f":"SUMPRODUCT($B$84:$F$84,M456:Q456)","v":168.00000000000117},{"$f":"SUMPRODUCT($B$84:$F$84,M476:Q476)","v":199.40000000000137}]
[null,null,null,null,null,null,null,null,null,null,null,null,null,null,null,null,null,null,null,"(after collection, storage and spreading losses)",null,null,null,null,null,null,null,"(after collection and storage losses)",null,null,null,null,null,null,null,null,null,null,null,null,null,null,null,null,null,"years in the rotation",{"$f":"Inputs!W255","v":1},{"$f":"Inputs!X255","v":3},{"$f":"Inputs!Y255","v":5},{"$f":"Inputs!Z255","v":8},{"$f":"Inputs!AA255","v":8}]
[null,null,null,null,null,null,null,null,null,null,null,"Animal group",1,2,3,4,5,"Total","Animal group",1,2,3,4,5,"Total",null,"Animal group",1,2,3,4,5,"Total",null,null,null,null,null,null,null,null,null,null,null,null,"Max. frequency of N application, yr",{"$f":"Inputs!W254","v":3},{"$f":"Inputs!X254","v":3},{"$f":"Inputs!Y254","v":3},{"$f":"Inputs!Z254","v":2},{"$f":"Inputs!AA254","v":2},null,null,null,null,null,null,null,null,null,null,"Crop P removal,kg/ha",null,{"$f":"SUMPRODUCT($B$84:$F$84,M397:Q397)*M380","v":1646.1572201334259},{"$f":"SUMPRODUCT($B$84:$F$84,M417:Q417)*M381","v":0},{"$f":"SUMPRODUCT($B$84:$F$84,M437:Q437)*M382","v":1646.1572201334259},{"$f":"SUMPRODUCT($B$84:$F$84,M457:Q457)*M383","v":0},{"$f":"SUMPRODUCT($B$84:$F$84,M477:Q477)*M384","v":1646.1572201334259}]
[null,null,null,null,null,null,null,null,null,null,null,"N, ton/yr",{"$f":"M313/365*(365-Inputs!D$173)+M313/365*Inputs!D$173*(100-Inputs!D$174)%","v":7.5238907134232171},{"$f":"N313/365*(365-Inputs!E$173)+N313/365*Inputs!E$173*(100-Inputs!E$174)%","v":8.6541151983602145},{"$f":"O313/365*(365-Inputs!F$173)+O313/365*Inputs!F$173*(100-Inputs!F$174)%","v":1.2212376076960532},{"$f":"P313/365*(365-Inputs!G$173)+P313/365*Inputs!G$173*(100-Inputs!G$174)%","v":1.9695099711857431},{"$f":"Q313/365*(365-Inputs!H$173)+Q313/365*Inputs!H$173*(100-Inputs!H$174)%","v":4.0826265010110836},{"$f":"SUM(M324:Q324)","v":23.451379991676312},"N, ton/yr",{"$f":"AC358*M324","v":1.8516756254216158},{"$f":"AC359*N324","v":2.1298307993502856},{"$f":"AC360*O324","v":0.30055406134283486},{"$f":"AC361*P324","v":0.48470847684737395},{"$f":"AC362*Q324","v":1.0047594080726687},{"$f":"SUM(T324:X324)","v":5.7715283710347798},null,"N, ton/yr",{"$f":"$AF358*M324","v":5.089761589816538},{"$f":"$AF359*N324","v":5.8543358493867172},{"$f":"$AF360*O324","v":0.82614281685422597},{"$f":"$AF361*P324","v":1.3323341053077316},{"$f":"$AF362*Q324","v":2.7618151754039779},{"$f":"SUM(AB324:AF324)","v":15.86438953676919},null,null,null,null,null,null,null,null,null,"Frequency of spreading N fertilizers (yr of N requiring crop in the rotation / year in rotation)",null,null,null,null,null,null,null,null,null,null,null,null,null,null,null,null,null,null,"Total P applied, kg/ha",null,{"$f":"(BL315+BL301)/2.29","v":727.95570617115425},{"$f":"(BM315+BM301)/2.29","v":0},{"$f":"(BN315+BN301)/2.29","v":1601.1310533425797},{"$f":"(BO315+BO301)/2.29","v":0},{"$f":"(BP315+BP301)/2.29","v":2481.3109813609358}]
[null,null,null,null,null,null,null,null,null,null,null,"P2O5, ton/yr",{"$f":"M314/365*(365-Inputs!D$173)+M314/365*Inputs!D$173*(100-Inputs!D$174)%","v":1.8030715667091519},{"$f":"N314/365*(365-Inputs!E$173)+N314/365*Inputs!E$173*(100-Inputs!E$174)%","v":2.139539773467289},{"$f":"O314/365*(365-Inputs!F$173)+O314/365*Inputs!F$173*(100-Inputs!F$174)%","v":0.28858708085618706},{"$f":"P314/365*(365-Inputs!G$173)+P314/365*Inputs!G$173*(100-Inputs!G$174)%","v":0.35529233361885915},{"$f":"Q314/365*(365-Inputs!H$173)+Q314/365*Inputs!H$173*(100-Inputs!H$174)%","v":0.93086930485430108},5.5173600595057888,"P2O5, ton/yr",{"$f":"AC365*M325","v":1.3342729593647726},{"$f":"AC366*N325","v":1.583259432365794},{"$f":"AC367*O325","v":0.21355443983357847},{"$f":"AC368*P325","v":0.2629163268779558},{"$f":"AC369*Q325","v":0.68884328559218289},4.082846444034284,null,"P2O5, ton/yr",{"$f":"$AF365*M325","v":1.8030715667091519},{"$f":"$AF366*N325","v":2.139539773467289},{"$f":"$AF367*O325","v":0.28858708085618706},{"$f":"$AF368*P325","v":0.35529233361885915},{"$f":"$AF369*Q325","v":0.93086930485430108},5.5173600595057888,null,null,null,null,null,null,null,null,null,null,null,null,null,{"$f":"AU323/AU322","v":3},{"$f":"AV323/AV322","v":1},{"$f":"AW323/AW322","v":0.6},{"$f":"AX323/AX322","v":0.25},{"$f":"AY323/AY322","v":0.25},null,null,null,null,null,null,null,null,null,null,"Change in soil test P, ppm",null,{"$f":"IF(M380=0,\"\",(BL324-BL323)/M380/8.8)","v":-2.0702595462713553},{"$f":"IF(M381=0,\"\",(BM324-BM323)/M381/8.8)","v":""},{"$f":"IF(M382=0,\"\",(BN324-BN323)/M382/8.8)","v":-0.10152003695627304},{"$f":"IF(M383=0,\"\",(BO324-BO323)/M383/8.8)","v":""},{"$f":"IF(M384=0,\"\",(BP324-BP323)/M384/8.8)","v":1.8830126290302802}]
[null,null,null,null,null,null,null,null,null,null,null,"K2O, ton/yr",{"$f":"M315/365*(365-Inputs!D$173)+M315/365*Inputs!D$173*(100-Inputs!D$174)%","v":4.3975848137252305},{"$f":"N315/365*(365-Inputs!E$173)+N315/365*Inputs!E$173*(100-Inputs!E$174)%","v":5.4015437265641459},{"$f":"O315/365*(365-Inputs!F$173)+O315/365*Inputs!F$173*(100-Inputs!F$174)%","v":0.49693384549887659},{"$f":"P315/365*(365-Inputs!G$173)+P315/365*Inputs!G$173*(100-Inputs!G$174)%","v":0.49835775662751314},{"$f":"Q315/365*(365-Inputs!H$173)+Q315/365*Inputs!H$173*(100-Inputs!H$174)%","v":1.3378661340240263},12.132286276439793,"K2O, ton/yr",{"$f":"AC372*M326","v":3.775766321064483},{"$f":"AC373*N326","v":4.637765443627976},{"$f":"AC374*O326","v":0.42666739974533546},{"$f":"AC375*P326","v":0.4278899698403828},{"$f":"AC376*Q326","v":1.1486918626730291},10.416780996951207,null,"K2O, ton/yr",{"$f":"$AF372*M326","v":4.3975848137252305},{"$f":"$AF373*N326","v":5.4015437265641459},{"$f":"$AF374*O326","v":0.49693384549887659},{"$f":"$AF375*P326","v":0.49835775662751314},{"$f":"$AF376*Q326","v":1.3378661340240263},12.132286276439793,null,null,null,null,null,null,null,null,null,"Frequency of spreading P K fertilizer ( once every three years)",null,null,null,null,null,null,null,null,null,null,null,null,null,null,null,null,null,null,null,null,"1ppm = 8.8 kg of P per hectare"]
[null,null,null,null,null,null,null,null,null,null,null,"Na, ton/yr",{"$f":"M316/365*(365-Inputs!D$173)+M316/365*Inputs!D$173*(100-Inputs!D$174)%","v":1.511555283645952},{"$f":"N316/365*(365-Inputs!E$173)+N316/365*Inputs!E$173*(100-Inputs!E$174)%","v":1.7876381094835405},{"$f":"O316/365*(365-Inputs!F$173)+O316/365*Inputs!F$173*(100-Inputs!F$174)%","v":0.15823567201670527},{"$f":"P316/365*(365-Inputs!G$173)+P316/365*Inputs!G$173*(100-Inputs!G$174)%","v":0.15193176320269258},{"$f":"Q316/365*(365-Inputs!H$173)+Q316/365*Inputs!H$173*(100-Inputs!H$174)%","v":0.36839011017145157},3.9777509385203418,"Na, ton/yr",{"$f":"M327*BB358","v":1.511555283645952},{"$f":"N327*BB359","v":1.7876381094835405},{"$f":"O327*BB360","v":0.15823567201670527},{"$f":"P327*BB361","v":0.15193176320269258},{"$f":"Q327*BB362","v":0.36839011017145157},3.9777509385203418,null,"Na, ton/yr",{"$f":"M327*BE358","v":1.511555283645952},{"$f":"N327*BE359","v":1.7876381094835405},{"$f":"O327*BE360","v":0.15823567201670527},{"$f":"P327*BE361","v":0.15193176320269258},{"$f":"Q327*BE362","v":0.36839011017145157},3.9777509385203418,null,null,null,null,null,null,null,null,null,null,null,null,null,{"$f":"1/3","v":0.33333333333333331},{"$f":"1/3","v":0.33333333333333331},{"$f":"1/3","v":0.33333333333333331},{"$f":"1/3","v":0.33333333333333331},{"$f":"1/3","v":0.33333333333333331}]
[null,null,null,null,null,null,null,null,null,null,null,"Cl, ton/yr",{"$f":"M317/365*(365-Inputs!D$173)+M317/365*Inputs!D$173*(100-Inputs!D$174)%","v":3.0680765266947598},{"$f":"N317/365*(365-Inputs!E$173)+N317/365*Inputs!E$173*(100-Inputs!E$174)%","v":3.6388172232033553},{"$f":"O317/365*(365-Inputs!F$173)+O317/365*Inputs!F$173*(100-Inputs!F$174)%","v":0.35752242423334035},{"$f":"P317/365*(365-Inputs!G$173)+P317/365*Inputs!G$173*(100-Inputs!G$174)%","v":0.31521351055169644},{"$f":"Q317/365*(365-Inputs!H$173)+Q317/365*Inputs!H$173*(100-Inputs!H$174)%","v":0.82057815136701939},8.200207836050172,"Cl, ton/yr",{"$f":"M328*BB365","v":3.0680765266947598},{"$f":"N328*BB366","v":3.6388172232033553},{"$f":"O328*BB367","v":0.35752242423334035},{"$f":"P328*BB368","v":0.31521351055169644},{"$f":"Q328*BB369","v":0.82057815136701939},8.200207836050172,null,"Cl, ton/yr",{"$f":"M328*BE365","v":3.0680765266947598},{"$f":"N328*BE366","v":3.6388172232033553},{"$f":"O328*BE367","v":0.35752242423334035},{"$f":"P328*BE368","v":0.31521351055169644},{"$f":"Q328*BE369","v":0.82057815136701939},8.200207836050172]
[null,null,null,null,null,null,null,null,null,null,null,"S, ton/yr",{"$f":"M318/365*(365-Inputs!D$173)+M318/365*Inputs!D$173*(100-Inputs!D$174)%","v":1.0094953605533508},{"$f":"N318/365*(365-Inputs!E$173)+N318/365*Inputs!E$173*(100-Inputs!E$174)%","v":1.2383045515356961},{"$f":"O318/365*(365-Inputs!F$173)+O318/365*Inputs!F$173*(100-Inputs!F$174)%","v":0.20439743127429211},{"$f":"P318/365*(365-Inputs!G$173)+P318/365*Inputs!G$173*(100-Inputs!G$174)%","v":0.22116047898965957},{"$f":"Q318/365*(365-Inputs!H$173)+Q318/365*Inputs!H$173*(100-Inputs!H$174)%","v":0.59998831569317601},3.2733461380461746,"S, ton/yr",{"$f":"M329*BB372","v":1.0094953605533508},{"$f":"N329*BB373","v":1.2383045515356961},{"$f":"O329*BB374","v":0.20439743127429211},{"$f":"P329*BB375","v":0.22116047898965957},{"$f":"Q329*BB376","v":0.59998831569317601},3.2733461380461746,null,"S, ton/yr",{"$f":"M329*BE372","v":1.0094953605533508},{"$f":"N329*BE373","v":1.2383045515356961},{"$f":"O329*BE374","v":0.20439743127429211},{"$f":"P329*BE375","v":0.22116047898965957},{"$f":"Q329*BE376","v":0.59998831569317601},3.2733461380461746,null,null,null,null,null,null,null,null,null,null,null,null,null,null,null,null,null,null,null,null,null,null,null,null,null,null,null,null,"Coefficients used in GHG computation"]
[null,null,null,null,null,null,null,null,null,null,null,"N:P2O5",{"$f":"M324/M325","v":4.1728186791583264},{"$f":"N324/N325","v":4.0448489463393118},{"$f":"O324/O325","v":4.2317819774636352},{"$f":"P324/P325","v":5.5433506012503511},{"$f":"Q324/Q325","v":4.3858213819286833},null,"N:P2O5",{"$f":"T324/T325","v":1.3877787243047861},{"$f":"U324/U325","v":1.3452190814791323},{"$f":"V324/V325","v":1.4073884934307832},{"$f":"W324/W325","v":1.8435845449505794},{"$f":"X324/X325","v":1.4586182794957492},null,null,"N:P2O5",{"$f":"AB324/AB325","v":2.8228283800770244},{"$f":"AC324/AC325","v":2.7362594152196178},{"$f":"AD324/AD325","v":2.8627158721145993},{"$f":"AE324/AE325","v":3.7499658147338377},{"$f":"AF324/AF325","v":2.9669204484471159},null,null,null,null,null,null,null,null,null,null,null,null,null,null,null,null,null,null,null,null,null,null,null,null,null,null,null,null,null,null,null,null,null,null,null,"Animal groups"]
[null,null,null,null,null,null,null,null,null,null,null,null,null,null,null,null,null,null,null,null,null,null,null,null,null,null,null,null,null,null,null,null,null,null,null,null,null,null,null,null,null,null,null,null,null,null,null,null,null,null,null,null,null,null,null,null,null,null,null,null,null,null,null,null,null,1,2,3,4,5]
[null,null,null,null,null,null,null,null,null,null,"Nutrient excreted on pasture",null,null,null,null,null,null,null,null,null,null,null,null,null,null,null,null,"Nutrients remaining in manure before field application",null,null,null,null,null,null,null,null,null,null,null,null,null,null,null,null,null,null,null,null,null,null,null,null,null,null,null,null,null,null,null,null,null,"CH4 enteric, Ym, %",null,null,null,{"$f":"Inputs!$G$455","v":6.5},{"$f":"Inputs!$G$455","v":6.5},{"$f":"Inputs!$G$455","v":6.5},{"$f":"IF(Inputs!$C$23=3,Inputs!$G$454,Inputs!$G$455)","v":6.5},{"$f":"Inputs!$G$454","v":6.5}]
[null,null,null,null,null,null,null,null,null,null,null,null,null,null,null,null,null,null,null,"Manure nutrients available to plant uptake (pasture)",null,null,null,null,null,null,null,"(after collection and storage losses)",null,null,null,null,null,null,null,null,null,null,null,null,null,null,null,null,null,null,null,null,null,null,null,null,null,null,null,null,null,null,null,null,null,"CH4 manure management, MCF",null,null,null,{"$f":"IF(Inputs!$E$272=\"Liquid\",Inputs!G458,Inputs!G459)","v":0.2},{"$f":"IF(Inputs!$E$273=\"Liquid\",Inputs!G458,Inputs!G459)","v":0.2},{"$f":"IF(Inputs!$E$274=\"Liquid\",Inputs!G458,Inputs!G459)","v":0.2},{"$f":"IF(Inputs!$E$275=\"Liquid\",Inputs!G458,Inputs!G459)","v":0.2},{"$f":"IF(Inputs!$E$276=\"Liquid\",Inputs!G458,Inputs!G459)","v":0.2}]
[null,null,null,null,null,null,null,null,null,null,null,"Animal group",1,2,3,4,5,"Total","Animal group",1,2,3,4,5,"Total",null,"Animal group",1,2,3,4,5,"Total",null,null,null,null,null,null,null,null,null,null,null,null,null,null,null,null,null,null,null,null,null,null,null,null,null,null,null,null,"CH4 manure management, MCF (pasture)",null,null,null,{"$f":"Inputs!$G$460","v":0.01},{"$f":"Inputs!$G$460","v":0.01},{"$f":"Inputs!$G$460","v":0.01},{"$f":"Inputs!$G$460","v":0.01},{"$f":"Inputs!$G$460","v":0.01}]
[null,null,null,null,null,null,null,null,null,null,null,"N, ton/yr",{"$f":"M313/365*Inputs!D$173*Inputs!D$174%","v":0},{"$f":"N313/365*Inputs!E$173*Inputs!E$174%","v":0},{"$f":"O313/365*Inputs!F$173*Inputs!F$174%","v":0},{"$f":"P313/365*Inputs!G$173*Inputs!G$174%","v":0},{"$f":"Q313/365*Inputs!H$173*Inputs!H$174%","v":0},{"$f":"SUM(M335:Q335)","v":0},"N, ton/yr",{"$f":"M335*Inputs!$V$291*Inputs!$V$300","v":0},{"$f":"N335*Inputs!$V$291*Inputs!$V$300","v":0},{"$f":"O335*Inputs!$V$291*Inputs!$V$300","v":0},{"$f":"P335*Inputs!$V$291*Inputs!$V$300","v":0},{"$f":"Q335*Inputs!$V$291*Inputs!$V$300","v":0},{"$f":"SUM(T335:X335)","v":0},null,"N, ton/yr",{"$f":"M335","v":0},{"$f":"N335","v":0},{"$f":"O335","v":0},{"$f":"P335","v":0},{"$f":"Q335","v":0},{"$f":"SUM(AB335:AF335)","v":0},null,null,null,null,null,null,null,null,null,null,null,null,null,null,null,null,null,null,null,null,null,null,null,null,null,null,null,null,"N2O manure management, %",null,null,null,{"$f":"IF(Inputs!$E$272=\"Liquid\",Inputs!H462,Inputs!H463)","v":0.1},{"$f":"IF(Inputs!$E$273=\"Liquid\",Inputs!H462,Inputs!H463)","v":0.1},{"$f":"IF(Inputs!$E$274=\"Liquid\",Inputs!H462,Inputs!H463)","v":0.1},{"$f":"IF(Inputs!$E$275=\"Liquid\",Inputs!H462,Inputs!H463)","v":0.1},{"$f":"IF(Inputs!$E$276=\"Liquid\",Inputs!H462,Inputs!H463)","v":0.1}]
[null,null,null,null,null,null,null,null,null,null,null,"P2O5, ton/yr",{"$f":"M314/365*Inputs!D$173*Inputs!D$174%","v":0},{"$f":"N314/365*Inputs!E$173*Inputs!E$174%","v":0},{"$f":"O314/365*Inputs!F$173*Inputs!F$174%","v":0},{"$f":"P314/365*Inputs!G$173*Inputs!G$174%","v":0},{"$f":"Q314/365*Inputs!H$173*Inputs!H$174%","v":0},0,"P2O5, ton/yr",{"$f":"M336*Inputs!$W$291*Inputs!$W$300","v":0},{"$f":"N336*Inputs!$W$291*Inputs!$W$300","v":0},{"$f":"O336*Inputs!$W$291*Inputs!$W$300","v":0},{"$f":"P336*Inputs!$W$291*Inputs!$W$300","v":0},{"$f":"Q336*Inputs!$W$291*Inputs!$W$300","v":0},0,null,"P2O5, ton/yr",{"$f":"M336","v":0},{"$f":"N336","v":0},{"$f":"O336","v":0},0,0,0,null,null,null,null,null,null,null,null,null,null,null,null,null,null,null,null,null,null,null,null,null,null,null,null,null,null,null,null,"N2O manure management (Pasture), %",null,null,null,{"$f":"Inputs!$H$464","v":2},{"$f":"Inputs!$H$464","v":2},{"$f":"Inputs!$H$464","v":2},{"$f":"Inputs!$H$464","v":2},{"$f":"Inputs!$H$464","v":2}]
[null,null,null,null,null,null,null,null,null,null,null,"K2O, ton/yr",{"$f":"M315/365*Inputs!D$173*Inputs!D$174%","v":0},{"$f":"N315/365*Inputs!E$173*Inputs!E$174%","v":0},{"$f":"O315/365*Inputs!F$173*Inputs!F$174%","v":0},{"$f":"P315/365*Inputs!G$173*Inputs!G$174%","v":0},{"$f":"Q315/365*Inputs!H$173*Inputs!H$174%","v":0},0,"K2O, ton/yr",{"$f":"M337*Inputs!$X$291*Inputs!$X$300","v":0},{"$f":"N337*Inputs!$X$291*Inputs!$X$300","v":0},{"$f":"O337*Inputs!$X$291*Inputs!$X$300","v":0},{"$f":"P337*Inputs!$X$291*Inputs!$X$300","v":0},{"$f":"Q337*Inputs!$X$291*Inputs!$X$300","v":0},0,null,"K2O, ton/yr",0,0,0,0,0,0,null,null,null,null,null,null,null,null,null,null,null,null,null,null,null,null,null,null,null,null,null,null,null,null,null,null,null,null,"Manure N volatilization, (%)",null,null,null,{"$f":"IF(Inputs!$E$272=\"Liquid\",Inputs!H470,Inputs!H471)","v":40},{"$f":"IF(Inputs!$E$273=\"Liquid\",Inputs!H470,Inputs!H471)","v":40},{"$f":"IF(Inputs!$E$274=\"Liquid\",Inputs!H470,Inputs!H471)","v":40},{"$f":"IF(Inputs!$E$275=\"Liquid\",Inputs!H470,Inputs!H471)","v":40},{"$f":"IF(Inputs!$E$276=\"Liquid\",Inputs!H470,Inputs!H471)","v":40}]
[null,null,null,null,null,null,null,null,null,null,null,"Na, ton/yr",{"$f":"M316/365*Inputs!D$173*Inputs!D$174%","v":0},{"$f":"N316/365*Inputs!E$173*Inputs!E$174%","v":0},{"$f":"O316/365*Inputs!F$173*Inputs!F$174%","v":0},{"$f":"P316/365*Inputs!G$173*Inputs!G$174%","v":0},{"$f":"Q316/365*Inputs!H$173*Inputs!H$174%","v":0},0,"Na, ton/yr",{"$f":"M338*Inputs!$Y$291*Inputs!$Y$300","v":0},{"$f":"N338*Inputs!$Y$291*Inputs!$Y$300","v":0},{"$f":"O338*Inputs!$Y$291*Inputs!$Y$300","v":0},{"$f":"P338*Inputs!$Y$291*Inputs!$Y$300","v":0},{"$f":"Q338*Inputs!$Y$291*Inputs!$Y$300","v":0},0,null,"Na, ton/yr",0,0,0,0,0,0]
[null,null,null,null,null,null,null,null,null,null,null,"Cl, ton/yr",{"$f":"M317/365*Inputs!D$173*Inputs!D$174%","v":0},{"$f":"N317/365*Inputs!E$173*Inputs!E$174%","v":0},{"$f":"O317/365*Inputs!F$173*Inputs!F$174%","v":0},{"$f":"P317/365*Inputs!G$173*Inputs!G$174%","v":0},{"$f":"Q317/365*Inputs!H$173*Inputs!H$174%","v":0},0,"Cl, ton/yr",{"$f":"M339*Inputs!$Z$291*Inputs!$Z$300","v":0},{"$f":"N339*Inputs!$Z$291*Inputs!$Z$300","v":0},{"$f":"O339*Inputs!$Z$291*Inputs!$Z$300","v":0},{"$f":"P339*Inputs!$Z$291*Inputs!$Z$300","v":0},{"$f":"Q339*Inputs!$Z$291*Inputs!$Z$300","v":0},0,null,"Cl, ton/yr",0,0,0,0,0,0]
[null,null,null,null,null,null,null,null,null,null,null,"S, ton/yr",{"$f":"M318/365*Inputs!D$173*Inputs!D$174%","v":0},{"$f":"N318/365*Inputs!E$173*Inputs!E$174%","v":0},{"$f":"O318/365*Inputs!F$173*Inputs!F$174%","v":0},{"$f":"P318/365*Inputs!G$173*Inputs!G$174%","v":0},{"$f":"Q318/365*Inputs!H$173*Inputs!H$174%","v":0},0,"S, ton/yr",{"$f":"M340*Inputs!$AA$291*Inputs!$AA$300","v":0},{"$f":"N340*Inputs!$AA$291*Inputs!$AA$300","v":0},{"$f":"O340*Inputs!$AA$291*Inputs!$AA$300","v":0},{"$f":"P340*Inputs!$AA$291*Inputs!$AA$300","v":0},{"$f":"Q340*Inputs!$AA$291*Inputs!$AA$300","v":0},0,null,"S, ton/yr",0,0,0,0,0,0]
[null,null,null,null,null,null,null,null,null,null,null,"N:P2O5",{"$f":"M335/M336","v":{"$error":"#DIV/0!"}},{"$f":"N335/N336","v":{"$error":"#DIV/0!"}},{"$f":"O335/O336","v":{"$error":"#DIV/0!"}},{"$f":"P335/P336","v":{"$error":"#DIV/0!"}},{"$f":"Q335/Q336","v":{"$error":"#DIV/0!"}},null,"N:P2O5",{"$f":"T335/T336","v":{"$error":"#DIV/0!"}},{"$f":"U335/U336","v":{"$error":"#DIV/0!"}},{"$f":"V335/V336","v":{"$error":"#DIV/0!"}},{"$f":"W335/W336","v":{"$error":"#DIV/0!"}},{"$f":"X335/X336","v":{"$error":"#DIV/0!"}},null,null,"N:P2O5",{"$error":"#DIV/0!"},{"$error":"#DIV/0!"},{"$error":"#DIV/0!"},{"$error":"#DIV/0!"},{"$error":"#DIV/0!"}]
[]
[]
[null,null,null,null,null,null,null,null,null,null,null,"Average Availability of P",{"$f":"(B192+B220)/SUMPRODUCT(B146:AA146,AE155:BD155)%","v":0.69501653066389779},{"$f":"(C192+C220)/SUMPRODUCT(B147:AA147,AE155:BD155)%","v":0.67632227024333358},{"$f":"(D192+D220)/SUMPRODUCT(B148:AA148,AE155:BD155)%","v":0.66058034554661815},{"$f":"(E192+E220)/SUMPRODUCT(B149:AA149,AE155:BD155)%","v":0.67661679578207523},{"$f":"(F192+F220)/SUMPRODUCT(B150:AA150,AE155:BD155)%","v":0.66031651998415519}]
[]
[null,null,null,null,null,null,null,null,null,null,"Manure composition correction factor for nutrient above minimum dietary needs as determined by first optimization"]
[null,null,null,null,null,null,null,null,null,null,null,null,"default","calculated","used","Ratio of nutrient in the rations"]
[null,null,null,null,null,null,null,null,null,null,null,"N",1.08,{"$f":"((SUMPRODUCT(B152:AA152*1000,AE148:BD148%)/6.25)/(SUMPRODUCT(Inputs!D145:H145/6.25,Inputs!D$125:H$125*1000)%))","v":1.1056983827135305},{"$f":"O30","v":1.1422116316017699},"relative to minimum dietary "]
[null,null,null,null,null,null,null,null,null,null,null,"P2O5",1.17,{"$f":"SUMPRODUCT(B152:AA152*1000,AE155:BD155%)/((Inputs!D149*Inputs!D$122*Inputs!D$115/M344+Inputs!E149*Inputs!E$122*Inputs!E$115/N344+Inputs!F149*Inputs!F$122*Inputs!F$115/O344+Inputs!G149*Inputs!G$122*Inputs!G$115/P344+Inputs!H149*Inputs!H$122*Inputs!H$115/Q344)*365/100)","v":1.1597458935698579},1.0655072476302658,"needs"]
[null,null,null,null,null,null,null,null,null,null,null,"K2O",1.57,{"$f":"SUMPRODUCT(B152:AA152*1000,AE157:BD157%)/(SUMPRODUCT(Inputs!D156:H156/0.9,Inputs!D$122:H$122,Inputs!D$115:H$115)*365/100)","v":1.7584698355899064},1.3503265943426155,"These coeffieients are used to adjust"]
[null,null,null,null,null,null,null,null,null,null,null,"Na",1.2,{"$f":"SUMPRODUCT(B152:AA152*1000,AE161:BD161%)/(SUMPRODUCT(Inputs!D162:H162/0.9,Inputs!D$122:H$122,Inputs!D$115:H$115)*365/100)","v":1.0165717062001487},2.2002084841826646,"manure composition when"]
[null,null,null,null,null,null,null,null,null,null,null,"Cl",2.69,{"$f":"SUMPRODUCT(B152:AA152*1000,AE163:BD163%)/(SUMPRODUCT(Inputs!D165:H165/0.9,Inputs!D$122:H$122,Inputs!D$115:H$115)*365/100)","v":2.5935875587937254},3.6227530055100594,"the solver is ran the second time"]
[null,null,null,null,null,null,null,null,null,null,null,"S",1.49,{"$f":"SUMPRODUCT(B152:AA152*1000,AE165:BD165%)/(SUMPRODUCT(Inputs!D168:H168,Inputs!D$122:H$122,Inputs!D$115:H$115)*365/100)","v":1.1275508836074453},1.5533991724192806]
[null,null,null,null,null,null,null,null,null,null,null,null,null,null,null,null,null,null,"`",null,null,null,null,null,null,null,null,null,null,null,null,"Nutrient prptn in manure"]
[null,null,null,null,null,null,null,null,null,null,"Calculations of Manure Nutrients Remaining:",null,null,null,null,null,null,null,null,null,null,null,null,null,null,null,null,"Nutrients proportion remaining after collection,",null,null,null,"before field application and",null,null,null,null,null,"Calculations of Manure Nutrients Remaining:",null,null,null,null,null,null,null,null,null,null,null,null,null,null,"Nutrients proportion remaining after collection,",null,null,null,"Nutrient proportion"]
[null,null,null,null,null,null,null,null,null,null,null,"Animal ","Method of collection/storage:",null,null,null,"Type of storage facility:",null,null,"Spreading method:",null,null,"Spreading moment:",null,null,null,null,"storage and spreading losses",null,null,null,"when exported",null,null,null,null,"Animal ","Method of collection/storage:",null,null,null,"Type of storage facility:",null,null,"Spreading method:",null,null,"Spreading moment:",null,null,null,null,"storage and spreading losses",null,null,null,"in exported manure"]
[null,null,null,null,null,null,null,null,null,null,null,"group","N remaining after barn collection",null,null,null,"N remaining after removal from storage",null,null,"N remaining after spreading",null,null,"N remaining after season of application",null,null,"Total N",null,null,"available N",null,null,"N remaining",null,null,null,null,"group","Na remaining",null,null,null,"Na remaining",null,null,"Na remaining",null,null,"Na remaining",null,null,"Total Na",null,null,"available Na",null,null,"Na remaining"]
[null,null,null,null,null,null,null,null,null,null,null,1,{"$f":"IF(Inputs!E272=\"Liquid\",Inputs!V271,Inputs!V272)","v":0.7},{"$f":"IF(Inputs!E272=\"Liquid\",\"Liquid\",\"Solid\")","v":"Liquid"},null,null,{"$f":"IF(Inputs!D280=\"DH\",Inputs!$V$274,IF(Inputs!D280=\"LS\",Inputs!$V$275,IF(Inputs!D280=\"BP\",Inputs!$V$276,IF(Inputs!D280=\"S\",Inputs!$V$277,IF(Inputs!D280=\"C\",Inputs!$V$278,1)))))","v":1},{"$f":"IF(Inputs!D280=\"DH\",\"DH\",IF(Inputs!D280=\"LS\",\"LS\",IF(Inputs!D280=\"BP\",\"BP\",IF(Inputs!D280=\"S\",\"Stacked\",IF(Inputs!D280=\"C\",\"Compost\",1)))))","v":"LS"},null,{"$f":"IF(Inputs!D288=\"Broadcast, no incorporation\",Inputs!$V$284,IF(OR(Inputs!D288=\"Broadcast, incorporated within 2h\",Inputs!D288=\"Broadcast, incorporated within 48h\"),Inputs!$V$285,IF(OR(Inputs!D288=\"Band spreading\",Inputs!D288=\"Spray bar misting, no incorporation\"),Inputs!$V$286,IF(OR(Inputs!D288=\"Injection in open slots\",Inputs!D288=\"Spray bar misting, incorporated within 48h\"),Inputs!$V$287,IF(Inputs!D288=\"Knifing in\",Inputs!$V$288,IF(Inputs!D288=\"Box spreader, no incorporation\",Inputs!$V$289,IF(OR(Inputs!D288=\"Box spreader, incorporated within 2h\",Inputs!D288=\"Box spreader, incorporated within 48h\"),Inputs!$V$290)))))))","v":0.71},{"$f":"Inputs!D288","v":"Broadcast, no incorporation"},null,{"$f":"IF(Inputs!E272=\"Liquid\",Inputs!E296%*Inputs!$V$294+(1-Inputs!E296%)*Inputs!$V$293,IF(Inputs!E272=\"Solid\",Inputs!E296%*Inputs!$V$296+(1-Inputs!E296%)*Inputs!$V$295))","v":0.85400000000000009},{"$f":"IF(Inputs!E296>0,\"Additional Fall spreading losses\")","v":"Additional Fall spreading losses"},null,{"$f":"W358*M358*Q358*T358*(IF(Inputs!F280=\"Uncov. Bottom Loaded\",Inputs!$V$281,IF(Inputs!F280=\"Covered\",Inputs!$V$280,IF(Inputs!F280=\"Uncov. Top Loaded\",Inputs!$V$282,1))))","v":0.41017688320000001},null,null,{"$f":"Z358*IF(Inputs!$E272=\"Liquid\",Inputs!$V$298,IF(Inputs!$E272=\"Solid\",Inputs!$V$299))","v":0.24610612992},null,null,{"$f":"M358*Q358*IF(Inputs!F280=\"Uncov. Bottom Loaded\",Inputs!$V$281,IF(Inputs!F280=\"Covered\",Inputs!$V$280,IF(Inputs!F280=\"Uncov. Top Loaded\",Inputs!$V$282,1)))","v":0.67647999999999997},null,null,null,null,1,{"$f":"IF(Inputs!E272=\"Liquid\",Inputs!Y271,Inputs!Y272)","v":1},null,"n.a.","n.a.",{"$f":"IF(Inputs!D280=\"DH\",Inputs!$Y$274,IF(Inputs!D280=\"LS\",Inputs!$Y$275,IF(Inputs!D280=\"BP\",Inputs!$Y$276,IF(Inputs!D280=\"S\",Inputs!$Y$277,IF(Inputs!D280=\"C\",Inputs!$Y$278,1)))))","v":1},null,null,{"$f":"IF(Inputs!D288=\"Broadcast, no incorporation\",Inputs!$Y$284,IF(OR(Inputs!D288=\"Broadcast, incorporated within 2h\",Inputs!D288=\"Broadcast, incorporated within 48h\"),Inputs!$Y$285,IF(OR(Inputs!D288=\"Band spreading\",Inputs!D288=\"Spray bar misting, no incorporation\"),Inputs!$Y$286,IF(OR(Inputs!D288=\"Injection in open slots\",Inputs!D288=\"Spray bar misting, incorporated within 48h\"),Inputs!$Y$287,IF(Inputs!D288=\"Knifing in\",Inputs!$Y$288,IF(Inputs!D288=\"Box spreader, no incorporation\",Inputs!$Y$289,IF(OR(Inputs!D288=\"Box spreader, incorporated within 2h\",Inputs!D288=\"Box spreader, incorporated within 48h\"),Inputs!$Y$290)))))))","v":1},null,null,{"$f":"IF(Inputs!E272=\"Liquid\",Inputs!E296%*Inputs!$Y$294+(1-Inputs!E296%)*Inputs!$Y$293,IF(Inputs!E272=\"Solid\",Inputs!E296%*Inputs!$Y$296+(1-Inputs!E296%)*Inputs!$Y$295))","v":1},null,null,{"$f":"AV358*AL358*AP358*AS358*(IF(Inputs!F280=\"Uncov. Bottom Loaded\",Inputs!$Y$281,IF(Inputs!F280=\"Covered\",Inputs!$Y$280,IF(Inputs!F280=\"Uncov. Top Loaded\",Inputs!$Y$282,1))))","v":1},null,null,{"$f":"AY358*IF(Inputs!$E272=\"Liquid\",Inputs!$Y$298,IF(Inputs!$E272=\"Solid\",Inputs!$Y$299))","v":1},null,null,{"$f":"AL358*AP358*IF(Inputs!F280=\"Uncov. Bottom Loaded\",Inputs!$Y$281,IF(Inputs!F280=\"Covered\",Inputs!$Y$280,IF(Inputs!F280=\"Uncov. Top Loaded\",Inputs!$Y$282,1)))","v":1}]
[null,null,null,null,null,null,null,null,null,null,null,2,{"$f":"IF(Inputs!E273=\"Liquid\",Inputs!V271,Inputs!V272)","v":0.7},{"$f":"IF(Inputs!E273=\"Liquid\",\"Liquid\",\"Solid\")","v":"Liquid"},null,null,{"$f":"IF(Inputs!D281=\"DH\",Inputs!$V$274,IF(Inputs!D281=\"LS\",Inputs!$V$275,IF(Inputs!D281=\"BP\",Inputs!$V$276,IF(Inputs!D281=\"S\",Inputs!$V$277,IF(Inputs!D281=\"C\",Inputs!$V$278,1)))))","v":1},{"$f":"IF(Inputs!D281=\"DH\",\"DH\",IF(Inputs!D281=\"LS\",\"LS\",IF(Inputs!D281=\"BP\",\"BP\",IF(Inputs!D281=\"S\",\"Stacked\",IF(Inputs!D281=\"C\",\"Compost\",1)))))","v":"LS"},null,{"$f":"IF(Inputs!D289=\"Broadcast, no incorporation\",Inputs!$V$284,IF(OR(Inputs!D289=\"Broadcast, incorporated within 2h\",Inputs!D289=\"Broadcast, incorporated within 48h\"),Inputs!$V$285,IF(OR(Inputs!D289=\"Band spreading\",Inputs!D289=\"Spray bar misting, no incorporation\"),Inputs!$V$286,IF(OR(Inputs!D289=\"Injection in open slots\",Inputs!D289=\"Spray bar misting, incorporated within 48h\"),Inputs!$V$287,IF(Inputs!D289=\"Knifing in\",Inputs!$V$288,IF(Inputs!D289=\"Box spreader, no incorporation\",Inputs!$V$289,IF(OR(Inputs!D289=\"Box spreader, incorporated within 2h\",Inputs!D289=\"Box spreader, incorporated within 48h\"),Inputs!$V$290)))))))","v":0.71},{"$f":"Inputs!D289","v":"Broadcast, no incorporation"},null,{"$f":"IF(Inputs!E273=\"Liquid\",Inputs!E297%*Inputs!$V$294+(1-Inputs!E297%)*Inputs!$V$293,IF(Inputs!E273=\"Solid\",Inputs!E297%*Inputs!$V$296+(1-Inputs!E297%)*Inputs!$V$295))","v":0.85400000000000009},{"$f":"IF(Inputs!E297>0,\"Additional Fall spreading losses\")","v":"Additional Fall spreading losses"},null,{"$f":"W359*M359*Q359*T359*(IF(Inputs!F281=\"Uncov. Bottom Loaded\",Inputs!$V$281,IF(Inputs!F281=\"Covered\",Inputs!$V$280,IF(Inputs!F281=\"Uncov. Top Loaded\",Inputs!$V$282,1))))","v":0.41017688320000001},null,null,{"$f":"Z359*IF(Inputs!$E273=\"Liquid\",Inputs!$V$298,IF(Inputs!$E273=\"Solid\",Inputs!$V$299))","v":0.24610612992},null,null,{"$f":"M359*Q359*IF(Inputs!F281=\"Uncov. Bottom Loaded\",Inputs!$V$281,IF(Inputs!F281=\"Covered\",Inputs!$V$280,IF(Inputs!F281=\"Uncov. Top Loaded\",Inputs!$V$282,1)))","v":0.67647999999999997},null,null,null,null,2,{"$f":"IF(Inputs!E273=\"Liquid\",Inputs!Y271,Inputs!Y272)","v":1},null,"n.a.","n.a.",{"$f":"IF(Inputs!D281=\"DH\",Inputs!$Y$274,IF(Inputs!D281=\"LS\",Inputs!$Y$275,IF(Inputs!D281=\"BP\",Inputs!$Y$276,IF(Inputs!D281=\"S\",Inputs!$Y$277,IF(Inputs!D281=\"C\",Inputs!$Y$278,1)))))","v":1},null,null,{"$f":"IF(Inputs!D289=\"Broadcast, no incorporation\",Inputs!$Y$284,IF(OR(Inputs!D289=\"Broadcast, incorporated within 2h\",Inputs!D289=\"Broadcast, incorporated within 48h\"),Inputs!$Y$285,IF(OR(Inputs!D289=\"Band spreading\",Inputs!D289=\"Spray bar misting, no incorporation\"),Inputs!$Y$286,IF(OR(Inputs!D289=\"Injection in open slots\",Inputs!D289=\"Spray bar misting, incorporated within 48h\"),Inputs!$Y$287,IF(Inputs!D289=\"Knifing in\",Inputs!$Y$288,IF(Inputs!D289=\"Box spreader, no incorporation\",Inputs!$Y$289,IF(OR(Inputs!D289=\"Box spreader, incorporated within 2h\",Inputs!D289=\"Box spreader, incorporated within 48h\"),Inputs!$Y$290)))))))","v":1},null,null,{"$f":"IF(Inputs!E273=\"Liquid\",Inputs!E297%*Inputs!$Y$294+(1-Inputs!E297%)*Inputs!$Y$293,IF(Inputs!E273=\"Solid\",Inputs!E297%*Inputs!$Y$296+(1-Inputs!E297%)*Inputs!$Y$295))","v":1},null,null,{"$f":"AV359*AL359*AP359*AS359*(IF(Inputs!F281=\"Uncov. Bottom Loaded\",Inputs!$Y$281,IF(Inputs!F281=\"Covered\",Inputs!$Y$280,IF(Inputs!F281=\"Uncov. Top Loaded\",Inputs!$Y$282,1))))","v":1},null,null,{"$f":"AY359*IF(Inputs!$E273=\"Liquid\",Inputs!$Y$298,IF(Inputs!$E273=\"Solid\",Inputs!$Y$299))","v":1},null,null,{"$f":"AL359*AP359*IF(Inputs!F281=\"Uncov. Bottom Loaded\",Inputs!$Y$281,IF(Inputs!F281=\"Covered\",Inputs!$Y$280,IF(Inputs!F281=\"Uncov. Top Loaded\",Inputs!$Y$282,1)))","v":1}]
[null,null,null,null,null,null,null,null,null,null,null,3,{"$f":"IF(Inputs!E274=\"Liquid\",Inputs!V271,Inputs!V272)","v":0.7},{"$f":"IF(Inputs!E274=\"Liquid\",\"Liquid\",\"Solid\")","v":"Liquid"},null,null,{"$f":"IF(Inputs!D282=\"DH\",Inputs!$V$274,IF(Inputs!D282=\"LS\",Inputs!$V$275,IF(Inputs!D282=\"BP\",Inputs!$V$276,IF(Inputs!D282=\"S\",Inputs!$V$277,IF(Inputs!D282=\"C\",Inputs!$V$278,1)))))","v":1},{"$f":"IF(Inputs!D282=\"DH\",\"DH\",IF(Inputs!D282=\"LS\",\"LS\",IF(Inputs!D282=\"BP\",\"BP\",IF(Inputs!D282=\"S\",\"Stacked\",IF(Inputs!D282=\"C\",\"Compost\",1)))))","v":"LS"},null,{"$f":"IF(Inputs!D290=\"Broadcast, no incorporation\",Inputs!$V$284,IF(OR(Inputs!D290=\"Broadcast, incorporated within 2h\",Inputs!D290=\"Broadcast, incorporated within 48h\"),Inputs!$V$285,IF(OR(Inputs!D290=\"Band spreading\",Inputs!D290=\"Spray bar misting, no incorporation\"),Inputs!$V$286,IF(OR(Inputs!D290=\"Injection in open slots\",Inputs!D290=\"Spray bar misting, incorporated within 48h\"),Inputs!$V$287,IF(Inputs!D290=\"Knifing in\",Inputs!$V$288,IF(Inputs!D290=\"Box spreader, no incorporation\",Inputs!$V$289,IF(OR(Inputs!D290=\"Box spreader, incorporated within 2h\",Inputs!D290=\"Box spreader, incorporated within 48h\"),Inputs!$V$290)))))))","v":0.71},{"$f":"Inputs!D290","v":"Broadcast, no incorporation"},null,{"$f":"IF(Inputs!E274=\"Liquid\",Inputs!E298%*Inputs!$V$294+(1-Inputs!E298%)*Inputs!$V$293,IF(Inputs!E274=\"Solid\",Inputs!E298%*Inputs!$V$296+(1-Inputs!E298%)*Inputs!$V$295))","v":0.85400000000000009},{"$f":"IF(Inputs!E298>0,\"Additional Fall spreading losses\")","v":"Additional Fall spreading losses"},null,{"$f":"W360*M360*Q360*T360*(IF(Inputs!F282=\"Uncov. Bottom Loaded\",Inputs!$V$281,IF(Inputs!F282=\"Covered\",Inputs!$V$280,IF(Inputs!F282=\"Uncov. Top Loaded\",Inputs!$V$282,1))))","v":0.41017688320000001},null,null,{"$f":"Z360*IF(Inputs!$E274=\"Liquid\",Inputs!$V$298,IF(Inputs!$E274=\"Solid\",Inputs!$V$299))","v":0.24610612992},null,null,{"$f":"M360*Q360*IF(Inputs!F282=\"Uncov. Bottom Loaded\",Inputs!$V$281,IF(Inputs!F282=\"Covered\",Inputs!$V$280,IF(Inputs!F282=\"Uncov. Top Loaded\",Inputs!$V$282,1)))","v":0.67647999999999997},null,null,null,null,3,{"$f":"IF(Inputs!E274=\"Liquid\",Inputs!Y271,Inputs!Y272)","v":1},null,"n.a.","n.a.",{"$f":"IF(Inputs!D282=\"DH\",Inputs!$Y$274,IF(Inputs!D282=\"LS\",Inputs!$Y$275,IF(Inputs!D282=\"BP\",Inputs!$Y$276,IF(Inputs!D282=\"S\",Inputs!$Y$277,IF(Inputs!D282=\"C\",Inputs!$Y$278,1)))))","v":1},null,null,{"$f":"IF(Inputs!D290=\"Broadcast, no incorporation\",Inputs!$Y$284,IF(OR(Inputs!D290=\"Broadcast, incorporated within 2h\",Inputs!D290=\"Broadcast, incorporated within 48h\"),Inputs!$Y$285,IF(OR(Inputs!D290=\"Band spreading\",Inputs!D290=\"Spray bar misting, no incorporation\"),Inputs!$Y$286,IF(OR(Inputs!D290=\"Injection in open slots\",Inputs!D290=\"Spray bar misting, incorporated within 48h\"),Inputs!$Y$287,IF(Inputs!D290=\"Knifing in\",Inputs!$Y$288,IF(Inputs!D290=\"Box spreader, no incorporation\",Inputs!$Y$289,IF(OR(Inputs!D290=\"Box spreader, incorporated within 2h\",Inputs!D290=\"Box spreader, incorporated within 48h\"),Inputs!$Y$290)))))))","v":1},null,null,{"$f":"IF(Inputs!E274=\"Liquid\",Inputs!E298%*Inputs!$Y$294+(1-Inputs!E298%)*Inputs!$Y$293,IF(Inputs!E274=\"Solid\",Inputs!E298%*Inputs!$Y$296+(1-Inputs!E298%)*Inputs!$Y$295))","v":1},null,null,{"$f":"AV360*AL360*AP360*AS360*(IF(Inputs!F282=\"Uncov. Bottom Loaded\",Inputs!$Y$281,IF(Inputs!F282=\"Covered\",Inputs!$Y$280,IF(Inputs!F282=\"Uncov. Top Loaded\",Inputs!$Y$282,1))))","v":1},null,null,{"$f":"AY360*IF(Inputs!$E274=\"Liquid\",Inputs!$Y$298,IF(Inputs!$E274=\"Solid\",Inputs!$Y$299))","v":1},null,null,{"$f":"AL360*AP360*IF(Inputs!F282=\"Uncov. Bottom Loaded\",Inputs!$Y$281,IF(Inputs!F282=\"Covered\",Inputs!$Y$280,IF(Inputs!F282=\"Uncov. Top Loaded\",Inputs!$Y$282,1)))","v":1}]
[null,null,null,null,null,null,null,null,null,null,null,4,{"$f":"IF(Inputs!E275=\"Liquid\",Inputs!V271,Inputs!V272)","v":0.7},{"$f":"IF(Inputs!E275=\"Liquid\",\"Liquid\",\"Solid\")","v":"Liquid"},null,null,{"$f":"IF(Inputs!D283=\"DH\",Inputs!$V$274,IF(Inputs!D283=\"LS\",Inputs!$V$275,IF(Inputs!D283=\"BP\",Inputs!$V$276,IF(Inputs!D283=\"S\",Inputs!$V$277,IF(Inputs!D283=\"C\",Inputs!$V$278,1)))))","v":1},{"$f":"IF(Inputs!D283=\"DH\",\"DH\",IF(Inputs!D283=\"LS\",\"LS\",IF(Inputs!D283=\"BP\",\"BP\",IF(Inputs!D283=\"S\",\"Stacked\",IF(Inputs!D283=\"C\",\"Compost\",1)))))","v":"LS"},null,{"$f":"IF(Inputs!D291=\"Broadcast, no incorporation\",Inputs!$V$284,IF(OR(Inputs!D291=\"Broadcast, incorporated within 2h\",Inputs!D291=\"Broadcast, incorporated within 48h\"),Inputs!$V$285,IF(OR(Inputs!D291=\"Band spreading\",Inputs!D291=\"Spray bar misting, no incorporation\"),Inputs!$V$286,IF(OR(Inputs!D291=\"Injection in open slots\",Inputs!D291=\"Spray bar misting, incorporated within 48h\"),Inputs!$V$287,IF(Inputs!D291=\"Knifing in\",Inputs!$V$288,IF(Inputs!D291=\"Box spreader, no incorporation\",Inputs!$V$289,IF(OR(Inputs!D291=\"Box spreader, incorporated within 2h\",Inputs!D291=\"Box spreader, incorporated within 48h\"),Inputs!$V$290)))))))","v":0.71},{"$f":"Inputs!D291","v":"Broadcast, no incorporation"},null,{"$f":"IF(Inputs!E275=\"Liquid\",Inputs!E299%*Inputs!$V$294+(1-Inputs!E299%)*Inputs!$V$293,IF(Inputs!E275=\"Solid\",Inputs!E299%*Inputs!$V$296+(1-Inputs!E299%)*Inputs!$V$295))","v":0.85400000000000009},{"$f":"IF(Inputs!E299>0,\"Additional Fall spreading losses\")","v":"Additional Fall spreading losses"},null,{"$f":"W361*M361*Q361*T361*(IF(Inputs!F283=\"Uncov. Bottom Loaded\",Inputs!$V$281,IF(Inputs!F283=\"Covered\",Inputs!$V$280,IF(Inputs!F283=\"Uncov. Top Loaded\",Inputs!$V$282,1))))","v":0.41017688320000001},null,null,{"$f":"Z361*IF(Inputs!$E275=\"Liquid\",Inputs!$V$298,IF(Inputs!$E275=\"Solid\",Inputs!$V$299))","v":0.24610612992},null,null,{"$f":"M361*Q361*IF(Inputs!F283=\"Uncov. Bottom Loaded\",Inputs!$V$281,IF(Inputs!F283=\"Covered\",Inputs!$V$280,IF(Inputs!F283=\"Uncov. Top Loaded\",Inputs!$V$282,1)))","v":0.67647999999999997},null,null,null,null,4,{"$f":"IF(Inputs!E275=\"Liquid\",Inputs!Y271,Inputs!Y272)","v":1},null,"n.a.","n.a.",{"$f":"IF(Inputs!D283=\"DH\",Inputs!$Y$274,IF(Inputs!D283=\"LS\",Inputs!$Y$275,IF(Inputs!D283=\"BP\",Inputs!$Y$276,IF(Inputs!D283=\"S\",Inputs!$Y$277,IF(Inputs!D283=\"C\",Inputs!$Y$278,1)))))","v":1},null,null,{"$f":"IF(Inputs!D291=\"Broadcast, no incorporation\",Inputs!$Y$284,IF(OR(Inputs!D291=\"Broadcast, incorporated within 2h\",Inputs!D291=\"Broadcast, incorporated within 48h\"),Inputs!$Y$285,IF(OR(Inputs!D291=\"Band spreading\",Inputs!D291=\"Spray bar misting, no incorporation\"),Inputs!$Y$286,IF(OR(Inputs!D291=\"Injection in open slots\",Inputs!D291=\"Spray bar misting, incorporated within 48h\"),Inputs!$Y$287,IF(Inputs!D291=\"Knifing in\",Inputs!$Y$288,IF(Inputs!D291=\"Box spreader, no incorporation\",Inputs!$Y$289,IF(OR(Inputs!D291=\"Box spreader, incorporated within 2h\",Inputs!D291=\"Box spreader, incorporated within 48h\"),Inputs!$Y$290)))))))","v":1},null,null,{"$f":"IF(Inputs!E275=\"Liquid\",Inputs!E299%*Inputs!$Y$294+(1-Inputs!E299%)*Inputs!$Y$293,IF(Inputs!E275=\"Solid\",Inputs!E299%*Inputs!$Y$296+(1-Inputs!E299%)*Inputs!$Y$295))","v":1},null,null,{"$f":"AV361*AL361*AP361*AS361*(IF(Inputs!F283=\"Uncov. Bottom Loaded\",Inputs!$Y$281,IF(Inputs!F283=\"Covered\",Inputs!$Y$280,IF(Inputs!F283=\"Uncov. Top Loaded\",Inputs!$Y$282,1))))","v":1},null,null,{"$f":"AY361*IF(Inputs!$E275=\"Liquid\",Inputs!$Y$298,IF(Inputs!$E275=\"Solid\",Inputs!$Y$299))","v":1},null,null,{"$f":"AL361*AP361*IF(Inputs!F283=\"Uncov. Bottom Loaded\",Inputs!$Y$281,IF(Inputs!F283=\"Covered\",Inputs!$Y$280,IF(Inputs!F283=\"Uncov. Top Loaded\",Inputs!$Y$282,1)))","v":1}]
[null,null,null,null,null,null,null,null,null,null,null,5,{"$f":"IF(Inputs!E276=\"Liquid\",Inputs!V271,Inputs!V272)","v":0.7},{"$f":"IF(Inputs!E276=\"Liquid\",\"Liquid\",\"Solid\")","v":"Liquid"},null,null,{"$f":"IF(Inputs!D284=\"DH\",Inputs!$V$274,IF(Inputs!D284=\"LS\",Inputs!$V$275,IF(Inputs!D284=\"BP\",Inputs!$V$276,IF(Inputs!D284=\"S\",Inputs!$V$277,IF(Inputs!D284=\"C\",Inputs!$V$278,1)))))","v":1},{"$f":"IF(Inputs!D284=\"DH\",\"DH\",IF(Inputs!D284=\"LS\",\"LS\",IF(Inputs!D284=\"BP\",\"BP\",IF(Inputs!D284=\"S\",\"Stacked\",IF(Inputs!D284=\"C\",\"Compost\",1)))))","v":"LS"},null,{"$f":"IF(Inputs!D292=\"Broadcast, no incorporation\",Inputs!$V$284,IF(OR(Inputs!D292=\"Broadcast, incorporated within 2h\",Inputs!D292=\"Broadcast, incorporated within 48h\"),Inputs!$V$285,IF(OR(Inputs!D292=\"Band spreading\",Inputs!D292=\"Spray bar misting, no incorporation\"),Inputs!$V$286,IF(OR(Inputs!D292=\"Injection in open slots\",Inputs!D292=\"Spray bar misting, incorporated within 48h\"),Inputs!$V$287,IF(Inputs!D292=\"Knifing in\",Inputs!$V$288,IF(Inputs!D292=\"Box spreader, no incorporation\",Inputs!$V$289,IF(OR(Inputs!D292=\"Box spreader, incorporated within 2h\",Inputs!D292=\"Box spreader, incorporated within 48h\"),Inputs!$V$290)))))))","v":0.71},{"$f":"Inputs!D292","v":"Broadcast, no incorporation"},null,{"$f":"IF(Inputs!E276=\"Liquid\",Inputs!E300%*Inputs!$V$294+(1-Inputs!E300%)*Inputs!$V$293,IF(Inputs!E276=\"Solid\",Inputs!E300%*Inputs!$V$296+(1-Inputs!E300%)*Inputs!$V$295))","v":0.85400000000000009},{"$f":"IF(Inputs!E300>0,\"Additional Fall spreading losses\")","v":"Additional Fall spreading losses"},null,{"$f":"W362*M362*Q362*T362*(IF(Inputs!F284=\"Uncov. Bottom Loaded\",Inputs!$V$281,IF(Inputs!F284=\"Covered\",Inputs!$V$280,IF(Inputs!F284=\"Uncov. Top Loaded\",Inputs!$V$282,1))))","v":0.41017688320000001},null,null,{"$f":"Z362*IF(Inputs!$E276=\"Liquid\",Inputs!$V$298,IF(Inputs!$E276=\"Solid\",Inputs!$V$299))","v":0.24610612992},null,null,{"$f":"M362*Q362*IF(Inputs!F284=\"Uncov. Bottom Loaded\",Inputs!$V$281,IF(Inputs!F284=\"Covered\",Inputs!$V$280,IF(Inputs!F284=\"Uncov. Top Loaded\",Inputs!$V$282,1)))","v":0.67647999999999997},null,null,null,null,5,{"$f":"IF(Inputs!E276=\"Liquid\",Inputs!Y271,Inputs!Y272)","v":1},null,"n.a.","n.a.",{"$f":"IF(Inputs!D284=\"DH\",Inputs!$Y$274,IF(Inputs!D284=\"LS\",Inputs!$Y$275,IF(Inputs!D284=\"BP\",Inputs!$Y$276,IF(Inputs!D284=\"S\",Inputs!$Y$277,IF(Inputs!D284=\"C\",Inputs!$Y$278,1)))))","v":1},null,null,{"$f":"IF(Inputs!D292=\"Broadcast, no incorporation\",Inputs!$Y$284,IF(OR(Inputs!D292=\"Broadcast, incorporated within 2h\",Inputs!D292=\"Broadcast, incorporated within 48h\"),Inputs!$Y$285,IF(OR(Inputs!D292=\"Band spreading\",Inputs!D292=\"Spray bar misting, no incorporation\"),Inputs!$Y$286,IF(OR(Inputs!D292=\"Injection in open slots\",Inputs!D292=\"Spray bar misting, incorporated within 48h\"),Inputs!$Y$287,IF(Inputs!D292=\"Knifing in\",Inputs!$Y$288,IF(Inputs!D292=\"Box spreader, no incorporation\",Inputs!$Y$289,IF(OR(Inputs!D292=\"Box spreader, incorporated within 2h\",Inputs!D292=\"Box spreader, incorporated within 48h\"),Inputs!$Y$290)))))))","v":1},null,null,{"$f":"IF(Inputs!E276=\"Liquid\",Inputs!E300%*Inputs!$Y$294+(1-Inputs!E300%)*Inputs!$Y$293,IF(Inputs!E276=\"Solid\",Inputs!E300%*Inputs!$Y$296+(1-Inputs!E300%)*Inputs!$Y$295))","v":1},null,null,{"$f":"AV362*AL362*AP362*AS362*(IF(Inputs!F284=\"Uncov. Bottom Loaded\",Inputs!$Y$281,IF(Inputs!F284=\"Covered\",Inputs!$Y$280,IF(Inputs!F284=\"Uncov. Top Loaded\",Inputs!$Y$282,1))))","v":1},null,null,{"$f":"AY362*IF(Inputs!$E276=\"Liquid\",Inputs!$Y$298,IF(Inputs!$E276=\"Solid\",Inputs!$Y$299))","v":1},null,null,{"$f":"AL362*AP362*IF(Inputs!F284=\"Uncov. Bottom Loaded\",Inputs!$Y$281,IF(Inputs!F284=\"Covered\",Inputs!$Y$280,IF(Inputs!F284=\"Uncov. Top Loaded\",Inputs!$Y$282,1)))","v":1}]
[null,null,null,null,null,null,null,null,null,null,null,"Animal ",null,null,null,null,null,null,null,null,null,null,null,null,null,null,null,null,null,null,null,null,null,null,null,null,"Animal "]
[null,null,null,null,null,null,null,null,null,null,null,"group","P2O5 remaining",null,null,null,"P2O5 remaining",null,null,"P2O5 remaining",null,null,"P2O5 remaining",null,null,"Total P2O5",null,null,"available P2O5",null,null,"P2O5 remaining",null,null,null,null,"group","Cl remaining",null,null,null,"Cl remaining",null,null,"Cl remaining",null,null,"Cl remaining",null,null,"Total Cl",null,null,"available Cl",null,null,"Cl remaining"]
[null,null,null,null,null,null,null,null,null,null,null,1,{"$f":"IF(Inputs!E272=\"Liquid\",Inputs!W$271,Inputs!W$272)","v":1},null,"n.a.","n.a.",{"$f":"IF(Inputs!D280=\"DH\",Inputs!$W$274,IF(Inputs!D280=\"LS\",Inputs!$W$275,IF(Inputs!D280=\"BP\",Inputs!$W$276,IF(Inputs!D280=\"S\",Inputs!$W$277,IF(Inputs!D280=\"C\",Inputs!$W$278,1)))))","v":1},null,null,{"$f":"IF(Inputs!D288=\"Broadcast, no incorporation\",Inputs!$W$284,IF(OR(Inputs!D288=\"Broadcast, incorporated within 2h\",Inputs!D288=\"Broadcast, incorporated within 48h\"),Inputs!$W$285,IF(OR(Inputs!D288=\"Band spreading\",Inputs!D288=\"Spray bar misting, no incorporation\"),Inputs!$W$286,IF(OR(Inputs!D288=\"Injection in open slots\",Inputs!D288=\"Spray bar misting, incorporated within 48h\"),Inputs!$W$287,IF(Inputs!D288=\"Knifing in\",Inputs!$W$288,IF(Inputs!D288=\"Box spreader, no incorporation\",Inputs!$W$289,IF(OR(Inputs!D288=\"Box spreader, incorporated within 2h\",Inputs!D288=\"Box spreader, incorporated within 48h\"),Inputs!$W$290)))))))","v":1},null,null,{"$f":"IF(Inputs!E272=\"Liquid\",Inputs!E296%*Inputs!$W$294+(1-Inputs!E296%)*Inputs!$W$293,IF(Inputs!E272=\"Solid\",Inputs!E296%*Inputs!$W$296+(1-Inputs!E296%)*Inputs!$W$295))","v":0.92500000000000004},null,null,{"$f":"W365*M365*Q365*T365*(IF(Inputs!F280=\"Uncov. Bottom Loaded\",Inputs!$W$281,IF(Inputs!F280=\"Covered\",Inputs!$W$280,IF(Inputs!F280=\"Uncov. Top Loaded\",Inputs!$W$282,1))))","v":0.92500000000000004},null,null,{"$f":"Z365*IF(Inputs!$E272=\"Liquid\",Inputs!$W$298,IF(Inputs!$E272=\"Solid\",Inputs!$W$299))","v":0.7400000000000001},null,null,{"$f":"M365*Q365*IF(Inputs!F280=\"Uncov. Bottom Loaded\",Inputs!$W$281,IF(Inputs!F280=\"Covered\",Inputs!$W$280,IF(Inputs!F280=\"Uncov. Top Loaded\",Inputs!$W$282,1)))","v":1},null,null,null,null,1,{"$f":"IF(Inputs!E272=\"Liquid\",Inputs!Z$271,Inputs!Z$272)","v":1},null,"n.a.","n.a.",{"$f":"IF(Inputs!D280=\"DH\",Inputs!$Z$274,IF(Inputs!D280=\"MS\",Inputs!$Z$275,IF(Inputs!D280=\"BP\",Inputs!$Z$276,IF(Inputs!D280=\"S\",Inputs!$Z$277,IF(Inputs!D280=\"C\",Inputs!$Z$278,1)))))","v":1},null,null,{"$f":"IF(Inputs!D288=\"Broadcast, no incorporation\",Inputs!$Z$284,IF(OR(Inputs!D288=\"Broadcast, incorporated within 2h\",Inputs!D288=\"Broadcast, incorporated within 48h\"),Inputs!$Z$285,IF(OR(Inputs!D288=\"Band spreading\",Inputs!D288=\"Spray bar misting, no incorporation\"),Inputs!$Z$286,IF(OR(Inputs!D288=\"Injection in open slots\",Inputs!D288=\"Spray bar misting, incorporated within 48h\"),Inputs!$Z$287,IF(Inputs!D288=\"Knifing in\",Inputs!$Z$288,IF(Inputs!D288=\"Box spreader, no incorporation\",Inputs!$Z$289,IF(OR(Inputs!D288=\"Box spreader, incorporated within 2h\",Inputs!D288=\"Box spreader, incorporated within 48h\"),Inputs!$Z$290)))))))","v":1},null,null,{"$f":"IF(Inputs!E272=\"Liquid\",Inputs!E296%*Inputs!$Z$294+(1-Inputs!E296%)*Inputs!$Z$293,IF(Inputs!E272=\"Solid\",Inputs!E296%*Inputs!$Z$296+(1-Inputs!E296%)*Inputs!$Z$295))","v":1},null,null,{"$f":"AV365*AL365*AP365*AS365*(IF(Inputs!F280=\"Uncov. Bottom Loaded\",Inputs!$Z$281,IF(Inputs!F280=\"Covered\",Inputs!$Z$280,IF(Inputs!F280=\"Uncov. Top Loaded\",Inputs!$Z$282,1))))","v":1},null,null,{"$f":"AY365*IF(Inputs!$E272=\"Liquid\",Inputs!$Z$298,IF(Inputs!$E272=\"Solid\",Inputs!$Z$299))","v":1},null,null,{"$f":"AL365*AP365*IF(Inputs!F280=\"Uncov. Bottom Loaded\",Inputs!$Z$281,IF(Inputs!F280=\"Covered\",Inputs!$Z$280,IF(Inputs!F280=\"Uncov. Top Loaded\",Inputs!$Z$282,1)))","v":1}]
[null,null,null,null,null,null,null,null,null,null,null,2,{"$f":"IF(Inputs!E273=\"Liquid\",Inputs!W$271,Inputs!W$272)","v":1},null,"n.a.","n.a.",{"$f":"IF(Inputs!D281=\"DH\",Inputs!$W$274,IF(Inputs!D281=\"LS\",Inputs!$W$275,IF(Inputs!D281=\"BP\",Inputs!$W$276,IF(Inputs!D281=\"S\",Inputs!$W$277,IF(Inputs!D281=\"C\",Inputs!$W$278,1)))))","v":1},null,null,{"$f":"IF(Inputs!D289=\"Broadcast, no incorporation\",Inputs!$W$284,IF(OR(Inputs!D289=\"Broadcast, incorporated within 2h\",Inputs!D289=\"Broadcast, incorporated within 48h\"),Inputs!$W$285,IF(OR(Inputs!D289=\"Band spreading\",Inputs!D289=\"Spray bar misting, no incorporation\"),Inputs!$W$286,IF(OR(Inputs!D289=\"Injection in open slots\",Inputs!D289=\"Spray bar misting, incorporated within 48h\"),Inputs!$W$287,IF(Inputs!D289=\"Knifing in\",Inputs!$W$288,IF(Inputs!D289=\"Box spreader, no incorporation\",Inputs!$W$289,IF(OR(Inputs!D289=\"Box spreader, incorporated within 2h\",Inputs!D289=\"Box spreader, incorporated within 48h\"),Inputs!$W$290)))))))","v":1},null,null,{"$f":"IF(Inputs!E273=\"Liquid\",Inputs!E297%*Inputs!$W$294+(1-Inputs!E297%)*Inputs!$W$293,IF(Inputs!E273=\"Solid\",Inputs!E297%*Inputs!$W$296+(1-Inputs!E297%)*Inputs!$W$295))","v":0.92500000000000004},null,null,{"$f":"W366*M366*Q366*T366*(IF(Inputs!F281=\"Uncov. Bottom Loaded\",Inputs!$W$281,IF(Inputs!F281=\"Covered\",Inputs!$W$280,IF(Inputs!F281=\"Uncov. Top Loaded\",Inputs!$W$282,1))))","v":0.92500000000000004},null,null,{"$f":"Z366*IF(Inputs!$E273=\"Liquid\",Inputs!$W$298,IF(Inputs!$E273=\"Solid\",Inputs!$W$299))","v":0.7400000000000001},null,null,{"$f":"M366*Q366*IF(Inputs!F281=\"Uncov. Bottom Loaded\",Inputs!$W$281,IF(Inputs!F281=\"Covered\",Inputs!$W$280,IF(Inputs!F281=\"Uncov. Top Loaded\",Inputs!$W$282,1)))","v":1},null,null,null,null,2,{"$f":"IF(Inputs!E273=\"Liquid\",Inputs!Z$271,Inputs!Z$272)","v":1},null,"n.a.","n.a.",{"$f":"IF(Inputs!D281=\"DH\",Inputs!$Z$274,IF(Inputs!D281=\"MS\",Inputs!$Z$275,IF(Inputs!D281=\"BP\",Inputs!$Z$276,IF(Inputs!D281=\"S\",Inputs!$Z$277,IF(Inputs!D281=\"C\",Inputs!$Z$278,1)))))","v":1},null,null,{"$f":"IF(Inputs!D289=\"Broadcast, no incorporation\",Inputs!$Z$284,IF(OR(Inputs!D289=\"Broadcast, incorporated within 2h\",Inputs!D289=\"Broadcast, incorporated within 48h\"),Inputs!$Z$285,IF(OR(Inputs!D289=\"Band spreading\",Inputs!D289=\"Spray bar misting, no incorporation\"),Inputs!$Z$286,IF(OR(Inputs!D289=\"Injection in open slots\",Inputs!D289=\"Spray bar misting, incorporated within 48h\"),Inputs!$Z$287,IF(Inputs!D289=\"Knifing in\",Inputs!$Z$288,IF(Inputs!D289=\"Box spreader, no incorporation\",Inputs!$Z$289,IF(OR(Inputs!D289=\"Box spreader, incorporated within 2h\",Inputs!D289=\"Box spreader, incorporated within 48h\"),Inputs!$Z$290)))))))","v":1},null,null,{"$f":"IF(Inputs!E273=\"Liquid\",Inputs!E297%*Inputs!$Z$294+(1-Inputs!E297%)*Inputs!$Z$293,IF(Inputs!E273=\"Solid\",Inputs!E297%*Inputs!$Z$296+(1-Inputs!E297%)*Inputs!$Z$295))","v":1},null,null,{"$f":"AV366*AL366*AP366*AS366*(IF(Inputs!F281=\"Uncov. Bottom Loaded\",Inputs!$Z$281,IF(Inputs!F281=\"Covered\",Inputs!$Z$280,IF(Inputs!F281=\"Uncov. Top Loaded\",Inputs!$Z$282,1))))","v":1},null,null,{"$f":"AY366*IF(Inputs!$E273=\"Liquid\",Inputs!$Z$298,IF(Inputs!$E273=\"Solid\",Inputs!$Z$299))","v":1},null,null,{"$f":"AL366*AP366*IF(Inputs!F281=\"Uncov. Bottom Loaded\",Inputs!$Z$281,IF(Inputs!F281=\"Covered\",Inputs!$Z$280,IF(Inputs!F281=\"Uncov. Top Loaded\",Inputs!$Z$282,1)))","v":1}]
[null,null,null,null,null,null,null,null,null,null,null,3,{"$f":"IF(Inputs!E274=\"Liquid\",Inputs!W$271,Inputs!W$272)","v":1},null,"n.a.","n.a.",{"$f":"IF(Inputs!D282=\"DH\",Inputs!$V$274,IF(Inputs!D282=\"LS\",Inputs!$V$275,IF(Inputs!D282=\"BP\",Inputs!$V$276,IF(Inputs!D282=\"S\",Inputs!$V$277,IF(Inputs!D282=\"C\",Inputs!$V$278,1)))))","v":1},null,null,{"$f":"IF(Inputs!D290=\"Broadcast, no incorporation\",Inputs!$W$284,IF(OR(Inputs!D290=\"Broadcast, incorporated within 2h\",Inputs!D290=\"Broadcast, incorporated within 48h\"),Inputs!$W$285,IF(OR(Inputs!D290=\"Band spreading\",Inputs!D290=\"Spray bar misting, no incorporation\"),Inputs!$W$286,IF(OR(Inputs!D290=\"Injection in open slots\",Inputs!D290=\"Spray bar misting, incorporated within 48h\"),Inputs!$W$287,IF(Inputs!D290=\"Knifing in\",Inputs!$W$288,IF(Inputs!D290=\"Box spreader, no incorporation\",Inputs!$W$289,IF(OR(Inputs!D290=\"Box spreader, incorporated within 2h\",Inputs!D290=\"Box spreader, incorporated within 48h\"),Inputs!$W$290)))))))","v":1},null,null,{"$f":"IF(Inputs!E274=\"Liquid\",Inputs!E298%*Inputs!$W$294+(1-Inputs!E298%)*Inputs!$W$293,IF(Inputs!E274=\"Solid\",Inputs!E298%*Inputs!$W$296+(1-Inputs!E298%)*Inputs!$W$295))","v":0.92500000000000004},null,null,{"$f":"W367*M367*Q367*T367*(IF(Inputs!F282=\"Uncov. Bottom Loaded\",Inputs!$W$281,IF(Inputs!F282=\"Covered\",Inputs!$W$280,IF(Inputs!F282=\"Uncov. Top Loaded\",Inputs!$W$282,1))))","v":0.92500000000000004},null,null,{"$f":"Z367*IF(Inputs!$E274=\"Liquid\",Inputs!$W$298,IF(Inputs!$E274=\"Solid\",Inputs!$W$299))","v":0.7400000000000001},null,null,{"$f":"M367*Q367*IF(Inputs!F282=\"Uncov. Bottom Loaded\",Inputs!$W$281,IF(Inputs!F282=\"Covered\",Inputs!$W$280,IF(Inputs!F282=\"Uncov. Top Loaded\",Inputs!$W$282,1)))","v":1},null,null,null,null,3,{"$f":"IF(Inputs!E274=\"Liquid\",Inputs!Z$271,Inputs!Z$272)","v":1},null,"n.a.","n.a.",{"$f":"IF(Inputs!D282=\"DH\",Inputs!$Z$274,IF(Inputs!D282=\"MS\",Inputs!$Z$275,IF(Inputs!D282=\"BP\",Inputs!$Z$276,IF(Inputs!D282=\"S\",Inputs!$Z$277,IF(Inputs!D282=\"C\",Inputs!$Z$278,1)))))","v":1},null,null,{"$f":"IF(Inputs!D290=\"Broadcast, no incorporation\",Inputs!$Z$284,IF(OR(Inputs!D290=\"Broadcast, incorporated within 2h\",Inputs!D290=\"Broadcast, incorporated within 48h\"),Inputs!$Z$285,IF(OR(Inputs!D290=\"Band spreading\",Inputs!D290=\"Spray bar misting, no incorporation\"),Inputs!$Z$286,IF(OR(Inputs!D290=\"Injection in open slots\",Inputs!D290=\"Spray bar misting, incorporated within 48h\"),Inputs!$Z$287,IF(Inputs!D290=\"Knifing in\",Inputs!$Z$288,IF(Inputs!D290=\"Box spreader, no incorporation\",Inputs!$Z$289,IF(OR(Inputs!D290=\"Box spreader, incorporated within 2h\",Inputs!D290=\"Box spreader, incorporated within 48h\"),Inputs!$Z$290)))))))","v":1},null,null,{"$f":"IF(Inputs!E274=\"Liquid\",Inputs!E298%*Inputs!$Z$294+(1-Inputs!E298%)*Inputs!$Z$293,IF(Inputs!E274=\"Solid\",Inputs!E298%*Inputs!$Z$296+(1-Inputs!E298%)*Inputs!$Z$295))","v":1},null,null,{"$f":"AV367*AL367*AP367*AS367*(IF(Inputs!F282=\"Uncov. Bottom Loaded\",Inputs!$Z$281,IF(Inputs!F282=\"Covered\",Inputs!$Z$280,IF(Inputs!F282=\"Uncov. Top Loaded\",Inputs!$Z$282,1))))","v":1},null,null,{"$f":"AY367*IF(Inputs!$E274=\"Liquid\",Inputs!$Z$298,IF(Inputs!$E274=\"Solid\",Inputs!$Z$299))","v":1},null,null,{"$f":"AL367*AP367*IF(Inputs!F282=\"Uncov. Bottom Loaded\",Inputs!$Z$281,IF(Inputs!F282=\"Covered\",Inputs!$Z$280,IF(Inputs!F282=\"Uncov. Top Loaded\",Inputs!$Z$282,1)))","v":1}]
[null,null,null,null,null,null,null,null,null,null,null,4,{"$f":"IF(Inputs!E275=\"Liquid\",Inputs!W$271,Inputs!W$272)","v":1},null,"n.a.","n.a.",{"$f":"IF(Inputs!D283=\"DH\",Inputs!$V$274,IF(Inputs!D283=\"LS\",Inputs!$V$275,IF(Inputs!D283=\"BP\",Inputs!$V$276,IF(Inputs!D283=\"S\",Inputs!$V$277,IF(Inputs!D283=\"C\",Inputs!$V$278,1)))))","v":1},null,null,{"$f":"IF(Inputs!D291=\"Broadcast, no incorporation\",Inputs!$W$284,IF(OR(Inputs!D291=\"Broadcast, incorporated within 2h\",Inputs!D291=\"Broadcast, incorporated within 48h\"),Inputs!$W$285,IF(OR(Inputs!D291=\"Band spreading\",Inputs!D291=\"Spray bar misting, no incorporation\"),Inputs!$W$286,IF(OR(Inputs!D291=\"Injection in open slots\",Inputs!D291=\"Spray bar misting, incorporated within 48h\"),Inputs!$W$287,IF(Inputs!D291=\"Knifing in\",Inputs!$W$288,IF(Inputs!D291=\"Box spreader, no incorporation\",Inputs!$W$289,IF(OR(Inputs!D291=\"Box spreader, incorporated within 2h\",Inputs!D291=\"Box spreader, incorporated within 48h\"),Inputs!$W$290)))))))","v":1},null,null,{"$f":"IF(Inputs!E275=\"Liquid\",Inputs!E299%*Inputs!$W$294+(1-Inputs!E299%)*Inputs!$W$293,IF(Inputs!E275=\"Solid\",Inputs!E299%*Inputs!$W$296+(1-Inputs!E299%)*Inputs!$W$295))","v":0.92500000000000004},null,null,{"$f":"W368*M368*Q368*T368*(IF(Inputs!F283=\"Uncov. Bottom Loaded\",Inputs!$W$281,IF(Inputs!F283=\"Covered\",Inputs!$W$280,IF(Inputs!F283=\"Uncov. Top Loaded\",Inputs!$W$282,1))))","v":0.92500000000000004},null,null,{"$f":"Z368*IF(Inputs!$E275=\"Liquid\",Inputs!$W$298,IF(Inputs!$E275=\"Solid\",Inputs!$W$299))","v":0.7400000000000001},null,null,{"$f":"M368*Q368*IF(Inputs!F283=\"Uncov. Bottom Loaded\",Inputs!$W$281,IF(Inputs!F283=\"Covered\",Inputs!$W$280,IF(Inputs!F283=\"Uncov. Top Loaded\",Inputs!$W$282,1)))","v":1},null,null,null,null,4,{"$f":"IF(Inputs!E275=\"Liquid\",Inputs!Z$271,Inputs!Z$272)","v":1},null,"n.a.","n.a.",{"$f":"IF(Inputs!D283=\"DH\",Inputs!$Z$274,IF(Inputs!D283=\"MS\",Inputs!$Z$275,IF(Inputs!D283=\"BP\",Inputs!$Z$276,IF(Inputs!D283=\"S\",Inputs!$Z$277,IF(Inputs!D283=\"C\",Inputs!$Z$278,1)))))","v":1},null,null,{"$f":"IF(Inputs!D291=\"Broadcast, no incorporation\",Inputs!$Z$284,IF(OR(Inputs!D291=\"Broadcast, incorporated within 2h\",Inputs!D291=\"Broadcast, incorporated within 48h\"),Inputs!$Z$285,IF(OR(Inputs!D291=\"Band spreading\",Inputs!D291=\"Spray bar misting, no incorporation\"),Inputs!$Z$286,IF(OR(Inputs!D291=\"Injection in open slots\",Inputs!D291=\"Spray bar misting, incorporated within 48h\"),Inputs!$Z$287,IF(Inputs!D291=\"Knifing in\",Inputs!$Z$288,IF(Inputs!D291=\"Box spreader, no incorporation\",Inputs!$Z$289,IF(OR(Inputs!D291=\"Box spreader, incorporated within 2h\",Inputs!D291=\"Box spreader, incorporated within 48h\"),Inputs!$Z$290)))))))","v":1},null,null,{"$f":"IF(Inputs!E275=\"Liquid\",Inputs!E299%*Inputs!$Z$294+(1-Inputs!E299%)*Inputs!$Z$293,IF(Inputs!E275=\"Solid\",Inputs!E299%*Inputs!$Z$296+(1-Inputs!E299%)*Inputs!$Z$295))","v":1},null,null,{"$f":"AV368*AL368*AP368*AS368*(IF(Inputs!F283=\"Uncov. Bottom Loaded\",Inputs!$Z$281,IF(Inputs!F283=\"Covered\",Inputs!$Z$280,IF(Inputs!F283=\"Uncov. Top Loaded\",Inputs!$Z$282,1))))","v":1},null,null,{"$f":"AY368*IF(Inputs!$E275=\"Liquid\",Inputs!$Z$298,IF(Inputs!$E275=\"Solid\",Inputs!$Z$299))","v":1},null,null,{"$f":"AL368*AP368*IF(Inputs!F283=\"Uncov. Bottom Loaded\",Inputs!$Z$281,IF(Inputs!F283=\"Covered\",Inputs!$Z$280,IF(Inputs!F283=\"Uncov. Top Loaded\",Inputs!$Z$282,1)))","v":1}]
[null,null,null,null,null,null,null,null,null,null,null,5,{"$f":"IF(Inputs!E276=\"Liquid\",Inputs!W$271,Inputs!W$272)","v":1},null,"n.a.","n.a.",{"$f":"IF(Inputs!D284=\"DH\",Inputs!$V$274,IF(Inputs!D284=\"LS\",Inputs!$V$275,IF(Inputs!D284=\"BP\",Inputs!$V$276,IF(Inputs!D284=\"S\",Inputs!$V$277,IF(Inputs!D284=\"C\",Inputs!$V$278,1)))))","v":1},null,null,{"$f":"IF(Inputs!D292=\"Broadcast, no incorporation\",Inputs!$W$284,IF(OR(Inputs!D292=\"Broadcast, incorporated within 2h\",Inputs!D292=\"Broadcast, incorporated within 48h\"),Inputs!$W$285,IF(OR(Inputs!D292=\"Band spreading\",Inputs!D292=\"Spray bar misting, no incorporation\"),Inputs!$W$286,IF(OR(Inputs!D292=\"Injection in open slots\",Inputs!D292=\"Spray bar misting, incorporated within 48h\"),Inputs!$W$287,IF(Inputs!D292=\"Knifing in\",Inputs!$W$288,IF(Inputs!D292=\"Box spreader, no incorporation\",Inputs!$W$289,IF(OR(Inputs!D292=\"Box spreader, incorporated within 2h\",Inputs!D292=\"Box spreader, incorporated within 48h\"),Inputs!$W$290)))))))","v":1},null,null,{"$f":"IF(Inputs!E276=\"Liquid\",Inputs!E300%*Inputs!$W$294+(1-Inputs!E300%)*Inputs!$W$293,IF(Inputs!E276=\"Solid\",Inputs!E300%*Inputs!$W$296+(1-Inputs!E300%)*Inputs!$W$295))","v":0.92500000000000004},null,null,{"$f":"W369*M369*Q369*T369*(IF(Inputs!F284=\"Uncov. Bottom Loaded\",Inputs!$W$281,IF(Inputs!F284=\"Covered\",Inputs!$W$280,IF(Inputs!F284=\"Uncov. Top Loaded\",Inputs!$W$282,1))))","v":0.92500000000000004},null,null,{"$f":"Z369*IF(Inputs!$E276=\"Liquid\",Inputs!$W$298,IF(Inputs!$E276=\"Solid\",Inputs!$W$299))","v":0.7400000000000001},null,null,{"$f":"M369*Q369*IF(Inputs!F284=\"Uncov. Bottom Loaded\",Inputs!$W$281,IF(Inputs!F284=\"Covered\",Inputs!$W$280,IF(Inputs!F284=\"Uncov. Top Loaded\",Inputs!$W$282,1)))","v":1},null,null,null,null,5,{"$f":"IF(Inputs!E276=\"Liquid\",Inputs!Z$271,Inputs!Z$272)","v":1},null,"n.a.","n.a.",{"$f":"IF(Inputs!D284=\"DH\",Inputs!$Z$274,IF(Inputs!D284=\"MS\",Inputs!$Z$275,IF(Inputs!D284=\"BP\",Inputs!$Z$276,IF(Inputs!D284=\"S\",Inputs!$Z$277,IF(Inputs!D284=\"C\",Inputs!$Z$278,1)))))","v":1},null,null,{"$f":"IF(Inputs!D292=\"Broadcast, no incorporation\",Inputs!$Z$284,IF(OR(Inputs!D292=\"Broadcast, incorporated within 2h\",Inputs!D292=\"Broadcast, incorporated within 48h\"),Inputs!$Z$285,IF(OR(Inputs!D292=\"Band spreading\",Inputs!D292=\"Spray bar misting, no incorporation\"),Inputs!$Z$286,IF(OR(Inputs!D292=\"Injection in open slots\",Inputs!D292=\"Spray bar misting, incorporated within 48h\"),Inputs!$Z$287,IF(Inputs!D292=\"Knifing in\",Inputs!$Z$288,IF(Inputs!D292=\"Box spreader, no incorporation\",Inputs!$Z$289,IF(OR(Inputs!D292=\"Box spreader, incorporated within 2h\",Inputs!D292=\"Box spreader, incorporated within 48h\"),Inputs!$Z$290)))))))","v":1},null,null,{"$f":"IF(Inputs!E276=\"Liquid\",Inputs!E300%*Inputs!$Z$294+(1-Inputs!E300%)*Inputs!$Z$293,IF(Inputs!E276=\"Solid\",Inputs!E300%*Inputs!$Z$296+(1-Inputs!E300%)*Inputs!$Z$295))","v":1},null,null,{"$f":"AV369*AL369*AP369*AS369*(IF(Inputs!F284=\"Uncov. Bottom Loaded\",Inputs!$Z$281,IF(Inputs!F284=\"Covered\",Inputs!$Z$280,IF(Inputs!F284=\"Uncov. Top Loaded\",Inputs!$Z$282,1))))","v":1},null,null,{"$f":"AY369*IF(Inputs!$E276=\"Liquid\",Inputs!$Z$298,IF(Inputs!$E276=\"Solid\",Inputs!$Z$299))","v":1},null,null,{"$f":"AL369*AP369*IF(Inputs!F284=\"Uncov. Bottom Loaded\",Inputs!$Z$281,IF(Inputs!F284=\"Covered\",Inputs!$Z$280,IF(Inputs!F284=\"Uncov. Top Loaded\",Inputs!$Z$282,1)))","v":1}]
[null,null,null,null,null,null,null,null,null,null,null,"Animal ",null,null,null,null,null,null,null,null,null,null,null,null,null,null,null,null,null,null,null,null,null,null,null,null,"Animal "]
[null,null,null,null,null,null,null,null,null,null,null,"group","K2O remaining",null,null,null,"K2O remaining",null,null,"K2O remaining",null,null,"K2O remaining",null,null,"Total K2O",null,null,"available K2O",null,null,"K2O remaining",null,null,null,null,"group","S remaining",null,null,null,"S remaining",null,null,"S remaining",null,null,"S remaining",null,null,"Total S",null,null,"available S",null,null,"S remaining"]
[null,null,null,null,null,null,null,null,null,null,null,1,{"$f":"IF(Inputs!E272=\"Liquid\",Inputs!X$271,Inputs!X$272)","v":1},null,"n.a.","n.a.",{"$f":"IF(Inputs!D280=\"DH\",Inputs!$X$274,IF(Inputs!D280=\"LS\",Inputs!$X$275,IF(Inputs!D280=\"BP\",Inputs!$X$276,IF(Inputs!D280=\"S\",Inputs!$X$277,IF(Inputs!D280=\"C\",Inputs!$X$278,1)))))","v":1},null,null,{"$f":"IF(Inputs!D288=\"Broadcast, no incorporation\",Inputs!$X$284,IF(OR(Inputs!D288=\"Broadcast, incorporated within 2h\",Inputs!D288=\"Broadcast, incorporated within 48h\"),Inputs!$X$285,IF(OR(Inputs!D288=\"Band spreading\",Inputs!D288=\"Spray bar misting, no incorporation\"),Inputs!$X$286,IF(OR(Inputs!D288=\"Injection in open slots\",Inputs!D288=\"Spray bar misting, incorporated within 48h\"),Inputs!$X$287,IF(Inputs!D288=\"Knifing in\",Inputs!$X$288,IF(Inputs!D288=\"Box spreader, no incorporation\",Inputs!$X$289,IF(OR(Inputs!D288=\"Box spreader, incorporated within 2h\",Inputs!D288=\"Box spreader, incorporated within 48h\"),Inputs!$X$290)))))))","v":1},null,null,{"$f":"IF(Inputs!E272=\"Liquid\",Inputs!E296%*Inputs!$X$294+(1-Inputs!E296%)*Inputs!$X$293,IF(Inputs!E272=\"Solid\",Inputs!E296%*Inputs!$X$296+(1-Inputs!E296%)*Inputs!$X$295))","v":0.95400000000000007},null,null,{"$f":"W372*M372*Q372*T372*(IF(Inputs!F280=\"Uncov. Bottom Loaded\",Inputs!$X$281,IF(Inputs!F280=\"Covered\",Inputs!$X$280,IF(Inputs!F280=\"Uncov. Top Loaded\",Inputs!$X$282,1))))","v":0.95400000000000007},null,null,{"$f":"Z372*IF(Inputs!$E272=\"Liquid\",Inputs!$X$298,IF(Inputs!$E272=\"Solid\",Inputs!$X$299))","v":0.85860000000000003},null,null,{"$f":"M372*Q372*IF(Inputs!F280=\"Uncov. Bottom Loaded\",Inputs!$X$281,IF(Inputs!F280=\"Covered\",Inputs!$X$280,IF(Inputs!F280=\"Uncov. Top Loaded\",Inputs!$X$282,1)))","v":1},null,null,null,null,1,{"$f":"IF(Inputs!E272=\"Liquid\",Inputs!AA$271,Inputs!AA$272)","v":1},null,"n.a.","n.a.",{"$f":"IF(Inputs!D280=\"DH\",Inputs!$AA$274,IF(Inputs!D280=\"LS\",Inputs!$AA$275,IF(Inputs!D280=\"BP\",Inputs!$AA$276,IF(Inputs!D280=\"S\",Inputs!$AA$277,IF(Inputs!D280=\"C\",Inputs!$AA$278,1)))))","v":1},null,null,{"$f":"IF(Inputs!D288=\"Broadcast, no incorporation\",Inputs!$AA$284,IF(OR(Inputs!D288=\"Broadcast, incorporated within 2h\",Inputs!D288=\"Broadcast, incorporated within 48h\"),Inputs!$AA$285,IF(OR(Inputs!D288=\"Band spreading\",Inputs!D288=\"Spray bar misting, no incorporation\"),Inputs!$AA$286,IF(OR(Inputs!D288=\"Injection in open slots\",Inputs!D288=\"Spray bar misting, incorporated within 48h\"),Inputs!$AA$287,IF(Inputs!D288=\"Knifing in\",Inputs!$AA$288,IF(Inputs!D288=\"Box spreader, no incorporation\",Inputs!$AA$289,IF(OR(Inputs!D288=\"Box spreader, incorporated within 2h\",Inputs!D288=\"Box spreader, incorporated within 48h\"),Inputs!$AA$290)))))))","v":1},null,null,{"$f":"IF(Inputs!E272=\"Liquid\",Inputs!E296%*Inputs!$AA$294+(1-Inputs!E296%)*Inputs!$AA$293,IF(Inputs!E272=\"Solid\",Inputs!E296%*Inputs!$AA$296+(1-Inputs!E296%)*Inputs!$AA$295))","v":1},null,null,{"$f":"AV372*AL372*AP372*AS372*(IF(Inputs!F280=\"Uncov. Bottom Loaded\",Inputs!$AA$281,IF(Inputs!F280=\"Covered\",Inputs!$AA$280,IF(Inputs!F280=\"Uncov. Top Loaded\",Inputs!$AA$282,1))))","v":1},null,null,{"$f":"AY372*IF(Inputs!$E272=\"Liquid\",Inputs!$AA$298,IF(Inputs!$E272=\"Solid\",Inputs!$AA$299))","v":1},null,null,{"$f":"AL372*AP372*IF(Inputs!F280=\"Uncov. Bottom Loaded\",Inputs!$AA$281,IF(Inputs!F280=\"Covered\",Inputs!$AA$280,IF(Inputs!F280=\"Uncov. Top Loaded\",Inputs!$AA$282,1)))","v":1}]
[null,null,null,null,null,null,null,null,null,null,null,2,{"$f":"IF(Inputs!E273=\"Liquid\",Inputs!X$271,Inputs!X$272)","v":1},null,"n.a.","n.a.",{"$f":"IF(Inputs!D281=\"DH\",Inputs!$X$274,IF(Inputs!D281=\"LS\",Inputs!$X$275,IF(Inputs!D281=\"BP\",Inputs!$X$276,IF(Inputs!D281=\"S\",Inputs!$X$277,IF(Inputs!D281=\"C\",Inputs!$X$278,1)))))","v":1},null,null,{"$f":"IF(Inputs!D289=\"Broadcast, no incorporation\",Inputs!$X$284,IF(OR(Inputs!D289=\"Broadcast, incorporated within 2h\",Inputs!D289=\"Broadcast, incorporated within 48h\"),Inputs!$X$285,IF(OR(Inputs!D289=\"Band spreading\",Inputs!D289=\"Spray bar misting, no incorporation\"),Inputs!$X$286,IF(OR(Inputs!D289=\"Injection in open slots\",Inputs!D289=\"Spray bar misting, incorporated within 48h\"),Inputs!$X$287,IF(Inputs!D289=\"Knifing in\",Inputs!$X$288,IF(Inputs!D289=\"Box spreader, no incorporation\",Inputs!$X$289,IF(OR(Inputs!D289=\"Box spreader, incorporated within 2h\",Inputs!D289=\"Box spreader, incorporated within 48h\"),Inputs!$X$290)))))))","v":1},null,null,{"$f":"IF(Inputs!E273=\"Liquid\",Inputs!E297%*Inputs!$X$294+(1-Inputs!E297%)*Inputs!$X$293,IF(Inputs!E273=\"Solid\",Inputs!E297%*Inputs!$X$296+(1-Inputs!E297%)*Inputs!$X$295))","v":0.95400000000000007},null,null,{"$f":"W373*M373*Q373*T373*(IF(Inputs!F281=\"Uncov. Bottom Loaded\",Inputs!$X$281,IF(Inputs!F281=\"Covered\",Inputs!$X$280,IF(Inputs!F281=\"Uncov. Top Loaded\",Inputs!$X$282,1))))","v":0.95400000000000007},null,null,{"$f":"Z373*IF(Inputs!$E273=\"Liquid\",Inputs!$X$298,IF(Inputs!$E273=\"Solid\",Inputs!$X$299))","v":0.85860000000000003},null,null,{"$f":"M373*Q373*IF(Inputs!F281=\"Uncov. Bottom Loaded\",Inputs!$X$281,IF(Inputs!F281=\"Covered\",Inputs!$X$280,IF(Inputs!F281=\"Uncov. Top Loaded\",Inputs!$X$282,1)))","v":1},null,null,null,null,2,{"$f":"IF(Inputs!E273=\"Liquid\",Inputs!AA$271,Inputs!AA$272)","v":1},null,"n.a.","n.a.",{"$f":"IF(Inputs!D281=\"DH\",Inputs!$AA$274,IF(Inputs!D281=\"LS\",Inputs!$AA$275,IF(Inputs!D281=\"BP\",Inputs!$AA$276,IF(Inputs!D281=\"S\",Inputs!$AA$277,IF(Inputs!D281=\"C\",Inputs!$AA$278,1)))))","v":1},null,null,{"$f":"IF(Inputs!D289=\"Broadcast, no incorporation\",Inputs!$AA$284,IF(OR(Inputs!D289=\"Broadcast, incorporated within 2h\",Inputs!D289=\"Broadcast, incorporated within 48h\"),Inputs!$AA$285,IF(OR(Inputs!D289=\"Band spreading\",Inputs!D289=\"Spray bar misting, no incorporation\"),Inputs!$AA$286,IF(OR(Inputs!D289=\"Injection in open slots\",Inputs!D289=\"Spray bar misting, incorporated within 48h\"),Inputs!$AA$287,IF(Inputs!D289=\"Knifing in\",Inputs!$AA$288,IF(Inputs!D289=\"Box spreader, no incorporation\",Inputs!$AA$289,IF(OR(Inputs!D289=\"Box spreader, incorporated within 2h\",Inputs!D289=\"Box spreader, incorporated within 48h\"),Inputs!$AA$290)))))))","v":1},null,null,{"$f":"IF(Inputs!E273=\"Liquid\",Inputs!E297%*Inputs!$AA$294+(1-Inputs!E297%)*Inputs!$AA$293,IF(Inputs!E273=\"Solid\",Inputs!E297%*Inputs!$AA$296+(1-Inputs!E297%)*Inputs!$AA$295))","v":1},null,null,{"$f":"AV373*AL373*AP373*AS373*(IF(Inputs!F281=\"Uncov. Bottom Loaded\",Inputs!$AA$281,IF(Inputs!F281=\"Covered\",Inputs!$AA$280,IF(Inputs!F281=\"Uncov. Top Loaded\",Inputs!$AA$282,1))))","v":1},null,null,{"$f":"AY373*IF(Inputs!$E273=\"Liquid\",Inputs!$AA$298,IF(Inputs!$E273=\"Solid\",Inputs!$AA$299))","v":1},null,null,{"$f":"AL373*AP373*IF(Inputs!F281=\"Uncov. Bottom Loaded\",Inputs!$AA$281,IF(Inputs!F281=\"Covered\",Inputs!$AA$280,IF(Inputs!F281=\"Uncov. Top Loaded\",Inputs!$AA$282,1)))","v":1}]
[null,null,null,null,null,null,null,null,null,null,null,3,{"$f":"IF(Inputs!E274=\"Liquid\",Inputs!X$271,Inputs!X$272)","v":1},null,"n.a.","n.a.",{"$f":"IF(Inputs!D282=\"DH\",Inputs!$X$274,IF(Inputs!D282=\"LS\",Inputs!$X$275,IF(Inputs!D282=\"BP\",Inputs!$X$276,IF(Inputs!D282=\"S\",Inputs!$X$277,IF(Inputs!D282=\"C\",Inputs!$X$278,1)))))","v":1},null,null,{"$f":"IF(Inputs!D290=\"Broadcast, no incorporation\",Inputs!$X$284,IF(OR(Inputs!D290=\"Broadcast, incorporated within 2h\",Inputs!D290=\"Broadcast, incorporated within 48h\"),Inputs!$X$285,IF(OR(Inputs!D290=\"Band spreading\",Inputs!D290=\"Spray bar misting, no incorporation\"),Inputs!$X$286,IF(OR(Inputs!D290=\"Injection in open slots\",Inputs!D290=\"Spray bar misting, incorporated within 48h\"),Inputs!$X$287,IF(Inputs!D290=\"Knifing in\",Inputs!$X$288,IF(Inputs!D290=\"Box spreader, no incorporation\",Inputs!$X$289,IF(OR(Inputs!D290=\"Box spreader, incorporated within 2h\",Inputs!D290=\"Box spreader, incorporated within 48h\"),Inputs!$X$290)))))))","v":1},null,null,{"$f":"IF(Inputs!E274=\"Liquid\",Inputs!E298%*Inputs!$X$294+(1-Inputs!E298%)*Inputs!$X$293,IF(Inputs!E274=\"Solid\",Inputs!E298%*Inputs!$X$296+(1-Inputs!E298%)*Inputs!$X$295))","v":0.95400000000000007},null,null,{"$f":"W374*M374*Q374*T374*(IF(Inputs!F282=\"Uncov. Bottom Loaded\",Inputs!$X$281,IF(Inputs!F282=\"Covered\",Inputs!$X$280,IF(Inputs!F282=\"Uncov. Top Loaded\",Inputs!$X$282,1))))","v":0.95400000000000007},null,null,{"$f":"Z374*IF(Inputs!$E274=\"Liquid\",Inputs!$X$298,IF(Inputs!$E274=\"Solid\",Inputs!$X$299))","v":0.85860000000000003},null,null,{"$f":"M374*Q374*IF(Inputs!F282=\"Uncov. Bottom Loaded\",Inputs!$X$281,IF(Inputs!F282=\"Covered\",Inputs!$X$280,IF(Inputs!F282=\"Uncov. Top Loaded\",Inputs!$X$282,1)))","v":1},null,null,null,null,3,{"$f":"IF(Inputs!E274=\"Liquid\",Inputs!AA$271,Inputs!AA$272)","v":1},null,"n.a.","n.a.",{"$f":"IF(Inputs!D282=\"DH\",Inputs!$AA$274,IF(Inputs!D282=\"LS\",Inputs!$AA$275,IF(Inputs!D282=\"BP\",Inputs!$AA$276,IF(Inputs!D282=\"S\",Inputs!$AA$277,IF(Inputs!D282=\"C\",Inputs!$AA$278,1)))))","v":1},null,null,{"$f":"IF(Inputs!D290=\"Broadcast, no incorporation\",Inputs!$AA$284,IF(OR(Inputs!D290=\"Broadcast, incorporated within 2h\",Inputs!D290=\"Broadcast, incorporated within 48h\"),Inputs!$AA$285,IF(OR(Inputs!D290=\"Band spreading\",Inputs!D290=\"Spray bar misting, no incorporation\"),Inputs!$AA$286,IF(OR(Inputs!D290=\"Injection in open slots\",Inputs!D290=\"Spray bar misting, incorporated within 48h\"),Inputs!$AA$287,IF(Inputs!D290=\"Knifing in\",Inputs!$AA$288,IF(Inputs!D290=\"Box spreader, no incorporation\",Inputs!$AA$289,IF(OR(Inputs!D290=\"Box spreader, incorporated within 2h\",Inputs!D290=\"Box spreader, incorporated within 48h\"),Inputs!$AA$290)))))))","v":1},null,null,{"$f":"IF(Inputs!E274=\"Liquid\",Inputs!E298%*Inputs!$AA$294+(1-Inputs!E298%)*Inputs!$AA$293,IF(Inputs!E274=\"Solid\",Inputs!E298%*Inputs!$AA$296+(1-Inputs!E298%)*Inputs!$AA$295))","v":1},null,null,{"$f":"AV374*AL374*AP374*AS374*(IF(Inputs!F282=\"Uncov. Bottom Loaded\",Inputs!$AA$281,IF(Inputs!F282=\"Covered\",Inputs!$AA$280,IF(Inputs!F282=\"Uncov. Top Loaded\",Inputs!$AA$282,1))))","v":1},null,null,{"$f":"AY374*IF(Inputs!$E274=\"Liquid\",Inputs!$AA$298,IF(Inputs!$E274=\"Solid\",Inputs!$AA$299))","v":1},null,null,{"$f":"AL374*AP374*IF(Inputs!F282=\"Uncov. Bottom Loaded\",Inputs!$AA$281,IF(Inputs!F282=\"Covered\",Inputs!$AA$280,IF(Inputs!F282=\"Uncov. Top Loaded\",Inputs!$AA$282,1)))","v":1}]
[null,null,null,null,null,null,null,null,null,null,null,4,{"$f":"IF(Inputs!E275=\"Liquid\",Inputs!X$271,Inputs!X$272)","v":1},null,"n.a.","n.a.",{"$f":"IF(Inputs!D283=\"DH\",Inputs!$X$274,IF(Inputs!D283=\"LS\",Inputs!$X$275,IF(Inputs!D283=\"BP\",Inputs!$X$276,IF(Inputs!D283=\"S\",Inputs!$X$277,IF(Inputs!D283=\"C\",Inputs!$X$278,1)))))","v":1},null,null,{"$f":"IF(Inputs!D291=\"Broadcast, no incorporation\",Inputs!$X$284,IF(OR(Inputs!D291=\"Broadcast, incorporated within 2h\",Inputs!D291=\"Broadcast, incorporated within 48h\"),Inputs!$X$285,IF(OR(Inputs!D291=\"Band spreading\",Inputs!D291=\"Spray bar misting, no incorporation\"),Inputs!$X$286,IF(OR(Inputs!D291=\"Injection in open slots\",Inputs!D291=\"Spray bar misting, incorporated within 48h\"),Inputs!$X$287,IF(Inputs!D291=\"Knifing in\",Inputs!$X$288,IF(Inputs!D291=\"Box spreader, no incorporation\",Inputs!$X$289,IF(OR(Inputs!D291=\"Box spreader, incorporated within 2h\",Inputs!D291=\"Box spreader, incorporated within 48h\"),Inputs!$X$290)))))))","v":1},null,null,{"$f":"IF(Inputs!E275=\"Liquid\",Inputs!E299%*Inputs!$X$294+(1-Inputs!E299%)*Inputs!$X$293,IF(Inputs!E275=\"Solid\",Inputs!E299%*Inputs!$X$296+(1-Inputs!E299%)*Inputs!$X$295))","v":0.95400000000000007},null,null,{"$f":"W375*M375*Q375*T375*(IF(Inputs!F283=\"Uncov. Bottom Loaded\",Inputs!$X$281,IF(Inputs!F283=\"Covered\",Inputs!$X$280,IF(Inputs!F283=\"Uncov. Top Loaded\",Inputs!$X$282,1))))","v":0.95400000000000007},null,null,{"$f":"Z375*IF(Inputs!$E275=\"Liquid\",Inputs!$X$298,IF(Inputs!$E275=\"Solid\",Inputs!$X$299))","v":0.85860000000000003},null,null,{"$f":"M375*Q375*IF(Inputs!F283=\"Uncov. Bottom Loaded\",Inputs!$X$281,IF(Inputs!F283=\"Covered\",Inputs!$X$280,IF(Inputs!F283=\"Uncov. Top Loaded\",Inputs!$X$282,1)))","v":1},null,null,null,null,4,{"$f":"IF(Inputs!E275=\"Liquid\",Inputs!AA$271,Inputs!AA$272)","v":1},null,"n.a.","n.a.",{"$f":"IF(Inputs!D283=\"DH\",Inputs!$AA$274,IF(Inputs!D283=\"LS\",Inputs!$AA$275,IF(Inputs!D283=\"BP\",Inputs!$AA$276,IF(Inputs!D283=\"S\",Inputs!$AA$277,IF(Inputs!D283=\"C\",Inputs!$AA$278,1)))))","v":1},null,null,{"$f":"IF(Inputs!D291=\"Broadcast, no incorporation\",Inputs!$AA$284,IF(OR(Inputs!D291=\"Broadcast, incorporated within 2h\",Inputs!D291=\"Broadcast, incorporated within 48h\"),Inputs!$AA$285,IF(OR(Inputs!D291=\"Band spreading\",Inputs!D291=\"Spray bar misting, no incorporation\"),Inputs!$AA$286,IF(OR(Inputs!D291=\"Injection in open slots\",Inputs!D291=\"Spray bar misting, incorporated within 48h\"),Inputs!$AA$287,IF(Inputs!D291=\"Knifing in\",Inputs!$AA$288,IF(Inputs!D291=\"Box spreader, no incorporation\",Inputs!$AA$289,IF(OR(Inputs!D291=\"Box spreader, incorporated within 2h\",Inputs!D291=\"Box spreader, incorporated within 48h\"),Inputs!$AA$290)))))))","v":1},null,null,{"$f":"IF(Inputs!E275=\"Liquid\",Inputs!E299%*Inputs!$AA$294+(1-Inputs!E299%)*Inputs!$AA$293,IF(Inputs!E275=\"Solid\",Inputs!E299%*Inputs!$AA$296+(1-Inputs!E299%)*Inputs!$AA$295))","v":1},null,null,{"$f":"AV375*AL375*AP375*AS375*(IF(Inputs!F283=\"Uncov. Bottom Loaded\",Inputs!$AA$281,IF(Inputs!F283=\"Covered\",Inputs!$AA$280,IF(Inputs!F283=\"Uncov. Top Loaded\",Inputs!$AA$282,1))))","v":1},null,null,{"$f":"AY375*IF(Inputs!$E275=\"Liquid\",Inputs!$AA$298,IF(Inputs!$E275=\"Solid\",Inputs!$AA$299))","v":1},null,null,{"$f":"AL375*AP375*IF(Inputs!F283=\"Uncov. Bottom Loaded\",Inputs!$AA$281,IF(Inputs!F283=\"Covered\",Inputs!$AA$280,IF(Inputs!F283=\"Uncov. Top Loaded\",Inputs!$AA$282,1)))","v":1}]
[null,null,null,null,null,null,null,null,null,null,null,5,{"$f":"IF(Inputs!E276=\"Liquid\",Inputs!X$271,Inputs!X$272)","v":1},null,"n.a.","n.a.",{"$f":"IF(Inputs!D284=\"DH\",Inputs!$X$274,IF(Inputs!D284=\"LS\",Inputs!$X$275,IF(Inputs!D284=\"BP\",Inputs!$X$276,IF(Inputs!D284=\"S\",Inputs!$X$277,IF(Inputs!D284=\"C\",Inputs!$X$278,1)))))","v":1},null,null,{"$f":"IF(Inputs!D292=\"Broadcast, no incorporation\",Inputs!$X$284,IF(OR(Inputs!D292=\"Broadcast, incorporated within 2h\",Inputs!D292=\"Broadcast, incorporated within 48h\"),Inputs!$X$285,IF(OR(Inputs!D292=\"Band spreading\",Inputs!D292=\"Spray bar misting, no incorporation\"),Inputs!$X$286,IF(OR(Inputs!D292=\"Injection in open slots\",Inputs!D292=\"Spray bar misting, incorporated within 48h\"),Inputs!$X$287,IF(Inputs!D292=\"Knifing in\",Inputs!$X$288,IF(Inputs!D292=\"Box spreader, no incorporation\",Inputs!$X$289,IF(OR(Inputs!D292=\"Box spreader, incorporated within 2h\",Inputs!D292=\"Box spreader, incorporated within 48h\"),Inputs!$X$290)))))))","v":1},null,null,{"$f":"IF(Inputs!E276=\"Liquid\",Inputs!E300%*Inputs!$X$294+(1-Inputs!E300%)*Inputs!$X$293,IF(Inputs!E276=\"Solid\",Inputs!E300%*Inputs!$X$296+(1-Inputs!E300%)*Inputs!$X$295))","v":0.95400000000000007},null,null,{"$f":"W376*M376*Q376*T376*(IF(Inputs!F284=\"Uncov. Bottom Loaded\",Inputs!$X$281,IF(Inputs!F284=\"Covered\",Inputs!$X$280,IF(Inputs!F284=\"Uncov. Top Loaded\",Inputs!$X$282,1))))","v":0.95400000000000007},null,null,{"$f":"Z376*IF(Inputs!$E276=\"Liquid\",Inputs!$X$298,IF(Inputs!$E276=\"Solid\",Inputs!$X$299))","v":0.85860000000000003},null,null,{"$f":"M376*Q376*IF(Inputs!F284=\"Uncov. Bottom Loaded\",Inputs!$X$281,IF(Inputs!F284=\"Covered\",Inputs!$X$280,IF(Inputs!F284=\"Uncov. Top Loaded\",Inputs!$X$282,1)))","v":1},null,null,null,null,5,{"$f":"IF(Inputs!E276=\"Liquid\",Inputs!AA$271,Inputs!AA$272)","v":1},null,"n.a.","n.a.",{"$f":"IF(Inputs!D284=\"DH\",Inputs!$AA$274,IF(Inputs!D284=\"LS\",Inputs!$AA$275,IF(Inputs!D284=\"BP\",Inputs!$AA$276,IF(Inputs!D284=\"S\",Inputs!$AA$277,IF(Inputs!D284=\"C\",Inputs!$AA$278,1)))))","v":1},null,null,{"$f":"IF(Inputs!D292=\"Broadcast, no incorporation\",Inputs!$AA$284,IF(OR(Inputs!D292=\"Broadcast, incorporated within 2h\",Inputs!D292=\"Broadcast, incorporated within 48h\"),Inputs!$AA$285,IF(OR(Inputs!D292=\"Band spreading\",Inputs!D292=\"Spray bar misting, no incorporation\"),Inputs!$AA$286,IF(OR(Inputs!D292=\"Injection in open slots\",Inputs!D292=\"Spray bar misting, incorporated within 48h\"),Inputs!$AA$287,IF(Inputs!D292=\"Knifing in\",Inputs!$AA$288,IF(Inputs!D292=\"Box spreader, no incorporation\",Inputs!$AA$289,IF(OR(Inputs!D292=\"Box spreader, incorporated within 2h\",Inputs!D292=\"Box spreader, incorporated within 48h\"),Inputs!$AA$290)))))))","v":1},null,null,{"$f":"IF(Inputs!E276=\"Liquid\",Inputs!E300%*Inputs!$AA$294+(1-Inputs!E300%)*Inputs!$AA$293,IF(Inputs!E276=\"Solid\",Inputs!E300%*Inputs!$AA$296+(1-Inputs!E300%)*Inputs!$AA$295))","v":1},null,null,{"$f":"AV376*AL376*AP376*AS376*(IF(Inputs!F284=\"Uncov. Bottom Loaded\",Inputs!$AA$281,IF(Inputs!F284=\"Covered\",Inputs!$AA$280,IF(Inputs!F284=\"Uncov. Top Loaded\",Inputs!$AA$282,1))))","v":1},null,null,{"$f":"AY376*IF(Inputs!$E276=\"Liquid\",Inputs!$AA$298,IF(Inputs!$E276=\"Solid\",Inputs!$AA$299))","v":1},null,null,{"$f":"AL376*AP376*IF(Inputs!F284=\"Uncov. Bottom Loaded\",Inputs!$AA$281,IF(Inputs!F284=\"Covered\",Inputs!$AA$280,IF(Inputs!F284=\"Uncov. Top Loaded\",Inputs!$AA$282,1)))","v":1}]
[]
[]
[null,null,null,null,null,null,null,null,null,null,"Areas per Land Units:",null,"ha"]
[null,null,null,null,null,null,null,null,null,null,null,{"$f":"Inputs!B313","v":"LU 1"},{"$f":"Inputs!C313","v":50.4}]
[null,null,null,null,null,null,null,null,null,null,null,{"$f":"Inputs!B314","v":"LU 2"},{"$f":"Inputs!C314","v":0}]
[null,null,null,null,null,null,null,null,null,null,null,{"$f":"Inputs!B315","v":"LU 3"},{"$f":"Inputs!C315","v":50.4}]
[null,null,null,null,null,null,null,null,null,null,null,{"$f":"Inputs!B316","v":"LU 4"},{"$f":"Inputs!C316","v":0}]
[null,null,null,null,null,null,null,null,null,null,null,{"$f":"Inputs!B317","v":"LU 5"},{"$f":"Inputs!C317","v":50.4}]
[null,null,null,null,null,null,null,null,null,null,null,"Total",{"$f":"SUM(M380:M384)","v":151.19999999999999}]
[]
[]
[]
[null,null,null,null,null,null,null,null,null,null,"Rotation descriptions"]
[null,null,null,null,null,null,null,null,null,null,"Land Unit 1",null,null,"Average Rotation Values",null,null,null,"Rotation 1 name:",null,{"$f":"Inputs!E328","v":"CCC"},null,null,null,null,null,null,null,"Rotation 2 name:",null,{"$f":"Inputs!O328","v":"SCC"},null,null,null,null,null,null,null,"Rotation 3 name:",null,{"$f":"Inputs!Y328","v":"CCAAA"},null,null,null,null,null,null,null,"Rotation 4 name:",null,{"$f":"Inputs!AI328","v":"CCCSCAAA"},null,null,null,null,null,null,null,"Rotation 5 name:",null,{"$f":"Inputs!AS328","v":"       CCCSWAAA"}]
[null,null,null,null,null,null,null,null,null,null,null,"Name",{"$f":"T390","v":"CCC"},{"$f":"AD390","v":"SCC"},{"$f":"AN390","v":"CCAAA"},{"$f":"AX390","v":"CCCSCAAA"},{"$f":"BH390","v":"       CCCSWAAA"},{"$f":"Inputs!C329","v":"CoGr-27"},{"$f":"Inputs!D329","v":0},{"$f":"Inputs!E329","v":0},{"$f":"Inputs!F329","v":0},{"$f":"Inputs!G329","v":0},{"$f":"Inputs!H329","v":0},{"$f":"Inputs!I329","v":0},{"$f":"Inputs!J329","v":0},{"$f":"Inputs!K329","v":0},{"$f":"Inputs!L329","v":0},{"$f":"Inputs!M329","v":"SBw-108"},{"$f":"Inputs!N329","v":"CoGr-27"},{"$f":"Inputs!O329","v":0},{"$f":"Inputs!P329","v":"CoSi-35"},{"$f":"Inputs!Q329","v":0},{"$f":"Inputs!R329","v":0},{"$f":"Inputs!S329","v":0},{"$f":"Inputs!T329","v":0},{"$f":"Inputs!U329","v":0},{"$f":"Inputs!V329","v":0},{"$f":"Inputs!W329","v":"CoSi-35"},{"$f":"Inputs!X329","v":"CoGr-27"},{"$f":"Inputs!Y329","v":0},{"$f":"Inputs!Z329","v":"AlSi-83"},{"$f":"Inputs!AA329","v":"AlSi-83"},{"$f":"Inputs!AB329","v":"MxSi-74"},{"$f":"Inputs!AC329","v":0},{"$f":"Inputs!AD329","v":0},{"$f":"Inputs!AE329","v":0},{"$f":"Inputs!AF329","v":0},{"$f":"Inputs!AG329","v":"CoSi-35"},{"$f":"Inputs!AH329","v":"CoGr-27"},{"$f":"Inputs!AI329","v":0},{"$f":"Inputs!AJ329","v":"CoSi-35"},{"$f":"Inputs!AK329","v":"SBw-108"},{"$f":"Inputs!AL329","v":"CoGr-27"},{"$f":"Inputs!AM329","v":0},{"$f":"Inputs!AN329","v":"AlSi-83"},{"$f":"Inputs!AO329","v":"AlSi-83"},{"$f":"Inputs!AP329","v":"MxSi-74"},{"$f":"Inputs!AQ329","v":"CoSi-35"},{"$f":"Inputs!AR329","v":"CoGr-27"},{"$f":"Inputs!AS329","v":0},{"$f":"Inputs!AT329","v":"CoSi-35"},{"$f":"Inputs!AU329","v":"SBw-108"},{"$f":"Inputs!AV329","v":"Wheat-116"},{"$f":"Inputs!AW329","v":"Straw-120"},{"$f":"Inputs!AX329","v":"AlSi-83"},{"$f":"Inputs!AY329","v":"AlSi-83"},{"$f":"Inputs!AZ329","v":"MxSi-74"}]
[null,null,null,null,null,null,null,null,null,null,null,"Year",{"$f":"MAX(R392:AA392)","v":1},{"$f":"MAX(AB392:AK392)","v":3},{"$f":"MAX(AL392:AU392)","v":5},{"$f":"MAX(AV392:BE392)","v":8},{"$f":"MAX(BF392:BO392)","v":8},{"$f":"Inputs!C330","v":1},{"$f":"Inputs!D330","v":0},{"$f":"Inputs!E330","v":0},{"$f":"Inputs!F330","v":0},{"$f":"Inputs!G330","v":0},{"$f":"Inputs!H330","v":0},{"$f":"Inputs!I330","v":0},{"$f":"Inputs!J330","v":0},{"$f":"Inputs!K330","v":0},{"$f":"Inputs!L330","v":0},{"$f":"Inputs!M330","v":1},{"$f":"Inputs!N330","v":2},{"$f":"Inputs!O330","v":0},{"$f":"Inputs!P330","v":3},{"$f":"Inputs!Q330","v":0},{"$f":"Inputs!R330","v":0},{"$f":"Inputs!S330","v":0},{"$f":"Inputs!T330","v":0},{"$f":"Inputs!U330","v":0},{"$f":"Inputs!V330","v":0},{"$f":"Inputs!W330","v":1},{"$f":"Inputs!X330","v":2},{"$f":"Inputs!Y330","v":0},{"$f":"Inputs!Z330","v":3},{"$f":"Inputs!AA330","v":4},{"$f":"Inputs!AB330","v":5},{"$f":"Inputs!AC330","v":0},{"$f":"Inputs!AD330","v":0},{"$f":"Inputs!AE330","v":0},{"$f":"Inputs!AF330","v":0},{"$f":"Inputs!AG330","v":1},{"$f":"Inputs!AH330","v":2},{"$f":"Inputs!AI330","v":0},{"$f":"Inputs!AJ330","v":3},{"$f":"Inputs!AK330","v":4},{"$f":"Inputs!AL330","v":5},{"$f":"Inputs!AM330","v":0},{"$f":"Inputs!AN330","v":6},{"$f":"Inputs!AO330","v":7},{"$f":"Inputs!AP330","v":8},{"$f":"Inputs!AQ330","v":1},{"$f":"Inputs!AR330","v":2},{"$f":"Inputs!AS330","v":0},{"$f":"Inputs!AT330","v":3},{"$f":"Inputs!AU330","v":4},{"$f":"Inputs!AV330","v":5},{"$f":"Inputs!AW330","v":5},{"$f":"Inputs!AX330","v":6},{"$f":"Inputs!AY330","v":7},{"$f":"Inputs!AZ330","v":8}]
[null,null,null,null,null,null,null,null,null,null,null,"Yield, t DM/yr",null,null,null,null,null,{"$f":"Inputs!C331","v":8.3505154639175263},{"$f":"Inputs!D331","v":0},{"$f":"Inputs!E331","v":0},{"$f":"Inputs!F331","v":0},{"$f":"Inputs!G331","v":0},{"$f":"Inputs!H331","v":0},{"$f":"Inputs!I331","v":0},{"$f":"Inputs!J331","v":0},{"$f":"Inputs!K331","v":0},{"$f":"Inputs!L331","v":0},{"$f":"Inputs!M331","v":2.9484536082474224},{"$f":"Inputs!N331","v":9.2783505154639183},{"$f":"Inputs!O331","v":0},{"$f":"Inputs!P331","v":18.470588235294116},{"$f":"Inputs!Q331","v":0},{"$f":"Inputs!R331","v":0},{"$f":"Inputs!S331","v":0},{"$f":"Inputs!T331","v":0},{"$f":"Inputs!U331","v":0},{"$f":"Inputs!V331","v":0},{"$f":"Inputs!W331","v":19.411764705882355},{"$f":"Inputs!X331","v":8.7628865979381452},{"$f":"Inputs!Y331","v":0},{"$f":"Inputs!Z331","v":4.625},{"$f":"Inputs!AA331","v":10.874999999999998},{"$f":"Inputs!AB331","v":9.4999999999999982},{"$f":"Inputs!AC331","v":0},{"$f":"Inputs!AD331","v":0},{"$f":"Inputs!AE331","v":0},{"$f":"Inputs!AF331","v":0},{"$f":"Inputs!AG331","v":19.411764705882355},{"$f":"Inputs!AH331","v":8.8041237113402051},{"$f":"Inputs!AI331","v":0},{"$f":"Inputs!AJ331","v":18.470588235294116},{"$f":"Inputs!AK331","v":2.9896907216494846},{"$f":"Inputs!AL331","v":9.2783505154639183},{"$f":"Inputs!AM331","v":0},{"$f":"Inputs!AN331","v":4.625},{"$f":"Inputs!AO331","v":10.874999999999998},{"$f":"Inputs!AP331","v":9.4999999999999982},{"$f":"Inputs!AQ331","v":19.411764705882355},{"$f":"Inputs!AR331","v":8.7628865979381452},{"$f":"Inputs!AS331","v":0},{"$f":"Inputs!AT331","v":18.470588235294116},{"$f":"Inputs!AU331","v":2.9896907216494846},{"$f":"Inputs!AV331","v":3.5051546391752577},{"$f":"Inputs!AW331","v":1.6},{"$f":"Inputs!AX331","v":4.625},{"$f":"Inputs!AY331","v":10.874999999999998},{"$f":"Inputs!AZ331","v":9.4999999999999982}]
[null,null,null,null,null,null,null,null,null,null,null,"N,  kg/ha",{"$f":"SUM(R394:AA394)/MAX(R$392:AA$392)","v":159},{"$f":"SUM(AB394:AK394)/MAX($AB$392:$AK$392)","v":91.066666666666663},{"$f":"SUM(AL394:AU394)/MAX($AL$392:$AU$392)","v":25.2},{"$f":"SUM(AV394:BE394)/MAX($AV$392:$BE$392)","v":49.9},{"$f":"SUM(BF394:BO394)/MAX($BF$392:$BO$392)","v":38.4},{"$f":"Inputs!C332","v":159},{"$f":"Inputs!D332","v":0},{"$f":"Inputs!E332","v":0},{"$f":"Inputs!F332","v":0},{"$f":"Inputs!G332","v":0},{"$f":"Inputs!H332","v":0},{"$f":"Inputs!I332","v":0},{"$f":"Inputs!J332","v":0},{"$f":"Inputs!K332","v":0},{"$f":"Inputs!L332","v":0},{"$f":"Inputs!M332","v":0},{"$f":"Inputs!N332","v":114.2},{"$f":"Inputs!O332","v":0},{"$f":"Inputs!P332","v":159},{"$f":"Inputs!Q332","v":0},{"$f":"Inputs!R332","v":0},{"$f":"Inputs!S332","v":0},{"$f":"Inputs!T332","v":0},{"$f":"Inputs!U332","v":0},{"$f":"Inputs!V332","v":0},{"$f":"Inputs!W332","v":23},{"$f":"Inputs!X332","v":103},{"$f":"Inputs!Y332","v":0},{"$f":"Inputs!Z332","v":0},{"$f":"Inputs!AA332","v":0},{"$f":"Inputs!AB332","v":0},{"$f":"Inputs!AC332","v":0},{"$f":"Inputs!AD332","v":0},{"$f":"Inputs!AE332","v":0},{"$f":"Inputs!AF332","v":0},{"$f":"Inputs!AG332","v":23},{"$f":"Inputs!AH332","v":103},{"$f":"Inputs!AI332","v":0},{"$f":"Inputs!AJ332","v":159},{"$f":"Inputs!AK332","v":0},{"$f":"Inputs!AL332","v":114.2},{"$f":"Inputs!AM332","v":0},{"$f":"Inputs!AN332","v":0},{"$f":"Inputs!AO332","v":0},{"$f":"Inputs!AP332","v":0},{"$f":"Inputs!AQ332","v":23},{"$f":"Inputs!AR332","v":103},{"$f":"Inputs!AS332","v":0},{"$f":"Inputs!AT332","v":159},{"$f":"Inputs!AU332","v":0},{"$f":"Inputs!AV332","v":22.200000000000003},{"$f":"Inputs!AW332","v":0},{"$f":"Inputs!AX332","v":0},{"$f":"Inputs!AY332","v":0},{"$f":"Inputs!AZ332","v":0}]
[null,null,null,null,null,null,null,null,null,null,null,"P2O5,  kg/ha",{"$f":"SUM(R395:AA395)/MAX(R$392:AA$392)","v":34},{"$f":"SUM(AB395:AK395)/MAX($AB$392:$AK$392)","v":31.666666666666668},{"$f":"SUM(AL395:AU395)/MAX($AL$392:$AU$392)","v":28.208504814670086},{"$f":"SUM(AV395:BE395)/MAX($AV$392:$BE$392)","v":29.505315509168803},{"$f":"SUM(BF395:BO395)/MAX($BF$392:$BO$392)","v":28.755315509168803},{"$f":"Inputs!C333","v":34},{"$f":"Inputs!D333","v":0},{"$f":"Inputs!E333","v":0},{"$f":"Inputs!F333","v":0},{"$f":"Inputs!G333","v":0},{"$f":"Inputs!H333","v":0},{"$f":"Inputs!I333","v":0},{"$f":"Inputs!J333","v":0},{"$f":"Inputs!K333","v":0},{"$f":"Inputs!L333","v":0},{"$f":"Inputs!M333","v":22},{"$f":"Inputs!N333","v":34},{"$f":"Inputs!O333","v":0},{"$f":"Inputs!P333","v":39},{"$f":"Inputs!Q333","v":0},{"$f":"Inputs!R333","v":0},{"$f":"Inputs!S333","v":0},{"$f":"Inputs!T333","v":0},{"$f":"Inputs!U333","v":0},{"$f":"Inputs!V333","v":0},{"$f":"Inputs!W333","v":39},{"$f":"Inputs!X333","v":34},{"$f":"Inputs!Y333","v":0},{"$f":"Inputs!Z333","v":12},{"$f":"Inputs!AA333","v":28.021262036675218},{"$f":"Inputs!AB333","v":28.021262036675218},{"$f":"Inputs!AC333","v":0},{"$f":"Inputs!AD333","v":0},{"$f":"Inputs!AE333","v":0},{"$f":"Inputs!AF333","v":0},{"$f":"Inputs!AG333","v":39},{"$f":"Inputs!AH333","v":34},{"$f":"Inputs!AI333","v":0},{"$f":"Inputs!AJ333","v":39},{"$f":"Inputs!AK333","v":22},{"$f":"Inputs!AL333","v":34},{"$f":"Inputs!AM333","v":0},{"$f":"Inputs!AN333","v":12},{"$f":"Inputs!AO333","v":28.021262036675218},{"$f":"Inputs!AP333","v":28.021262036675218},{"$f":"Inputs!AQ333","v":39},{"$f":"Inputs!AR333","v":34},{"$f":"Inputs!AS333","v":0},{"$f":"Inputs!AT333","v":39},{"$f":"Inputs!AU333","v":22},{"$f":"Inputs!AV333","v":28},{"$f":"Inputs!AW333","v":0},{"$f":"Inputs!AX333","v":12},{"$f":"Inputs!AY333","v":28.021262036675218},{"$f":"Inputs!AZ333","v":28.021262036675218}]
[null,null,null,null,null,null,null,null,null,null,null,"K2O, kg/ha",{"$f":"SUM(R396:AA396)/MAX(R$392:AA$392)","v":22},{"$f":"SUM(AB396:AK396)/MAX($AB$392:$AK$392)","v":41},{"$f":"SUM(AL396:AU396)/MAX($AL$392:$AU$392)","v":73.400000000000006},{"$f":"SUM(AV396:BE396)/MAX($AV$392:$BE$392)","v":61.25},{"$f":"SUM(BF396:BO396)/MAX($BF$392:$BO$392)","v":64.5},{"$f":"Inputs!C334","v":22},{"$f":"Inputs!D334","v":0},{"$f":"Inputs!E334","v":0},{"$f":"Inputs!F334","v":0},{"$f":"Inputs!G334","v":0},{"$f":"Inputs!H334","v":0},{"$f":"Inputs!I334","v":0},{"$f":"Inputs!J334","v":0},{"$f":"Inputs!K334","v":0},{"$f":"Inputs!L334","v":0},{"$f":"Inputs!M334","v":28},{"$f":"Inputs!N334","v":22},{"$f":"Inputs!O334","v":0},{"$f":"Inputs!P334","v":73},{"$f":"Inputs!Q334","v":0},{"$f":"Inputs!R334","v":0},{"$f":"Inputs!S334","v":0},{"$f":"Inputs!T334","v":0},{"$f":"Inputs!U334","v":0},{"$f":"Inputs!V334","v":0},{"$f":"Inputs!W334","v":73},{"$f":"Inputs!X334","v":22},{"$f":"Inputs!Y334","v":0},{"$f":"Inputs!Z334","v":48},{"$f":"Inputs!AA334","v":112},{"$f":"Inputs!AB334","v":112},{"$f":"Inputs!AC334","v":0},{"$f":"Inputs!AD334","v":0},{"$f":"Inputs!AE334","v":0},{"$f":"Inputs!AF334","v":0},{"$f":"Inputs!AG334","v":73},{"$f":"Inputs!AH334","v":22},{"$f":"Inputs!AI334","v":0},{"$f":"Inputs!AJ334","v":73},{"$f":"Inputs!AK334","v":28},{"$f":"Inputs!AL334","v":22},{"$f":"Inputs!AM334","v":0},{"$f":"Inputs!AN334","v":48},{"$f":"Inputs!AO334","v":112},{"$f":"Inputs!AP334","v":112},{"$f":"Inputs!AQ334","v":73},{"$f":"Inputs!AR334","v":22},{"$f":"Inputs!AS334","v":0},{"$f":"Inputs!AT334","v":73},{"$f":"Inputs!AU334","v":28},{"$f":"Inputs!AV334","v":48},{"$f":"Inputs!AW334","v":0},{"$f":"Inputs!AX334","v":48},{"$f":"Inputs!AY334","v":112},{"$f":"Inputs!AZ334","v":112}]
[null,null,null,null,null,null,null,null,null,null,null,"P Removal,  kg/ha",{"$f":"SUM(R397:AA397)/MAX(R$392:AA$392)","v":25.051546391752581},{"$f":"SUM(AB397:AK397)/MAX($AB$392:$AK$392)","v":31.183100869213664},{"$f":"SUM(AL397:AU397)/MAX($AL$392:$AU$392)","v":32.661849605821715},{"$f":"SUM(AV397:BE397)/MAX($AV$392:$BE$392)","v":32.153710582171016},{"$f":"SUM(BF397:BO397)/MAX($BF$392:$BO$392)","v":30.742885839902975},{"$f":"Inputs!C335","v":25.051546391752581},{"$f":"Inputs!D335","v":0},{"$f":"Inputs!E335","v":0},{"$f":"Inputs!F335","v":0},{"$f":"Inputs!G335","v":0},{"$f":"Inputs!H335","v":0},{"$f":"Inputs!I335","v":0},{"$f":"Inputs!J335","v":0},{"$f":"Inputs!K335","v":0},{"$f":"Inputs!L335","v":0},{"$f":"Inputs!M335","v":17.690721649484534},{"$f":"Inputs!N335","v":27.835051546391757},{"$f":"Inputs!O335","v":0},{"$f":"Inputs!P335","v":48.023529411764706},{"$f":"Inputs!Q335","v":0},{"$f":"Inputs!R335","v":0},{"$f":"Inputs!S335","v":0},{"$f":"Inputs!T335","v":0},{"$f":"Inputs!U335","v":0},{"$f":"Inputs!V335","v":0},{"$f":"Inputs!W335","v":50.470588235294123},{"$f":"Inputs!X335","v":26.288659793814432},{"$f":"Inputs!Y335","v":0},{"$f":"Inputs!Z335","v":16.1875},{"$f":"Inputs!AA335","v":38.062499999999993},{"$f":"Inputs!AB335","v":32.299999999999997},{"$f":"Inputs!AC335","v":0},{"$f":"Inputs!AD335","v":0},{"$f":"Inputs!AE335","v":0},{"$f":"Inputs!AF335","v":0},{"$f":"Inputs!AG335","v":50.470588235294123},{"$f":"Inputs!AH335","v":26.412371134020617},{"$f":"Inputs!AI335","v":0},{"$f":"Inputs!AJ335","v":48.023529411764706},{"$f":"Inputs!AK335","v":17.938144329896907},{"$f":"Inputs!AL335","v":27.835051546391757},{"$f":"Inputs!AM335","v":0},{"$f":"Inputs!AN335","v":16.1875},{"$f":"Inputs!AO335","v":38.062499999999993},{"$f":"Inputs!AP335","v":32.299999999999997},{"$f":"Inputs!AQ335","v":50.470588235294123},{"$f":"Inputs!AR335","v":26.288659793814432},{"$f":"Inputs!AS335","v":0},{"$f":"Inputs!AT335","v":48.023529411764706},{"$f":"Inputs!AU335","v":17.938144329896907},{"$f":"Inputs!AV335","v":15.072164948453608},{"$f":"Inputs!AW335","v":1.6},{"$f":"Inputs!AX335","v":16.1875},{"$f":"Inputs!AY335","v":38.062499999999993},{"$f":"Inputs!AZ335","v":32.299999999999997}]
[null,null,null,null,null,null,null,null,null,null,null,"K Removal, kg"]
[null,null,null,null,null,null,null,null,null,null,null,"Cl, kg/ha",{"$f":"SUM(R399:AA399)/MAX(R$392:AA$392)","v":0},{"$f":"SUM(AB399:AK399)/MAX($AB$392:$AK$392)","v":0},{"$f":"SUM(AL399:AU399)/MAX($AL$392:$AU$392)","v":0},{"$f":"SUM(AV399:BE399)/MAX($AV$392:$BE$392)","v":0},{"$f":"SUM(BF399:BO399)/MAX($BF$392:$BO$392)","v":0},{"$f":"Inputs!C337","v":0},{"$f":"Inputs!D337","v":0},{"$f":"Inputs!E337","v":0},{"$f":"Inputs!F337","v":0},{"$f":"Inputs!G337","v":0},{"$f":"Inputs!H337","v":0},{"$f":"Inputs!I337","v":0},{"$f":"Inputs!J337","v":0},{"$f":"Inputs!K337","v":0},{"$f":"Inputs!L337","v":0},{"$f":"Inputs!M337","v":0},{"$f":"Inputs!N337","v":0},{"$f":"Inputs!O337","v":0},{"$f":"Inputs!P337","v":0},{"$f":"Inputs!Q337","v":0},{"$f":"Inputs!R337","v":0},{"$f":"Inputs!S337","v":0},{"$f":"Inputs!T337","v":0},{"$f":"Inputs!U337","v":0},{"$f":"Inputs!V337","v":0},{"$f":"Inputs!W337","v":0},{"$f":"Inputs!X337","v":0},{"$f":"Inputs!Y337","v":0},{"$f":"Inputs!Z337","v":0},{"$f":"Inputs!AA337","v":0},{"$f":"Inputs!AB337","v":0},{"$f":"Inputs!AC337","v":0},{"$f":"Inputs!AD337","v":0},{"$f":"Inputs!AE337","v":0},{"$f":"Inputs!AF337","v":0},{"$f":"Inputs!AG337","v":0},{"$f":"Inputs!AH337","v":0},{"$f":"Inputs!AI337","v":0},{"$f":"Inputs!AJ337","v":0},{"$f":"Inputs!AK337","v":0},{"$f":"Inputs!AL337","v":0},{"$f":"Inputs!AM337","v":0},{"$f":"Inputs!AN337","v":0},{"$f":"Inputs!AO337","v":0},{"$f":"Inputs!AP337","v":0},{"$f":"Inputs!AQ337","v":0},{"$f":"Inputs!AR337","v":0},{"$f":"Inputs!AS337","v":0},{"$f":"Inputs!AT337","v":0},{"$f":"Inputs!AU337","v":0},{"$f":"Inputs!AV337","v":0},{"$f":"Inputs!AW337","v":0},{"$f":"Inputs!AX337","v":0},{"$f":"Inputs!AY337","v":0},{"$f":"Inputs!AZ337","v":0}]
[null,null,null,null,null,null,null,null,null,null,null,"N fixation, kg/t",{"$f":"SUMPRODUCT(R393:AA393,R400:AA400)/MAX(R392:AA392)","v":0},{"$f":"SUMPRODUCT(AB393:AK393,AB400:AK400)/MAX(AB392:AK392)","v":24.656934707903776},{"$f":"SUMPRODUCT(AL393:AU393,AL400:AU400)/MAX(AL392:AU392)","v":115.13279999999997},{"$f":"SUMPRODUCT(AV393:BE393,AV400:BE400)/MAX(AV392:BE392)","v":86.42567010309277},{"$f":"SUMPRODUCT(BF393:BO393,BF400:BO400)/MAX(BF392:BO392)","v":86.42567010309277},{"$f":"Inputs!C338","v":0},{"$f":"Inputs!D338","v":0},{"$f":"Inputs!E338","v":0},{"$f":"Inputs!F338","v":0},{"$f":"Inputs!G338","v":0},{"$f":"Inputs!H338","v":0},{"$f":"Inputs!I338","v":0},{"$f":"Inputs!J338","v":0},{"$f":"Inputs!K338","v":0},{"$f":"Inputs!L338","v":0},{"$f":"Inputs!M338","v":25.088000000000001},{"$f":"Inputs!N338","v":0},{"$f":"Inputs!O338","v":0},{"$f":"Inputs!P338","v":0},{"$f":"Inputs!Q338","v":0},{"$f":"Inputs!R338","v":0},{"$f":"Inputs!S338","v":0},{"$f":"Inputs!T338","v":0},{"$f":"Inputs!U338","v":0},{"$f":"Inputs!V338","v":0},{"$f":"Inputs!W338","v":0},{"$f":"Inputs!X338","v":0},{"$f":"Inputs!Y338","v":0},{"$f":"Inputs!Z338","v":24.655999999999999},{"$f":"Inputs!AA338","v":24.655999999999999},{"$f":"Inputs!AB338","v":20.367999999999999},{"$f":"Inputs!AC338","v":0},{"$f":"Inputs!AD338","v":0},{"$f":"Inputs!AE338","v":0},{"$f":"Inputs!AF338","v":0},{"$f":"Inputs!AG338","v":0},{"$f":"Inputs!AH338","v":0},{"$f":"Inputs!AI338","v":0},{"$f":"Inputs!AJ338","v":0},{"$f":"Inputs!AK338","v":25.088000000000001},{"$f":"Inputs!AL338","v":0},{"$f":"Inputs!AM338","v":0},{"$f":"Inputs!AN338","v":24.655999999999999},{"$f":"Inputs!AO338","v":24.655999999999999},{"$f":"Inputs!AP338","v":24.655999999999999},{"$f":"Inputs!AQ338","v":0},{"$f":"Inputs!AR338","v":0},{"$f":"Inputs!AS338","v":0},{"$f":"Inputs!AT338","v":0},{"$f":"Inputs!AU338","v":25.088000000000001},{"$f":"Inputs!AV338","v":0},{"$f":"Inputs!AW338","v":0},{"$f":"Inputs!AX338","v":24.655999999999999},{"$f":"Inputs!AY338","v":24.655999999999999},{"$f":"Inputs!AZ338","v":24.655999999999999}]
[null,null,null,null,null,null,null,null,null,null,null,"Above ground residue, %",null,null,null,null,null,{"$f":"Inputs!C339","v":38},{"$f":"Inputs!D339","v":0},{"$f":"Inputs!E339","v":0},{"$f":"Inputs!F339","v":0},{"$f":"Inputs!G339","v":0},{"$f":"Inputs!H339","v":0},{"$f":"Inputs!I339","v":0},{"$f":"Inputs!J339","v":0},{"$f":"Inputs!K339","v":0},{"$f":"Inputs!L339","v":0},{"$f":"Inputs!M339","v":45},{"$f":"Inputs!N339","v":38},{"$f":"Inputs!O339","v":0},{"$f":"Inputs!P339","v":8},{"$f":"Inputs!Q339","v":0},{"$f":"Inputs!R339","v":0},{"$f":"Inputs!S339","v":0},{"$f":"Inputs!T339","v":0},{"$f":"Inputs!U339","v":0},{"$f":"Inputs!V339","v":0},{"$f":"Inputs!W339","v":8},{"$f":"Inputs!X339","v":38},{"$f":"Inputs!Y339","v":0},{"$f":"Inputs!Z339","v":0},{"$f":"Inputs!AA339","v":0},{"$f":"Inputs!AB339","v":0},{"$f":"Inputs!AC339","v":0},{"$f":"Inputs!AD339","v":0},{"$f":"Inputs!AE339","v":0},{"$f":"Inputs!AF339","v":0},{"$f":"Inputs!AG339","v":8},{"$f":"Inputs!AH339","v":38},{"$f":"Inputs!AI339","v":0},{"$f":"Inputs!AJ339","v":8},{"$f":"Inputs!AK339","v":45},{"$f":"Inputs!AL339","v":38},{"$f":"Inputs!AM339","v":0},{"$f":"Inputs!AN339","v":0},{"$f":"Inputs!AO339","v":0},{"$f":"Inputs!AP339","v":0},{"$f":"Inputs!AQ339","v":8},{"$f":"Inputs!AR339","v":38},{"$f":"Inputs!AS339","v":0},{"$f":"Inputs!AT339","v":8},{"$f":"Inputs!AU339","v":45},{"$f":"Inputs!AV339","v":0},{"$f":"Inputs!AW339","v":0},{"$f":"Inputs!AX339","v":0},{"$f":"Inputs!AY339","v":0},{"$f":"Inputs!AZ339","v":0}]
[null,null,null,null,null,null,null,null,null,null,null,"N Above ground residue, g N/kg",null,null,null,null,null,{"$f":"Inputs!C340","v":5},{"$f":"Inputs!D340","v":0},{"$f":"Inputs!E340","v":0},{"$f":"Inputs!F340","v":0},{"$f":"Inputs!G340","v":0},{"$f":"Inputs!H340","v":0},{"$f":"Inputs!I340","v":0},{"$f":"Inputs!J340","v":0},{"$f":"Inputs!K340","v":0},{"$f":"Inputs!L340","v":0},{"$f":"Inputs!M340","v":6},{"$f":"Inputs!N340","v":5},{"$f":"Inputs!O340","v":0},{"$f":"Inputs!P340","v":13},{"$f":"Inputs!Q340","v":0},{"$f":"Inputs!R340","v":0},{"$f":"Inputs!S340","v":0},{"$f":"Inputs!T340","v":0},{"$f":"Inputs!U340","v":0},{"$f":"Inputs!V340","v":0},{"$f":"Inputs!W340","v":13},{"$f":"Inputs!X340","v":5},{"$f":"Inputs!Y340","v":0},{"$f":"Inputs!Z340","v":0},{"$f":"Inputs!AA340","v":0},{"$f":"Inputs!AB340","v":0},{"$f":"Inputs!AC340","v":0},{"$f":"Inputs!AD340","v":0},{"$f":"Inputs!AE340","v":0},{"$f":"Inputs!AF340","v":0},{"$f":"Inputs!AG340","v":13},{"$f":"Inputs!AH340","v":5},{"$f":"Inputs!AI340","v":0},{"$f":"Inputs!AJ340","v":13},{"$f":"Inputs!AK340","v":6},{"$f":"Inputs!AL340","v":5},{"$f":"Inputs!AM340","v":0},{"$f":"Inputs!AN340","v":0},{"$f":"Inputs!AO340","v":0},{"$f":"Inputs!AP340","v":0},{"$f":"Inputs!AQ340","v":13},{"$f":"Inputs!AR340","v":5},{"$f":"Inputs!AS340","v":0},{"$f":"Inputs!AT340","v":13},{"$f":"Inputs!AU340","v":6},{"$f":"Inputs!AV340","v":6},{"$f":"Inputs!AW340","v":0},{"$f":"Inputs!AX340","v":0},{"$f":"Inputs!AY340","v":0},{"$f":"Inputs!AZ340","v":0}]
[null,null,null,null,null,null,null,null,null,null,null,"Below ground residue, %",null,null,null,null,null,{"$f":"Inputs!C341","v":15},{"$f":"Inputs!D341","v":0},{"$f":"Inputs!E341","v":0},{"$f":"Inputs!F341","v":0},{"$f":"Inputs!G341","v":0},{"$f":"Inputs!H341","v":0},{"$f":"Inputs!I341","v":0},{"$f":"Inputs!J341","v":0},{"$f":"Inputs!K341","v":0},{"$f":"Inputs!L341","v":0},{"$f":"Inputs!M341","v":25},{"$f":"Inputs!N341","v":15},{"$f":"Inputs!O341","v":0},{"$f":"Inputs!P341","v":20},{"$f":"Inputs!Q341","v":0},{"$f":"Inputs!R341","v":0},{"$f":"Inputs!S341","v":0},{"$f":"Inputs!T341","v":0},{"$f":"Inputs!U341","v":0},{"$f":"Inputs!V341","v":0},{"$f":"Inputs!W341","v":20},{"$f":"Inputs!X341","v":15},{"$f":"Inputs!Y341","v":0},{"$f":"Inputs!Z341","v":0},{"$f":"Inputs!AA341","v":0},{"$f":"Inputs!AB341","v":0},{"$f":"Inputs!AC341","v":0},{"$f":"Inputs!AD341","v":0},{"$f":"Inputs!AE341","v":0},{"$f":"Inputs!AF341","v":0},{"$f":"Inputs!AG341","v":20},{"$f":"Inputs!AH341","v":15},{"$f":"Inputs!AI341","v":0},{"$f":"Inputs!AJ341","v":20},{"$f":"Inputs!AK341","v":25},{"$f":"Inputs!AL341","v":15},{"$f":"Inputs!AM341","v":0},{"$f":"Inputs!AN341","v":0},{"$f":"Inputs!AO341","v":0},{"$f":"Inputs!AP341","v":0},{"$f":"Inputs!AQ341","v":20},{"$f":"Inputs!AR341","v":15},{"$f":"Inputs!AS341","v":0},{"$f":"Inputs!AT341","v":20},{"$f":"Inputs!AU341","v":25},{"$f":"Inputs!AV341","v":15},{"$f":"Inputs!AW341","v":0},{"$f":"Inputs!AX341","v":0},{"$f":"Inputs!AY341","v":0},{"$f":"Inputs!AZ341","v":0}]
[null,null,null,null,null,null,null,null,null,null,null,"N Below ground residue, g N/kg",null,null,null,null,null,{"$f":"Inputs!C342","v":7},{"$f":"Inputs!D342","v":0},{"$f":"Inputs!E342","v":0},{"$f":"Inputs!F342","v":0},{"$f":"Inputs!G342","v":0},{"$f":"Inputs!H342","v":0},{"$f":"Inputs!I342","v":0},{"$f":"Inputs!J342","v":0},{"$f":"Inputs!K342","v":0},{"$f":"Inputs!L342","v":0},{"$f":"Inputs!M342","v":10},{"$f":"Inputs!N342","v":7},{"$f":"Inputs!O342","v":0},{"$f":"Inputs!P342","v":7},{"$f":"Inputs!Q342","v":0},{"$f":"Inputs!R342","v":0},{"$f":"Inputs!S342","v":0},{"$f":"Inputs!T342","v":0},{"$f":"Inputs!U342","v":0},{"$f":"Inputs!V342","v":0},{"$f":"Inputs!W342","v":7},{"$f":"Inputs!X342","v":7},{"$f":"Inputs!Y342","v":0},{"$f":"Inputs!Z342","v":0},{"$f":"Inputs!AA342","v":0},{"$f":"Inputs!AB342","v":0},{"$f":"Inputs!AC342","v":0},{"$f":"Inputs!AD342","v":0},{"$f":"Inputs!AE342","v":0},{"$f":"Inputs!AF342","v":0},{"$f":"Inputs!AG342","v":7},{"$f":"Inputs!AH342","v":7},{"$f":"Inputs!AI342","v":0},{"$f":"Inputs!AJ342","v":7},{"$f":"Inputs!AK342","v":10},{"$f":"Inputs!AL342","v":7},{"$f":"Inputs!AM342","v":0},{"$f":"Inputs!AN342","v":0},{"$f":"Inputs!AO342","v":0},{"$f":"Inputs!AP342","v":0},{"$f":"Inputs!AQ342","v":7},{"$f":"Inputs!AR342","v":7},{"$f":"Inputs!AS342","v":0},{"$f":"Inputs!AT342","v":7},{"$f":"Inputs!AU342","v":10},{"$f":"Inputs!AV342","v":10},{"$f":"Inputs!AW342","v":0},{"$f":"Inputs!AX342","v":0},{"$f":"Inputs!AY342","v":0},{"$f":"Inputs!AZ342","v":0}]
[null,null,null,null,null,null,null,null,null,null,null,"N residues, kg/ha",{"$f":"SUM(R405:AA405)/MAX(R$392:AA$392)","v":52.412809826716398},{"$f":"SUM(AB405:AK405)/MAX($AB$392:$AK$392)","v":57.312585271490093},{"$f":"SUM(AL405:AU405)/MAX($AL$392:$AU$392)","v":24.157082091445925},{"$f":"SUM(AV405:BE405)/MAX($AV$392:$BE$392)","v":36.712096449313073},{"$f":"SUM(BF405:BO405)/MAX($BF$392:$BO$392)","v":30.173381818911672},{"$f":"(R402*R401%+R404*R403%)*R393/(100-R401-R403)%","v":52.412809826716398},{"$f":"(S402*S401%+S404*S403%)*S393/(100-S401-S403)%","v":0},0,0,0,0,0,0,0,0,51.106529209621989,58.236455363018216,{"$f":"(AD402*AD401%+AD404*AD403%)*AD393/(100-AD401-AD403)%","v":0},62.594771241830067,0,0,0,0,0,0,65.784313725490208,55.001096731739423,0,0,0,0,0,0,0,0,65.784313725490208,55.259925422241722,0,62.594771241830067,51.821305841924399,58.236455363018216,0,0,0,0,65.784313725490208,55.001096731739423,0,62.594771241830067,51.821305841924399,6.1855670103092786,0,0,0,0]
[null,null,null,null,null,null,null,null,null,null,null,"Fuel consumption, L/ha",{"$f":"SUM(R406:AA406)/MAX(R$392:AA$392)","v":58.6},{"$f":"SUM(AB406:AK406)/MAX($AB$392:$AK$392)","v":73.266666666666666},{"$f":"SUM(AL406:AU406)/MAX($AL$392:$AU$392)","v":91.12},{"$f":"SUM(AV406:BE406)/MAX($AV$392:$BE$392)","v":84.424999999999997},{"$f":"SUM(BF406:BO406)/MAX($BF$392:$BO$392)","v":82.887499999999989},{"$f":"Inputs!C343","v":58.6},{"$f":"Inputs!D343","v":0},{"$f":"Inputs!E343","v":0},{"$f":"Inputs!F343","v":0},{"$f":"Inputs!G343","v":0},{"$f":"Inputs!H343","v":0},{"$f":"Inputs!I343","v":0},{"$f":"Inputs!J343","v":0},{"$f":"Inputs!K343","v":0},{"$f":"Inputs!L343","v":0},{"$f":"Inputs!M343","v":60.1},{"$f":"Inputs!N343","v":58.6},{"$f":"Inputs!O343","v":0},{"$f":"Inputs!P343","v":101.1},{"$f":"Inputs!Q343","v":0},{"$f":"Inputs!R343","v":0},{"$f":"Inputs!S343","v":0},{"$f":"Inputs!T343","v":0},{"$f":"Inputs!U343","v":0},{"$f":"Inputs!V343","v":0},{"$f":"Inputs!W343","v":101.1},{"$f":"Inputs!X343","v":58.6},{"$f":"Inputs!Y343","v":0},{"$f":"Inputs!Z343","v":49.3},{"$f":"Inputs!AA343","v":123.3},{"$f":"Inputs!AB343","v":123.3},{"$f":"Inputs!AC343","v":0},{"$f":"Inputs!AD343","v":0},{"$f":"Inputs!AE343","v":0},{"$f":"Inputs!AF343","v":0},{"$f":"Inputs!AG343","v":101.1},{"$f":"Inputs!AH343","v":58.6},{"$f":"Inputs!AI343","v":0},{"$f":"Inputs!AJ343","v":101.1},{"$f":"Inputs!AK343","v":60.1},{"$f":"Inputs!AL343","v":58.6},{"$f":"Inputs!AM343","v":0},{"$f":"Inputs!AN343","v":49.3},{"$f":"Inputs!AO343","v":123.3},{"$f":"Inputs!AP343","v":123.3},{"$f":"Inputs!AQ343","v":101.1},{"$f":"Inputs!AR343","v":58.6},{"$f":"Inputs!AS343","v":0},{"$f":"Inputs!AT343","v":101.1},{"$f":"Inputs!AU343","v":60.1},{"$f":"Inputs!AV343","v":46.3},{"$f":"Inputs!AW343","v":0},{"$f":"Inputs!AX343","v":49.3},{"$f":"Inputs!AY343","v":123.3},{"$f":"Inputs!AZ343","v":123.3}]
[null,null,null,null,null,null,null,null,null,null,null,"Variable costs  w/o fertilizer, $/ha",{"$f":"SUM(R407:AA407)/MAX(R$392:AA$392)","v":800.65},{"$f":"SUM(AB407:AK407)/MAX($AB$392:$AK$392)","v":561.43999999999994},{"$f":"SUM(AL407:AU407)/MAX($AL$392:$AU$392)","v":528.16999999999996},{"$f":"SUM(AV407:BE407)/MAX($AV$392:$BE$392)","v":540.64625000000001},{"$f":"SUM(BF407:BO407)/MAX($BF$392:$BO$392)","v":540.33249999999998},{"$f":"Inputs!C344","v":800.65},{"$f":"Inputs!D344","v":0},{"$f":"Inputs!E344","v":0},{"$f":"Inputs!F344","v":0},{"$f":"Inputs!G344","v":0},{"$f":"Inputs!H344","v":0},{"$f":"Inputs!I344","v":0},{"$f":"Inputs!J344","v":0},{"$f":"Inputs!K344","v":0},{"$f":"Inputs!L344","v":0},{"$f":"Inputs!M344","v":454.48},{"$f":"Inputs!N344","v":724.41},{"$f":"Inputs!O344","v":0},{"$f":"Inputs!P344","v":505.43},{"$f":"Inputs!Q344","v":0},{"$f":"Inputs!R344","v":0},{"$f":"Inputs!S344","v":0},{"$f":"Inputs!T344","v":0},{"$f":"Inputs!U344","v":0},{"$f":"Inputs!V344","v":0},{"$f":"Inputs!W344","v":486.38},{"$f":"Inputs!X344","v":800.65},{"$f":"Inputs!Y344","v":0},{"$f":"Inputs!Z344","v":578.94000000000005},{"$f":"Inputs!AA344","v":387.44},{"$f":"Inputs!AB344","v":387.44},{"$f":"Inputs!AC344","v":0},{"$f":"Inputs!AD344","v":0},{"$f":"Inputs!AE344","v":0},{"$f":"Inputs!AF344","v":0},{"$f":"Inputs!AG344","v":486.38},{"$f":"Inputs!AH344","v":800.65},{"$f":"Inputs!AI344","v":0},{"$f":"Inputs!AJ344","v":505.43},{"$f":"Inputs!AK344","v":454.48},{"$f":"Inputs!AL344","v":724.41},{"$f":"Inputs!AM344","v":0},{"$f":"Inputs!AN344","v":578.94000000000005},{"$f":"Inputs!AO344","v":387.44},{"$f":"Inputs!AP344","v":387.44},{"$f":"Inputs!AQ344","v":486.38},{"$f":"Inputs!AR344","v":800.65},{"$f":"Inputs!AS344","v":0},{"$f":"Inputs!AT344","v":505.43},{"$f":"Inputs!AU344","v":454.48},{"$f":"Inputs!AV344","v":360.95},{"$f":"Inputs!AW344","v":360.95},{"$f":"Inputs!AX344","v":578.94000000000005},{"$f":"Inputs!AY344","v":387.44},{"$f":"Inputs!AZ344","v":387.44}]
[null,null,null,null,null,null,null,null,null,null,null,"Variable costs, $/t",{"$f":"SUM(R408:AA408)/MAX(R$392:AA$392)","v":0},{"$f":"SUM(AB408:AK408)/MAX($AB$392:$AK$392)","v":0},{"$f":"SUM(AL408:AU408)/MAX($AL$392:$AU$392)","v":0},{"$f":"SUM(AV408:BE408)/MAX($AV$392:$BE$392)","v":0},{"$f":"SUM(BF408:BO408)/MAX($BF$392:$BO$392)","v":0},{"$f":"Inputs!C345","v":0},{"$f":"Inputs!D345","v":0},{"$f":"Inputs!E345","v":0},{"$f":"Inputs!F345","v":0},{"$f":"Inputs!G345","v":0},{"$f":"Inputs!H345","v":0},{"$f":"Inputs!I345","v":0},{"$f":"Inputs!J345","v":0},{"$f":"Inputs!K345","v":0},{"$f":"Inputs!L345","v":0},{"$f":"Inputs!M345","v":0},{"$f":"Inputs!N345","v":0},{"$f":"Inputs!O345","v":0},{"$f":"Inputs!P345","v":0},{"$f":"Inputs!Q345","v":0},{"$f":"Inputs!R345","v":0},{"$f":"Inputs!S345","v":0},{"$f":"Inputs!T345","v":0},{"$f":"Inputs!U345","v":0},{"$f":"Inputs!V345","v":0},{"$f":"Inputs!W345","v":0},{"$f":"Inputs!X345","v":0},{"$f":"Inputs!Y345","v":0},{"$f":"Inputs!Z345","v":0},{"$f":"Inputs!AA345","v":0},{"$f":"Inputs!AB345","v":0},{"$f":"Inputs!AC345","v":0},{"$f":"Inputs!AD345","v":0},{"$f":"Inputs!AE345","v":0},{"$f":"Inputs!AF345","v":0},{"$f":"Inputs!AG345","v":0},{"$f":"Inputs!AH345","v":0},{"$f":"Inputs!AI345","v":0},{"$f":"Inputs!AJ345","v":0},{"$f":"Inputs!AK345","v":0},{"$f":"Inputs!AL345","v":0},{"$f":"Inputs!AM345","v":0},{"$f":"Inputs!AN345","v":0},{"$f":"Inputs!AO345","v":0},{"$f":"Inputs!AP345","v":0},{"$f":"Inputs!AQ345","v":0},{"$f":"Inputs!AR345","v":0},{"$f":"Inputs!AS345","v":0},{"$f":"Inputs!AT345","v":0},{"$f":"Inputs!AU345","v":0},{"$f":"Inputs!AV345","v":0},{"$f":"Inputs!AW345","v":0},{"$f":"Inputs!AX345","v":0},{"$f":"Inputs!AY345","v":0},{"$f":"Inputs!AZ345","v":0}]
[null,null,null,null,null,null,null,null,null,null,null,"Cost $/ha",{"$f":"SUM(R409:AA409)/MAX(R$392:AA$392)","v":800.65},{"$f":"SUM(AB409:AK409)/MAX($AB$392:$AK$392)","v":561.43999999999994},{"$f":"SUM(AL409:AU409)/MAX($AL$392:$AU$392)","v":528.16999999999996},{"$f":"SUM(AV409:BE409)/MAX($AV$392:$BE$392)","v":540.64625000000001},{"$f":"SUM(BF409:BO409)/MAX($BF$392:$BO$392)","v":515.33249999999998},{"$f":"Inputs!C346","v":800.65},{"$f":"Inputs!D346","v":0},{"$f":"Inputs!E346","v":0},{"$f":"Inputs!F346","v":0},{"$f":"Inputs!G346","v":0},{"$f":"Inputs!H346","v":0},{"$f":"Inputs!I346","v":0},{"$f":"Inputs!J346","v":0},{"$f":"Inputs!K346","v":0},{"$f":"Inputs!L346","v":0},{"$f":"Inputs!M346","v":454.48},{"$f":"Inputs!N346","v":724.41},{"$f":"Inputs!O346","v":0},{"$f":"Inputs!P346","v":505.43},{"$f":"Inputs!Q346","v":0},{"$f":"Inputs!R346","v":0},{"$f":"Inputs!S346","v":0},{"$f":"Inputs!T346","v":0},{"$f":"Inputs!U346","v":0},{"$f":"Inputs!V346","v":0},{"$f":"Inputs!W346","v":486.38},{"$f":"Inputs!X346","v":800.65},{"$f":"Inputs!Y346","v":0},{"$f":"Inputs!Z346","v":578.94000000000005},{"$f":"Inputs!AA346","v":387.44},{"$f":"Inputs!AB346","v":387.44},{"$f":"Inputs!AC346","v":0},{"$f":"Inputs!AD346","v":0},{"$f":"Inputs!AE346","v":0},{"$f":"Inputs!AF346","v":0},{"$f":"Inputs!AG346","v":486.38},{"$f":"Inputs!AH346","v":800.65},{"$f":"Inputs!AI346","v":0},{"$f":"Inputs!AJ346","v":505.43},{"$f":"Inputs!AK346","v":454.48},{"$f":"Inputs!AL346","v":724.41},{"$f":"Inputs!AM346","v":0},{"$f":"Inputs!AN346","v":578.94000000000005},{"$f":"Inputs!AO346","v":387.44},{"$f":"Inputs!AP346","v":387.44},{"$f":"Inputs!AQ346","v":486.38},{"$f":"Inputs!AR346","v":800.65},{"$f":"Inputs!AS346","v":0},{"$f":"Inputs!AT346","v":505.43},{"$f":"Inputs!AU346","v":454.48},{"$f":"Inputs!AV346","v":360.95},{"$f":"Inputs!AW346","v":160.94999999999999},{"$f":"Inputs!AX346","v":578.94000000000005},{"$f":"Inputs!AY346","v":387.44},{"$f":"Inputs!AZ346","v":387.44}]
[null,null,null,null,null,null,null,null,null,null,"Land Unit 2",null,null,{"$f":"N390","v":"Average Rotation Values"},null,null,null,{"$f":"R390","v":"Rotation 1 name:"},null,{"$f":"Inputs!E348","v":"CCC"},null,null,null,null,null,null,null,{"$f":"AB390","v":"Rotation 2 name:"},null,{"$f":"Inputs!O348","v":"SCC"},null,null,null,null,null,null,null,{"$f":"AL390","v":"Rotation 3 name:"},null,{"$f":"Inputs!Y348","v":"CCAAA"},null,null,null,null,null,null,null,{"$f":"AV390","v":"Rotation 4 name:"},null,{"$f":"Inputs!AI348","v":"CCCSCAAA"},null,null,null,null,null,null,null,{"$f":"BF390","v":"Rotation 5 name:"},null,{"$f":"Inputs!AS348","v":"CCCSWAAA"}]
[null,null,null,null,null,null,null,null,null,null,null,"Name",{"$f":"T410","v":"CCC"},{"$f":"AD410","v":"SCC"},{"$f":"AN410","v":"CCAAA"},{"$f":"AX410","v":"CCCSCAAA"},{"$f":"BH410","v":"CCCSWAAA"},{"$f":"Inputs!C349","v":0},{"$f":"Inputs!D349","v":"CoGr-27"},{"$f":"Inputs!E349","v":0},{"$f":"Inputs!F349","v":0},{"$f":"Inputs!G349","v":0},{"$f":"Inputs!H349","v":0},{"$f":"Inputs!I349","v":0},{"$f":"Inputs!J349","v":0},{"$f":"Inputs!K349","v":0},{"$f":"Inputs!L349","v":0},{"$f":"Inputs!M349","v":"SBw-108"},{"$f":"Inputs!N349","v":"CoGr-27"},{"$f":"Inputs!O349","v":0},{"$f":"Inputs!P349","v":"CoSi-35"},{"$f":"Inputs!Q349","v":0},{"$f":"Inputs!R349","v":0},{"$f":"Inputs!S349","v":0},{"$f":"Inputs!T349","v":0},{"$f":"Inputs!U349","v":0},{"$f":"Inputs!V349","v":0},{"$f":"Inputs!W349","v":"CoSi-35"},{"$f":"Inputs!X349","v":"CoGr-27"},{"$f":"Inputs!Y349","v":0},{"$f":"Inputs!Z349","v":"AlSi-83"},{"$f":"Inputs!AA349","v":"AlSi-83"},{"$f":"Inputs!AB349","v":"MxSi-74"},{"$f":"Inputs!AC349","v":0},{"$f":"Inputs!AD349","v":0},{"$f":"Inputs!AE349","v":0},{"$f":"Inputs!AF349","v":0},{"$f":"Inputs!AG349","v":"CoSi-35"},{"$f":"Inputs!AH349","v":"CoGr-27"},{"$f":"Inputs!AI349","v":0},{"$f":"Inputs!AJ349","v":"CoSi-35"},{"$f":"Inputs!AK349","v":"SBw-108"},{"$f":"Inputs!AL349","v":"CoGr-27"},{"$f":"Inputs!AM349","v":0},{"$f":"Inputs!AN349","v":"AlSi-83"},{"$f":"Inputs!AO349","v":"AlSi-83"},{"$f":"Inputs!AP349","v":"MxSi-74"},{"$f":"Inputs!AQ349","v":"CoSi-35"},{"$f":"Inputs!AR349","v":"CoGr-27"},{"$f":"Inputs!AS349","v":0},{"$f":"Inputs!AT349","v":"CoSi-35"},{"$f":"Inputs!AU349","v":"SBw-108"},{"$f":"Inputs!AV349","v":"Wheat-116"},{"$f":"Inputs!AW349","v":"Straw-120"},{"$f":"Inputs!AX349","v":"AlSi-83"},{"$f":"Inputs!AY349","v":"AlSi-83"},{"$f":"Inputs!AZ349","v":"MxSi-74"}]
[null,null,null,null,null,null,null,null,null,null,null,"Year",{"$f":"MAX(R412:AA412)","v":1},{"$f":"MAX(AB412:AK412)","v":3},{"$f":"MAX(AL412:AU412)","v":5},{"$f":"MAX(AV412:BE412)","v":8},{"$f":"MAX(BF412:BO412)","v":8},{"$f":"Inputs!C350","v":0},{"$f":"Inputs!D350","v":1},{"$f":"Inputs!E350","v":0},{"$f":"Inputs!F350","v":0},{"$f":"Inputs!G350","v":0},{"$f":"Inputs!H350","v":0},{"$f":"Inputs!I350","v":0},{"$f":"Inputs!J350","v":0},{"$f":"Inputs!K350","v":0},{"$f":"Inputs!L350","v":0},{"$f":"Inputs!M350","v":1},{"$f":"Inputs!N350","v":2},{"$f":"Inputs!O350","v":0},{"$f":"Inputs!P350","v":3},{"$f":"Inputs!Q350","v":0},{"$f":"Inputs!R350","v":0},{"$f":"Inputs!S350","v":0},{"$f":"Inputs!T350","v":0},{"$f":"Inputs!U350","v":0},{"$f":"Inputs!V350","v":0},{"$f":"Inputs!W350","v":1},{"$f":"Inputs!X350","v":2},{"$f":"Inputs!Y350","v":0},{"$f":"Inputs!Z350","v":3},{"$f":"Inputs!AA350","v":4},{"$f":"Inputs!AB350","v":5},{"$f":"Inputs!AC350","v":0},{"$f":"Inputs!AD350","v":0},{"$f":"Inputs!AE350","v":0},{"$f":"Inputs!AF350","v":0},{"$f":"Inputs!AG350","v":1},{"$f":"Inputs!AH350","v":2},{"$f":"Inputs!AI350","v":0},{"$f":"Inputs!AJ350","v":3},{"$f":"Inputs!AK350","v":4},{"$f":"Inputs!AL350","v":5},{"$f":"Inputs!AM350","v":0},{"$f":"Inputs!AN350","v":6},{"$f":"Inputs!AO350","v":7},{"$f":"Inputs!AP350","v":8},{"$f":"Inputs!AQ350","v":1},{"$f":"Inputs!AR350","v":2},{"$f":"Inputs!AS350","v":0},{"$f":"Inputs!AT350","v":3},{"$f":"Inputs!AU350","v":4},{"$f":"Inputs!AV350","v":5},{"$f":"Inputs!AW350","v":5},{"$f":"Inputs!AX350","v":6},{"$f":"Inputs!AY350","v":7},{"$f":"Inputs!AZ350","v":8}]
[null,null,null,null,null,null,null,null,null,null,null,"Yield, t DM/yr",null,null,null,null,null,{"$f":"Inputs!C351","v":0},{"$f":"Inputs!D351","v":8.3505154639175263},{"$f":"Inputs!E351","v":0},{"$f":"Inputs!F351","v":0},{"$f":"Inputs!G351","v":0},{"$f":"Inputs!H351","v":0},{"$f":"Inputs!I351","v":0},{"$f":"Inputs!J351","v":0},{"$f":"Inputs!K351","v":0},{"$f":"Inputs!L351","v":0},{"$f":"Inputs!M351","v":2.9484536082474224},{"$f":"Inputs!N351","v":9.2783505154639183},{"$f":"Inputs!O351","v":0},{"$f":"Inputs!P351","v":18.470588235294116},{"$f":"Inputs!Q351","v":0},{"$f":"Inputs!R351","v":0},{"$f":"Inputs!S351","v":0},{"$f":"Inputs!T351","v":0},{"$f":"Inputs!U351","v":0},{"$f":"Inputs!V351","v":0},{"$f":"Inputs!W351","v":19.411764705882355},{"$f":"Inputs!X351","v":8.7628865979381452},{"$f":"Inputs!Y351","v":0},{"$f":"Inputs!Z351","v":4.625},{"$f":"Inputs!AA351","v":10.874999999999998},{"$f":"Inputs!AB351","v":9.4999999999999982},{"$f":"Inputs!AC351","v":0},{"$f":"Inputs!AD351","v":0},{"$f":"Inputs!AE351","v":0},{"$f":"Inputs!AF351","v":0},{"$f":"Inputs!AG351","v":19.411764705882355},{"$f":"Inputs!AH351","v":8.8041237113402051},{"$f":"Inputs!AI351","v":0},{"$f":"Inputs!AJ351","v":18.470588235294116},{"$f":"Inputs!AK351","v":2.9896907216494846},{"$f":"Inputs!AL351","v":9.2783505154639183},{"$f":"Inputs!AM351","v":0},{"$f":"Inputs!AN351","v":4.625},{"$f":"Inputs!AO351","v":10.874999999999998},{"$f":"Inputs!AP351","v":9.4999999999999982},{"$f":"Inputs!AQ351","v":19.411764705882355},{"$f":"Inputs!AR351","v":8.7628865979381452},{"$f":"Inputs!AS351","v":0},{"$f":"Inputs!AT351","v":18.470588235294116},{"$f":"Inputs!AU351","v":2.9896907216494846},{"$f":"Inputs!AV351","v":3.5051546391752577},{"$f":"Inputs!AW351","v":1.6},{"$f":"Inputs!AX351","v":4.625},{"$f":"Inputs!AY351","v":10.874999999999998},{"$f":"Inputs!AZ351","v":9.4999999999999982}]
[null,null,null,null,null,null,null,null,null,null,null,"N,  kg/ha",{"$f":"SUM(R414:AA414)/MAX(R$412:AA$412)","v":164},{"$f":"SUM(AB414:AK414)/MAX($AB$412:$AK$412)","v":94.399999999999991},{"$f":"SUM(AL414:AU414)/MAX($AL$412:$AU$412)","v":26.2},{"$f":"SUM(AV414:BE414)/MAX($AV$412:$BE$412)","v":51.774999999999999},{"$f":"SUM(BF414:BO414)/MAX($BF$412:$BO$412)","v":38.4},{"$f":"Inputs!C352","v":0},{"$f":"Inputs!D352","v":164},{"$f":"Inputs!E352","v":0},{"$f":"Inputs!F352","v":0},{"$f":"Inputs!G352","v":0},{"$f":"Inputs!H352","v":0},{"$f":"Inputs!I352","v":0},{"$f":"Inputs!J352","v":0},{"$f":"Inputs!K352","v":0},{"$f":"Inputs!L352","v":0},{"$f":"Inputs!M352","v":0},{"$f":"Inputs!N352","v":119.2},{"$f":"Inputs!O352","v":0},{"$f":"Inputs!P352","v":164},{"$f":"Inputs!Q352","v":0},{"$f":"Inputs!R352","v":0},{"$f":"Inputs!S352","v":0},{"$f":"Inputs!T352","v":0},{"$f":"Inputs!U352","v":0},{"$f":"Inputs!V352","v":0},{"$f":"Inputs!W352","v":23},{"$f":"Inputs!X352","v":108},{"$f":"Inputs!Y352","v":0},{"$f":"Inputs!Z352","v":0},{"$f":"Inputs!AA352","v":0},{"$f":"Inputs!AB352","v":0},{"$f":"Inputs!AC352","v":0},{"$f":"Inputs!AD352","v":0},{"$f":"Inputs!AE352","v":0},{"$f":"Inputs!AF352","v":0},{"$f":"Inputs!AG352","v":23},{"$f":"Inputs!AH352","v":108},{"$f":"Inputs!AI352","v":0},{"$f":"Inputs!AJ352","v":164},{"$f":"Inputs!AK352","v":0},{"$f":"Inputs!AL352","v":119.2},{"$f":"Inputs!AM352","v":0},{"$f":"Inputs!AN352","v":0},{"$f":"Inputs!AO352","v":0},{"$f":"Inputs!AP352","v":0},{"$f":"Inputs!AQ352","v":23},{"$f":"Inputs!AR352","v":103},{"$f":"Inputs!AS352","v":0},{"$f":"Inputs!AT352","v":159},{"$f":"Inputs!AU352","v":0},{"$f":"Inputs!AV352","v":22.200000000000003},{"$f":"Inputs!AW352","v":0},{"$f":"Inputs!AX352","v":0},{"$f":"Inputs!AY352","v":0},{"$f":"Inputs!AZ352","v":0}]
[null,null,null,null,null,null,null,null,null,null,null,"P2O5,  kg/ha",{"$f":"SUM(R415:AA415)/MAX(R$412:AA$412)","v":50},{"$f":"SUM(AB415:AK415)/MAX($AB$412:$AK$412)","v":47},{"$f":"SUM(AL415:AU415)/MAX($AL$412:$AU$412)","v":45.6},{"$f":"SUM(AV415:BE415)/MAX($AV$412:$BE$412)","v":46.125},{"$f":"SUM(BF415:BO415)/MAX($BF$412:$BO$412)","v":28.755315509168803},{"$f":"Inputs!C353","v":0},{"$f":"Inputs!D353","v":50},{"$f":"Inputs!E353","v":0},{"$f":"Inputs!F353","v":0},{"$f":"Inputs!G353","v":0},{"$f":"Inputs!H353","v":0},{"$f":"Inputs!I353","v":0},{"$f":"Inputs!J353","v":0},{"$f":"Inputs!K353","v":0},{"$f":"Inputs!L353","v":0},{"$f":"Inputs!M353","v":32},{"$f":"Inputs!N353","v":50},{"$f":"Inputs!O353","v":0},{"$f":"Inputs!P353","v":59},{"$f":"Inputs!Q353","v":0},{"$f":"Inputs!R353","v":0},{"$f":"Inputs!S353","v":0},{"$f":"Inputs!T353","v":0},{"$f":"Inputs!U353","v":0},{"$f":"Inputs!V353","v":0},{"$f":"Inputs!W353","v":59},{"$f":"Inputs!X353","v":50},{"$f":"Inputs!Y353","v":0},{"$f":"Inputs!Z353","v":21},{"$f":"Inputs!AA353","v":49},{"$f":"Inputs!AB353","v":49},{"$f":"Inputs!AC353","v":0},{"$f":"Inputs!AD353","v":0},{"$f":"Inputs!AE353","v":0},{"$f":"Inputs!AF353","v":0},{"$f":"Inputs!AG353","v":59},{"$f":"Inputs!AH353","v":50},{"$f":"Inputs!AI353","v":0},{"$f":"Inputs!AJ353","v":59},{"$f":"Inputs!AK353","v":32},{"$f":"Inputs!AL353","v":50},{"$f":"Inputs!AM353","v":0},{"$f":"Inputs!AN353","v":21},{"$f":"Inputs!AO353","v":49},{"$f":"Inputs!AP353","v":49},{"$f":"Inputs!AQ353","v":39},{"$f":"Inputs!AR353","v":34},{"$f":"Inputs!AS353","v":0},{"$f":"Inputs!AT353","v":39},{"$f":"Inputs!AU353","v":22},{"$f":"Inputs!AV353","v":28},{"$f":"Inputs!AW353","v":0},{"$f":"Inputs!AX353","v":12},{"$f":"Inputs!AY353","v":28.021262036675218},{"$f":"Inputs!AZ353","v":28.021262036675218}]
[null,null,null,null,null,null,null,null,null,null,null,"K2O, kg/ha",{"$f":"SUM(R416:AA416)/MAX(R$412:AA$412)","v":45},{"$f":"SUM(AB416:AK416)/MAX($AB$412:$AK$412)","v":67},{"$f":"SUM(AL416:AU416)/MAX($AL$412:$AU$412)","v":105},{"$f":"SUM(AV416:BE416)/MAX($AV$412:$BE$412)","v":90.75},{"$f":"SUM(BF416:BO416)/MAX($BF$412:$BO$412)","v":64.5},{"$f":"Inputs!C354","v":0},{"$f":"Inputs!D354","v":45},{"$f":"Inputs!E354","v":0},{"$f":"Inputs!F354","v":0},{"$f":"Inputs!G354","v":0},{"$f":"Inputs!H354","v":0},{"$f":"Inputs!I354","v":0},{"$f":"Inputs!J354","v":0},{"$f":"Inputs!K354","v":0},{"$f":"Inputs!L354","v":0},{"$f":"Inputs!M354","v":50},{"$f":"Inputs!N354","v":45},{"$f":"Inputs!O354","v":0},{"$f":"Inputs!P354","v":106},{"$f":"Inputs!Q354","v":0},{"$f":"Inputs!R354","v":0},{"$f":"Inputs!S354","v":0},{"$f":"Inputs!T354","v":0},{"$f":"Inputs!U354","v":0},{"$f":"Inputs!V354","v":0},{"$f":"Inputs!W354","v":106},{"$f":"Inputs!X354","v":45},{"$f":"Inputs!Y354","v":0},{"$f":"Inputs!Z354","v":66},{"$f":"Inputs!AA354","v":154},{"$f":"Inputs!AB354","v":154},{"$f":"Inputs!AC354","v":0},{"$f":"Inputs!AD354","v":0},{"$f":"Inputs!AE354","v":0},{"$f":"Inputs!AF354","v":0},{"$f":"Inputs!AG354","v":106},{"$f":"Inputs!AH354","v":45},{"$f":"Inputs!AI354","v":0},{"$f":"Inputs!AJ354","v":106},{"$f":"Inputs!AK354","v":50},{"$f":"Inputs!AL354","v":45},{"$f":"Inputs!AM354","v":0},{"$f":"Inputs!AN354","v":66},{"$f":"Inputs!AO354","v":154},{"$f":"Inputs!AP354","v":154},{"$f":"Inputs!AQ354","v":73},{"$f":"Inputs!AR354","v":22},{"$f":"Inputs!AS354","v":0},{"$f":"Inputs!AT354","v":73},{"$f":"Inputs!AU354","v":28},{"$f":"Inputs!AV354","v":48},{"$f":"Inputs!AW354","v":0},{"$f":"Inputs!AX354","v":48},{"$f":"Inputs!AY354","v":112},{"$f":"Inputs!AZ354","v":112}]
[null,null,null,null,null,null,null,null,null,null,null,"P Removal,  kg/ha",{"$f":"SUM(R417:AA417)/MAX(R$412:AA$412)","v":25.051546391752581},{"$f":"SUM(AB417:AK417)/MAX($AB$412:$AK$412)","v":31.183100869213664},{"$f":"SUM(AL417:AU417)/MAX($AL$412:$AU$412)","v":32.661849605821715},{"$f":"SUM(AV417:BE417)/MAX($AV$412:$BE$412)","v":32.153710582171016},{"$f":"SUM(BF417:BO417)/MAX($BF$412:$BO$412)","v":30.742885839902975},{"$f":"Inputs!C355","v":0},{"$f":"Inputs!D355","v":25.051546391752581},{"$f":"Inputs!E355","v":0},{"$f":"Inputs!F355","v":0},{"$f":"Inputs!G355","v":0},{"$f":"Inputs!H355","v":0},{"$f":"Inputs!I355","v":0},{"$f":"Inputs!J355","v":0},{"$f":"Inputs!K355","v":0},{"$f":"Inputs!L355","v":0},{"$f":"Inputs!M355","v":17.690721649484534},{"$f":"Inputs!N355","v":27.835051546391757},{"$f":"Inputs!O355","v":0},{"$f":"Inputs!P355","v":48.023529411764706},{"$f":"Inputs!Q355","v":0},{"$f":"Inputs!R355","v":0},{"$f":"Inputs!S355","v":0},{"$f":"Inputs!T355","v":0},{"$f":"Inputs!U355","v":0},{"$f":"Inputs!V355","v":0},{"$f":"Inputs!W355","v":50.470588235294123},{"$f":"Inputs!X355","v":26.288659793814432},{"$f":"Inputs!Y355","v":0},{"$f":"Inputs!Z355","v":16.1875},{"$f":"Inputs!AA355","v":38.062499999999993},{"$f":"Inputs!AB355","v":32.299999999999997},{"$f":"Inputs!AC355","v":0},{"$f":"Inputs!AD355","v":0},{"$f":"Inputs!AE355","v":0},{"$f":"Inputs!AF355","v":0},{"$f":"Inputs!AG355","v":50.470588235294123},{"$f":"Inputs!AH355","v":26.412371134020617},{"$f":"Inputs!AI355","v":0},{"$f":"Inputs!AJ355","v":48.023529411764706},{"$f":"Inputs!AK355","v":17.938144329896907},{"$f":"Inputs!AL355","v":27.835051546391757},{"$f":"Inputs!AM355","v":0},{"$f":"Inputs!AN355","v":16.1875},{"$f":"Inputs!AO355","v":38.062499999999993},{"$f":"Inputs!AP355","v":32.299999999999997},{"$f":"Inputs!AQ355","v":50.470588235294123},{"$f":"Inputs!AR355","v":26.288659793814432},{"$f":"Inputs!AS355","v":0},{"$f":"Inputs!AT355","v":48.023529411764706},{"$f":"Inputs!AU355","v":17.938144329896907},{"$f":"Inputs!AV355","v":15.072164948453608},{"$f":"Inputs!AW355","v":1.6},{"$f":"Inputs!AX355","v":16.1875},{"$f":"Inputs!AY355","v":38.062499999999993},{"$f":"Inputs!AZ355","v":32.299999999999997}]
[null,null,null,null,null,null,null,null,null,null,null,"K Removal, kg"]
[null,null,null,null,null,null,null,null,null,null,null,"Cl, kg/ha",{"$f":"SUM(R419:AA419)/MAX(R$412:AA$412)","v":0},{"$f":"SUM(AB419:AK419)/MAX($AB$412:$AK$412)","v":0},{"$f":"SUM(AL419:AU419)/MAX($AL$412:$AU$412)","v":0},{"$f":"SUM(AV419:BE419)/MAX($AV$412:$BE$412)","v":0},{"$f":"SUM(BF419:BO419)/MAX($BF$412:$BO$412)","v":0},{"$f":"Inputs!C357","v":0},{"$f":"Inputs!D357","v":0},{"$f":"Inputs!E357","v":0},{"$f":"Inputs!F357","v":0},{"$f":"Inputs!G357","v":0},{"$f":"Inputs!H357","v":0},{"$f":"Inputs!I357","v":0},{"$f":"Inputs!J357","v":0},{"$f":"Inputs!K357","v":0},{"$f":"Inputs!L357","v":0},{"$f":"Inputs!M357","v":0},{"$f":"Inputs!N357","v":0},{"$f":"Inputs!O357","v":0},{"$f":"Inputs!P357","v":0},{"$f":"Inputs!Q357","v":0},{"$f":"Inputs!R357","v":0},{"$f":"Inputs!S357","v":0},{"$f":"Inputs!T357","v":0},{"$f":"Inputs!U357","v":0},{"$f":"Inputs!V357","v":0},{"$f":"Inputs!W357","v":0},{"$f":"Inputs!X357","v":0},{"$f":"Inputs!Y357","v":0},{"$f":"Inputs!Z357","v":0},{"$f":"Inputs!AA357","v":0},{"$f":"Inputs!AB357","v":0},{"$f":"Inputs!AC357","v":0},{"$f":"Inputs!AD357","v":0},{"$f":"Inputs!AE357","v":0},{"$f":"Inputs!AF357","v":0},{"$f":"Inputs!AG357","v":0},{"$f":"Inputs!AH357","v":0},{"$f":"Inputs!AI357","v":0},{"$f":"Inputs!AJ357","v":0},{"$f":"Inputs!AK357","v":0},{"$f":"Inputs!AL357","v":0},{"$f":"Inputs!AM357","v":0},{"$f":"Inputs!AN357","v":0},{"$f":"Inputs!AO357","v":0},{"$f":"Inputs!AP357","v":0},{"$f":"Inputs!AQ357","v":0},{"$f":"Inputs!AR357","v":0},{"$f":"Inputs!AS357","v":0},{"$f":"Inputs!AT357","v":0},{"$f":"Inputs!AU357","v":0},{"$f":"Inputs!AV357","v":0},{"$f":"Inputs!AW357","v":0},{"$f":"Inputs!AX357","v":0},{"$f":"Inputs!AY357","v":0},{"$f":"Inputs!AZ357","v":0}]
[null,null,null,null,null,null,null,null,null,null,null,"N fixation, kg/t",{"$f":"SUMPRODUCT(R413:AA413,R420:AA420)/MAX(R412:AA412)","v":0},{"$f":"SUMPRODUCT(AB413:AK413,AB420:AK420)/MAX(AB412:AK412)","v":24.656934707903776},{"$f":"SUMPRODUCT(AL413:AU413,AL420:AU420)/MAX(AL412:AU412)","v":115.13279999999997},{"$f":"SUMPRODUCT(AV413:BE413,AV420:BE420)/MAX(AV412:BE412)","v":86.42567010309277},{"$f":"SUMPRODUCT(BF413:BO413,BF420:BO420)/MAX(BF412:BO412)","v":86.42567010309277},{"$f":"Inputs!C358","v":0},{"$f":"Inputs!D358","v":0},{"$f":"Inputs!E358","v":0},{"$f":"Inputs!F358","v":0},{"$f":"Inputs!G358","v":0},{"$f":"Inputs!H358","v":0},{"$f":"Inputs!I358","v":0},{"$f":"Inputs!J358","v":0},{"$f":"Inputs!K358","v":0},{"$f":"Inputs!L358","v":0},{"$f":"Inputs!M358","v":25.088000000000001},{"$f":"Inputs!N358","v":0},{"$f":"Inputs!O358","v":0},{"$f":"Inputs!P358","v":0},{"$f":"Inputs!Q358","v":0},{"$f":"Inputs!R358","v":0},{"$f":"Inputs!S358","v":0},{"$f":"Inputs!T358","v":0},{"$f":"Inputs!U358","v":0},{"$f":"Inputs!V358","v":0},{"$f":"Inputs!W358","v":0},{"$f":"Inputs!X358","v":0},{"$f":"Inputs!Y358","v":0},{"$f":"Inputs!Z358","v":24.655999999999999},{"$f":"Inputs!AA358","v":24.655999999999999},{"$f":"Inputs!AB358","v":20.367999999999999},{"$f":"Inputs!AC358","v":0},{"$f":"Inputs!AD358","v":0},{"$f":"Inputs!AE358","v":0},{"$f":"Inputs!AF358","v":0},{"$f":"Inputs!AG358","v":0},{"$f":"Inputs!AH358","v":0},{"$f":"Inputs!AI358","v":0},{"$f":"Inputs!AJ358","v":0},{"$f":"Inputs!AK358","v":25.088000000000001},{"$f":"Inputs!AL358","v":0},{"$f":"Inputs!AM358","v":0},{"$f":"Inputs!AN358","v":24.655999999999999},{"$f":"Inputs!AO358","v":24.655999999999999},{"$f":"Inputs!AP358","v":24.655999999999999},{"$f":"Inputs!AQ358","v":0},{"$f":"Inputs!AR358","v":0},{"$f":"Inputs!AS358","v":0},{"$f":"Inputs!AT358","v":0},{"$f":"Inputs!AU358","v":25.088000000000001},{"$f":"Inputs!AV358","v":0},{"$f":"Inputs!AW358","v":0},{"$f":"Inputs!AX358","v":24.655999999999999},{"$f":"Inputs!AY358","v":24.655999999999999},{"$f":"Inputs!AZ358","v":24.655999999999999}]
[null,null,null,null,null,null,null,null,null,null,null,"Above ground residue, %",null,null,null,null,null,{"$f":"Inputs!C359","v":0},{"$f":"Inputs!D359","v":38},{"$f":"Inputs!E359","v":0},{"$f":"Inputs!F359","v":0},{"$f":"Inputs!G359","v":0},{"$f":"Inputs!H359","v":0},{"$f":"Inputs!I359","v":0},{"$f":"Inputs!J359","v":0},{"$f":"Inputs!K359","v":0},{"$f":"Inputs!L359","v":0},{"$f":"Inputs!M359","v":45},{"$f":"Inputs!N359","v":38},{"$f":"Inputs!O359","v":0},{"$f":"Inputs!P359","v":8},{"$f":"Inputs!Q359","v":0},{"$f":"Inputs!R359","v":0},{"$f":"Inputs!S359","v":0},{"$f":"Inputs!T359","v":0},{"$f":"Inputs!U359","v":0},{"$f":"Inputs!V359","v":0},{"$f":"Inputs!W359","v":8},{"$f":"Inputs!X359","v":38},{"$f":"Inputs!Y359","v":0},{"$f":"Inputs!Z359","v":0},{"$f":"Inputs!AA359","v":0},{"$f":"Inputs!AB359","v":0},{"$f":"Inputs!AC359","v":0},{"$f":"Inputs!AD359","v":0},{"$f":"Inputs!AE359","v":0},{"$f":"Inputs!AF359","v":0},{"$f":"Inputs!AG359","v":8},{"$f":"Inputs!AH359","v":38},{"$f":"Inputs!AI359","v":0},{"$f":"Inputs!AJ359","v":8},{"$f":"Inputs!AK359","v":45},{"$f":"Inputs!AL359","v":38},{"$f":"Inputs!AM359","v":0},{"$f":"Inputs!AN359","v":0},{"$f":"Inputs!AO359","v":0},{"$f":"Inputs!AP359","v":0},{"$f":"Inputs!AQ359","v":8},{"$f":"Inputs!AR359","v":38},{"$f":"Inputs!AS359","v":0},{"$f":"Inputs!AT359","v":8},{"$f":"Inputs!AU359","v":45},{"$f":"Inputs!AV359","v":0},{"$f":"Inputs!AW359","v":0},{"$f":"Inputs!AX359","v":0},{"$f":"Inputs!AY359","v":0},{"$f":"Inputs!AZ359","v":0}]
[null,null,null,null,null,null,null,null,null,null,null,"N Above ground residue, g N/kg",null,null,null,null,null,{"$f":"Inputs!C360","v":0},{"$f":"Inputs!D360","v":5},{"$f":"Inputs!E360","v":0},{"$f":"Inputs!F360","v":0},{"$f":"Inputs!G360","v":0},{"$f":"Inputs!H360","v":0},{"$f":"Inputs!I360","v":0},{"$f":"Inputs!J360","v":0},{"$f":"Inputs!K360","v":0},{"$f":"Inputs!L360","v":0},{"$f":"Inputs!M360","v":6},{"$f":"Inputs!N360","v":5},{"$f":"Inputs!O360","v":0},{"$f":"Inputs!P360","v":13},{"$f":"Inputs!Q360","v":0},{"$f":"Inputs!R360","v":0},{"$f":"Inputs!S360","v":0},{"$f":"Inputs!T360","v":0},{"$f":"Inputs!U360","v":0},{"$f":"Inputs!V360","v":0},{"$f":"Inputs!W360","v":13},{"$f":"Inputs!X360","v":5},{"$f":"Inputs!Y360","v":0},{"$f":"Inputs!Z360","v":0},{"$f":"Inputs!AA360","v":0},{"$f":"Inputs!AB360","v":0},{"$f":"Inputs!AC360","v":0},{"$f":"Inputs!AD360","v":0},{"$f":"Inputs!AE360","v":0},{"$f":"Inputs!AF360","v":0},{"$f":"Inputs!AG360","v":13},{"$f":"Inputs!AH360","v":5},{"$f":"Inputs!AI360","v":0},{"$f":"Inputs!AJ360","v":13},{"$f":"Inputs!AK360","v":6},{"$f":"Inputs!AL360","v":5},{"$f":"Inputs!AM360","v":0},{"$f":"Inputs!AN360","v":0},{"$f":"Inputs!AO360","v":0},{"$f":"Inputs!AP360","v":0},{"$f":"Inputs!AQ360","v":13},{"$f":"Inputs!AR360","v":5},{"$f":"Inputs!AS360","v":0},{"$f":"Inputs!AT360","v":13},{"$f":"Inputs!AU360","v":6},{"$f":"Inputs!AV360","v":6},{"$f":"Inputs!AW360","v":0},{"$f":"Inputs!AX360","v":0},{"$f":"Inputs!AY360","v":0},{"$f":"Inputs!AZ360","v":0}]
[null,null,null,null,null,null,null,null,null,null,null,"Below ground residue, %",null,null,null,null,null,{"$f":"Inputs!C361","v":0},{"$f":"Inputs!D361","v":15},{"$f":"Inputs!E361","v":0},{"$f":"Inputs!F361","v":0},{"$f":"Inputs!G361","v":0},{"$f":"Inputs!H361","v":0},{"$f":"Inputs!I361","v":0},{"$f":"Inputs!J361","v":0},{"$f":"Inputs!K361","v":0},{"$f":"Inputs!L361","v":0},{"$f":"Inputs!M361","v":25},{"$f":"Inputs!N361","v":15},{"$f":"Inputs!O361","v":0},{"$f":"Inputs!P361","v":20},{"$f":"Inputs!Q361","v":0},{"$f":"Inputs!R361","v":0},{"$f":"Inputs!S361","v":0},{"$f":"Inputs!T361","v":0},{"$f":"Inputs!U361","v":0},{"$f":"Inputs!V361","v":0},{"$f":"Inputs!W361","v":20},{"$f":"Inputs!X361","v":15},{"$f":"Inputs!Y361","v":0},{"$f":"Inputs!Z361","v":0},{"$f":"Inputs!AA361","v":0},{"$f":"Inputs!AB361","v":0},{"$f":"Inputs!AC361","v":0},{"$f":"Inputs!AD361","v":0},{"$f":"Inputs!AE361","v":0},{"$f":"Inputs!AF361","v":0},{"$f":"Inputs!AG361","v":20},{"$f":"Inputs!AH361","v":15},{"$f":"Inputs!AI361","v":0},{"$f":"Inputs!AJ361","v":20},{"$f":"Inputs!AK361","v":25},{"$f":"Inputs!AL361","v":15},{"$f":"Inputs!AM361","v":0},{"$f":"Inputs!AN361","v":0},{"$f":"Inputs!AO361","v":0},{"$f":"Inputs!AP361","v":0},{"$f":"Inputs!AQ361","v":20},{"$f":"Inputs!AR361","v":15},{"$f":"Inputs!AS361","v":0},{"$f":"Inputs!AT361","v":20},{"$f":"Inputs!AU361","v":25},{"$f":"Inputs!AV361","v":15},{"$f":"Inputs!AW361","v":0},{"$f":"Inputs!AX361","v":0},{"$f":"Inputs!AY361","v":0},{"$f":"Inputs!AZ361","v":0}]
["DO NOT DELETE: INPUT SHEET SELECTOR:",null,1,null,null,null,null,null,null,null,null,"N Below ground residue, g N/kg",null,null,null,null,null,{"$f":"Inputs!C362","v":0},{"$f":"Inputs!D362","v":7},{"$f":"Inputs!E362","v":0},{"$f":"Inputs!F362","v":0},{"$f":"Inputs!G362","v":0},{"$f":"Inputs!H362","v":0},{"$f":"Inputs!I362","v":0},{"$f":"Inputs!J362","v":0},{"$f":"Inputs!K362","v":0},{"$f":"Inputs!L362","v":0},{"$f":"Inputs!M362","v":10},{"$f":"Inputs!N362","v":7},{"$f":"Inputs!O362","v":0},{"$f":"Inputs!P362","v":7},{"$f":"Inputs!Q362","v":0},{"$f":"Inputs!R362","v":0},{"$f":"Inputs!S362","v":0},{"$f":"Inputs!T362","v":0},{"$f":"Inputs!U362","v":0},{"$f":"Inputs!V362","v":0},{"$f":"Inputs!W362","v":7},{"$f":"Inputs!X362","v":7},{"$f":"Inputs!Y362","v":0},{"$f":"Inputs!Z362","v":0},{"$f":"Inputs!AA362","v":0},{"$f":"Inputs!AB362","v":0},{"$f":"Inputs!AC362","v":0},{"$f":"Inputs!AD362","v":0},{"$f":"Inputs!AE362","v":0},{"$f":"Inputs!AF362","v":0},{"$f":"Inputs!AG362","v":7},{"$f":"Inputs!AH362","v":7},{"$f":"Inputs!AI362","v":0},{"$f":"Inputs!AJ362","v":7},{"$f":"Inputs!AK362","v":10},{"$f":"Inputs!AL362","v":7},{"$f":"Inputs!AM362","v":0},{"$f":"Inputs!AN362","v":0},{"$f":"Inputs!AO362","v":0},{"$f":"Inputs!AP362","v":0},{"$f":"Inputs!AQ362","v":7},{"$f":"Inputs!AR362","v":7},{"$f":"Inputs!AS362","v":0},{"$f":"Inputs!AT362","v":7},{"$f":"Inputs!AU362","v":10},{"$f":"Inputs!AV362","v":10},{"$f":"Inputs!AW362","v":0},{"$f":"Inputs!AX362","v":0},{"$f":"Inputs!AY362","v":0},{"$f":"Inputs!AZ362","v":0}]
[null,null,null,null,null,null,null,null,null,null,null,"N residues, kg/ha",{"$f":"SUM(R425:AA425)/MAX(R$392:AA$392)","v":52.412809826716398},{"$f":"SUM(AB425:AK425)/MAX($AB$392:$AK$392)","v":57.312585271490093},{"$f":"SUM(AL425:AU425)/MAX($AL$392:$AU$392)","v":24.157082091445925},{"$f":"SUM(AV425:BE425)/MAX($AV$392:$BE$392)","v":36.712096449313073},{"$f":"SUM(BF425:BO425)/MAX($BF$392:$BO$392)","v":30.173381818911672},{"$f":"(R422*R421%+R424*R423%)*R413/(100-R421-R423)%","v":0},52.412809826716398,0,0,0,0,0,0,0,0,51.106529209621989,58.236455363018216,{"$f":"(AD422*AD421%+AD424*AD423%)*AD413/(100-AD421-AD423)%","v":0},62.594771241830067,0,0,0,0,0,0,65.784313725490208,55.001096731739423,0,0,0,0,0,0,0,0,65.784313725490208,55.259925422241722,{"$f":"(AX422*AX421%+AX424*AX423%)*AX413/(100-AX421-AX423)%","v":0},62.594771241830067,51.821305841924399,58.236455363018216,0,0,0,0,65.784313725490208,55.001096731739423,0,62.594771241830067,51.821305841924399,6.1855670103092786,0,0,0,0]
["Farn Net Income ($/yr)","P balance (Kg/yr)","N Balance (kg/yr)","K balance (kg/yr)",null,null,null,null,null,null,null,"Fuel consumption, L/ha",{"$f":"SUM(R426:AA426)/MAX(R$412:AA$412)","v":58.6},{"$f":"SUM(AB426:AK426)/MAX($AB$412:$AK$412)","v":73.266666666666666},{"$f":"SUM(AL426:AU426)/MAX($AL$412:$AU$412)","v":91.12},{"$f":"SUM(AV426:BE426)/MAX($AV$412:$BE$412)","v":84.424999999999997},{"$f":"SUM(BF426:BO426)/MAX($BF$412:$BO$412)","v":82.887499999999989},{"$f":"Inputs!C363","v":0},{"$f":"Inputs!D363","v":58.6},{"$f":"Inputs!E363","v":0},{"$f":"Inputs!F363","v":0},{"$f":"Inputs!G363","v":0},{"$f":"Inputs!H363","v":0},{"$f":"Inputs!I363","v":0},{"$f":"Inputs!J363","v":0},{"$f":"Inputs!K363","v":0},{"$f":"Inputs!L363","v":0},{"$f":"Inputs!M363","v":60.1},{"$f":"Inputs!N363","v":58.6},{"$f":"Inputs!O363","v":0},{"$f":"Inputs!P363","v":101.1},{"$f":"Inputs!Q363","v":0},{"$f":"Inputs!R363","v":0},{"$f":"Inputs!S363","v":0},{"$f":"Inputs!T363","v":0},{"$f":"Inputs!U363","v":0},{"$f":"Inputs!V363","v":0},{"$f":"Inputs!W363","v":101.1},{"$f":"Inputs!X363","v":58.6},{"$f":"Inputs!Y363","v":0},{"$f":"Inputs!Z363","v":49.3},{"$f":"Inputs!AA363","v":123.3},{"$f":"Inputs!AB363","v":123.3},{"$f":"Inputs!AC363","v":0},{"$f":"Inputs!AD363","v":0},{"$f":"Inputs!AE363","v":0},{"$f":"Inputs!AF363","v":0},{"$f":"Inputs!AG363","v":101.1},{"$f":"Inputs!AH363","v":58.6},{"$f":"Inputs!AI363","v":0},{"$f":"Inputs!AJ363","v":101.1},{"$f":"Inputs!AK363","v":60.1},{"$f":"Inputs!AL363","v":58.6},{"$f":"Inputs!AM363","v":0},{"$f":"Inputs!AN363","v":49.3},{"$f":"Inputs!AO363","v":123.3},{"$f":"Inputs!AP363","v":123.3},{"$f":"Inputs!AQ363","v":101.1},{"$f":"Inputs!AR363","v":58.6},{"$f":"Inputs!AS363","v":0},{"$f":"Inputs!AT363","v":101.1},{"$f":"Inputs!AU363","v":60.1},{"$f":"Inputs!AV363","v":46.3},{"$f":"Inputs!AW363","v":0},{"$f":"Inputs!AX363","v":49.3},{"$f":"Inputs!AY363","v":123.3},{"$f":"Inputs!AZ363","v":123.3}]
[{"$f":"(Inputs!D80+Inputs!D85-Inputs!D94)*Inputs!C72-Inputs!D102-(SUMPRODUCT(B84:F84,M409:Q409)*$M$380+SUMPRODUCT(B87:F87,M429:Q429)*$M$381+SUMPRODUCT(B90:F90,M449:Q449)*$M$382+SUMPRODUCT(B93:F93,M469:Q469)*$M$383+SUMPRODUCT(B96:F96,M489:Q489)*$M384+SUMPRODUCT(B106:F106,AI294:AM294)+SUMPRODUCT(G100:H100,AN296:AO296)+SUMPRODUCT(G101:H101,AN297:AO297)+SUMPRODUCT(G102:H102,AN298:AO298)+SUMPRODUCT(G103:H103,AN299:AO299)+SUMPRODUCT(G104:H104,AN300:AO300)+SUMPRODUCT(G105:H105,AN301:AO301)-SUMPRODUCT(B153:AA153,AE169:BD169)+SUMPRODUCT(B152:AA152,AE171:BD171)+SUMPRODUCT(ABS(B153:AA153),AE170:BD170))","v":111804.32067532319},{"$f":"SUMPRODUCT(B100:F100,((T298:X298)*0.437))*10+SUMPRODUCT(B101:F101,((T298:X298)*0.437))*10+SUMPRODUCT(B102:F102,((T298:X298)*0.437))*10+SUMPRODUCT(B103:F103,((T298:X298)*0.437))*10+SUMPRODUCT(B104:F104,((T298:X298)*0.437))*10-SUMPRODUCT(B153:AA153,AE155:BD155)*10-Inputs!C71*0.09%-Inputs!C31*Inputs!C34%*Inputs!C32*0.72%-(B262*AB298%+C262*AC298%)*1000/2.29-(Inputs!C31*12/Inputs!C33)*0.5*45*0.83%-((Inputs!C31*12/Inputs!C33)*0.5-Inputs!C31*Inputs!C34%*(1-Inputs!C39/100))*IF(Inputs!C42=1,Inputs!C32*0.72%,45*0.83%)","v":1227.5902667562034},{"$f":"SUMPRODUCT(B100:F100,T297:X297)*10+SUMPRODUCT(B101:F101,T297:X297)*10+SUMPRODUCT(B102:F102,T297:X297)*10+SUMPRODUCT(B103:F103,T297:X297)*10+SUMPRODUCT(B104:F104,T297:X297)*10+6*M385-SUMPRODUCT(B153:AA153,AE148:BD148)*10/6.25-Inputs!C71*Inputs!C51%/6.38-Inputs!C31*Inputs!C34%*Inputs!C32*2.53%-(B262*AB297%+C262*AC297%)*1000+(SUMPRODUCT(B84:F84,M400:Q400)*$M$380+SUMPRODUCT(B87:F87,M420:Q420)*$M$381+SUMPRODUCT(B90:F90,M440:Q440)*$M$382+SUMPRODUCT(B93:F93,M460:Q460)*$M$383+SUMPRODUCT(B96:F96,M480:Q480)*$M384)-(Inputs!C31*12/Inputs!C33)*0.5*45*2.88%-((Inputs!C31*12/Inputs!C33)*0.5-Inputs!C31*Inputs!C34%*(1-Inputs!C39/100))*IF(Inputs!C42=1,Inputs!C32*2.53%,45*2.88%)","v":13299.2166545129},{"$f":"SUMPRODUCT(B100:F100,((T299:X299)*0.83))*10+SUMPRODUCT(B101:F101,((T299:X299)*0.83))*10+SUMPRODUCT(B102:F102,((T299:X299)*0.83))*10+SUMPRODUCT(B103:F103,((T299:X299)*0.83))*10+SUMPRODUCT(B104:F104,((T299:X299)*0.83))*10+SUMPRODUCT(M495:Q495,Inputs!D$115:H$115)*365/1000+1*M385-SUMPRODUCT(B153:AA153,AE157:BD157)*10-Inputs!C71*0.15%-Inputs!C31*Inputs!C34%*Inputs!C32*0.16%-(B262*AB299%+C262*AC299%)*0.833*1000-(Inputs!C31*12/Inputs!C33)*0.5*45*0.155%-((Inputs!C31*12/Inputs!C33)*0.5-Inputs!C31*Inputs!C34%*(1-Inputs!C39/100))*IF(Inputs!C42=1,Inputs!C32*0.16%,45*0.155%)","v":4092.6141191959123},null,null,null,null,null,null,null,"Variable costs  w/o fertilizer, $/ha",{"$f":"SUM(R427:AA427)/MAX(R$412:AA$412)","v":800.65},{"$f":"SUM(AB427:AK427)/MAX($AB$412:$AK$412)","v":561.43999999999994},{"$f":"SUM(AL427:AU427)/MAX($AL$412:$AU$412)","v":528.16999999999996},{"$f":"SUM(AV427:BE427)/MAX($AV$412:$BE$412)","v":540.64625000000001},{"$f":"SUM(BF427:BO427)/MAX($BF$412:$BO$412)","v":540.33249999999998},{"$f":"Inputs!C364","v":0},{"$f":"Inputs!D364","v":800.65},{"$f":"Inputs!E364","v":0},{"$f":"Inputs!F364","v":0},{"$f":"Inputs!G364","v":0},{"$f":"Inputs!H364","v":0},{"$f":"Inputs!I364","v":0},{"$f":"Inputs!J364","v":0},{"$f":"Inputs!K364","v":0},{"$f":"Inputs!L364","v":0},{"$f":"Inputs!M364","v":454.48},{"$f":"Inputs!N364","v":724.41},{"$f":"Inputs!O364","v":0},{"$f":"Inputs!P364","v":505.43},{"$f":"Inputs!Q364","v":0},{"$f":"Inputs!R364","v":0},{"$f":"Inputs!S364","v":0},{"$f":"Inputs!T364","v":0},{"$f":"Inputs!U364","v":0},{"$f":"Inputs!V364","v":0},{"$f":"Inputs!W364","v":486.38},{"$f":"Inputs!X364","v":800.65},{"$f":"Inputs!Y364","v":0},{"$f":"Inputs!Z364","v":578.94000000000005},{"$f":"Inputs!AA364","v":387.44},{"$f":"Inputs!AB364","v":387.44},{"$f":"Inputs!AC364","v":0},{"$f":"Inputs!AD364","v":0},{"$f":"Inputs!AE364","v":0},{"$f":"Inputs!AF364","v":0},{"$f":"Inputs!AG364","v":486.38},{"$f":"Inputs!AH364","v":800.65},{"$f":"Inputs!AI364","v":0},{"$f":"Inputs!AJ364","v":505.43},{"$f":"Inputs!AK364","v":454.48},{"$f":"Inputs!AL364","v":724.41},{"$f":"Inputs!AM364","v":0},{"$f":"Inputs!AN364","v":578.94000000000005},{"$f":"Inputs!AO364","v":387.44},{"$f":"Inputs!AP364","v":387.44},{"$f":"Inputs!AQ364","v":486.38},{"$f":"Inputs!AR364","v":800.65},{"$f":"Inputs!AS364","v":0},{"$f":"Inputs!AT364","v":505.43},{"$f":"Inputs!AU364","v":454.48},{"$f":"Inputs!AV364","v":360.95},{"$f":"Inputs!AW364","v":360.95},{"$f":"Inputs!AX364","v":578.94000000000005},{"$f":"Inputs!AY364","v":387.44},{"$f":"Inputs!AZ364","v":387.44}]
[null,null,null,null,null,null,null,null,null,null,null,"Variable costs, $/t",{"$f":"SUM(R428:AA428)/MAX(R$412:AA$412)","v":0},{"$f":"SUM(AB428:AK428)/MAX($AB$412:$AK$412)","v":0},{"$f":"SUM(AL428:AU428)/MAX($AL$412:$AU$412)","v":0},{"$f":"SUM(AV428:BE428)/MAX($AV$412:$BE$412)","v":0},{"$f":"SUM(BF428:BO428)/MAX($BF$412:$BO$412)","v":0},{"$f":"Inputs!C365","v":0},{"$f":"Inputs!D365","v":0},{"$f":"Inputs!E365","v":0},{"$f":"Inputs!F365","v":0},{"$f":"Inputs!G365","v":0},{"$f":"Inputs!H365","v":0},{"$f":"Inputs!I365","v":0},{"$f":"Inputs!J365","v":0},{"$f":"Inputs!K365","v":0},{"$f":"Inputs!L365","v":0},{"$f":"Inputs!M365","v":0},{"$f":"Inputs!N365","v":0},{"$f":"Inputs!O365","v":0},{"$f":"Inputs!P365","v":0},{"$f":"Inputs!Q365","v":0},{"$f":"Inputs!R365","v":0},{"$f":"Inputs!S365","v":0},{"$f":"Inputs!T365","v":0},{"$f":"Inputs!U365","v":0},{"$f":"Inputs!V365","v":0},{"$f":"Inputs!W365","v":0},{"$f":"Inputs!X365","v":0},{"$f":"Inputs!Y365","v":0},{"$f":"Inputs!Z365","v":0},{"$f":"Inputs!AA365","v":0},{"$f":"Inputs!AB365","v":0},{"$f":"Inputs!AC365","v":0},{"$f":"Inputs!AD365","v":0},{"$f":"Inputs!AE365","v":0},{"$f":"Inputs!AF365","v":0},{"$f":"Inputs!AG365","v":0},{"$f":"Inputs!AH365","v":0},{"$f":"Inputs!AI365","v":0},{"$f":"Inputs!AJ365","v":0},{"$f":"Inputs!AK365","v":0},{"$f":"Inputs!AL365","v":0},{"$f":"Inputs!AM365","v":0},{"$f":"Inputs!AN365","v":0},{"$f":"Inputs!AO365","v":0},{"$f":"Inputs!AP365","v":0},{"$f":"Inputs!AQ365","v":0},{"$f":"Inputs!AR365","v":0},{"$f":"Inputs!AS365","v":0},{"$f":"Inputs!AT365","v":0},{"$f":"Inputs!AU365","v":0},{"$f":"Inputs!AV365","v":0},{"$f":"Inputs!AW365","v":0},{"$f":"Inputs!AX365","v":0},{"$f":"Inputs!AY365","v":0},{"$f":"Inputs!AZ365","v":0}]
[null,null,null,null,null,null,null,null,null,null,null,"Cost $/ha",{"$f":"SUM(R429:AA429)/MAX(R$412:AA$412)","v":800.65},{"$f":"SUM(AB429:AK429)/MAX($AB$412:$AK$412)","v":561.43999999999994},{"$f":"SUM(AL429:AU429)/MAX($AL$412:$AU$412)","v":528.16999999999996},{"$f":"SUM(AV429:BE429)/MAX($AV$412:$BE$412)","v":540.64625000000001},{"$f":"SUM(BF429:BO429)/MAX($BF$412:$BO$412)","v":515.33249999999998},{"$f":"Inputs!C366","v":0},{"$f":"Inputs!D366","v":800.65},{"$f":"Inputs!E366","v":0},{"$f":"Inputs!F366","v":0},{"$f":"Inputs!G366","v":0},{"$f":"Inputs!H366","v":0},{"$f":"Inputs!I366","v":0},{"$f":"Inputs!J366","v":0},{"$f":"Inputs!K366","v":0},{"$f":"Inputs!L366","v":0},{"$f":"Inputs!M366","v":454.48},{"$f":"Inputs!N366","v":724.41},{"$f":"Inputs!O366","v":0},{"$f":"Inputs!P366","v":505.43},{"$f":"Inputs!Q366","v":0},{"$f":"Inputs!R366","v":0},{"$f":"Inputs!S366","v":0},{"$f":"Inputs!T366","v":0},{"$f":"Inputs!U366","v":0},{"$f":"Inputs!V366","v":0},{"$f":"Inputs!W366","v":486.38},{"$f":"Inputs!X366","v":800.65},{"$f":"Inputs!Y366","v":0},{"$f":"Inputs!Z366","v":578.94000000000005},{"$f":"Inputs!AA366","v":387.44},{"$f":"Inputs!AB366","v":387.44},{"$f":"Inputs!AC366","v":0},{"$f":"Inputs!AD366","v":0},{"$f":"Inputs!AE366","v":0},{"$f":"Inputs!AF366","v":0},{"$f":"Inputs!AG366","v":486.38},{"$f":"Inputs!AH366","v":800.65},{"$f":"Inputs!AI366","v":0},{"$f":"Inputs!AJ366","v":505.43},{"$f":"Inputs!AK366","v":454.48},{"$f":"Inputs!AL366","v":724.41},{"$f":"Inputs!AM366","v":0},{"$f":"Inputs!AN366","v":578.94000000000005},{"$f":"Inputs!AO366","v":387.44},{"$f":"Inputs!AP366","v":387.44},{"$f":"Inputs!AQ366","v":486.38},{"$f":"Inputs!AR366","v":800.65},{"$f":"Inputs!AS366","v":0},{"$f":"Inputs!AT366","v":505.43},{"$f":"Inputs!AU366","v":454.48},{"$f":"Inputs!AV366","v":360.95},{"$f":"Inputs!AW366","v":160.94999999999999},{"$f":"Inputs!AX366","v":578.94000000000005},{"$f":"Inputs!AY366","v":387.44},{"$f":"Inputs!AZ366","v":387.44}]
[null,null,null,null,null,null,null,null,null,null,"Land Unit 3",null,null,{"$f":"N410","v":"Average Rotation Values"},null,null,null,"Rotation 1 name:",null,{"$f":"Inputs!E368","v":"CCC"},null,null,null,null,null,null,null,"Rotation 2 name:",null,{"$f":"Inputs!O368","v":"SCC"},null,null,null,null,null,null,null,"Rotation 3 name:",null,{"$f":"Inputs!Y368","v":"CCAAA"},null,null,null,null,null,null,null,"Rotation 4 name:",null,{"$f":"Inputs!AI368","v":"CCCSCAAA"},null,null,null,null,null,null,null,"Rotation 5 name:",null,{"$f":"Inputs!AS368","v":"CCCSWAAA"}]
[null,null,null,null,null,null,null,null,null,null,null,"Name",{"$f":"T430","v":"CCC"},{"$f":"AD430","v":"SCC"},{"$f":"AN430","v":"CCAAA"},{"$f":"AX430","v":"CCCSCAAA"},{"$f":"BH430","v":"CCCSWAAA"},{"$f":"Inputs!C369","v":0},{"$f":"Inputs!D369","v":"CoGr-27"},{"$f":"Inputs!E369","v":0},{"$f":"Inputs!F369","v":0},{"$f":"Inputs!G369","v":0},{"$f":"Inputs!H369","v":0},{"$f":"Inputs!I369","v":0},{"$f":"Inputs!J369","v":0},{"$f":"Inputs!K369","v":0},{"$f":"Inputs!L369","v":0},{"$f":"Inputs!M369","v":"SBw-108"},{"$f":"Inputs!N369","v":"CoGr-27"},{"$f":"Inputs!O369","v":0},{"$f":"Inputs!P369","v":"CoSi-35"},{"$f":"Inputs!Q369","v":0},{"$f":"Inputs!R369","v":0},{"$f":"Inputs!S369","v":0},{"$f":"Inputs!T369","v":0},{"$f":"Inputs!U369","v":0},{"$f":"Inputs!V369","v":0},{"$f":"Inputs!W369","v":"CoSi-35"},{"$f":"Inputs!X369","v":"CoGr-27"},{"$f":"Inputs!Y369","v":0},{"$f":"Inputs!Z369","v":"AlSi-83"},{"$f":"Inputs!AA369","v":"AlSi-83"},{"$f":"Inputs!AB369","v":"MxSi-74"},{"$f":"Inputs!AC369","v":0},{"$f":"Inputs!AD369","v":0},{"$f":"Inputs!AE369","v":0},{"$f":"Inputs!AF369","v":0},{"$f":"Inputs!AG369","v":"CoSi-35"},{"$f":"Inputs!AH369","v":"CoGr-27"},{"$f":"Inputs!AI369","v":0},{"$f":"Inputs!AJ369","v":"CoSi-35"},{"$f":"Inputs!AK369","v":"SBw-108"},{"$f":"Inputs!AL369","v":"CoGr-27"},{"$f":"Inputs!AM369","v":0},{"$f":"Inputs!AN369","v":"AlSi-83"},{"$f":"Inputs!AO369","v":"AlSi-83"},{"$f":"Inputs!AP369","v":"MxSi-74"},{"$f":"Inputs!AQ369","v":"CoSi-35"},{"$f":"Inputs!AR369","v":"CoGr-27"},{"$f":"Inputs!AS369","v":0},{"$f":"Inputs!AT369","v":"CoSi-35"},{"$f":"Inputs!AU369","v":"SBw-108"},{"$f":"Inputs!AV369","v":"Wheat-116"},{"$f":"Inputs!AW369","v":"Straw-120"},{"$f":"Inputs!AX369","v":"AlSi-83"},{"$f":"Inputs!AY369","v":"AlSi-83"},{"$f":"Inputs!AZ369","v":"MxSi-74"}]
[null,null,null,null,null,null,null,null,null,null,null,"Year",{"$f":"MAX(R432:AA432)","v":1},{"$f":"MAX(AB432:AK432)","v":3},{"$f":"MAX(AL432:AU432)","v":5},{"$f":"MAX(AV432:BE432)","v":8},{"$f":"MAX(BF432:BO432)","v":8},{"$f":"Inputs!C370","v":0},{"$f":"Inputs!D370","v":1},{"$f":"Inputs!E370","v":0},{"$f":"Inputs!F370","v":0},{"$f":"Inputs!G370","v":0},{"$f":"Inputs!H370","v":0},{"$f":"Inputs!I370","v":0},{"$f":"Inputs!J370","v":0},{"$f":"Inputs!K370","v":0},{"$f":"Inputs!L370","v":0},{"$f":"Inputs!M370","v":1},{"$f":"Inputs!N370","v":2},{"$f":"Inputs!O370","v":0},{"$f":"Inputs!P370","v":3},{"$f":"Inputs!Q370","v":0},{"$f":"Inputs!R370","v":0},{"$f":"Inputs!S370","v":0},{"$f":"Inputs!T370","v":0},{"$f":"Inputs!U370","v":0},{"$f":"Inputs!V370","v":0},{"$f":"Inputs!W370","v":1},{"$f":"Inputs!X370","v":2},{"$f":"Inputs!Y370","v":0},{"$f":"Inputs!Z370","v":3},{"$f":"Inputs!AA370","v":4},{"$f":"Inputs!AB370","v":5},{"$f":"Inputs!AC370","v":0},{"$f":"Inputs!AD370","v":0},{"$f":"Inputs!AE370","v":0},{"$f":"Inputs!AF370","v":0},{"$f":"Inputs!AG370","v":1},{"$f":"Inputs!AH370","v":2},{"$f":"Inputs!AI370","v":0},{"$f":"Inputs!AJ370","v":3},{"$f":"Inputs!AK370","v":4},{"$f":"Inputs!AL370","v":5},{"$f":"Inputs!AM370","v":0},{"$f":"Inputs!AN370","v":6},{"$f":"Inputs!AO370","v":7},{"$f":"Inputs!AP370","v":8},{"$f":"Inputs!AQ370","v":1},{"$f":"Inputs!AR370","v":2},{"$f":"Inputs!AS370","v":0},{"$f":"Inputs!AT370","v":3},{"$f":"Inputs!AU370","v":4},{"$f":"Inputs!AV370","v":5},{"$f":"Inputs!AW370","v":5},{"$f":"Inputs!AX370","v":6},{"$f":"Inputs!AY370","v":7},{"$f":"Inputs!AZ370","v":8}]
[null,null,null,null,null,null,null,null,null,null,null,"Yield, t DM/yr",null,null,null,null,null,{"$f":"Inputs!C371","v":0},{"$f":"Inputs!D371","v":8.3505154639175263},{"$f":"Inputs!E371","v":0},{"$f":"Inputs!F371","v":0},{"$f":"Inputs!G371","v":0},{"$f":"Inputs!H371","v":0},{"$f":"Inputs!I371","v":0},{"$f":"Inputs!J371","v":0},{"$f":"Inputs!K371","v":0},{"$f":"Inputs!L371","v":0},{"$f":"Inputs!M371","v":2.9484536082474224},{"$f":"Inputs!N371","v":9.2783505154639183},{"$f":"Inputs!O371","v":0},{"$f":"Inputs!P371","v":18.470588235294116},{"$f":"Inputs!Q371","v":0},{"$f":"Inputs!R371","v":0},{"$f":"Inputs!S371","v":0},{"$f":"Inputs!T371","v":0},{"$f":"Inputs!U371","v":0},{"$f":"Inputs!V371","v":0},{"$f":"Inputs!W371","v":19.411764705882355},{"$f":"Inputs!X371","v":8.7628865979381452},{"$f":"Inputs!Y371","v":0},{"$f":"Inputs!Z371","v":4.625},{"$f":"Inputs!AA371","v":10.874999999999998},{"$f":"Inputs!AB371","v":9.4999999999999982},{"$f":"Inputs!AC371","v":0},{"$f":"Inputs!AD371","v":0},{"$f":"Inputs!AE371","v":0},{"$f":"Inputs!AF371","v":0},{"$f":"Inputs!AG371","v":19.411764705882355},{"$f":"Inputs!AH371","v":8.8041237113402051},{"$f":"Inputs!AI371","v":0},{"$f":"Inputs!AJ371","v":18.470588235294116},{"$f":"Inputs!AK371","v":2.9896907216494846},{"$f":"Inputs!AL371","v":9.2783505154639183},{"$f":"Inputs!AM371","v":0},{"$f":"Inputs!AN371","v":4.625},{"$f":"Inputs!AO371","v":10.874999999999998},{"$f":"Inputs!AP371","v":9.4999999999999982},{"$f":"Inputs!AQ371","v":19.411764705882355},{"$f":"Inputs!AR371","v":8.7628865979381452},{"$f":"Inputs!AS371","v":0},{"$f":"Inputs!AT371","v":18.470588235294116},{"$f":"Inputs!AU371","v":2.9896907216494846},{"$f":"Inputs!AV371","v":3.5051546391752577},{"$f":"Inputs!AW371","v":1.6},{"$f":"Inputs!AX371","v":4.625},{"$f":"Inputs!AY371","v":10.874999999999998},{"$f":"Inputs!AZ371","v":9.4999999999999982}]
[null,null,null,null,null,null,null,null,null,null,null,"N,  kg/ha",{"$f":"SUM(R434:AA434)/MAX(R$432:AA$432)","v":169},{"$f":"SUM(AB434:AK434)/MAX($AB$432:$AK$432)","v":97.733333333333334},{"$f":"SUM(AL434:AU434)/MAX($AL$432:$AU$432)","v":27.2},{"$f":"SUM(AV434:BE434)/MAX($AV$432:$BE$432)","v":53.65},{"$f":"SUM(BF434:BO434)/MAX($BF$432:$BO$432)","v":40.9},{"$f":"Inputs!C372","v":0},{"$f":"Inputs!D372","v":169},{"$f":"Inputs!E372","v":0},{"$f":"Inputs!F372","v":0},{"$f":"Inputs!G372","v":0},{"$f":"Inputs!H372","v":0},{"$f":"Inputs!I372","v":0},{"$f":"Inputs!J372","v":0},{"$f":"Inputs!K372","v":0},{"$f":"Inputs!L372","v":0},{"$f":"Inputs!M372","v":0},{"$f":"Inputs!N372","v":124.2},{"$f":"Inputs!O372","v":0},{"$f":"Inputs!P372","v":169},{"$f":"Inputs!Q372","v":0},{"$f":"Inputs!R372","v":0},{"$f":"Inputs!S372","v":0},{"$f":"Inputs!T372","v":0},{"$f":"Inputs!U372","v":0},{"$f":"Inputs!V372","v":0},{"$f":"Inputs!W372","v":23},{"$f":"Inputs!X372","v":113},{"$f":"Inputs!Y372","v":0},{"$f":"Inputs!Z372","v":0},{"$f":"Inputs!AA372","v":0},{"$f":"Inputs!AB372","v":0},{"$f":"Inputs!AC372","v":0},{"$f":"Inputs!AD372","v":0},{"$f":"Inputs!AE372","v":0},{"$f":"Inputs!AF372","v":0},{"$f":"Inputs!AG372","v":23},{"$f":"Inputs!AH372","v":113},{"$f":"Inputs!AI372","v":0},{"$f":"Inputs!AJ372","v":169},{"$f":"Inputs!AK372","v":0},{"$f":"Inputs!AL372","v":124.2},{"$f":"Inputs!AM372","v":0},{"$f":"Inputs!AN372","v":0},{"$f":"Inputs!AO372","v":0},{"$f":"Inputs!AP372","v":0},{"$f":"Inputs!AQ372","v":23},{"$f":"Inputs!AR372","v":113},{"$f":"Inputs!AS372","v":0},{"$f":"Inputs!AT372","v":169},{"$f":"Inputs!AU372","v":0},{"$f":"Inputs!AV372","v":22.200000000000003},{"$f":"Inputs!AW372","v":0},{"$f":"Inputs!AX372","v":0},{"$f":"Inputs!AY372","v":0},{"$f":"Inputs!AZ372","v":0}]
[null,null,null,null,null,null,null,null,null,null,null,"P2O5,  kg/ha",{"$f":"SUM(R435:AA435)/MAX(R$432:AA$432)","v":67},{"$f":"SUM(AB435:AK435)/MAX($AB$432:$AK$432)","v":62.333333333333336},{"$f":"SUM(AL435:AU435)/MAX($AL$432:$AU$432)","v":63},{"$f":"SUM(AV435:BE435)/MAX($AV$432:$BE$432)","v":62.75},{"$f":"SUM(BF435:BO435)/MAX($BF$432:$BO$432)","v":60.375},{"$f":"Inputs!C373","v":0},{"$f":"Inputs!D373","v":67},{"$f":"Inputs!E373","v":0},{"$f":"Inputs!F373","v":0},{"$f":"Inputs!G373","v":0},{"$f":"Inputs!H373","v":0},{"$f":"Inputs!I373","v":0},{"$f":"Inputs!J373","v":0},{"$f":"Inputs!K373","v":0},{"$f":"Inputs!L373","v":0},{"$f":"Inputs!M373","v":42},{"$f":"Inputs!N373","v":67},{"$f":"Inputs!O373","v":0},{"$f":"Inputs!P373","v":78},{"$f":"Inputs!Q373","v":0},{"$f":"Inputs!R373","v":0},{"$f":"Inputs!S373","v":0},{"$f":"Inputs!T373","v":0},{"$f":"Inputs!U373","v":0},{"$f":"Inputs!V373","v":0},{"$f":"Inputs!W373","v":78},{"$f":"Inputs!X373","v":67},{"$f":"Inputs!Y373","v":0},{"$f":"Inputs!Z373","v":30},{"$f":"Inputs!AA373","v":70},{"$f":"Inputs!AB373","v":70},{"$f":"Inputs!AC373","v":0},{"$f":"Inputs!AD373","v":0},{"$f":"Inputs!AE373","v":0},{"$f":"Inputs!AF373","v":0},{"$f":"Inputs!AG373","v":78},{"$f":"Inputs!AH373","v":67},{"$f":"Inputs!AI373","v":0},{"$f":"Inputs!AJ373","v":78},{"$f":"Inputs!AK373","v":42},{"$f":"Inputs!AL373","v":67},{"$f":"Inputs!AM373","v":0},{"$f":"Inputs!AN373","v":30},{"$f":"Inputs!AO373","v":70},{"$f":"Inputs!AP373","v":70},{"$f":"Inputs!AQ373","v":78},{"$f":"Inputs!AR373","v":67},{"$f":"Inputs!AS373","v":0},{"$f":"Inputs!AT373","v":78},{"$f":"Inputs!AU373","v":42},{"$f":"Inputs!AV373","v":48},{"$f":"Inputs!AW373","v":0},{"$f":"Inputs!AX373","v":30},{"$f":"Inputs!AY373","v":70},{"$f":"Inputs!AZ373","v":70}]
[null,null,null,null,null,null,null,null,null,null,null,"K2O, kg/ha",{"$f":"SUM(R436:AA436)/MAX(R$432:AA$432)","v":67},{"$f":"SUM(AB436:AK436)/MAX($AB$432:$AK$432)","v":93},{"$f":"SUM(AL436:AU436)/MAX($AL$432:$AU$432)","v":136.4},{"$f":"SUM(AV436:BE436)/MAX($AV$432:$BE$432)","v":120.125},{"$f":"SUM(BF436:BO436)/MAX($BF$432:$BO$432)","v":121.75},{"$f":"Inputs!C374","v":0},{"$f":"Inputs!D374","v":67},{"$f":"Inputs!E374","v":0},{"$f":"Inputs!F374","v":0},{"$f":"Inputs!G374","v":0},{"$f":"Inputs!H374","v":0},{"$f":"Inputs!I374","v":0},{"$f":"Inputs!J374","v":0},{"$f":"Inputs!K374","v":0},{"$f":"Inputs!L374","v":0},{"$f":"Inputs!M374","v":73},{"$f":"Inputs!N374","v":67},{"$f":"Inputs!O374","v":0},{"$f":"Inputs!P374","v":139},{"$f":"Inputs!Q374","v":0},{"$f":"Inputs!R374","v":0},{"$f":"Inputs!S374","v":0},{"$f":"Inputs!T374","v":0},{"$f":"Inputs!U374","v":0},{"$f":"Inputs!V374","v":0},{"$f":"Inputs!W374","v":139},{"$f":"Inputs!X374","v":67},{"$f":"Inputs!Y374","v":0},{"$f":"Inputs!Z374","v":84},{"$f":"Inputs!AA374","v":196},{"$f":"Inputs!AB374","v":196},{"$f":"Inputs!AC374","v":0},{"$f":"Inputs!AD374","v":0},{"$f":"Inputs!AE374","v":0},{"$f":"Inputs!AF374","v":0},{"$f":"Inputs!AG374","v":139},{"$f":"Inputs!AH374","v":67},{"$f":"Inputs!AI374","v":0},{"$f":"Inputs!AJ374","v":139},{"$f":"Inputs!AK374","v":73},{"$f":"Inputs!AL374","v":67},{"$f":"Inputs!AM374","v":0},{"$f":"Inputs!AN374","v":84},{"$f":"Inputs!AO374","v":196},{"$f":"Inputs!AP374","v":196},{"$f":"Inputs!AQ374","v":139},{"$f":"Inputs!AR374","v":67},{"$f":"Inputs!AS374","v":0},{"$f":"Inputs!AT374","v":139},{"$f":"Inputs!AU374","v":73},{"$f":"Inputs!AV374","v":80},{"$f":"Inputs!AW374","v":0},{"$f":"Inputs!AX374","v":84},{"$f":"Inputs!AY374","v":196},{"$f":"Inputs!AZ374","v":196}]
[null,null,null,null,null,null,null,null,null,null,null,"P Removal,  kg/ha",{"$f":"SUM(R437:AA437)/MAX(R$432:AA$432)","v":25.051546391752581},{"$f":"SUM(AB437:AK437)/MAX($AB$432:$AK$432)","v":31.183100869213664},{"$f":"SUM(AL437:AU437)/MAX($AL$432:$AU$432)","v":32.661849605821715},{"$f":"SUM(AV437:BE437)/MAX($AV$432:$BE$432)","v":32.153710582171016},{"$f":"SUM(BF437:BO437)/MAX($BF$432:$BO$432)","v":30.742885839902975},{"$f":"Inputs!C375","v":0},{"$f":"Inputs!D375","v":25.051546391752581},{"$f":"Inputs!E375","v":0},{"$f":"Inputs!F375","v":0},{"$f":"Inputs!G375","v":0},{"$f":"Inputs!H375","v":0},{"$f":"Inputs!I375","v":0},{"$f":"Inputs!J375","v":0},{"$f":"Inputs!K375","v":0},{"$f":"Inputs!L375","v":0},{"$f":"Inputs!M375","v":17.690721649484534},{"$f":"Inputs!N375","v":27.835051546391757},{"$f":"Inputs!O375","v":0},{"$f":"Inputs!P375","v":48.023529411764706},{"$f":"Inputs!Q375","v":0},{"$f":"Inputs!R375","v":0},{"$f":"Inputs!S375","v":0},{"$f":"Inputs!T375","v":0},{"$f":"Inputs!U375","v":0},{"$f":"Inputs!V375","v":0},{"$f":"Inputs!W375","v":50.470588235294123},{"$f":"Inputs!X375","v":26.288659793814432},{"$f":"Inputs!Y375","v":0},{"$f":"Inputs!Z375","v":16.1875},{"$f":"Inputs!AA375","v":38.062499999999993},{"$f":"Inputs!AB375","v":32.299999999999997},{"$f":"Inputs!AC375","v":0},{"$f":"Inputs!AD375","v":0},{"$f":"Inputs!AE375","v":0},{"$f":"Inputs!AF375","v":0},{"$f":"Inputs!AG375","v":50.470588235294123},{"$f":"Inputs!AH375","v":26.412371134020617},{"$f":"Inputs!AI375","v":0},{"$f":"Inputs!AJ375","v":48.023529411764706},{"$f":"Inputs!AK375","v":17.938144329896907},{"$f":"Inputs!AL375","v":27.835051546391757},{"$f":"Inputs!AM375","v":0},{"$f":"Inputs!AN375","v":16.1875},{"$f":"Inputs!AO375","v":38.062499999999993},{"$f":"Inputs!AP375","v":32.299999999999997},{"$f":"Inputs!AQ375","v":50.470588235294123},{"$f":"Inputs!AR375","v":26.288659793814432},{"$f":"Inputs!AS375","v":0},{"$f":"Inputs!AT375","v":48.023529411764706},{"$f":"Inputs!AU375","v":17.938144329896907},{"$f":"Inputs!AV375","v":15.072164948453608},{"$f":"Inputs!AW375","v":1.6},{"$f":"Inputs!AX375","v":16.1875},{"$f":"Inputs!AY375","v":38.062499999999993},{"$f":"Inputs!AZ375","v":32.299999999999997}]
[null,null,null,null,null,null,null,null,null,null,null,"K Removal, kg"]
[null,null,null,null,null,null,null,null,null,null,null,"Cl, kg/ha",{"$f":"SUM(R439:AA439)/MAX(R$432:AA$432)","v":0},{"$f":"SUM(AB439:AK439)/MAX($AB$432:$AK$432)","v":0},{"$f":"SUM(AL439:AU439)/MAX($AL$432:$AU$432)","v":0},{"$f":"SUM(AV439:BE439)/MAX($AV$432:$BE$432)","v":0},{"$f":"SUM(BF439:BO439)/MAX($BF$432:$BO$432)","v":0},{"$f":"Inputs!C377","v":0},{"$f":"Inputs!D377","v":0},{"$f":"Inputs!E377","v":0},{"$f":"Inputs!F377","v":0},{"$f":"Inputs!G377","v":0},{"$f":"Inputs!H377","v":0},{"$f":"Inputs!I377","v":0},{"$f":"Inputs!J377","v":0},{"$f":"Inputs!K377","v":0},{"$f":"Inputs!L377","v":0},{"$f":"Inputs!M377","v":0},{"$f":"Inputs!N377","v":0},{"$f":"Inputs!O377","v":0},{"$f":"Inputs!P377","v":0},{"$f":"Inputs!Q377","v":0},{"$f":"Inputs!R377","v":0},{"$f":"Inputs!S377","v":0},{"$f":"Inputs!T377","v":0},{"$f":"Inputs!U377","v":0},{"$f":"Inputs!V377","v":0},{"$f":"Inputs!W377","v":0},{"$f":"Inputs!X377","v":0},{"$f":"Inputs!Y377","v":0},{"$f":"Inputs!Z377","v":0},{"$f":"Inputs!AA377","v":0},{"$f":"Inputs!AB377","v":0},{"$f":"Inputs!AC377","v":0},{"$f":"Inputs!AD377","v":0},{"$f":"Inputs!AE377","v":0},{"$f":"Inputs!AF377","v":0},{"$f":"Inputs!AG377","v":0},{"$f":"Inputs!AH377","v":0},{"$f":"Inputs!AI377","v":0},{"$f":"Inputs!AJ377","v":0},{"$f":"Inputs!AK377","v":0},{"$f":"Inputs!AL377","v":0},{"$f":"Inputs!AM377","v":0},{"$f":"Inputs!AN377","v":0},{"$f":"Inputs!AO377","v":0},{"$f":"Inputs!AP377","v":0},{"$f":"Inputs!AQ377","v":0},{"$f":"Inputs!AR377","v":0},{"$f":"Inputs!AS377","v":0},{"$f":"Inputs!AT377","v":0},{"$f":"Inputs!AU377","v":0},{"$f":"Inputs!AV377","v":0},{"$f":"Inputs!AW377","v":0},{"$f":"Inputs!AX377","v":0},{"$f":"Inputs!AY377","v":0},{"$f":"Inputs!AZ377","v":0}]
[null,null,null,null,null,null,null,null,null,null,null,"N fixation, kg/t",{"$f":"SUMPRODUCT(R433:AA433,R440:AA440)/MAX(R432:AA432)","v":0},{"$f":"SUMPRODUCT(AB433:AK433,AB440:AK440)/MAX(AB432:AK432)","v":24.656934707903776},{"$f":"SUMPRODUCT(AL433:AU433,AL440:AU440)/MAX(AL432:AU432)","v":115.13279999999997},{"$f":"SUMPRODUCT(AV433:BE433,AV440:BE440)/MAX(AV432:BE432)","v":86.42567010309277},{"$f":"SUMPRODUCT(BF433:BO433,BF440:BO440)/MAX(BF432:BO432)","v":86.42567010309277},{"$f":"Inputs!C378","v":0},{"$f":"Inputs!D378","v":0},{"$f":"Inputs!E378","v":0},{"$f":"Inputs!F378","v":0},{"$f":"Inputs!G378","v":0},{"$f":"Inputs!H378","v":0},{"$f":"Inputs!I378","v":0},{"$f":"Inputs!J378","v":0},{"$f":"Inputs!K378","v":0},{"$f":"Inputs!L378","v":0},{"$f":"Inputs!M378","v":25.088000000000001},{"$f":"Inputs!N378","v":0},{"$f":"Inputs!O378","v":0},{"$f":"Inputs!P378","v":0},{"$f":"Inputs!Q378","v":0},{"$f":"Inputs!R378","v":0},{"$f":"Inputs!S378","v":0},{"$f":"Inputs!T378","v":0},{"$f":"Inputs!U378","v":0},{"$f":"Inputs!V378","v":0},{"$f":"Inputs!W378","v":0},{"$f":"Inputs!X378","v":0},{"$f":"Inputs!Y378","v":0},{"$f":"Inputs!Z378","v":24.655999999999999},{"$f":"Inputs!AA378","v":24.655999999999999},{"$f":"Inputs!AB378","v":20.367999999999999},{"$f":"Inputs!AC378","v":0},{"$f":"Inputs!AD378","v":0},{"$f":"Inputs!AE378","v":0},{"$f":"Inputs!AF378","v":0},{"$f":"Inputs!AG378","v":0},{"$f":"Inputs!AH378","v":0},{"$f":"Inputs!AI378","v":0},{"$f":"Inputs!AJ378","v":0},{"$f":"Inputs!AK378","v":25.088000000000001},{"$f":"Inputs!AL378","v":0},{"$f":"Inputs!AM378","v":0},{"$f":"Inputs!AN378","v":24.655999999999999},{"$f":"Inputs!AO378","v":24.655999999999999},{"$f":"Inputs!AP378","v":24.655999999999999},{"$f":"Inputs!AQ378","v":0},{"$f":"Inputs!AR378","v":0},{"$f":"Inputs!AS378","v":0},{"$f":"Inputs!AT378","v":0},{"$f":"Inputs!AU378","v":25.088000000000001},{"$f":"Inputs!AV378","v":0},{"$f":"Inputs!AW378","v":0},{"$f":"Inputs!AX378","v":24.655999999999999},{"$f":"Inputs!AY378","v":24.655999999999999},{"$f":"Inputs!AZ378","v":24.655999999999999}]
[null,null,null,null,null,null,null,null,null,null,null,"Above ground residue, %",null,null,null,null,null,{"$f":"Inputs!C379","v":0},{"$f":"Inputs!D379","v":38},{"$f":"Inputs!E379","v":0},{"$f":"Inputs!F379","v":0},{"$f":"Inputs!G379","v":0},{"$f":"Inputs!H379","v":0},{"$f":"Inputs!I379","v":0},{"$f":"Inputs!J379","v":0},{"$f":"Inputs!K379","v":0},{"$f":"Inputs!L379","v":0},{"$f":"Inputs!M379","v":45},{"$f":"Inputs!N379","v":38},{"$f":"Inputs!O379","v":0},{"$f":"Inputs!P379","v":8},{"$f":"Inputs!Q379","v":0},{"$f":"Inputs!R379","v":0},{"$f":"Inputs!S379","v":0},{"$f":"Inputs!T379","v":0},{"$f":"Inputs!U379","v":0},{"$f":"Inputs!V379","v":0},{"$f":"Inputs!W379","v":8},{"$f":"Inputs!X379","v":38},{"$f":"Inputs!Y379","v":0},{"$f":"Inputs!Z379","v":0},{"$f":"Inputs!AA379","v":0},{"$f":"Inputs!AB379","v":0},{"$f":"Inputs!AC379","v":0},{"$f":"Inputs!AD379","v":0},{"$f":"Inputs!AE379","v":0},{"$f":"Inputs!AF379","v":0},{"$f":"Inputs!AG379","v":8},{"$f":"Inputs!AH379","v":38},{"$f":"Inputs!AI379","v":0},{"$f":"Inputs!AJ379","v":8},{"$f":"Inputs!AK379","v":45},{"$f":"Inputs!AL379","v":38},{"$f":"Inputs!AM379","v":0},{"$f":"Inputs!AN379","v":0},{"$f":"Inputs!AO379","v":0},{"$f":"Inputs!AP379","v":0},{"$f":"Inputs!AQ379","v":8},{"$f":"Inputs!AR379","v":38},{"$f":"Inputs!AS379","v":0},{"$f":"Inputs!AT379","v":8},{"$f":"Inputs!AU379","v":45},{"$f":"Inputs!AV379","v":0},{"$f":"Inputs!AW379","v":0},{"$f":"Inputs!AX379","v":0},{"$f":"Inputs!AY379","v":0},{"$f":"Inputs!AZ379","v":0}]
[null,null,null,null,null,null,null,null,null,null,null,"N Above ground residue, g N/kg",null,null,null,null,null,{"$f":"Inputs!C380","v":0},{"$f":"Inputs!D380","v":5},{"$f":"Inputs!E380","v":0},{"$f":"Inputs!F380","v":0},{"$f":"Inputs!G380","v":0},{"$f":"Inputs!H380","v":0},{"$f":"Inputs!I380","v":0},{"$f":"Inputs!J380","v":0},{"$f":"Inputs!K380","v":0},{"$f":"Inputs!L380","v":0},{"$f":"Inputs!M380","v":6},{"$f":"Inputs!N380","v":5},{"$f":"Inputs!O380","v":0},{"$f":"Inputs!P380","v":13},{"$f":"Inputs!Q380","v":0},{"$f":"Inputs!R380","v":0},{"$f":"Inputs!S380","v":0},{"$f":"Inputs!T380","v":0},{"$f":"Inputs!U380","v":0},{"$f":"Inputs!V380","v":0},{"$f":"Inputs!W380","v":13},{"$f":"Inputs!X380","v":5},{"$f":"Inputs!Y380","v":0},{"$f":"Inputs!Z380","v":0},{"$f":"Inputs!AA380","v":0},{"$f":"Inputs!AB380","v":0},{"$f":"Inputs!AC380","v":0},{"$f":"Inputs!AD380","v":0},{"$f":"Inputs!AE380","v":0},{"$f":"Inputs!AF380","v":0},{"$f":"Inputs!AG380","v":13},{"$f":"Inputs!AH380","v":5},{"$f":"Inputs!AI380","v":0},{"$f":"Inputs!AJ380","v":13},{"$f":"Inputs!AK380","v":6},{"$f":"Inputs!AL380","v":5},{"$f":"Inputs!AM380","v":0},{"$f":"Inputs!AN380","v":0},{"$f":"Inputs!AO380","v":0},{"$f":"Inputs!AP380","v":0},{"$f":"Inputs!AQ380","v":13},{"$f":"Inputs!AR380","v":5},{"$f":"Inputs!AS380","v":0},{"$f":"Inputs!AT380","v":13},{"$f":"Inputs!AU380","v":6},{"$f":"Inputs!AV380","v":6},{"$f":"Inputs!AW380","v":0},{"$f":"Inputs!AX380","v":0},{"$f":"Inputs!AY380","v":0},{"$f":"Inputs!AZ380","v":0}]
[null,null,null,null,null,null,null,null,null,null,null,"Below ground residue, %",null,null,null,null,null,{"$f":"Inputs!C381","v":0},{"$f":"Inputs!D381","v":15},{"$f":"Inputs!E381","v":0},{"$f":"Inputs!F381","v":0},{"$f":"Inputs!G381","v":0},{"$f":"Inputs!H381","v":0},{"$f":"Inputs!I381","v":0},{"$f":"Inputs!J381","v":0},{"$f":"Inputs!K381","v":0},{"$f":"Inputs!L381","v":0},{"$f":"Inputs!M381","v":25},{"$f":"Inputs!N381","v":15},{"$f":"Inputs!O381","v":0},{"$f":"Inputs!P381","v":20},{"$f":"Inputs!Q381","v":0},{"$f":"Inputs!R381","v":0},{"$f":"Inputs!S381","v":0},{"$f":"Inputs!T381","v":0},{"$f":"Inputs!U381","v":0},{"$f":"Inputs!V381","v":0},{"$f":"Inputs!W381","v":20},{"$f":"Inputs!X381","v":15},{"$f":"Inputs!Y381","v":0},{"$f":"Inputs!Z381","v":0},{"$f":"Inputs!AA381","v":0},{"$f":"Inputs!AB381","v":0},{"$f":"Inputs!AC381","v":0},{"$f":"Inputs!AD381","v":0},{"$f":"Inputs!AE381","v":0},{"$f":"Inputs!AF381","v":0},{"$f":"Inputs!AG381","v":20},{"$f":"Inputs!AH381","v":15},{"$f":"Inputs!AI381","v":0},{"$f":"Inputs!AJ381","v":20},{"$f":"Inputs!AK381","v":25},{"$f":"Inputs!AL381","v":15},{"$f":"Inputs!AM381","v":0},{"$f":"Inputs!AN381","v":0},{"$f":"Inputs!AO381","v":0},{"$f":"Inputs!AP381","v":0},{"$f":"Inputs!AQ381","v":20},{"$f":"Inputs!AR381","v":15},{"$f":"Inputs!AS381","v":0},{"$f":"Inputs!AT381","v":20},{"$f":"Inputs!AU381","v":25},{"$f":"Inputs!AV381","v":15},{"$f":"Inputs!AW381","v":0},{"$f":"Inputs!AX381","v":0},{"$f":"Inputs!AY381","v":0},{"$f":"Inputs!AZ381","v":0}]
[null,null,null,null,null,null,null,null,null,null,null,"N Below ground residue, g N/kg",null,null,null,null,null,{"$f":"Inputs!C382","v":0},{"$f":"Inputs!D382","v":7},{"$f":"Inputs!E382","v":0},{"$f":"Inputs!F382","v":0},{"$f":"Inputs!G382","v":0},{"$f":"Inputs!H382","v":0},{"$f":"Inputs!I382","v":0},{"$f":"Inputs!J382","v":0},{"$f":"Inputs!K382","v":0},{"$f":"Inputs!L382","v":0},{"$f":"Inputs!M382","v":10},{"$f":"Inputs!N382","v":7},{"$f":"Inputs!O382","v":0},{"$f":"Inputs!P382","v":7},{"$f":"Inputs!Q382","v":0},{"$f":"Inputs!R382","v":0},{"$f":"Inputs!S382","v":0},{"$f":"Inputs!T382","v":0},{"$f":"Inputs!U382","v":0},{"$f":"Inputs!V382","v":0},{"$f":"Inputs!W382","v":7},{"$f":"Inputs!X382","v":7},{"$f":"Inputs!Y382","v":0},{"$f":"Inputs!Z382","v":0},{"$f":"Inputs!AA382","v":0},{"$f":"Inputs!AB382","v":0},{"$f":"Inputs!AC382","v":0},{"$f":"Inputs!AD382","v":0},{"$f":"Inputs!AE382","v":0},{"$f":"Inputs!AF382","v":0},{"$f":"Inputs!AG382","v":7},{"$f":"Inputs!AH382","v":7},{"$f":"Inputs!AI382","v":0},{"$f":"Inputs!AJ382","v":7},{"$f":"Inputs!AK382","v":10},{"$f":"Inputs!AL382","v":7},{"$f":"Inputs!AM382","v":0},{"$f":"Inputs!AN382","v":0},{"$f":"Inputs!AO382","v":0},{"$f":"Inputs!AP382","v":0},{"$f":"Inputs!AQ382","v":7},{"$f":"Inputs!AR382","v":7},{"$f":"Inputs!AS382","v":0},{"$f":"Inputs!AT382","v":7},{"$f":"Inputs!AU382","v":10},{"$f":"Inputs!AV382","v":10},{"$f":"Inputs!AW382","v":0},{"$f":"Inputs!AX382","v":0},{"$f":"Inputs!AY382","v":0},{"$f":"Inputs!AZ382","v":0}]
[null,null,null,null,null,null,null,null,null,null,null,"N residues, kg/ha",{"$f":"SUM(R445:AA445)/MAX(R$392:AA$392)","v":52.412809826716398},{"$f":"SUM(AB445:AK445)/MAX($AB$392:$AK$392)","v":57.312585271490093},{"$f":"SUM(AL445:AU445)/MAX($AL$392:$AU$392)","v":24.157082091445925},{"$f":"SUM(AV445:BE445)/MAX($AV$392:$BE$392)","v":36.712096449313073},{"$f":"SUM(BF445:BO445)/MAX($BF$392:$BO$392)","v":30.173381818911672},{"$f":"(R442*R441%+R444*R443%)*R433/(100-R441-R443)%","v":0},52.412809826716398,0,0,0,0,0,0,0,0,51.106529209621989,58.236455363018216,{"$f":"(AD442*AD441%+AD444*AD443%)*AD433/(100-AD441-AD443)%","v":0},62.594771241830067,0,0,0,0,0,0,65.784313725490208,55.001096731739423,0,0,0,0,0,0,0,0,65.784313725490208,55.259925422241722,{"$f":"(AX442*AX441%+AX444*AX443%)*AX433/(100-AX441-AX443)%","v":0},62.594771241830067,51.821305841924399,58.236455363018216,0,0,0,0,65.784313725490208,55.001096731739423,0,62.594771241830067,51.821305841924399,6.1855670103092786,0,0,0,0]
[null,null,null,null,null,null,null,null,null,null,null,"Fuel consumption, L/ha",{"$f":"SUM(R446:AA446)/MAX(R$432:AA$432)","v":58.6},{"$f":"SUM(AB446:AK446)/MAX($AB$432:$AK$432)","v":73.266666666666666},{"$f":"SUM(AL446:AU446)/MAX($AL$432:$AU$432)","v":91.12},{"$f":"SUM(AV446:BE446)/MAX($AV$432:$BE$432)","v":84.424999999999997},{"$f":"SUM(BF446:BO446)/MAX($BF$432:$BO$432)","v":82.887499999999989},{"$f":"Inputs!C383","v":0},{"$f":"Inputs!D383","v":58.6},{"$f":"Inputs!E383","v":0},{"$f":"Inputs!F383","v":0},{"$f":"Inputs!G383","v":0},{"$f":"Inputs!H383","v":0},{"$f":"Inputs!I383","v":0},{"$f":"Inputs!J383","v":0},{"$f":"Inputs!K383","v":0},{"$f":"Inputs!L383","v":0},{"$f":"Inputs!M383","v":60.1},{"$f":"Inputs!N383","v":58.6},{"$f":"Inputs!O383","v":0},{"$f":"Inputs!P383","v":101.1},{"$f":"Inputs!Q383","v":0},{"$f":"Inputs!R383","v":0},{"$f":"Inputs!S383","v":0},{"$f":"Inputs!T383","v":0},{"$f":"Inputs!U383","v":0},{"$f":"Inputs!V383","v":0},{"$f":"Inputs!W383","v":101.1},{"$f":"Inputs!X383","v":58.6},{"$f":"Inputs!Y383","v":0},{"$f":"Inputs!Z383","v":49.3},{"$f":"Inputs!AA383","v":123.3},{"$f":"Inputs!AB383","v":123.3},{"$f":"Inputs!AC383","v":0},{"$f":"Inputs!AD383","v":0},{"$f":"Inputs!AE383","v":0},{"$f":"Inputs!AF383","v":0},{"$f":"Inputs!AG383","v":101.1},{"$f":"Inputs!AH383","v":58.6},{"$f":"Inputs!AI383","v":0},{"$f":"Inputs!AJ383","v":101.1},{"$f":"Inputs!AK383","v":60.1},{"$f":"Inputs!AL383","v":58.6},{"$f":"Inputs!AM383","v":0},{"$f":"Inputs!AN383","v":49.3},{"$f":"Inputs!AO383","v":123.3},{"$f":"Inputs!AP383","v":123.3},{"$f":"Inputs!AQ383","v":101.1},{"$f":"Inputs!AR383","v":58.6},{"$f":"Inputs!AS383","v":0},{"$f":"Inputs!AT383","v":101.1},{"$f":"Inputs!AU383","v":60.1},{"$f":"Inputs!AV383","v":46.3},{"$f":"Inputs!AW383","v":0},{"$f":"Inputs!AX383","v":49.3},{"$f":"Inputs!AY383","v":123.3},{"$f":"Inputs!AZ383","v":123.3}]
[null,null,null,null,null,null,null,null,null,null,null,"Variable costs  w/o fertilizer, $/ha",{"$f":"SUM(R447:AA447)/MAX(R$432:AA$432)","v":800.65},{"$f":"SUM(AB447:AK447)/MAX($AB$432:$AK$432)","v":561.43999999999994},{"$f":"SUM(AL447:AU447)/MAX($AL$432:$AU$432)","v":528.16999999999996},{"$f":"SUM(AV447:BE447)/MAX($AV$432:$BE$432)","v":540.64625000000001},{"$f":"SUM(BF447:BO447)/MAX($BF$432:$BO$432)","v":540.33249999999998},{"$f":"Inputs!C384","v":0},{"$f":"Inputs!D384","v":800.65},{"$f":"Inputs!E384","v":0},{"$f":"Inputs!F384","v":0},{"$f":"Inputs!G384","v":0},{"$f":"Inputs!H384","v":0},{"$f":"Inputs!I384","v":0},{"$f":"Inputs!J384","v":0},{"$f":"Inputs!K384","v":0},{"$f":"Inputs!L384","v":0},{"$f":"Inputs!M384","v":454.48},{"$f":"Inputs!N384","v":724.41},{"$f":"Inputs!O384","v":0},{"$f":"Inputs!P384","v":505.43},{"$f":"Inputs!Q384","v":0},{"$f":"Inputs!R384","v":0},{"$f":"Inputs!S384","v":0},{"$f":"Inputs!T384","v":0},{"$f":"Inputs!U384","v":0},{"$f":"Inputs!V384","v":0},{"$f":"Inputs!W384","v":486.38},{"$f":"Inputs!X384","v":800.65},{"$f":"Inputs!Y384","v":0},{"$f":"Inputs!Z384","v":578.94000000000005},{"$f":"Inputs!AA384","v":387.44},{"$f":"Inputs!AB384","v":387.44},{"$f":"Inputs!AC384","v":0},{"$f":"Inputs!AD384","v":0},{"$f":"Inputs!AE384","v":0},{"$f":"Inputs!AF384","v":0},{"$f":"Inputs!AG384","v":486.38},{"$f":"Inputs!AH384","v":800.65},{"$f":"Inputs!AI384","v":0},{"$f":"Inputs!AJ384","v":505.43},{"$f":"Inputs!AK384","v":454.48},{"$f":"Inputs!AL384","v":724.41},{"$f":"Inputs!AM384","v":0},{"$f":"Inputs!AN384","v":578.94000000000005},{"$f":"Inputs!AO384","v":387.44},{"$f":"Inputs!AP384","v":387.44},{"$f":"Inputs!AQ384","v":486.38},{"$f":"Inputs!AR384","v":800.65},{"$f":"Inputs!AS384","v":0},{"$f":"Inputs!AT384","v":505.43},{"$f":"Inputs!AU384","v":454.48},{"$f":"Inputs!AV384","v":360.95},{"$f":"Inputs!AW384","v":360.95},{"$f":"Inputs!AX384","v":578.94000000000005},{"$f":"Inputs!AY384","v":387.44},{"$f":"Inputs!AZ384","v":387.44}]
[null,null,null,null,null,null,null,null,null,null,null,"Variable costs, $/t",{"$f":"SUM(R448:AA448)/MAX(R$432:AA$432)","v":0},{"$f":"SUM(AB448:AK448)/MAX($AB$432:$AK$432)","v":0},{"$f":"SUM(AL448:AU448)/MAX($AL$432:$AU$432)","v":0},{"$f":"SUM(AV448:BE448)/MAX($AV$432:$BE$432)","v":0},{"$f":"SUM(BF448:BO448)/MAX($BF$432:$BO$432)","v":0},{"$f":"Inputs!C385","v":0},{"$f":"Inputs!D385","v":0},{"$f":"Inputs!E385","v":0},{"$f":"Inputs!F385","v":0},{"$f":"Inputs!G385","v":0},{"$f":"Inputs!H385","v":0},{"$f":"Inputs!I385","v":0},{"$f":"Inputs!J385","v":0},{"$f":"Inputs!K385","v":0},{"$f":"Inputs!L385","v":0},{"$f":"Inputs!M385","v":0},{"$f":"Inputs!N385","v":0},{"$f":"Inputs!O385","v":0},{"$f":"Inputs!P385","v":0},{"$f":"Inputs!Q385","v":0},{"$f":"Inputs!R385","v":0},{"$f":"Inputs!S385","v":0},{"$f":"Inputs!T385","v":0},{"$f":"Inputs!U385","v":0},{"$f":"Inputs!V385","v":0},{"$f":"Inputs!W385","v":0},{"$f":"Inputs!X385","v":0},{"$f":"Inputs!Y385","v":0},{"$f":"Inputs!Z385","v":0},{"$f":"Inputs!AA385","v":0},{"$f":"Inputs!AB385","v":0},{"$f":"Inputs!AC385","v":0},{"$f":"Inputs!AD385","v":0},{"$f":"Inputs!AE385","v":0},{"$f":"Inputs!AF385","v":0},{"$f":"Inputs!AG385","v":0},{"$f":"Inputs!AH385","v":0},{"$f":"Inputs!AI385","v":0},{"$f":"Inputs!AJ385","v":0},{"$f":"Inputs!AK385","v":0},{"$f":"Inputs!AL385","v":0},{"$f":"Inputs!AM385","v":0},{"$f":"Inputs!AN385","v":0},{"$f":"Inputs!AO385","v":0},{"$f":"Inputs!AP385","v":0},{"$f":"Inputs!AQ385","v":0},{"$f":"Inputs!AR385","v":0},{"$f":"Inputs!AS385","v":0},{"$f":"Inputs!AT385","v":0},{"$f":"Inputs!AU385","v":0},{"$f":"Inputs!AV385","v":0},{"$f":"Inputs!AW385","v":0},{"$f":"Inputs!AX385","v":0},{"$f":"Inputs!AY385","v":0},{"$f":"Inputs!AZ385","v":0}]
[null,null,null,null,null,null,null,null,null,null,null,"Cost $/ha",{"$f":"SUM(R449:AA449)/MAX(R$432:AA$432)","v":800.65},{"$f":"SUM(AB449:AK449)/MAX($AB$432:$AK$432)","v":561.43999999999994},{"$f":"SUM(AL449:AU449)/MAX($AL$432:$AU$432)","v":528.16999999999996},{"$f":"SUM(AV449:BE449)/MAX($AV$432:$BE$432)","v":507.87249999999995},{"$f":"SUM(BF449:BO449)/MAX($BF$432:$BO$432)","v":490.86749999999995},{"$f":"Inputs!C386","v":0},{"$f":"Inputs!D386","v":800.65},{"$f":"Inputs!E386","v":0},{"$f":"Inputs!F386","v":0},{"$f":"Inputs!G386","v":0},{"$f":"Inputs!H386","v":0},{"$f":"Inputs!I386","v":0},{"$f":"Inputs!J386","v":0},{"$f":"Inputs!K386","v":0},{"$f":"Inputs!L386","v":0},{"$f":"Inputs!M386","v":454.48},{"$f":"Inputs!N386","v":724.41},{"$f":"Inputs!O386","v":0},{"$f":"Inputs!P386","v":505.43},{"$f":"Inputs!Q386","v":0},{"$f":"Inputs!R386","v":0},{"$f":"Inputs!S386","v":0},{"$f":"Inputs!T386","v":0},{"$f":"Inputs!U386","v":0},{"$f":"Inputs!V386","v":0},{"$f":"Inputs!W386","v":486.38},{"$f":"Inputs!X386","v":800.65},{"$f":"Inputs!Y386","v":0},{"$f":"Inputs!Z386","v":578.94000000000005},{"$f":"Inputs!AA386","v":387.44},{"$f":"Inputs!AB386","v":387.44},{"$f":"Inputs!AC386","v":0},{"$f":"Inputs!AD386","v":0},{"$f":"Inputs!AE386","v":0},{"$f":"Inputs!AF386","v":0},{"$f":"Inputs!AG386","v":486.38},{"$f":"Inputs!AH386","v":800.65},{"$f":"Inputs!AI386","v":0},{"$f":"Inputs!AJ386","v":505.43},{"$f":"Inputs!AK386","v":454.48},{"$f":"Inputs!AL386","v":724.41},{"$f":"Inputs!AM386","v":0},{"$f":"Inputs!AN386","v":512.47},{"$f":"Inputs!AO386","v":289.58},{"$f":"Inputs!AP386","v":289.58},{"$f":"Inputs!AQ386","v":486.38},{"$f":"Inputs!AR386","v":800.65},{"$f":"Inputs!AS386","v":0},{"$f":"Inputs!AT386","v":505.43},{"$f":"Inputs!AU386","v":454.48},{"$f":"Inputs!AV386","v":360.95},{"$f":"Inputs!AW386","v":160.94999999999999},{"$f":"Inputs!AX386","v":578.94000000000005},{"$f":"Inputs!AY386","v":289.58},{"$f":"Inputs!AZ386","v":289.58}]
[null,null,null,null,null,null,null,null,null,null,"Land Unit 4",null,null,{"$f":"N430","v":"Average Rotation Values"},null,null,null,{"$f":"R430","v":"Rotation 1 name:"},null,{"$f":"Inputs!E388","v":"CCC"},null,null,null,null,null,null,null,{"$f":"AB430","v":"Rotation 2 name:"},null,{"$f":"Inputs!O388","v":"SCC"},null,null,null,null,null,null,null,{"$f":"AL430","v":"Rotation 3 name:"},null,{"$f":"Inputs!Y388","v":"CCAAA"},null,null,null,null,null,null,null,{"$f":"AV430","v":"Rotation 4 name:"},null,{"$f":"Inputs!AI388","v":"CCCSCAAA"},null,null,null,null,null,null,null,{"$f":"BF430","v":"Rotation 5 name:"},null,{"$f":"Inputs!AS388","v":"CCCSWAAA"}]
[null,null,null,null,null,null,null,null,null,null,null,"Name",{"$f":"T450","v":"CCC"},{"$f":"AD450","v":"SCC"},{"$f":"AN450","v":"CCAAA"},{"$f":"AX450","v":"CCCSCAAA"},{"$f":"BH450","v":"CCCSWAAA"},{"$f":"Inputs!C389","v":0},{"$f":"Inputs!D389","v":"CoGr-27"},{"$f":"Inputs!E389","v":0},{"$f":"Inputs!F389","v":0},{"$f":"Inputs!G389","v":0},{"$f":"Inputs!H389","v":0},{"$f":"Inputs!I389","v":0},{"$f":"Inputs!J389","v":0},{"$f":"Inputs!K389","v":0},{"$f":"Inputs!L389","v":0},{"$f":"Inputs!M389","v":"SBw-108"},{"$f":"Inputs!N389","v":"CoGr-27"},{"$f":"Inputs!O389","v":0},{"$f":"Inputs!P389","v":"CoSi-35"},{"$f":"Inputs!Q389","v":0},{"$f":"Inputs!R389","v":0},{"$f":"Inputs!S389","v":0},{"$f":"Inputs!T389","v":0},{"$f":"Inputs!U389","v":0},{"$f":"Inputs!V389","v":0},{"$f":"Inputs!W389","v":"CoSi-35"},{"$f":"Inputs!X389","v":"CoGr-27"},{"$f":"Inputs!Y389","v":0},{"$f":"Inputs!Z389","v":"AlSi-83"},{"$f":"Inputs!AA389","v":"AlSi-83"},{"$f":"Inputs!AB389","v":"MxSi-74"},{"$f":"Inputs!AC389","v":0},{"$f":"Inputs!AD389","v":0},{"$f":"Inputs!AE389","v":0},{"$f":"Inputs!AF389","v":0},{"$f":"Inputs!AG389","v":"CoSi-35"},{"$f":"Inputs!AH389","v":"CoGr-27"},{"$f":"Inputs!AI389","v":0},{"$f":"Inputs!AJ389","v":"CoSi-35"},{"$f":"Inputs!AK389","v":"SBw-108"},{"$f":"Inputs!AL389","v":"CoGr-27"},{"$f":"Inputs!AM389","v":0},{"$f":"Inputs!AN389","v":"AlSi-83"},{"$f":"Inputs!AO389","v":"AlSi-83"},{"$f":"Inputs!AP389","v":"MxSi-74"},{"$f":"Inputs!AQ389","v":"CoSi-35"},{"$f":"Inputs!AR389","v":"CoGr-27"},{"$f":"Inputs!AS389","v":0},{"$f":"Inputs!AT389","v":"CoSi-35"},{"$f":"Inputs!AU389","v":"SBw-108"},{"$f":"Inputs!AV389","v":"Wheat-116"},{"$f":"Inputs!AW389","v":"Straw-120"},{"$f":"Inputs!AX389","v":"AlSi-83"},{"$f":"Inputs!AY389","v":"AlSi-83"},{"$f":"Inputs!AZ389","v":"MxSi-74"}]
[null,null,null,null,null,null,null,null,null,null,null,"Year",{"$f":"MAX(R452:AA452)","v":1},{"$f":"MAX(AB452:AK452)","v":3},{"$f":"MAX(AL452:AU452)","v":5},{"$f":"MAX(AV452:BE452)","v":8},{"$f":"MAX(BF452:BO452)","v":8},{"$f":"Inputs!C390","v":0},{"$f":"Inputs!D390","v":1},{"$f":"Inputs!E390","v":0},{"$f":"Inputs!F390","v":0},{"$f":"Inputs!G390","v":0},{"$f":"Inputs!H390","v":0},{"$f":"Inputs!I390","v":0},{"$f":"Inputs!J390","v":0},{"$f":"Inputs!K390","v":0},{"$f":"Inputs!L390","v":0},{"$f":"Inputs!M390","v":1},{"$f":"Inputs!N390","v":2},{"$f":"Inputs!O390","v":0},{"$f":"Inputs!P390","v":3},{"$f":"Inputs!Q390","v":0},{"$f":"Inputs!R390","v":0},{"$f":"Inputs!S390","v":0},{"$f":"Inputs!T390","v":0},{"$f":"Inputs!U390","v":0},{"$f":"Inputs!V390","v":0},{"$f":"Inputs!W390","v":1},{"$f":"Inputs!X390","v":2},{"$f":"Inputs!Y390","v":0},{"$f":"Inputs!Z390","v":3},{"$f":"Inputs!AA390","v":4},{"$f":"Inputs!AB390","v":5},{"$f":"Inputs!AC390","v":0},{"$f":"Inputs!AD390","v":0},{"$f":"Inputs!AE390","v":0},{"$f":"Inputs!AF390","v":0},{"$f":"Inputs!AG390","v":1},{"$f":"Inputs!AH390","v":2},{"$f":"Inputs!AI390","v":0},{"$f":"Inputs!AJ390","v":3},{"$f":"Inputs!AK390","v":4},{"$f":"Inputs!AL390","v":5},{"$f":"Inputs!AM390","v":0},{"$f":"Inputs!AN390","v":6},{"$f":"Inputs!AO390","v":7},{"$f":"Inputs!AP390","v":8},{"$f":"Inputs!AQ390","v":1},{"$f":"Inputs!AR390","v":2},{"$f":"Inputs!AS390","v":0},{"$f":"Inputs!AT390","v":3},{"$f":"Inputs!AU390","v":4},{"$f":"Inputs!AV390","v":5},{"$f":"Inputs!AW390","v":5},{"$f":"Inputs!AX390","v":6},{"$f":"Inputs!AY390","v":7},{"$f":"Inputs!AZ390","v":8}]
[null,null,null,null,null,null,null,null,null,null,null,"Yield, t DM/yr",null,null,null,null,null,{"$f":"Inputs!C391","v":0},{"$f":"Inputs!D391","v":8.3505154639175263},{"$f":"Inputs!E391","v":0},{"$f":"Inputs!F391","v":0},{"$f":"Inputs!G391","v":0},{"$f":"Inputs!H391","v":0},{"$f":"Inputs!I391","v":0},{"$f":"Inputs!J391","v":0},{"$f":"Inputs!K391","v":0},{"$f":"Inputs!L391","v":0},{"$f":"Inputs!M391","v":2.9484536082474224},{"$f":"Inputs!N391","v":9.2783505154639183},{"$f":"Inputs!O391","v":0},{"$f":"Inputs!P391","v":18.470588235294116},{"$f":"Inputs!Q391","v":0},{"$f":"Inputs!R391","v":0},{"$f":"Inputs!S391","v":0},{"$f":"Inputs!T391","v":0},{"$f":"Inputs!U391","v":0},{"$f":"Inputs!V391","v":0},{"$f":"Inputs!W391","v":19.411764705882355},{"$f":"Inputs!X391","v":8.7628865979381452},{"$f":"Inputs!Y391","v":0},{"$f":"Inputs!Z391","v":4.625},{"$f":"Inputs!AA391","v":10.874999999999998},{"$f":"Inputs!AB391","v":9.4999999999999982},{"$f":"Inputs!AC391","v":0},{"$f":"Inputs!AD391","v":0},{"$f":"Inputs!AE391","v":0},{"$f":"Inputs!AF391","v":0},{"$f":"Inputs!AG391","v":19.411764705882355},{"$f":"Inputs!AH391","v":8.8041237113402051},{"$f":"Inputs!AI391","v":0},{"$f":"Inputs!AJ391","v":18.470588235294116},{"$f":"Inputs!AK391","v":2.9896907216494846},{"$f":"Inputs!AL391","v":9.2783505154639183},{"$f":"Inputs!AM391","v":0},{"$f":"Inputs!AN391","v":4.625},{"$f":"Inputs!AO391","v":10.874999999999998},{"$f":"Inputs!AP391","v":9.4999999999999982},{"$f":"Inputs!AQ391","v":19.411764705882355},{"$f":"Inputs!AR391","v":8.7628865979381452},{"$f":"Inputs!AS391","v":0},{"$f":"Inputs!AT391","v":18.470588235294116},{"$f":"Inputs!AU391","v":2.9896907216494846},{"$f":"Inputs!AV391","v":3.5051546391752577},{"$f":"Inputs!AW391","v":1.6},{"$f":"Inputs!AX391","v":4.625},{"$f":"Inputs!AY391","v":10.874999999999998},{"$f":"Inputs!AZ391","v":9.4999999999999982}]
[null,null,null,null,null,null,null,null,null,null,null,"N,  kg/ha",{"$f":"SUM(R454:AA454)/MAX(R$452:AA$452)","v":174},{"$f":"SUM(AB454:AK454)/MAX($AB$452:$AK$452)","v":101.06666666666666},{"$f":"SUM(AL454:AU454)/MAX($AL$452:$AU$452)","v":28.2},{"$f":"SUM(AV454:BE454)/MAX($AV$452:$BE$452)","v":55.524999999999999},{"$f":"SUM(BF454:BO454)/MAX($BF$452:$BO$452)","v":42.15},{"$f":"Inputs!C392","v":0},{"$f":"Inputs!D392","v":174},{"$f":"Inputs!E392","v":0},{"$f":"Inputs!F392","v":0},{"$f":"Inputs!G392","v":0},{"$f":"Inputs!H392","v":0},{"$f":"Inputs!I392","v":0},{"$f":"Inputs!J392","v":0},{"$f":"Inputs!K392","v":0},{"$f":"Inputs!L392","v":0},{"$f":"Inputs!M392","v":0},{"$f":"Inputs!N392","v":129.19999999999999},{"$f":"Inputs!O392","v":0},{"$f":"Inputs!P392","v":174},{"$f":"Inputs!Q392","v":0},{"$f":"Inputs!R392","v":0},{"$f":"Inputs!S392","v":0},{"$f":"Inputs!T392","v":0},{"$f":"Inputs!U392","v":0},{"$f":"Inputs!V392","v":0},{"$f":"Inputs!W392","v":23},{"$f":"Inputs!X392","v":118},{"$f":"Inputs!Y392","v":0},{"$f":"Inputs!Z392","v":0},{"$f":"Inputs!AA392","v":0},{"$f":"Inputs!AB392","v":0},{"$f":"Inputs!AC392","v":0},{"$f":"Inputs!AD392","v":0},{"$f":"Inputs!AE392","v":0},{"$f":"Inputs!AF392","v":0},{"$f":"Inputs!AG392","v":23},{"$f":"Inputs!AH392","v":118},{"$f":"Inputs!AI392","v":0},{"$f":"Inputs!AJ392","v":174},{"$f":"Inputs!AK392","v":0},{"$f":"Inputs!AL392","v":129.19999999999999},{"$f":"Inputs!AM392","v":0},{"$f":"Inputs!AN392","v":0},{"$f":"Inputs!AO392","v":0},{"$f":"Inputs!AP392","v":0},{"$f":"Inputs!AQ392","v":23},{"$f":"Inputs!AR392","v":118},{"$f":"Inputs!AS392","v":0},{"$f":"Inputs!AT392","v":174},{"$f":"Inputs!AU392","v":0},{"$f":"Inputs!AV392","v":22.200000000000003},{"$f":"Inputs!AW392","v":0},{"$f":"Inputs!AX392","v":0},{"$f":"Inputs!AY392","v":0},{"$f":"Inputs!AZ392","v":0}]
[null,null,null,null,null,null,null,null,null,null,null,"P2O5,  kg/ha",{"$f":"SUM(R455:AA455)/MAX(R$452:AA$452)","v":84},{"$f":"SUM(AB455:AK455)/MAX($AB$452:$AK$452)","v":78},{"$f":"SUM(AL455:AU455)/MAX($AL$452:$AU$452)","v":84.8},{"$f":"SUM(AV455:BE455)/MAX($AV$452:$BE$452)","v":79.625},{"$f":"SUM(BF455:BO455)/MAX($BF$452:$BO$452)","v":76.25},{"$f":"Inputs!C393","v":0},{"$f":"Inputs!D393","v":84},{"$f":"Inputs!E393","v":0},{"$f":"Inputs!F393","v":0},{"$f":"Inputs!G393","v":0},{"$f":"Inputs!H393","v":0},{"$f":"Inputs!I393","v":0},{"$f":"Inputs!J393","v":0},{"$f":"Inputs!K393","v":0},{"$f":"Inputs!L393","v":0},{"$f":"Inputs!M393","v":52},{"$f":"Inputs!N393","v":84},{"$f":"Inputs!O393","v":0},{"$f":"Inputs!P393","v":98},{"$f":"Inputs!Q393","v":0},{"$f":"Inputs!R393","v":0},{"$f":"Inputs!S393","v":0},{"$f":"Inputs!T393","v":0},{"$f":"Inputs!U393","v":0},{"$f":"Inputs!V393","v":0},{"$f":"Inputs!W393","v":119},{"$f":"Inputs!X393","v":84},{"$f":"Inputs!Y393","v":0},{"$f":"Inputs!Z393","v":39},{"$f":"Inputs!AA393","v":91},{"$f":"Inputs!AB393","v":91},{"$f":"Inputs!AC393","v":0},{"$f":"Inputs!AD393","v":0},{"$f":"Inputs!AE393","v":0},{"$f":"Inputs!AF393","v":0},{"$f":"Inputs!AG393","v":98},{"$f":"Inputs!AH393","v":84},{"$f":"Inputs!AI393","v":0},{"$f":"Inputs!AJ393","v":98},{"$f":"Inputs!AK393","v":52},{"$f":"Inputs!AL393","v":84},{"$f":"Inputs!AM393","v":0},{"$f":"Inputs!AN393","v":39},{"$f":"Inputs!AO393","v":91},{"$f":"Inputs!AP393","v":91},{"$f":"Inputs!AQ393","v":98},{"$f":"Inputs!AR393","v":84},{"$f":"Inputs!AS393","v":0},{"$f":"Inputs!AT393","v":98},{"$f":"Inputs!AU393","v":52},{"$f":"Inputs!AV393","v":57},{"$f":"Inputs!AW393","v":0},{"$f":"Inputs!AX393","v":39},{"$f":"Inputs!AY393","v":91},{"$f":"Inputs!AZ393","v":91}]
[null,null,null,null,null,null,null,null,null,null,null,"K2O, kg/ha",{"$f":"SUM(R456:AA456)/MAX(R$452:AA$452)","v":90},{"$f":"SUM(AB456:AK456)/MAX($AB$452:$AK$452)","v":119},{"$f":"SUM(AL456:AU456)/MAX($AL$452:$AU$452)","v":168},{"$f":"SUM(AV456:BE456)/MAX($AV$452:$BE$452)","v":149.625},{"$f":"SUM(BF456:BO456)/MAX($BF$452:$BO$452)","v":150.375},{"$f":"Inputs!C394","v":0},{"$f":"Inputs!D394","v":90},{"$f":"Inputs!E394","v":0},{"$f":"Inputs!F394","v":0},{"$f":"Inputs!G394","v":0},{"$f":"Inputs!H394","v":0},{"$f":"Inputs!I394","v":0},{"$f":"Inputs!J394","v":0},{"$f":"Inputs!K394","v":0},{"$f":"Inputs!L394","v":0},{"$f":"Inputs!M394","v":95},{"$f":"Inputs!N394","v":90},{"$f":"Inputs!O394","v":0},{"$f":"Inputs!P394","v":172},{"$f":"Inputs!Q394","v":0},{"$f":"Inputs!R394","v":0},{"$f":"Inputs!S394","v":0},{"$f":"Inputs!T394","v":0},{"$f":"Inputs!U394","v":0},{"$f":"Inputs!V394","v":0},{"$f":"Inputs!W394","v":172},{"$f":"Inputs!X394","v":90},{"$f":"Inputs!Y394","v":0},{"$f":"Inputs!Z394","v":102},{"$f":"Inputs!AA394","v":238},{"$f":"Inputs!AB394","v":238},{"$f":"Inputs!AC394","v":0},{"$f":"Inputs!AD394","v":0},{"$f":"Inputs!AE394","v":0},{"$f":"Inputs!AF394","v":0},{"$f":"Inputs!AG394","v":172},{"$f":"Inputs!AH394","v":90},{"$f":"Inputs!AI394","v":0},{"$f":"Inputs!AJ394","v":172},{"$f":"Inputs!AK394","v":95},{"$f":"Inputs!AL394","v":90},{"$f":"Inputs!AM394","v":0},{"$f":"Inputs!AN394","v":102},{"$f":"Inputs!AO394","v":238},{"$f":"Inputs!AP394","v":238},{"$f":"Inputs!AQ394","v":172},{"$f":"Inputs!AR394","v":90},{"$f":"Inputs!AS394","v":0},{"$f":"Inputs!AT394","v":172},{"$f":"Inputs!AU394","v":95},{"$f":"Inputs!AV394","v":96},{"$f":"Inputs!AW394","v":0},{"$f":"Inputs!AX394","v":102},{"$f":"Inputs!AY394","v":238},{"$f":"Inputs!AZ394","v":238}]
[null,null,null,null,null,null,null,null,null,null,null,"P Removal,  kg/ha",{"$f":"SUM(R457:AA457)/MAX(R$452:AA$452)","v":25.051546391752581},{"$f":"SUM(AB457:AK457)/MAX($AB$452:$AK$452)","v":31.183100869213664},{"$f":"SUM(AL457:AU457)/MAX($AL$452:$AU$452)","v":32.661849605821715},{"$f":"SUM(AV457:BE457)/MAX($AV$452:$BE$452)","v":32.153710582171016},{"$f":"SUM(BF457:BO457)/MAX($BF$452:$BO$452)","v":30.742885839902975},{"$f":"Inputs!C395","v":0},{"$f":"Inputs!D395","v":25.051546391752581},{"$f":"Inputs!E395","v":0},{"$f":"Inputs!F395","v":0},{"$f":"Inputs!G395","v":0},{"$f":"Inputs!H395","v":0},{"$f":"Inputs!I395","v":0},{"$f":"Inputs!J395","v":0},{"$f":"Inputs!K395","v":0},{"$f":"Inputs!L395","v":0},{"$f":"Inputs!M395","v":17.690721649484534},{"$f":"Inputs!N395","v":27.835051546391757},{"$f":"Inputs!O395","v":0},{"$f":"Inputs!P395","v":48.023529411764706},{"$f":"Inputs!Q395","v":0},{"$f":"Inputs!R395","v":0},{"$f":"Inputs!S395","v":0},{"$f":"Inputs!T395","v":0},{"$f":"Inputs!U395","v":0},{"$f":"Inputs!V395","v":0},{"$f":"Inputs!W395","v":50.470588235294123},{"$f":"Inputs!X395","v":26.288659793814432},{"$f":"Inputs!Y395","v":0},{"$f":"Inputs!Z395","v":16.1875},{"$f":"Inputs!AA395","v":38.062499999999993},{"$f":"Inputs!AB395","v":32.299999999999997},{"$f":"Inputs!AC395","v":0},{"$f":"Inputs!AD395","v":0},{"$f":"Inputs!AE395","v":0},{"$f":"Inputs!AF395","v":0},{"$f":"Inputs!AG395","v":50.470588235294123},{"$f":"Inputs!AH395","v":26.412371134020617},{"$f":"Inputs!AI395","v":0},{"$f":"Inputs!AJ395","v":48.023529411764706},{"$f":"Inputs!AK395","v":17.938144329896907},{"$f":"Inputs!AL395","v":27.835051546391757},{"$f":"Inputs!AM395","v":0},{"$f":"Inputs!AN395","v":16.1875},{"$f":"Inputs!AO395","v":38.062499999999993},{"$f":"Inputs!AP395","v":32.299999999999997},{"$f":"Inputs!AQ395","v":50.470588235294123},{"$f":"Inputs!AR395","v":26.288659793814432},{"$f":"Inputs!AS395","v":0},{"$f":"Inputs!AT395","v":48.023529411764706},{"$f":"Inputs!AU395","v":17.938144329896907},{"$f":"Inputs!AV395","v":15.072164948453608},{"$f":"Inputs!AW395","v":1.6},{"$f":"Inputs!AX395","v":16.1875},{"$f":"Inputs!AY395","v":38.062499999999993},{"$f":"Inputs!AZ395","v":32.299999999999997}]
[null,null,null,null,null,null,null,null,null,null,null,"K Removal, kg"]
[null,null,null,null,null,null,null,null,null,null,null,"Cl, kg/ha",{"$f":"SUM(R459:AA459)/MAX(R$452:AA$452)","v":0},{"$f":"SUM(AB459:AK459)/MAX($AB$452:$AK$452)","v":0},{"$f":"SUM(AL459:AU459)/MAX($AL$452:$AU$452)","v":0},{"$f":"SUM(AV459:BE459)/MAX($AV$452:$BE$452)","v":0},{"$f":"SUM(BF459:BO459)/MAX($BF$452:$BO$452)","v":0},{"$f":"Inputs!C397","v":0},{"$f":"Inputs!D397","v":0},{"$f":"Inputs!E397","v":0},{"$f":"Inputs!F397","v":0},{"$f":"Inputs!G397","v":0},{"$f":"Inputs!H397","v":0},{"$f":"Inputs!I397","v":0},{"$f":"Inputs!J397","v":0},{"$f":"Inputs!K397","v":0},{"$f":"Inputs!L397","v":0},{"$f":"Inputs!M397","v":0},{"$f":"Inputs!N397","v":0},{"$f":"Inputs!O397","v":0},{"$f":"Inputs!P397","v":0},{"$f":"Inputs!Q397","v":0},{"$f":"Inputs!R397","v":0},{"$f":"Inputs!S397","v":0},{"$f":"Inputs!T397","v":0},{"$f":"Inputs!U397","v":0},{"$f":"Inputs!V397","v":0},{"$f":"Inputs!W397","v":0},{"$f":"Inputs!X397","v":0},{"$f":"Inputs!Y397","v":0},{"$f":"Inputs!Z397","v":0},{"$f":"Inputs!AA397","v":0},{"$f":"Inputs!AB397","v":0},{"$f":"Inputs!AC397","v":0},{"$f":"Inputs!AD397","v":0},{"$f":"Inputs!AE397","v":0},{"$f":"Inputs!AF397","v":0},{"$f":"Inputs!AG397","v":0},{"$f":"Inputs!AH397","v":0},{"$f":"Inputs!AI397","v":0},{"$f":"Inputs!AJ397","v":0},{"$f":"Inputs!AK397","v":0},{"$f":"Inputs!AL397","v":0},{"$f":"Inputs!AM397","v":0},{"$f":"Inputs!AN397","v":0},{"$f":"Inputs!AO397","v":0},{"$f":"Inputs!AP397","v":0},{"$f":"Inputs!AQ397","v":0},{"$f":"Inputs!AR397","v":0},{"$f":"Inputs!AS397","v":0},{"$f":"Inputs!AT397","v":0},{"$f":"Inputs!AU397","v":0},{"$f":"Inputs!AV397","v":0},{"$f":"Inputs!AW397","v":0},{"$f":"Inputs!AX397","v":0},{"$f":"Inputs!AY397","v":0},{"$f":"Inputs!AZ397","v":0}]
[null,null,null,null,null,null,null,null,null,null,null,"N fixation, kg/t",{"$f":"SUMPRODUCT(R453:AA453,R460:AA460)/MAX(R452:AA452)","v":0},{"$f":"SUMPRODUCT(AB453:AK453,AB460:AK460)/MAX(AB452:AK452)","v":24.656934707903776},{"$f":"SUMPRODUCT(AL453:AU453,AL460:AU460)/MAX(AL452:AU452)","v":115.13279999999997},{"$f":"SUMPRODUCT(AV453:BE453,AV460:BE460)/MAX(AV452:BE452)","v":86.42567010309277},{"$f":"SUMPRODUCT(BF453:BO453,BF460:BO460)/MAX(BF452:BO452)","v":86.42567010309277},{"$f":"Inputs!C398","v":0},{"$f":"Inputs!D398","v":0},{"$f":"Inputs!E398","v":0},{"$f":"Inputs!F398","v":0},{"$f":"Inputs!G398","v":0},{"$f":"Inputs!H398","v":0},{"$f":"Inputs!I398","v":0},{"$f":"Inputs!J398","v":0},{"$f":"Inputs!K398","v":0},{"$f":"Inputs!L398","v":0},{"$f":"Inputs!M398","v":25.088000000000001},{"$f":"Inputs!N398","v":0},{"$f":"Inputs!O398","v":0},{"$f":"Inputs!P398","v":0},{"$f":"Inputs!Q398","v":0},{"$f":"Inputs!R398","v":0},{"$f":"Inputs!S398","v":0},{"$f":"Inputs!T398","v":0},{"$f":"Inputs!U398","v":0},{"$f":"Inputs!V398","v":0},{"$f":"Inputs!W398","v":0},{"$f":"Inputs!X398","v":0},{"$f":"Inputs!Y398","v":0},{"$f":"Inputs!Z398","v":24.655999999999999},{"$f":"Inputs!AA398","v":24.655999999999999},{"$f":"Inputs!AB398","v":20.367999999999999},{"$f":"Inputs!AC398","v":0},{"$f":"Inputs!AD398","v":0},{"$f":"Inputs!AE398","v":0},{"$f":"Inputs!AF398","v":0},{"$f":"Inputs!AG398","v":0},{"$f":"Inputs!AH398","v":0},{"$f":"Inputs!AI398","v":0},{"$f":"Inputs!AJ398","v":0},{"$f":"Inputs!AK398","v":25.088000000000001},{"$f":"Inputs!AL398","v":0},{"$f":"Inputs!AM398","v":0},{"$f":"Inputs!AN398","v":24.655999999999999},{"$f":"Inputs!AO398","v":24.655999999999999},{"$f":"Inputs!AP398","v":24.655999999999999},{"$f":"Inputs!AQ398","v":0},{"$f":"Inputs!AR398","v":0},{"$f":"Inputs!AS398","v":0},{"$f":"Inputs!AT398","v":0},{"$f":"Inputs!AU398","v":25.088000000000001},{"$f":"Inputs!AV398","v":0},{"$f":"Inputs!AW398","v":0},{"$f":"Inputs!AX398","v":24.655999999999999},{"$f":"Inputs!AY398","v":24.655999999999999},{"$f":"Inputs!AZ398","v":24.655999999999999}]
[null,null,null,null,null,null,null,null,null,null,null,"Above ground residue, %",null,null,null,null,null,{"$f":"Inputs!C399","v":0},{"$f":"Inputs!D399","v":38},{"$f":"Inputs!E399","v":0},{"$f":"Inputs!F399","v":0},{"$f":"Inputs!G399","v":0},{"$f":"Inputs!H399","v":0},{"$f":"Inputs!I399","v":0},{"$f":"Inputs!J399","v":0},{"$f":"Inputs!K399","v":0},{"$f":"Inputs!L399","v":0},{"$f":"Inputs!M399","v":45},{"$f":"Inputs!N399","v":38},{"$f":"Inputs!O399","v":0},{"$f":"Inputs!P399","v":8},{"$f":"Inputs!Q399","v":0},{"$f":"Inputs!R399","v":0},{"$f":"Inputs!S399","v":0},{"$f":"Inputs!T399","v":0},{"$f":"Inputs!U399","v":0},{"$f":"Inputs!V399","v":0},{"$f":"Inputs!W399","v":8},{"$f":"Inputs!X399","v":38},{"$f":"Inputs!Y399","v":0},{"$f":"Inputs!Z399","v":0},{"$f":"Inputs!AA399","v":0},{"$f":"Inputs!AB399","v":0},{"$f":"Inputs!AC399","v":0},{"$f":"Inputs!AD399","v":0},{"$f":"Inputs!AE399","v":0},{"$f":"Inputs!AF399","v":0},{"$f":"Inputs!AG399","v":8},{"$f":"Inputs!AH399","v":38},{"$f":"Inputs!AI399","v":0},{"$f":"Inputs!AJ399","v":8},{"$f":"Inputs!AK399","v":45},{"$f":"Inputs!AL399","v":38},{"$f":"Inputs!AM399","v":0},{"$f":"Inputs!AN399","v":0},{"$f":"Inputs!AO399","v":0},{"$f":"Inputs!AP399","v":0},{"$f":"Inputs!AQ399","v":8},{"$f":"Inputs!AR399","v":38},{"$f":"Inputs!AS399","v":0},{"$f":"Inputs!AT399","v":8},{"$f":"Inputs!AU399","v":45},{"$f":"Inputs!AV399","v":0},{"$f":"Inputs!AW399","v":0},{"$f":"Inputs!AX399","v":0},{"$f":"Inputs!AY399","v":0},{"$f":"Inputs!AZ399","v":0}]
[null,null,null,null,null,null,null,null,null,null,null,"N Above ground residue, g N/kg",null,null,null,null,null,{"$f":"Inputs!C400","v":0},{"$f":"Inputs!D400","v":5},{"$f":"Inputs!E400","v":0},{"$f":"Inputs!F400","v":0},{"$f":"Inputs!G400","v":0},{"$f":"Inputs!H400","v":0},{"$f":"Inputs!I400","v":0},{"$f":"Inputs!J400","v":0},{"$f":"Inputs!K400","v":0},{"$f":"Inputs!L400","v":0},{"$f":"Inputs!M400","v":6},{"$f":"Inputs!N400","v":5},{"$f":"Inputs!O400","v":0},{"$f":"Inputs!P400","v":13},{"$f":"Inputs!Q400","v":0},{"$f":"Inputs!R400","v":0},{"$f":"Inputs!S400","v":0},{"$f":"Inputs!T400","v":0},{"$f":"Inputs!U400","v":0},{"$f":"Inputs!V400","v":0},{"$f":"Inputs!W400","v":13},{"$f":"Inputs!X400","v":5},{"$f":"Inputs!Y400","v":0},{"$f":"Inputs!Z400","v":0},{"$f":"Inputs!AA400","v":0},{"$f":"Inputs!AB400","v":0},{"$f":"Inputs!AC400","v":0},{"$f":"Inputs!AD400","v":0},{"$f":"Inputs!AE400","v":0},{"$f":"Inputs!AF400","v":0},{"$f":"Inputs!AG400","v":13},{"$f":"Inputs!AH400","v":5},{"$f":"Inputs!AI400","v":0},{"$f":"Inputs!AJ400","v":13},{"$f":"Inputs!AK400","v":6},{"$f":"Inputs!AL400","v":5},{"$f":"Inputs!AM400","v":0},{"$f":"Inputs!AN400","v":0},{"$f":"Inputs!AO400","v":0},{"$f":"Inputs!AP400","v":0},{"$f":"Inputs!AQ400","v":13},{"$f":"Inputs!AR400","v":5},{"$f":"Inputs!AS400","v":0},{"$f":"Inputs!AT400","v":13},{"$f":"Inputs!AU400","v":6},{"$f":"Inputs!AV400","v":6},{"$f":"Inputs!AW400","v":0},{"$f":"Inputs!AX400","v":0},{"$f":"Inputs!AY400","v":0},{"$f":"Inputs!AZ400","v":0}]
[null,null,null,null,null,null,null,null,null,null,null,"Below ground residue, %",null,null,null,null,null,{"$f":"Inputs!C401","v":0},{"$f":"Inputs!D401","v":15},{"$f":"Inputs!E401","v":0},{"$f":"Inputs!F401","v":0},{"$f":"Inputs!G401","v":0},{"$f":"Inputs!H401","v":0},{"$f":"Inputs!I401","v":0},{"$f":"Inputs!J401","v":0},{"$f":"Inputs!K401","v":0},{"$f":"Inputs!L401","v":0},{"$f":"Inputs!M401","v":25},{"$f":"Inputs!N401","v":15},{"$f":"Inputs!O401","v":0},{"$f":"Inputs!P401","v":20},{"$f":"Inputs!Q401","v":0},{"$f":"Inputs!R401","v":0},{"$f":"Inputs!S401","v":0},{"$f":"Inputs!T401","v":0},{"$f":"Inputs!U401","v":0},{"$f":"Inputs!V401","v":0},{"$f":"Inputs!W401","v":20},{"$f":"Inputs!X401","v":15},{"$f":"Inputs!Y401","v":0},{"$f":"Inputs!Z401","v":0},{"$f":"Inputs!AA401","v":0},{"$f":"Inputs!AB401","v":0},{"$f":"Inputs!AC401","v":0},{"$f":"Inputs!AD401","v":0},{"$f":"Inputs!AE401","v":0},{"$f":"Inputs!AF401","v":0},{"$f":"Inputs!AG401","v":20},{"$f":"Inputs!AH401","v":15},{"$f":"Inputs!AI401","v":0},{"$f":"Inputs!AJ401","v":20},{"$f":"Inputs!AK401","v":25},{"$f":"Inputs!AL401","v":15},{"$f":"Inputs!AM401","v":0},{"$f":"Inputs!AN401","v":0},{"$f":"Inputs!AO401","v":0},{"$f":"Inputs!AP401","v":0},{"$f":"Inputs!AQ401","v":20},{"$f":"Inputs!AR401","v":15},{"$f":"Inputs!AS401","v":0},{"$f":"Inputs!AT401","v":20},{"$f":"Inputs!AU401","v":25},{"$f":"Inputs!AV401","v":15},{"$f":"Inputs!AW401","v":0},{"$f":"Inputs!AX401","v":0},{"$f":"Inputs!AY401","v":0},{"$f":"Inputs!AZ401","v":0}]
[null,null,null,null,null,null,null,null,null,null,null,"N Below ground residue, g N/kg",null,null,null,null,null,{"$f":"Inputs!C402","v":0},{"$f":"Inputs!D402","v":7},{"$f":"Inputs!E402","v":0},{"$f":"Inputs!F402","v":0},{"$f":"Inputs!G402","v":0},{"$f":"Inputs!H402","v":0},{"$f":"Inputs!I402","v":0},{"$f":"Inputs!J402","v":0},{"$f":"Inputs!K402","v":0},{"$f":"Inputs!L402","v":0},{"$f":"Inputs!M402","v":10},{"$f":"Inputs!N402","v":7},{"$f":"Inputs!O402","v":0},{"$f":"Inputs!P402","v":7},{"$f":"Inputs!Q402","v":0},{"$f":"Inputs!R402","v":0},{"$f":"Inputs!S402","v":0},{"$f":"Inputs!T402","v":0},{"$f":"Inputs!U402","v":0},{"$f":"Inputs!V402","v":0},{"$f":"Inputs!W402","v":7},{"$f":"Inputs!X402","v":7},{"$f":"Inputs!Y402","v":0},{"$f":"Inputs!Z402","v":0},{"$f":"Inputs!AA402","v":0},{"$f":"Inputs!AB402","v":0},{"$f":"Inputs!AC402","v":0},{"$f":"Inputs!AD402","v":0},{"$f":"Inputs!AE402","v":0},{"$f":"Inputs!AF402","v":0},{"$f":"Inputs!AG402","v":7},{"$f":"Inputs!AH402","v":7},{"$f":"Inputs!AI402","v":0},{"$f":"Inputs!AJ402","v":7},{"$f":"Inputs!AK402","v":10},{"$f":"Inputs!AL402","v":7},{"$f":"Inputs!AM402","v":0},{"$f":"Inputs!AN402","v":0},{"$f":"Inputs!AO402","v":0},{"$f":"Inputs!AP402","v":0},{"$f":"Inputs!AQ402","v":7},{"$f":"Inputs!AR402","v":7},{"$f":"Inputs!AS402","v":0},{"$f":"Inputs!AT402","v":7},{"$f":"Inputs!AU402","v":10},{"$f":"Inputs!AV402","v":10},{"$f":"Inputs!AW402","v":0},{"$f":"Inputs!AX402","v":0},{"$f":"Inputs!AY402","v":0},{"$f":"Inputs!AZ402","v":0}]
[null,null,null,null,null,null,null,null,null,null,null,"N residues, kg/ha",{"$f":"SUM(R465:AA465)/MAX(R$392:AA$392)","v":52.412809826716398},{"$f":"SUM(AB465:AK465)/MAX($AB$392:$AK$392)","v":57.312585271490093},{"$f":"SUM(AL465:AU465)/MAX($AL$392:$AU$392)","v":24.157082091445925},{"$f":"SUM(AV465:BE465)/MAX($AV$392:$BE$392)","v":36.712096449313073},{"$f":"SUM(BF465:BO465)/MAX($BF$392:$BO$392)","v":30.173381818911672},{"$f":"(R462*R461%+R464*R463%)*R453/(100-R461-R463)%","v":0},52.412809826716398,0,0,0,0,0,0,0,0,51.106529209621989,58.236455363018216,{"$f":"(AD462*AD461%+AD464*AD463%)*AD453/(100-AD461-AD463)%","v":0},62.594771241830067,0,0,0,0,0,0,65.784313725490208,55.001096731739423,0,0,0,0,0,0,0,0,65.784313725490208,55.259925422241722,{"$f":"(AX462*AX461%+AX464*AX463%)*AX453/(100-AX461-AX463)%","v":0},62.594771241830067,51.821305841924399,58.236455363018216,0,0,0,0,65.784313725490208,55.001096731739423,0,62.594771241830067,51.821305841924399,6.1855670103092786,0,0,0,0]
[null,null,null,null,null,null,null,null,null,null,null,"Fuel consumption, L/ha",{"$f":"SUM(R466:AA466)/MAX(R$452:AA$452)","v":58.6},{"$f":"SUM(AB466:AK466)/MAX($AB$452:$AK$452)","v":73.266666666666666},{"$f":"SUM(AL466:AU466)/MAX($AL$452:$AU$452)","v":91.12},{"$f":"SUM(AV466:BE466)/MAX($AV$452:$BE$452)","v":84.424999999999997},{"$f":"SUM(BF466:BO466)/MAX($BF$452:$BO$452)","v":82.887499999999989},{"$f":"Inputs!C403","v":0},{"$f":"Inputs!D403","v":58.6},{"$f":"Inputs!E403","v":0},{"$f":"Inputs!F403","v":0},{"$f":"Inputs!G403","v":0},{"$f":"Inputs!H403","v":0},{"$f":"Inputs!I403","v":0},{"$f":"Inputs!J403","v":0},{"$f":"Inputs!K403","v":0},{"$f":"Inputs!L403","v":0},{"$f":"Inputs!M403","v":60.1},{"$f":"Inputs!N403","v":58.6},{"$f":"Inputs!O403","v":0},{"$f":"Inputs!P403","v":101.1},{"$f":"Inputs!Q403","v":0},{"$f":"Inputs!R403","v":0},{"$f":"Inputs!S403","v":0},{"$f":"Inputs!T403","v":0},{"$f":"Inputs!U403","v":0},{"$f":"Inputs!V403","v":0},{"$f":"Inputs!W403","v":101.1},{"$f":"Inputs!X403","v":58.6},{"$f":"Inputs!Y403","v":0},{"$f":"Inputs!Z403","v":49.3},{"$f":"Inputs!AA403","v":123.3},{"$f":"Inputs!AB403","v":123.3},{"$f":"Inputs!AC403","v":0},{"$f":"Inputs!AD403","v":0},{"$f":"Inputs!AE403","v":0},{"$f":"Inputs!AF403","v":0},{"$f":"Inputs!AG403","v":101.1},{"$f":"Inputs!AH403","v":58.6},{"$f":"Inputs!AI403","v":0},{"$f":"Inputs!AJ403","v":101.1},{"$f":"Inputs!AK403","v":60.1},{"$f":"Inputs!AL403","v":58.6},{"$f":"Inputs!AM403","v":0},{"$f":"Inputs!AN403","v":49.3},{"$f":"Inputs!AO403","v":123.3},{"$f":"Inputs!AP403","v":123.3},{"$f":"Inputs!AQ403","v":101.1},{"$f":"Inputs!AR403","v":58.6},{"$f":"Inputs!AS403","v":0},{"$f":"Inputs!AT403","v":101.1},{"$f":"Inputs!AU403","v":60.1},{"$f":"Inputs!AV403","v":46.3},{"$f":"Inputs!AW403","v":0},{"$f":"Inputs!AX403","v":49.3},{"$f":"Inputs!AY403","v":123.3},{"$f":"Inputs!AZ403","v":123.3}]
[null,null,null,null,null,null,null,null,null,null,null,"Variable costs  w/o fertilizer, $/ha",{"$f":"SUM(R467:AA467)/MAX(R$452:AA$452)","v":800.65},{"$f":"SUM(AB467:AK467)/MAX($AB$452:$AK$452)","v":561.43999999999994},{"$f":"SUM(AL467:AU467)/MAX($AL$452:$AU$452)","v":528.16999999999996},{"$f":"SUM(AV467:BE467)/MAX($AV$452:$BE$452)","v":540.64625000000001},{"$f":"SUM(BF467:BO467)/MAX($BF$452:$BO$452)","v":540.33249999999998},{"$f":"Inputs!C404","v":0},{"$f":"Inputs!D404","v":800.65},{"$f":"Inputs!E404","v":0},{"$f":"Inputs!F404","v":0},{"$f":"Inputs!G404","v":0},{"$f":"Inputs!H404","v":0},{"$f":"Inputs!I404","v":0},{"$f":"Inputs!J404","v":0},{"$f":"Inputs!K404","v":0},{"$f":"Inputs!L404","v":0},{"$f":"Inputs!M404","v":454.48},{"$f":"Inputs!N404","v":724.41},{"$f":"Inputs!O404","v":0},{"$f":"Inputs!P404","v":505.43},{"$f":"Inputs!Q404","v":0},{"$f":"Inputs!R404","v":0},{"$f":"Inputs!S404","v":0},{"$f":"Inputs!T404","v":0},{"$f":"Inputs!U404","v":0},{"$f":"Inputs!V404","v":0},{"$f":"Inputs!W404","v":486.38},{"$f":"Inputs!X404","v":800.65},{"$f":"Inputs!Y404","v":0},{"$f":"Inputs!Z404","v":578.94000000000005},{"$f":"Inputs!AA404","v":387.44},{"$f":"Inputs!AB404","v":387.44},{"$f":"Inputs!AC404","v":0},{"$f":"Inputs!AD404","v":0},{"$f":"Inputs!AE404","v":0},{"$f":"Inputs!AF404","v":0},{"$f":"Inputs!AG404","v":486.38},{"$f":"Inputs!AH404","v":800.65},{"$f":"Inputs!AI404","v":0},{"$f":"Inputs!AJ404","v":505.43},{"$f":"Inputs!AK404","v":454.48},{"$f":"Inputs!AL404","v":724.41},{"$f":"Inputs!AM404","v":0},{"$f":"Inputs!AN404","v":578.94000000000005},{"$f":"Inputs!AO404","v":387.44},{"$f":"Inputs!AP404","v":387.44},{"$f":"Inputs!AQ404","v":486.38},{"$f":"Inputs!AR404","v":800.65},{"$f":"Inputs!AS404","v":0},{"$f":"Inputs!AT404","v":505.43},{"$f":"Inputs!AU404","v":454.48},{"$f":"Inputs!AV404","v":360.95},{"$f":"Inputs!AW404","v":360.95},{"$f":"Inputs!AX404","v":578.94000000000005},{"$f":"Inputs!AY404","v":387.44},{"$f":"Inputs!AZ404","v":387.44}]
[null,null,null,null,null,null,null,null,null,null,null,"Variable costs, $/t",{"$f":"SUM(R468:AA468)/MAX(R$452:AA$452)","v":0},{"$f":"SUM(AB468:AK468)/MAX($AB$452:$AK$452)","v":0},{"$f":"SUM(AL468:AU468)/MAX($AL$452:$AU$452)","v":0},{"$f":"SUM(AV468:BE468)/MAX($AV$452:$BE$452)","v":0},{"$f":"SUM(BF468:BO468)/MAX($BF$452:$BO$452)","v":0},{"$f":"Inputs!C405","v":0},{"$f":"Inputs!D405","v":0},{"$f":"Inputs!E405","v":0},{"$f":"Inputs!F405","v":0},{"$f":"Inputs!G405","v":0},{"$f":"Inputs!H405","v":0},{"$f":"Inputs!I405","v":0},{"$f":"Inputs!J405","v":0},{"$f":"Inputs!K405","v":0},{"$f":"Inputs!L405","v":0},{"$f":"Inputs!M405","v":0},{"$f":"Inputs!N405","v":0},{"$f":"Inputs!O405","v":0},{"$f":"Inputs!P405","v":0},{"$f":"Inputs!Q405","v":0},{"$f":"Inputs!R405","v":0},{"$f":"Inputs!S405","v":0},{"$f":"Inputs!T405","v":0},{"$f":"Inputs!U405","v":0},{"$f":"Inputs!V405","v":0},{"$f":"Inputs!W405","v":0},{"$f":"Inputs!X405","v":0},{"$f":"Inputs!Y405","v":0},{"$f":"Inputs!Z405","v":0},{"$f":"Inputs!AA405","v":0},{"$f":"Inputs!AB405","v":0},{"$f":"Inputs!AC405","v":0},{"$f":"Inputs!AD405","v":0},{"$f":"Inputs!AE405","v":0},{"$f":"Inputs!AF405","v":0},{"$f":"Inputs!AG405","v":0},{"$f":"Inputs!AH405","v":0},{"$f":"Inputs!AI405","v":0},{"$f":"Inputs!AJ405","v":0},{"$f":"Inputs!AK405","v":0},{"$f":"Inputs!AL405","v":0},{"$f":"Inputs!AM405","v":0},{"$f":"Inputs!AN405","v":0},{"$f":"Inputs!AO405","v":0},{"$f":"Inputs!AP405","v":0},{"$f":"Inputs!AQ405","v":0},{"$f":"Inputs!AR405","v":0},{"$f":"Inputs!AS405","v":0},{"$f":"Inputs!AT405","v":0},{"$f":"Inputs!AU405","v":0},{"$f":"Inputs!AV405","v":0},{"$f":"Inputs!AW405","v":0},{"$f":"Inputs!AX405","v":0},{"$f":"Inputs!AY405","v":0},{"$f":"Inputs!AZ405","v":0}]
[null,null,null,null,null,null,null,null,null,null,null,"Cost $/ha",{"$f":"SUM(R469:AA469)/MAX(R$452:AA$452)","v":800.65},{"$f":"SUM(AB469:AK469)/MAX($AB$452:$AK$452)","v":561.43999999999994},{"$f":"SUM(AL469:AU469)/MAX($AL$452:$AU$452)","v":528.16999999999996},{"$f":"SUM(AV469:BE469)/MAX($AV$452:$BE$452)","v":535.76499999999999},{"$f":"SUM(BF469:BO469)/MAX($BF$452:$BO$452)","v":515.33249999999998},{"$f":"Inputs!C406","v":0},{"$f":"Inputs!D406","v":800.65},{"$f":"Inputs!E406","v":0},{"$f":"Inputs!F406","v":0},{"$f":"Inputs!G406","v":0},{"$f":"Inputs!H406","v":0},{"$f":"Inputs!I406","v":0},{"$f":"Inputs!J406","v":0},{"$f":"Inputs!K406","v":0},{"$f":"Inputs!L406","v":0},{"$f":"Inputs!M406","v":454.48},{"$f":"Inputs!N406","v":724.41},{"$f":"Inputs!O406","v":0},{"$f":"Inputs!P406","v":505.43},{"$f":"Inputs!Q406","v":0},{"$f":"Inputs!R406","v":0},{"$f":"Inputs!S406","v":0},{"$f":"Inputs!T406","v":0},{"$f":"Inputs!U406","v":0},{"$f":"Inputs!V406","v":0},{"$f":"Inputs!W406","v":486.38},{"$f":"Inputs!X406","v":800.65},{"$f":"Inputs!Y406","v":0},{"$f":"Inputs!Z406","v":578.94000000000005},{"$f":"Inputs!AA406","v":387.44},{"$f":"Inputs!AB406","v":387.44},{"$f":"Inputs!AC406","v":0},{"$f":"Inputs!AD406","v":0},{"$f":"Inputs!AE406","v":0},{"$f":"Inputs!AF406","v":0},{"$f":"Inputs!AG406","v":447.33},{"$f":"Inputs!AH406","v":800.65},{"$f":"Inputs!AI406","v":0},{"$f":"Inputs!AJ406","v":505.43},{"$f":"Inputs!AK406","v":454.48},{"$f":"Inputs!AL406","v":724.41},{"$f":"Inputs!AM406","v":0},{"$f":"Inputs!AN406","v":578.94000000000005},{"$f":"Inputs!AO406","v":387.44},{"$f":"Inputs!AP406","v":387.44},{"$f":"Inputs!AQ406","v":486.38},{"$f":"Inputs!AR406","v":800.65},{"$f":"Inputs!AS406","v":0},{"$f":"Inputs!AT406","v":505.43},{"$f":"Inputs!AU406","v":454.48},{"$f":"Inputs!AV406","v":360.95},{"$f":"Inputs!AW406","v":160.94999999999999},{"$f":"Inputs!AX406","v":578.94000000000005},{"$f":"Inputs!AY406","v":387.44},{"$f":"Inputs!AZ406","v":387.44}]
[null,null,null,null,null,null,null,null,null,null,"Land Unit 5",null,null,{"$f":"N450","v":"Average Rotation Values"},null,null,null,{"$f":"R450","v":"Rotation 1 name:"},null,{"$f":"Inputs!E408","v":"CCC"},null,null,null,null,null,null,null,{"$f":"AB450","v":"Rotation 2 name:"},null,{"$f":"Inputs!O408","v":"SCC"},null,null,null,null,null,null,null,{"$f":"AL450","v":"Rotation 3 name:"},null,{"$f":"Inputs!Y408","v":"CCAAA"},null,null,null,null,null,null,null,{"$f":"AV450","v":"Rotation 4 name:"},null,{"$f":"Inputs!AI408","v":"CCCSCAAA"},null,null,null,null,null,null,null,{"$f":"BF450","v":"Rotation 5 name:"},null,{"$f":"Inputs!AS408","v":"CCCSWAAA"}]
[null,null,null,null,null,null,null,null,null,null,null,"Name",{"$f":"T470","v":"CCC"},{"$f":"AD470","v":"SCC"},{"$f":"AN470","v":"CCAAA"},{"$f":"AX470","v":"CCCSCAAA"},{"$f":"BH470","v":"CCCSWAAA"},{"$f":"Inputs!C409","v":0},{"$f":"Inputs!D409","v":"CoGr-27"},{"$f":"Inputs!E409","v":0},{"$f":"Inputs!F409","v":0},{"$f":"Inputs!G409","v":0},{"$f":"Inputs!H409","v":0},{"$f":"Inputs!I409","v":0},{"$f":"Inputs!J409","v":0},{"$f":"Inputs!K409","v":0},{"$f":"Inputs!L409","v":0},{"$f":"Inputs!M409","v":"SBw-108"},{"$f":"Inputs!N409","v":"CoGr-27"},{"$f":"Inputs!O409","v":0},{"$f":"Inputs!P409","v":"CoSi-35"},{"$f":"Inputs!Q409","v":0},{"$f":"Inputs!R409","v":0},{"$f":"Inputs!S409","v":0},{"$f":"Inputs!T409","v":0},{"$f":"Inputs!U409","v":0},{"$f":"Inputs!V409","v":0},{"$f":"Inputs!W409","v":"CoSi-35"},{"$f":"Inputs!X409","v":"CoGr-27"},{"$f":"Inputs!Y409","v":0},{"$f":"Inputs!Z409","v":"AlSi-83"},{"$f":"Inputs!AA409","v":"AlSi-83"},{"$f":"Inputs!AB409","v":"MxSi-74"},{"$f":"Inputs!AC409","v":0},{"$f":"Inputs!AD409","v":0},{"$f":"Inputs!AE409","v":0},{"$f":"Inputs!AF409","v":0},{"$f":"Inputs!AG409","v":"CoSi-35"},{"$f":"Inputs!AH409","v":"CoGr-27"},{"$f":"Inputs!AI409","v":0},{"$f":"Inputs!AJ409","v":"CoSi-35"},{"$f":"Inputs!AK409","v":"SBw-108"},{"$f":"Inputs!AL409","v":"CoGr-27"},{"$f":"Inputs!AM409","v":0},{"$f":"Inputs!AN409","v":"AlSi-83"},{"$f":"Inputs!AO409","v":"AlSi-83"},{"$f":"Inputs!AP409","v":"MxSi-74"},{"$f":"Inputs!AQ409","v":"CoSi-35"},{"$f":"Inputs!AR409","v":"CoGr-27"},{"$f":"Inputs!AS409","v":0},{"$f":"Inputs!AT409","v":"CoSi-35"},{"$f":"Inputs!AU409","v":"SBw-108"},{"$f":"Inputs!AV409","v":"Wheat-116"},{"$f":"Inputs!AW409","v":"Straw-120"},{"$f":"Inputs!AX409","v":"AlSi-83"},{"$f":"Inputs!AY409","v":"AlSi-83"},{"$f":"Inputs!AZ409","v":"MxSi-74"}]
[null,null,null,null,null,null,null,null,null,null,null,"Year",{"$f":"MAX(R472:AA472)","v":1},{"$f":"MAX(AB472:AK472)","v":3},{"$f":"MAX(AL472:AU472)","v":5},{"$f":"MAX(AV472:BE472)","v":8},{"$f":"MAX(BF472:BO472)","v":8},{"$f":"Inputs!C410","v":0},{"$f":"Inputs!D410","v":1},{"$f":"Inputs!E410","v":0},{"$f":"Inputs!F410","v":0},{"$f":"Inputs!G410","v":0},{"$f":"Inputs!H410","v":0},{"$f":"Inputs!I410","v":0},{"$f":"Inputs!J410","v":0},{"$f":"Inputs!K410","v":0},{"$f":"Inputs!L410","v":0},{"$f":"Inputs!M410","v":1},{"$f":"Inputs!N410","v":2},{"$f":"Inputs!O410","v":0},{"$f":"Inputs!P410","v":3},{"$f":"Inputs!Q410","v":0},{"$f":"Inputs!R410","v":0},{"$f":"Inputs!S410","v":0},{"$f":"Inputs!T410","v":0},{"$f":"Inputs!U410","v":0},{"$f":"Inputs!V410","v":0},{"$f":"Inputs!W410","v":1},{"$f":"Inputs!X410","v":2},{"$f":"Inputs!Y410","v":0},{"$f":"Inputs!Z410","v":3},{"$f":"Inputs!AA410","v":4},{"$f":"Inputs!AB410","v":5},{"$f":"Inputs!AC410","v":0},{"$f":"Inputs!AD410","v":0},{"$f":"Inputs!AE410","v":0},{"$f":"Inputs!AF410","v":0},{"$f":"Inputs!AG410","v":1},{"$f":"Inputs!AH410","v":2},{"$f":"Inputs!AI410","v":0},{"$f":"Inputs!AJ410","v":3},{"$f":"Inputs!AK410","v":4},{"$f":"Inputs!AL410","v":5},{"$f":"Inputs!AM410","v":0},{"$f":"Inputs!AN410","v":6},{"$f":"Inputs!AO410","v":7},{"$f":"Inputs!AP410","v":8},{"$f":"Inputs!AQ410","v":1},{"$f":"Inputs!AR410","v":2},{"$f":"Inputs!AS410","v":0},{"$f":"Inputs!AT410","v":3},{"$f":"Inputs!AU410","v":4},{"$f":"Inputs!AV410","v":5},{"$f":"Inputs!AW410","v":5},{"$f":"Inputs!AX410","v":6},{"$f":"Inputs!AY410","v":7},{"$f":"Inputs!AZ410","v":8}]
[null,null,null,null,null,null,null,null,null,null,null,"Yield, t DM/yr",null,null,null,null,null,{"$f":"Inputs!C411","v":0},{"$f":"Inputs!D411","v":8.3505154639175263},{"$f":"Inputs!E411","v":0},{"$f":"Inputs!F411","v":0},{"$f":"Inputs!G411","v":0},{"$f":"Inputs!H411","v":0},{"$f":"Inputs!I411","v":0},{"$f":"Inputs!J411","v":0},{"$f":"Inputs!K411","v":0},{"$f":"Inputs!L411","v":0},{"$f":"Inputs!M411","v":2.9484536082474224},{"$f":"Inputs!N411","v":9.2783505154639183},{"$f":"Inputs!O411","v":0},{"$f":"Inputs!P411","v":18.470588235294116},{"$f":"Inputs!Q411","v":0},{"$f":"Inputs!R411","v":0},{"$f":"Inputs!S411","v":0},{"$f":"Inputs!T411","v":0},{"$f":"Inputs!U411","v":0},{"$f":"Inputs!V411","v":0},{"$f":"Inputs!W411","v":19.411764705882355},{"$f":"Inputs!X411","v":8.7628865979381452},{"$f":"Inputs!Y411","v":0},{"$f":"Inputs!Z411","v":4.625},{"$f":"Inputs!AA411","v":10.874999999999998},{"$f":"Inputs!AB411","v":9.4999999999999982},{"$f":"Inputs!AC411","v":0},{"$f":"Inputs!AD411","v":0},{"$f":"Inputs!AE411","v":0},{"$f":"Inputs!AF411","v":0},{"$f":"Inputs!AG411","v":19.411764705882355},{"$f":"Inputs!AH411","v":8.8041237113402051},{"$f":"Inputs!AI411","v":0},{"$f":"Inputs!AJ411","v":18.470588235294116},{"$f":"Inputs!AK411","v":2.9896907216494846},{"$f":"Inputs!AL411","v":9.2783505154639183},{"$f":"Inputs!AM411","v":0},{"$f":"Inputs!AN411","v":4.625},{"$f":"Inputs!AO411","v":10.874999999999998},{"$f":"Inputs!AP411","v":9.4999999999999982},{"$f":"Inputs!AQ411","v":19.411764705882355},{"$f":"Inputs!AR411","v":8.7628865979381452},{"$f":"Inputs!AS411","v":0},{"$f":"Inputs!AT411","v":18.470588235294116},{"$f":"Inputs!AU411","v":2.9896907216494846},{"$f":"Inputs!AV411","v":3.5051546391752577},{"$f":"Inputs!AW411","v":1.6},{"$f":"Inputs!AX411","v":4.625},{"$f":"Inputs!AY411","v":10.874999999999998},{"$f":"Inputs!AZ411","v":9.4999999999999982}]
[null,null,null,null,null,null,null,null,null,null,null,"N,  kg/ha",{"$f":"SUM(R474:AA474)/MAX(R$472:AA$472)","v":179},{"$f":"SUM(AB474:AK474)/MAX($AB$472:$AK$472)","v":104.39999999999999},{"$f":"SUM(AL474:AU474)/MAX($AL$472:$AU$472)","v":29.2},{"$f":"SUM(AV474:BE474)/MAX($AV$472:$BE$472)","v":57.4},{"$f":"SUM(BF474:BO474)/MAX($BF$472:$BO$472)","v":43.4},{"$f":"Inputs!C412","v":0},{"$f":"Inputs!D412","v":179},{"$f":"Inputs!E412","v":0},{"$f":"Inputs!F412","v":0},{"$f":"Inputs!G412","v":0},{"$f":"Inputs!H412","v":0},{"$f":"Inputs!I412","v":0},{"$f":"Inputs!J412","v":0},{"$f":"Inputs!K412","v":0},{"$f":"Inputs!L412","v":0},{"$f":"Inputs!M412","v":0},{"$f":"Inputs!N412","v":134.19999999999999},{"$f":"Inputs!O412","v":0},{"$f":"Inputs!P412","v":179},{"$f":"Inputs!Q412","v":0},{"$f":"Inputs!R412","v":0},{"$f":"Inputs!S412","v":0},{"$f":"Inputs!T412","v":0},{"$f":"Inputs!U412","v":0},{"$f":"Inputs!V412","v":0},{"$f":"Inputs!W412","v":23},{"$f":"Inputs!X412","v":123},{"$f":"Inputs!Y412","v":0},{"$f":"Inputs!Z412","v":0},{"$f":"Inputs!AA412","v":0},{"$f":"Inputs!AB412","v":0},{"$f":"Inputs!AC412","v":0},{"$f":"Inputs!AD412","v":0},{"$f":"Inputs!AE412","v":0},{"$f":"Inputs!AF412","v":0},{"$f":"Inputs!AG412","v":23},{"$f":"Inputs!AH412","v":123},{"$f":"Inputs!AI412","v":0},{"$f":"Inputs!AJ412","v":179},{"$f":"Inputs!AK412","v":0},{"$f":"Inputs!AL412","v":134.19999999999999},{"$f":"Inputs!AM412","v":0},{"$f":"Inputs!AN412","v":0},{"$f":"Inputs!AO412","v":0},{"$f":"Inputs!AP412","v":0},{"$f":"Inputs!AQ412","v":23},{"$f":"Inputs!AR412","v":123},{"$f":"Inputs!AS412","v":0},{"$f":"Inputs!AT412","v":179},{"$f":"Inputs!AU412","v":0},{"$f":"Inputs!AV412","v":22.200000000000003},{"$f":"Inputs!AW412","v":0},{"$f":"Inputs!AX412","v":0},{"$f":"Inputs!AY412","v":0},{"$f":"Inputs!AZ412","v":0}]
[null,null,null,null,null,null,null,null,null,null,null,"P2O5,  kg/ha",{"$f":"SUM(R475:AA475)/MAX(R$472:AA$472)","v":101},{"$f":"SUM(AB475:AK475)/MAX($AB$472:$AK$472)","v":93.666666666666671},{"$f":"SUM(AL475:AU475)/MAX($AL$472:$AU$472)","v":98.2},{"$f":"SUM(AV475:BE475)/MAX($AV$472:$BE$472)","v":96.5},{"$f":"SUM(BF475:BO475)/MAX($BF$472:$BO$472)","v":92.25},{"$f":"Inputs!C413","v":0},{"$f":"Inputs!D413","v":101},{"$f":"Inputs!E413","v":0},{"$f":"Inputs!F413","v":0},{"$f":"Inputs!G413","v":0},{"$f":"Inputs!H413","v":0},{"$f":"Inputs!I413","v":0},{"$f":"Inputs!J413","v":0},{"$f":"Inputs!K413","v":0},{"$f":"Inputs!L413","v":0},{"$f":"Inputs!M413","v":62},{"$f":"Inputs!N413","v":101},{"$f":"Inputs!O413","v":0},{"$f":"Inputs!P413","v":118},{"$f":"Inputs!Q413","v":0},{"$f":"Inputs!R413","v":0},{"$f":"Inputs!S413","v":0},{"$f":"Inputs!T413","v":0},{"$f":"Inputs!U413","v":0},{"$f":"Inputs!V413","v":0},{"$f":"Inputs!W413","v":118},{"$f":"Inputs!X413","v":101},{"$f":"Inputs!Y413","v":0},{"$f":"Inputs!Z413","v":48},{"$f":"Inputs!AA413","v":112},{"$f":"Inputs!AB413","v":112},{"$f":"Inputs!AC413","v":0},{"$f":"Inputs!AD413","v":0},{"$f":"Inputs!AE413","v":0},{"$f":"Inputs!AF413","v":0},{"$f":"Inputs!AG413","v":118},{"$f":"Inputs!AH413","v":101},{"$f":"Inputs!AI413","v":0},{"$f":"Inputs!AJ413","v":118},{"$f":"Inputs!AK413","v":62},{"$f":"Inputs!AL413","v":101},{"$f":"Inputs!AM413","v":0},{"$f":"Inputs!AN413","v":48},{"$f":"Inputs!AO413","v":112},{"$f":"Inputs!AP413","v":112},{"$f":"Inputs!AQ413","v":118},{"$f":"Inputs!AR413","v":101},{"$f":"Inputs!AS413","v":0},{"$f":"Inputs!AT413","v":118},{"$f":"Inputs!AU413","v":62},{"$f":"Inputs!AV413","v":67},{"$f":"Inputs!AW413","v":0},{"$f":"Inputs!AX413","v":48},{"$f":"Inputs!AY413","v":112},{"$f":"Inputs!AZ413","v":112}]
[null,null,null,null,null,null,null,null,null,null,null,"K2O, kg/ha",{"$f":"SUM(R476:AA476)/MAX(R$472:AA$472)","v":112},{"$f":"SUM(AB476:AK476)/MAX($AB$472:$AK$472)","v":145},{"$f":"SUM(AL476:AU476)/MAX($AL$472:$AU$472)","v":199.4},{"$f":"SUM(AV476:BE476)/MAX($AV$472:$BE$472)","v":179},{"$f":"SUM(BF476:BO476)/MAX($BF$472:$BO$472)","v":179},{"$f":"Inputs!C414","v":0},{"$f":"Inputs!D414","v":112},{"$f":"Inputs!E414","v":0},{"$f":"Inputs!F414","v":0},{"$f":"Inputs!G414","v":0},{"$f":"Inputs!H414","v":0},{"$f":"Inputs!I414","v":0},{"$f":"Inputs!J414","v":0},{"$f":"Inputs!K414","v":0},{"$f":"Inputs!L414","v":0},{"$f":"Inputs!M414","v":118},{"$f":"Inputs!N414","v":112},{"$f":"Inputs!O414","v":0},{"$f":"Inputs!P414","v":205},{"$f":"Inputs!Q414","v":0},{"$f":"Inputs!R414","v":0},{"$f":"Inputs!S414","v":0},{"$f":"Inputs!T414","v":0},{"$f":"Inputs!U414","v":0},{"$f":"Inputs!V414","v":0},{"$f":"Inputs!W414","v":205},{"$f":"Inputs!X414","v":112},{"$f":"Inputs!Y414","v":0},{"$f":"Inputs!Z414","v":120},{"$f":"Inputs!AA414","v":280},{"$f":"Inputs!AB414","v":280},{"$f":"Inputs!AC414","v":0},{"$f":"Inputs!AD414","v":0},{"$f":"Inputs!AE414","v":0},{"$f":"Inputs!AF414","v":0},{"$f":"Inputs!AG414","v":205},{"$f":"Inputs!AH414","v":112},{"$f":"Inputs!AI414","v":0},{"$f":"Inputs!AJ414","v":205},{"$f":"Inputs!AK414","v":118},{"$f":"Inputs!AL414","v":112},{"$f":"Inputs!AM414","v":0},{"$f":"Inputs!AN414","v":120},{"$f":"Inputs!AO414","v":280},{"$f":"Inputs!AP414","v":280},{"$f":"Inputs!AQ414","v":205},{"$f":"Inputs!AR414","v":112},{"$f":"Inputs!AS414","v":0},{"$f":"Inputs!AT414","v":205},{"$f":"Inputs!AU414","v":118},{"$f":"Inputs!AV414","v":112},{"$f":"Inputs!AW414","v":0},{"$f":"Inputs!AX414","v":120},{"$f":"Inputs!AY414","v":280},{"$f":"Inputs!AZ414","v":280}]
[null,null,null,null,null,null,null,null,null,null,null,"P Removal,  kg/ha",{"$f":"SUM(R477:AA477)/MAX(R$472:AA$472)","v":25.051546391752581},{"$f":"SUM(AB477:AK477)/MAX($AB$472:$AK$472)","v":31.183100869213664},{"$f":"SUM(AL477:AU477)/MAX($AL$472:$AU$472)","v":32.661849605821715},{"$f":"SUM(AV477:BE477)/MAX($AV$472:$BE$472)","v":32.153710582171016},{"$f":"SUM(BF477:BO477)/MAX($BF$472:$BO$472)","v":40.915547301394781},{"$f":"Inputs!C415","v":0},{"$f":"Inputs!D415","v":25.051546391752581},{"$f":"Inputs!E415","v":0},{"$f":"Inputs!F415","v":0},{"$f":"Inputs!G415","v":0},{"$f":"Inputs!H415","v":0},{"$f":"Inputs!I415","v":0},{"$f":"Inputs!J415","v":0},{"$f":"Inputs!K415","v":0},{"$f":"Inputs!L415","v":0},{"$f":"Inputs!M415","v":17.690721649484534},{"$f":"Inputs!N415","v":27.835051546391757},{"$f":"Inputs!O415","v":0},{"$f":"Inputs!P415","v":48.023529411764706},{"$f":"Inputs!Q415","v":0},{"$f":"Inputs!R415","v":0},{"$f":"Inputs!S415","v":0},{"$f":"Inputs!T415","v":0},{"$f":"Inputs!U415","v":0},{"$f":"Inputs!V415","v":0},{"$f":"Inputs!W415","v":50.470588235294123},{"$f":"Inputs!X415","v":26.288659793814432},{"$f":"Inputs!Y415","v":0},{"$f":"Inputs!Z415","v":16.1875},{"$f":"Inputs!AA415","v":38.062499999999993},{"$f":"Inputs!AB415","v":32.299999999999997},{"$f":"Inputs!AC415","v":0},{"$f":"Inputs!AD415","v":0},{"$f":"Inputs!AE415","v":0},{"$f":"Inputs!AF415","v":0},{"$f":"Inputs!AG415","v":50.470588235294123},{"$f":"Inputs!AH415","v":26.412371134020617},{"$f":"Inputs!AI415","v":0},{"$f":"Inputs!AJ415","v":48.023529411764706},{"$f":"Inputs!AK415","v":17.938144329896907},{"$f":"Inputs!AL415","v":27.835051546391757},{"$f":"Inputs!AM415","v":0},{"$f":"Inputs!AN415","v":16.1875},{"$f":"Inputs!AO415","v":38.062499999999993},{"$f":"Inputs!AP415","v":32.299999999999997},{"$f":"Inputs!AQ415","v":58.235294117647072},{"$f":"Inputs!AR415","v":52.577319587628864},{"$f":"Inputs!AS415","v":0},{"$f":"Inputs!AT415","v":55.411764705882341},{"$f":"Inputs!AU415","v":8.9690721649484537},{"$f":"Inputs!AV415","v":21.030927835051543},{"$f":"Inputs!AW415","v":9.6},{"$f":"Inputs!AX415","v":27.75},{"$f":"Inputs!AY415","v":65.249999999999986},{"$f":"Inputs!AZ415","v":28.499999999999996}]
[null,null,null,null,null,null,null,null,null,null,null,"K Removal, kg"]
[null,null,null,null,null,null,null,null,null,null,null,"Cl, kg/ha",{"$f":"SUM(R479:AA479)/MAX(R$472:AA$472)","v":0},{"$f":"SUM(AB479:AK479)/MAX($AB$472:$AK$472)","v":0},{"$f":"SUM(AL479:AU479)/MAX($AL$472:$AU$472)","v":0},{"$f":"SUM(AV479:BE479)/MAX($AV$472:$BE$472)","v":0},{"$f":"SUM(BF479:BO479)/MAX($BF$472:$BO$472)","v":0},{"$f":"Inputs!C417","v":0},{"$f":"Inputs!D417","v":0},{"$f":"Inputs!E417","v":0},{"$f":"Inputs!F417","v":0},{"$f":"Inputs!G417","v":0},{"$f":"Inputs!H417","v":0},{"$f":"Inputs!I417","v":0},{"$f":"Inputs!J417","v":0},{"$f":"Inputs!K417","v":0},{"$f":"Inputs!L417","v":0},{"$f":"Inputs!M417","v":0},{"$f":"Inputs!N417","v":0},{"$f":"Inputs!O417","v":0},{"$f":"Inputs!P417","v":0},{"$f":"Inputs!Q417","v":0},{"$f":"Inputs!R417","v":0},{"$f":"Inputs!S417","v":0},{"$f":"Inputs!T417","v":0},{"$f":"Inputs!U417","v":0},{"$f":"Inputs!V417","v":0},{"$f":"Inputs!W417","v":0},{"$f":"Inputs!X417","v":0},{"$f":"Inputs!Y417","v":0},{"$f":"Inputs!Z417","v":0},{"$f":"Inputs!AA417","v":0},{"$f":"Inputs!AB417","v":0},{"$f":"Inputs!AC417","v":0},{"$f":"Inputs!AD417","v":0},{"$f":"Inputs!AE417","v":0},{"$f":"Inputs!AF417","v":0},{"$f":"Inputs!AG417","v":0},{"$f":"Inputs!AH417","v":0},{"$f":"Inputs!AI417","v":0},{"$f":"Inputs!AJ417","v":0},{"$f":"Inputs!AK417","v":0},{"$f":"Inputs!AL417","v":0},{"$f":"Inputs!AM417","v":0},{"$f":"Inputs!AN417","v":0},{"$f":"Inputs!AO417","v":0},{"$f":"Inputs!AP417","v":0},{"$f":"Inputs!AQ417","v":0},{"$f":"Inputs!AR417","v":0},{"$f":"Inputs!AS417","v":0},{"$f":"Inputs!AT417","v":0},{"$f":"Inputs!AU417","v":0},{"$f":"Inputs!AV417","v":0},{"$f":"Inputs!AW417","v":0},{"$f":"Inputs!AX417","v":0},{"$f":"Inputs!AY417","v":0},{"$f":"Inputs!AZ417","v":0}]
[null,null,null,null,null,null,null,null,null,null,null,"N fixation, kg/t",{"$f":"SUMPRODUCT(R473:AA473,R480:AA480)/MAX(R472:AA472)","v":0},{"$f":"SUMPRODUCT(AB473:AK473,AB480:AK480)/MAX(AB472:AK472)","v":24.656934707903776},{"$f":"SUMPRODUCT(AL473:AU473,AL480:AU480)/MAX(AL472:AU472)","v":115.13279999999997},{"$f":"SUMPRODUCT(AV473:BE473,AV480:BE480)/MAX(AV472:BE472)","v":86.42567010309277},{"$f":"SUMPRODUCT(BF473:BO473,BF480:BO480)/MAX(BF472:BO472)","v":86.42567010309277},{"$f":"Inputs!C418","v":0},{"$f":"Inputs!D418","v":0},{"$f":"Inputs!E418","v":0},{"$f":"Inputs!F418","v":0},{"$f":"Inputs!G418","v":0},{"$f":"Inputs!H418","v":0},{"$f":"Inputs!I418","v":0},{"$f":"Inputs!J418","v":0},{"$f":"Inputs!K418","v":0},{"$f":"Inputs!L418","v":0},{"$f":"Inputs!M418","v":25.088000000000001},{"$f":"Inputs!N418","v":0},{"$f":"Inputs!O418","v":0},{"$f":"Inputs!P418","v":0},{"$f":"Inputs!Q418","v":0},{"$f":"Inputs!R418","v":0},{"$f":"Inputs!S418","v":0},{"$f":"Inputs!T418","v":0},{"$f":"Inputs!U418","v":0},{"$f":"Inputs!V418","v":0},{"$f":"Inputs!W418","v":0},{"$f":"Inputs!X418","v":0},{"$f":"Inputs!Y418","v":0},{"$f":"Inputs!Z418","v":24.655999999999999},{"$f":"Inputs!AA418","v":24.655999999999999},{"$f":"Inputs!AB418","v":20.367999999999999},{"$f":"Inputs!AC418","v":0},{"$f":"Inputs!AD418","v":0},{"$f":"Inputs!AE418","v":0},{"$f":"Inputs!AF418","v":0},{"$f":"Inputs!AG418","v":0},{"$f":"Inputs!AH418","v":0},{"$f":"Inputs!AI418","v":0},{"$f":"Inputs!AJ418","v":0},{"$f":"Inputs!AK418","v":25.088000000000001},{"$f":"Inputs!AL418","v":0},{"$f":"Inputs!AM418","v":0},{"$f":"Inputs!AN418","v":24.655999999999999},{"$f":"Inputs!AO418","v":24.655999999999999},{"$f":"Inputs!AP418","v":24.655999999999999},{"$f":"Inputs!AQ418","v":0},{"$f":"Inputs!AR418","v":0},{"$f":"Inputs!AS418","v":0},{"$f":"Inputs!AT418","v":0},{"$f":"Inputs!AU418","v":25.088000000000001},{"$f":"Inputs!AV418","v":0},{"$f":"Inputs!AW418","v":0},{"$f":"Inputs!AX418","v":24.655999999999999},{"$f":"Inputs!AY418","v":24.655999999999999},{"$f":"Inputs!AZ418","v":24.655999999999999}]
[null,null,null,null,null,null,null,null,null,null,null,"Above ground residue, %",null,null,null,null,null,{"$f":"Inputs!C419","v":0},{"$f":"Inputs!D419","v":38},{"$f":"Inputs!E419","v":0},{"$f":"Inputs!F419","v":0},{"$f":"Inputs!G419","v":0},{"$f":"Inputs!H419","v":0},{"$f":"Inputs!I419","v":0},{"$f":"Inputs!J419","v":0},{"$f":"Inputs!K419","v":0},{"$f":"Inputs!L419","v":0},{"$f":"Inputs!M419","v":45},{"$f":"Inputs!N419","v":38},{"$f":"Inputs!O419","v":0},{"$f":"Inputs!P419","v":8},{"$f":"Inputs!Q419","v":0},{"$f":"Inputs!R419","v":0},{"$f":"Inputs!S419","v":0},{"$f":"Inputs!T419","v":0},{"$f":"Inputs!U419","v":0},{"$f":"Inputs!V419","v":0},{"$f":"Inputs!W419","v":8},{"$f":"Inputs!X419","v":38},{"$f":"Inputs!Y419","v":0},{"$f":"Inputs!Z419","v":0},{"$f":"Inputs!AA419","v":0},{"$f":"Inputs!AB419","v":0},{"$f":"Inputs!AC419","v":0},{"$f":"Inputs!AD419","v":0},{"$f":"Inputs!AE419","v":0},{"$f":"Inputs!AF419","v":0},{"$f":"Inputs!AG419","v":8},{"$f":"Inputs!AH419","v":38},{"$f":"Inputs!AI419","v":0},{"$f":"Inputs!AJ419","v":8},{"$f":"Inputs!AK419","v":45},{"$f":"Inputs!AL419","v":38},{"$f":"Inputs!AM419","v":0},{"$f":"Inputs!AN419","v":0},{"$f":"Inputs!AO419","v":0},{"$f":"Inputs!AP419","v":0},{"$f":"Inputs!AQ419","v":8},{"$f":"Inputs!AR419","v":38},{"$f":"Inputs!AS419","v":0},{"$f":"Inputs!AT419","v":8},{"$f":"Inputs!AU419","v":45},{"$f":"Inputs!AV419","v":0},{"$f":"Inputs!AW419","v":0},{"$f":"Inputs!AX419","v":0},{"$f":"Inputs!AY419","v":0},{"$f":"Inputs!AZ419","v":0}]
[null,null,null,null,null,null,null,null,null,null,null,"N Above ground residue, g N/kg",null,null,null,null,null,{"$f":"Inputs!C420","v":0},{"$f":"Inputs!D420","v":5},{"$f":"Inputs!E420","v":0},{"$f":"Inputs!F420","v":0},{"$f":"Inputs!G420","v":0},{"$f":"Inputs!H420","v":0},{"$f":"Inputs!I420","v":0},{"$f":"Inputs!J420","v":0},{"$f":"Inputs!K420","v":0},{"$f":"Inputs!L420","v":0},{"$f":"Inputs!M420","v":6},{"$f":"Inputs!N420","v":5},{"$f":"Inputs!O420","v":0},{"$f":"Inputs!P420","v":13},{"$f":"Inputs!Q420","v":0},{"$f":"Inputs!R420","v":0},{"$f":"Inputs!S420","v":0},{"$f":"Inputs!T420","v":0},{"$f":"Inputs!U420","v":0},{"$f":"Inputs!V420","v":0},{"$f":"Inputs!W420","v":13},{"$f":"Inputs!X420","v":5},{"$f":"Inputs!Y420","v":0},{"$f":"Inputs!Z420","v":0},{"$f":"Inputs!AA420","v":0},{"$f":"Inputs!AB420","v":0},{"$f":"Inputs!AC420","v":0},{"$f":"Inputs!AD420","v":0},{"$f":"Inputs!AE420","v":0},{"$f":"Inputs!AF420","v":0},{"$f":"Inputs!AG420","v":13},{"$f":"Inputs!AH420","v":5},{"$f":"Inputs!AI420","v":0},{"$f":"Inputs!AJ420","v":13},{"$f":"Inputs!AK420","v":6},{"$f":"Inputs!AL420","v":5},{"$f":"Inputs!AM420","v":0},{"$f":"Inputs!AN420","v":0},{"$f":"Inputs!AO420","v":0},{"$f":"Inputs!AP420","v":0},{"$f":"Inputs!AQ420","v":13},{"$f":"Inputs!AR420","v":5},{"$f":"Inputs!AS420","v":0},{"$f":"Inputs!AT420","v":13},{"$f":"Inputs!AU420","v":6},{"$f":"Inputs!AV420","v":6},{"$f":"Inputs!AW420","v":0},{"$f":"Inputs!AX420","v":0},{"$f":"Inputs!AY420","v":0},{"$f":"Inputs!AZ420","v":0}]
[null,null,null,null,null,null,null,null,null,null,null,"Below ground residue, %",null,null,null,null,null,{"$f":"Inputs!C421","v":0},{"$f":"Inputs!D421","v":15},{"$f":"Inputs!E421","v":0},{"$f":"Inputs!F421","v":0},{"$f":"Inputs!G421","v":0},{"$f":"Inputs!H421","v":0},{"$f":"Inputs!I421","v":0},{"$f":"Inputs!J421","v":0},{"$f":"Inputs!K421","v":0},{"$f":"Inputs!L421","v":0},{"$f":"Inputs!M421","v":25},{"$f":"Inputs!N421","v":15},{"$f":"Inputs!O421","v":0},{"$f":"Inputs!P421","v":20},{"$f":"Inputs!Q421","v":0},{"$f":"Inputs!R421","v":0},{"$f":"Inputs!S421","v":0},{"$f":"Inputs!T421","v":0},{"$f":"Inputs!U421","v":0},{"$f":"Inputs!V421","v":0},{"$f":"Inputs!W421","v":20},{"$f":"Inputs!X421","v":15},{"$f":"Inputs!Y421","v":0},{"$f":"Inputs!Z421","v":0},{"$f":"Inputs!AA421","v":0},{"$f":"Inputs!AB421","v":0},{"$f":"Inputs!AC421","v":0},{"$f":"Inputs!AD421","v":0},{"$f":"Inputs!AE421","v":0},{"$f":"Inputs!AF421","v":0},{"$f":"Inputs!AG421","v":20},{"$f":"Inputs!AH421","v":15},{"$f":"Inputs!AI421","v":0},{"$f":"Inputs!AJ421","v":20},{"$f":"Inputs!AK421","v":25},{"$f":"Inputs!AL421","v":15},{"$f":"Inputs!AM421","v":0},{"$f":"Inputs!AN421","v":0},{"$f":"Inputs!AO421","v":0},{"$f":"Inputs!AP421","v":0},{"$f":"Inputs!AQ421","v":20},{"$f":"Inputs!AR421","v":15},{"$f":"Inputs!AS421","v":0},{"$f":"Inputs!AT421","v":20},{"$f":"Inputs!AU421","v":25},{"$f":"Inputs!AV421","v":15},{"$f":"Inputs!AW421","v":0},{"$f":"Inputs!AX421","v":0},{"$f":"Inputs!AY421","v":0},{"$f":"Inputs!AZ421","v":0}]
[null,null,null,null,null,null,null,null,null,null,null,"N Below ground residue, g N/kg",null,null,null,null,null,{"$f":"Inputs!C422","v":0},{"$f":"Inputs!D422","v":7},{"$f":"Inputs!E422","v":0},{"$f":"Inputs!F422","v":0},{"$f":"Inputs!G422","v":0},{"$f":"Inputs!H422","v":0},{"$f":"Inputs!I422","v":0},{"$f":"Inputs!J422","v":0},{"$f":"Inputs!K422","v":0},{"$f":"Inputs!L422","v":0},{"$f":"Inputs!M422","v":10},{"$f":"Inputs!N422","v":7},{"$f":"Inputs!O422","v":0},{"$f":"Inputs!P422","v":7},{"$f":"Inputs!Q422","v":0},{"$f":"Inputs!R422","v":0},{"$f":"Inputs!S422","v":0},{"$f":"Inputs!T422","v":0},{"$f":"Inputs!U422","v":0},{"$f":"Inputs!V422","v":0},{"$f":"Inputs!W422","v":7},{"$f":"Inputs!X422","v":7},{"$f":"Inputs!Y422","v":0},{"$f":"Inputs!Z422","v":0},{"$f":"Inputs!AA422","v":0},{"$f":"Inputs!AB422","v":0},{"$f":"Inputs!AC422","v":0},{"$f":"Inputs!AD422","v":0},{"$f":"Inputs!AE422","v":0},{"$f":"Inputs!AF422","v":0},{"$f":"Inputs!AG422","v":7},{"$f":"Inputs!AH422","v":7},{"$f":"Inputs!AI422","v":0},{"$f":"Inputs!AJ422","v":7},{"$f":"Inputs!AK422","v":10},{"$f":"Inputs!AL422","v":7},{"$f":"Inputs!AM422","v":0},{"$f":"Inputs!AN422","v":0},{"$f":"Inputs!AO422","v":0},{"$f":"Inputs!AP422","v":0},{"$f":"Inputs!AQ422","v":7},{"$f":"Inputs!AR422","v":7},{"$f":"Inputs!AS422","v":0},{"$f":"Inputs!AT422","v":7},{"$f":"Inputs!AU422","v":10},{"$f":"Inputs!AV422","v":10},{"$f":"Inputs!AW422","v":0},{"$f":"Inputs!AX422","v":0},{"$f":"Inputs!AY422","v":0},{"$f":"Inputs!AZ422","v":0}]
[null,null,null,null,null,null,null,null,null,null,null,"N residues, kg/ha",{"$f":"SUM(R485:AA485)/MAX(R$392:AA$392)","v":52.412809826716398},{"$f":"SUM(AB485:AK485)/MAX($AB$392:$AK$392)","v":57.312585271490093},{"$f":"SUM(AL485:AU485)/MAX($AL$392:$AU$392)","v":24.157082091445925},{"$f":"SUM(AV485:BE485)/MAX($AV$392:$BE$392)","v":36.712096449313073},{"$f":"SUM(BF485:BO485)/MAX($BF$392:$BO$392)","v":30.173381818911672},{"$f":"(R482*R481%+R484*R483%)*R473/(100-R481-R483)%","v":0},52.412809826716398,0,0,0,0,0,0,0,0,51.106529209621989,58.236455363018216,{"$f":"(AD482*AD481%+AD484*AD483%)*AD473/(100-AD481-AD483)%","v":0},62.594771241830067,0,0,0,0,0,0,65.784313725490208,55.001096731739423,0,0,0,0,0,0,0,0,65.784313725490208,55.259925422241722,{"$f":"(AX482*AX481%+AX484*AX483%)*AX473/(100-AX481-AX483)%","v":0},62.594771241830067,51.821305841924399,58.236455363018216,0,0,0,0,65.784313725490208,55.001096731739423,0,62.594771241830067,51.821305841924399,6.1855670103092786,0,0,0,0]
[null,null,null,null,null,null,null,null,null,null,null,"Fuel consumption, L/ha",{"$f":"SUM(R486:AA486)/MAX(R$472:AA$472)","v":58.6},{"$f":"SUM(AB486:AK486)/MAX($AB$472:$AK$472)","v":73.266666666666666},{"$f":"SUM(AL486:AU486)/MAX($AL$472:$AU$472)","v":91.12},{"$f":"SUM(AV486:BE486)/MAX($AV$472:$BE$472)","v":84.424999999999997},{"$f":"SUM(BF486:BO486)/MAX($BF$472:$BO$472)","v":82.887499999999989},{"$f":"Inputs!C423","v":0},{"$f":"Inputs!D423","v":58.6},{"$f":"Inputs!E423","v":0},{"$f":"Inputs!F423","v":0},{"$f":"Inputs!G423","v":0},{"$f":"Inputs!H423","v":0},{"$f":"Inputs!I423","v":0},{"$f":"Inputs!J423","v":0},{"$f":"Inputs!K423","v":0},{"$f":"Inputs!L423","v":0},{"$f":"Inputs!M423","v":60.1},{"$f":"Inputs!N423","v":58.6},{"$f":"Inputs!O423","v":0},{"$f":"Inputs!P423","v":101.1},{"$f":"Inputs!Q423","v":0},{"$f":"Inputs!R423","v":0},{"$f":"Inputs!S423","v":0},{"$f":"Inputs!T423","v":0},{"$f":"Inputs!U423","v":0},{"$f":"Inputs!V423","v":0},{"$f":"Inputs!W423","v":101.1},{"$f":"Inputs!X423","v":58.6},{"$f":"Inputs!Y423","v":0},{"$f":"Inputs!Z423","v":49.3},{"$f":"Inputs!AA423","v":123.3},{"$f":"Inputs!AB423","v":123.3},{"$f":"Inputs!AC423","v":0},{"$f":"Inputs!AD423","v":0},{"$f":"Inputs!AE423","v":0},{"$f":"Inputs!AF423","v":0},{"$f":"Inputs!AG423","v":101.1},{"$f":"Inputs!AH423","v":58.6},{"$f":"Inputs!AI423","v":0},{"$f":"Inputs!AJ423","v":101.1},{"$f":"Inputs!AK423","v":60.1},{"$f":"Inputs!AL423","v":58.6},{"$f":"Inputs!AM423","v":0},{"$f":"Inputs!AN423","v":49.3},{"$f":"Inputs!AO423","v":123.3},{"$f":"Inputs!AP423","v":123.3},{"$f":"Inputs!AQ423","v":101.1},{"$f":"Inputs!AR423","v":58.6},{"$f":"Inputs!AS423","v":0},{"$f":"Inputs!AT423","v":101.1},{"$f":"Inputs!AU423","v":60.1},{"$f":"Inputs!AV423","v":46.3},{"$f":"Inputs!AW423","v":0},{"$f":"Inputs!AX423","v":49.3},{"$f":"Inputs!AY423","v":123.3},{"$f":"Inputs!AZ423","v":123.3}]
[null,null,null,null,null,null,null,null,null,null,null,"Variable costs  w/o fertilizer, $/ha",{"$f":"SUM(R487:AA487)/MAX(R$472:AA$472)","v":800.65},{"$f":"SUM(AB487:AK487)/MAX($AB$472:$AK$472)","v":561.43999999999994},{"$f":"SUM(AL487:AU487)/MAX($AL$472:$AU$472)","v":528.16999999999996},{"$f":"SUM(AV487:BE487)/MAX($AV$472:$BE$472)","v":540.64625000000001},{"$f":"SUM(BF487:BO487)/MAX($BF$472:$BO$472)","v":540.33249999999998},{"$f":"Inputs!C424","v":0},{"$f":"Inputs!D424","v":800.65},{"$f":"Inputs!E424","v":0},{"$f":"Inputs!F424","v":0},{"$f":"Inputs!G424","v":0},{"$f":"Inputs!H424","v":0},{"$f":"Inputs!I424","v":0},{"$f":"Inputs!J424","v":0},{"$f":"Inputs!K424","v":0},{"$f":"Inputs!L424","v":0},{"$f":"Inputs!M424","v":454.48},{"$f":"Inputs!N424","v":724.41},{"$f":"Inputs!O424","v":0},{"$f":"Inputs!P424","v":505.43},{"$f":"Inputs!Q424","v":0},{"$f":"Inputs!R424","v":0},{"$f":"Inputs!S424","v":0},{"$f":"Inputs!T424","v":0},{"$f":"Inputs!U424","v":0},{"$f":"Inputs!V424","v":0},{"$f":"Inputs!W424","v":486.38},{"$f":"Inputs!X424","v":800.65},{"$f":"Inputs!Y424","v":0},{"$f":"Inputs!Z424","v":578.94000000000005},{"$f":"Inputs!AA424","v":387.44},{"$f":"Inputs!AB424","v":387.44},{"$f":"Inputs!AC424","v":0},{"$f":"Inputs!AD424","v":0},{"$f":"Inputs!AE424","v":0},{"$f":"Inputs!AF424","v":0},{"$f":"Inputs!AG424","v":486.38},{"$f":"Inputs!AH424","v":800.65},{"$f":"Inputs!AI424","v":0},{"$f":"Inputs!AJ424","v":505.43},{"$f":"Inputs!AK424","v":454.48},{"$f":"Inputs!AL424","v":724.41},{"$f":"Inputs!AM424","v":0},{"$f":"Inputs!AN424","v":578.94000000000005},{"$f":"Inputs!AO424","v":387.44},{"$f":"Inputs!AP424","v":387.44},{"$f":"Inputs!AQ424","v":486.38},{"$f":"Inputs!AR424","v":800.65},{"$f":"Inputs!AS424","v":0},{"$f":"Inputs!AT424","v":505.43},{"$f":"Inputs!AU424","v":454.48},{"$f":"Inputs!AV424","v":360.95},{"$f":"Inputs!AW424","v":360.95},{"$f":"Inputs!AX424","v":578.94000000000005},{"$f":"Inputs!AY424","v":387.44},{"$f":"Inputs!AZ424","v":387.44}]
[null,null,null,null,null,null,null,null,null,null,null,"Variable costs, $/t",{"$f":"SUM(R488:AA488)/MAX(R$472:AA$472)","v":0},{"$f":"SUM(AB488:AK488)/MAX($AB$472:$AK$472)","v":0},{"$f":"SUM(AL488:AU488)/MAX($AL$472:$AU$472)","v":0},{"$f":"SUM(AV488:BE488)/MAX($AV$472:$BE$472)","v":0},{"$f":"SUM(BF488:BO488)/MAX($BF$472:$BO$472)","v":0},{"$f":"Inputs!C425","v":0},{"$f":"Inputs!D425","v":0},{"$f":"Inputs!E425","v":0},{"$f":"Inputs!F425","v":0},{"$f":"Inputs!G425","v":0},{"$f":"Inputs!H425","v":0},{"$f":"Inputs!I425","v":0},{"$f":"Inputs!J425","v":0},{"$f":"Inputs!K425","v":0},{"$f":"Inputs!L425","v":0},{"$f":"Inputs!M425","v":0},{"$f":"Inputs!N425","v":0},{"$f":"Inputs!O425","v":0},{"$f":"Inputs!P425","v":0},{"$f":"Inputs!Q425","v":0},{"$f":"Inputs!R425","v":0},{"$f":"Inputs!S425","v":0},{"$f":"Inputs!T425","v":0},{"$f":"Inputs!U425","v":0},{"$f":"Inputs!V425","v":0},{"$f":"Inputs!W425","v":0},{"$f":"Inputs!X425","v":0},{"$f":"Inputs!Y425","v":0},{"$f":"Inputs!Z425","v":0},{"$f":"Inputs!AA425","v":0},{"$f":"Inputs!AB425","v":0},{"$f":"Inputs!AC425","v":0},{"$f":"Inputs!AD425","v":0},{"$f":"Inputs!AE425","v":0},{"$f":"Inputs!AF425","v":0},{"$f":"Inputs!AG425","v":0},{"$f":"Inputs!AH425","v":0},{"$f":"Inputs!AI425","v":0},{"$f":"Inputs!AJ425","v":0},{"$f":"Inputs!AK425","v":0},{"$f":"Inputs!AL425","v":0},{"$f":"Inputs!AM425","v":0},{"$f":"Inputs!AN425","v":0},{"$f":"Inputs!AO425","v":0},{"$f":"Inputs!AP425","v":0},{"$f":"Inputs!AQ425","v":0},{"$f":"Inputs!AR425","v":0},{"$f":"Inputs!AS425","v":0},{"$f":"Inputs!AT425","v":0},{"$f":"Inputs!AU425","v":0},{"$f":"Inputs!AV425","v":0},{"$f":"Inputs!AW425","v":0},{"$f":"Inputs!AX425","v":0},{"$f":"Inputs!AY425","v":0},{"$f":"Inputs!AZ425","v":0}]
[null,null,null,null,null,null,null,null,null,null,null,"Cost $/ha",{"$f":"SUM(R489:AA489)/MAX(R$472:AA$472)","v":800.65},{"$f":"SUM(AB489:AK489)/MAX($AB$472:$AK$472)","v":561.43999999999994},{"$f":"SUM(AL489:AU489)/MAX($AL$472:$AU$472)","v":528.16999999999996},{"$f":"SUM(AV489:BE489)/MAX($AV$472:$BE$472)","v":535.76499999999999},{"$f":"SUM(BF489:BO489)/MAX($BF$472:$BO$472)","v":515.33249999999998},{"$f":"Inputs!C426","v":0},{"$f":"Inputs!D426","v":800.65},{"$f":"Inputs!E426","v":0},{"$f":"Inputs!F426","v":0},{"$f":"Inputs!G426","v":0},{"$f":"Inputs!H426","v":0},{"$f":"Inputs!I426","v":0},{"$f":"Inputs!J426","v":0},{"$f":"Inputs!K426","v":0},{"$f":"Inputs!L426","v":0},{"$f":"Inputs!M426","v":454.48},{"$f":"Inputs!N426","v":724.41},{"$f":"Inputs!O426","v":0},{"$f":"Inputs!P426","v":505.43},{"$f":"Inputs!Q426","v":0},{"$f":"Inputs!R426","v":0},{"$f":"Inputs!S426","v":0},{"$f":"Inputs!T426","v":0},{"$f":"Inputs!U426","v":0},{"$f":"Inputs!V426","v":0},{"$f":"Inputs!W426","v":486.38},{"$f":"Inputs!X426","v":800.65},{"$f":"Inputs!Y426","v":0},{"$f":"Inputs!Z426","v":578.94000000000005},{"$f":"Inputs!AA426","v":387.44},{"$f":"Inputs!AB426","v":387.44},{"$f":"Inputs!AC426","v":0},{"$f":"Inputs!AD426","v":0},{"$f":"Inputs!AE426","v":0},{"$f":"Inputs!AF426","v":0},{"$f":"Inputs!AG426","v":447.33},{"$f":"Inputs!AH426","v":800.65},{"$f":"Inputs!AI426","v":0},{"$f":"Inputs!AJ426","v":505.43},{"$f":"Inputs!AK426","v":454.48},{"$f":"Inputs!AL426","v":724.41},{"$f":"Inputs!AM426","v":0},{"$f":"Inputs!AN426","v":578.94000000000005},{"$f":"Inputs!AO426","v":387.44},{"$f":"Inputs!AP426","v":387.44},{"$f":"Inputs!AQ426","v":486.38},{"$f":"Inputs!AR426","v":800.65},{"$f":"Inputs!AS426","v":0},{"$f":"Inputs!AT426","v":505.43},{"$f":"Inputs!AU426","v":454.48},{"$f":"Inputs!AV426","v":360.95},{"$f":"Inputs!AW426","v":160.94999999999999},{"$f":"Inputs!AX426","v":578.94000000000005},{"$f":"Inputs!AY426","v":387.44},{"$f":"Inputs!AZ426","v":387.44}]
[]
[]
[null,null,null,null,null,null,null,null,null,null,"Drinking Water Inputs",null,null,null,"Animal Group"]
[null,null,null,null,null,null,null,null,null,null,null,null,1,2,3,4,5]
[null,null,null,null,null,null,null,null,null,null,null,"FWI, kg/d",{"$f":"(12.3+2.15*Inputs!D$120+0.73*Inputs!C$61)","v":93.469729547018403},{"$f":"(12.3+2.15*Inputs!E$120+0.73*Inputs!D$61)","v":74.652617678528998},{"$f":"(12.3+2.15*Inputs!F$120)","v":36.448799999999999},{"$f":"(12.3+2.15*Inputs!G$120)","v":23.103991659999998},{"$f":"(12.3+2.15*Inputs!H$120)","v":38.967949936240018}]
[null,null,null,null,null,null,null,null,null,null,null,"K, g/d",{"$f":"M$494*Inputs!$C239/1000","v":0.46734864773509199},{"$f":"N$494*Inputs!$C239/1000","v":0.37326308839264499},{"$f":"O$494*Inputs!$C239/1000","v":0.18224399999999999},{"$f":"P$494*Inputs!$C239/1000","v":0.11551995829999999},{"$f":"Q$494*Inputs!$C239/1000","v":0.1948397496812001}]
[null,null,null,null,null,null,null,null,null,null,null,"Na, g/d",{"$f":"M$494*Inputs!$C240/1000","v":6.9167599864793621},{"$f":"N$494*Inputs!$C240/1000","v":5.5242937082111458},{"$f":"O$494*Inputs!$C240/1000","v":2.6972111999999999},{"$f":"P$494*Inputs!$C240/1000","v":1.7096953828399999},{"$f":"Q$494*Inputs!$C240/1000","v":2.8836282952817616}]
[null,null,null,null,null,null,null,null,null,null,null,"Cl, g/d",{"$f":"M$494*Inputs!$C241/1000","v":7.0102297160263802},{"$f":"N$494*Inputs!$C241/1000","v":5.598946325889675},{"$f":"O$494*Inputs!$C241/1000","v":2.73366},{"$f":"P$494*Inputs!$C241/1000","v":1.7327993744999999},{"$f":"Q$494*Inputs!$C241/1000","v":2.9225962452180014}]
[null,null,null,null,null,null,null,null,null,null,null,"S, g/d",{"$f":"M$494*Inputs!$C242/1000","v":1.7759248613933496},{"$f":"N$494*Inputs!$C242/1000","v":1.418399735892051},{"$f":"O$494*Inputs!$C242/1000","v":0.69252720000000001},{"$f":"P$494*Inputs!$C242/1000","v":0.43897584153999997},{"$f":"Q$494*Inputs!$C242/1000","v":0.74039104878856032}]

{"sheet":"Outputs","index":5,"n_rows":181,"n_cols":32,"rows_kept":181,"cut":false,"hidden":false,"merged":[]}
["INSTRUCTIONS:"]
[null,"This worksheet provides a summary of your simulation. You can print and/or save this one-page output as a pdf document for further use. "]
[null,"Before printing and/or saving this output sheet make sure that the correct OBJECTIVE option button is selected. Also, enter any comments in the",null,null,null,null,null,null,null,null,null,null,"user-modified box",null," that may be helpful for future reference."]
[null,null,null,null,null,null,null," "]
["INTERPRETATION OF OUTPUTS:"]
[null,"Box 1 provides the simulation characteristics (click boxes as appropriate) and a space for optional \"comments\" related to this particular simulation. It includes also farm description as entered in your scenario."]
[null,"Box 2 provides farm incomes and expenses expressed as $/hl (to compared across scenarios), S/yr (to compare \"what if\" within a scenario). To study economic impact of various management strategies,"]
[null,"          this box includes also items expressed as a percent of total expenses (Prct t.e.) and as a percent of optimized expenses (Prct o.v.)."]
[null,"Boxes 3, 4, and 5 provide P, N, and K balances and contribution of individual items.  Results are expressed as kg/hl, kg/yr and kg/ha; This box also provides the export to import ratio of the nutrient."]
[null,"Box 6 provides the hectares of itemized crops in each land unit and for the farm.  This box also provides the total yields of each crop and whether it will be used as \"homegrown feed\" or sold off the farm."]
[null,"Box 7 provides the rotation to apply to each land unit and the amount of fertilizers and manure to apply annually.  This box provides also the excess of nutrient application and the maximum excess allowed."]
[null,"Box 8 provides a description of the ration for each group of animal (percentage of ration ingredients and chemical composition). Note the following code in the format of the composition section:"]
[null,"Box 9 provides manure excretion (urine and feces) and manure nutrient excretion (g/animal/d and t/y) for each group of animals."]
[null,"Box 10 shows the manure balance. The manure must be (preferably) used on the cropland or if not possible, then exported to a pre-set maximum limit."]
[null,"Box 11 provides a description of the fate of the manure nutrients including losses and estimates of efficiencies of recycling manure nutrients into crops."]
[]
["CONVENTIONS USED IN CREATING THIS OUTPUT:"]
[null,"1- In the balance section, the items (text and numbers) in italic are those that are Not subjected to optimization by N-CyCLE. "]
[null,"2- The following code was used to highlight constraints that were \"binding\" (i.e., whose value was set by either an lower or an upper limit as described in the scenario:"]
[null,null,null,null,"xx.x","indicates a value that lies between the lower limit (minimum desired) and upper limit of the ration description set in your scenario"]
[null,null,null,null,"xx.x","indicates a value that meets the lower limit (minimum desired) and thus was \"binding\" in finding the solution"]
[null,null,null,null,"xx.x","indicates a value that meets the upper limit (maximum allowed) and thus was \"binding\" in finding the solution"]
[]
[]
[null,"1- SIMULATION","Comments:","Wisconsin",null,null,null,null,null,null,null,null,"8- Winter diet","Grp 1","Grp 2","Grp 3","Grp 4","Grp 5",null,"Summer diet","Grp 1","Grp 2","Grp 3","Grp 4","Grp 5",null,null,"FEED (t DM /yr)"]
[null,"SCENARIO",null,"Max income",null,null,null,null,null,null,null,null,"Feeds (% DM)",{"$f":"SUM(N27:N52)","v":100},{"$f":"SUM(O27:O52)","v":100.00000000000001},{"$f":"SUM(P27:P52)","v":100.00000000000001},{"$f":"SUM(Q27:Q52)","v":99.999999999999986},{"$f":"SUM(R27:R52)","v":100.00000000000001},null,"Feeds (% DM)",{"$f":"SUM(U27:U52)","v":0},{"$f":"SUM(V27:V52)","v":0},{"$f":"SUM(W27:W52)","v":0},{"$f":"SUM(X27:X52)","v":0},{"$f":"SUM(Y27:Y52)","v":0},null,null,"HmGrwn","Purchase"]
[null,{"$f":"IF(Optimization!C424=1,\"WISCONSIN\",\"QUEBEC\")","v":"WISCONSIN"},null,"Animals",null,null,"Heads","Ani. Unit","Land Unit","Hectares","Density",null,{"$f":"IF(SUM(N27:R27)>0,Optimization!B110,\"\")","v":""},{"$f":"IF(Optimization!B111=0,\"\",Optimization!B111/Optimization!AB111*100)","v":""},{"$f":"IF(Optimization!B112=0,\"\",Optimization!B112/Optimization!AB112*100)","v":""},{"$f":"IF(Optimization!B113=0,\"\",Optimization!B113/Optimization!AB113*100)","v":""},{"$f":"IF(Optimization!B114=0,\"\",Optimization!B114/Optimization!AB114*100)","v":""},{"$f":"IF(Optimization!B115=0,\"\",Optimization!B115/Optimization!AB115*100)","v":""},null,{"$f":"IF(SUM(U27:Y27)>0,Optimization!B110,\"\")","v":""},{"$f":"IF(Optimization!B160=0,\"\",Optimization!B160/Optimization!AB160*100)","v":""},{"$f":"IF(Optimization!B161=0,\"\",Optimization!B161/Optimization!AB161*100)","v":""},{"$f":"IF(Optimization!B162=0,\"\",Optimization!B162/Optimization!AB162*100)","v":""},{"$f":"IF(Optimization!B163=0,\"\",Optimization!B163/Optimization!AB163*100)","v":""},{"$f":"IF(Optimization!B161=0,\"\",Optimization!B161/Optimization!AB161*100)","v":""},null,{"$f":"IF(AND(AB27=\"\",AC27=\"\"),\"\",Optimization!B$110)","v":""},{"$f":"IF(Optimization!B$152=0,\"\",IF(OR(Optimization!B$152>Optimization!B144,Optimization!B$152=Optimization!B144),Optimization!B144,Optimization!B152))","v":""},{"$f":"IF(Optimization!B$153<-0.01,Optimization!B$153*-1,\"\")","v":""}]
[null,null,null,{"$f":"Inputs!C57","v":"Early lactation"},null,{"$f":"N25","v":"Grp 1"},{"$f":"Inputs!D115","v":38},{"$f":"Inputs!D115*Inputs!C60/454","v":52.229074889867839},{"$f":"IF(Optimization!M380>0,Optimization!L380,\" \")","v":"LU 1"},{"$f":"IF(Optimization!M380>0,Optimization!M380,\" \")","v":50.4},"AU/ha crop",null,{"$f":"IF(SUM(N28:R28)>0,Optimization!C110,\"\")","v":"CoSi-35"},{"$f":"IF(Optimization!C111=0,\"\",Optimization!C111/Optimization!AB111*100)","v":39.999999999999822},{"$f":"IF(Optimization!C112=0,\"\",Optimization!C112/Optimization!AB112*100)","v":40.000000000000263},{"$f":"IF(Optimization!C113=0,\"\",Optimization!C113/Optimization!AB113*100)","v":39.999999999999922},{"$f":"IF(Optimization!C114=0,\"\",Optimization!C114/Optimization!AB114*100)","v":39.999999999998224},{"$f":"IF(Optimization!C115=0,\"\",Optimization!C115/Optimization!AB115*100)","v":40.000000000000185},null,{"$f":"IF(SUM(U28:Y28)>0,Optimization!C110,\"\")","v":""},{"$f":"IF(Optimization!C160=0,\"\",Optimization!C160/Optimization!AB160*100)","v":""},{"$f":"IF(Optimization!C161=0,\"\",Optimization!C161/Optimization!AB161*100)","v":""},{"$f":"IF(Optimization!C162=0,\"\",Optimization!C162/Optimization!AB162*100)","v":""},{"$f":"IF(Optimization!C163=0,\"\",Optimization!C163/Optimization!AB163*100)","v":""},{"$f":"IF(Optimization!C161=0,\"\",Optimization!C161/Optimization!AB161*100)","v":""},null,{"$f":"IF(AND(AB28=\"\",AC28=\"\"),\"\",Optimization!C$110)","v":"CoSi-35"},{"$f":"IF(Optimization!C$152=0,\"\",IF(OR(Optimization!C$152>Optimization!C144,Optimization!C$152=Optimization!C144),Optimization!C144,Optimization!C152))","v":442.07883395711616},{"$f":"IF(Optimization!C$153<-0.01,Optimization!C$153*-1,\"\")","v":""}]
[null,null,null,{"$f":"Inputs!D57","v":"Mid-late lac."},null,{"$f":"O25","v":"Grp 2"},{"$f":"Inputs!E115","v":54},{"$f":"Inputs!E115*Inputs!D60/454","v":74.220264317180622},{"$f":"IF(Optimization!M381>0,Optimization!L381,\" \")","v":" "},{"$f":"IF(Optimization!M381>0,Optimization!M381,\" \")","v":" "},{"$f":"((SUMPRODUCT(Inputs!D115:H115,Inputs!C60:G60))/454/Inputs!C318)","v":1.389080749083474},null,{"$f":"IF(SUM(N29:R29)>0,Optimization!D110,\"\")","v":"AlSi-83"},{"$f":"IF(Optimization!D111=0,\"\",Optimization!D111/Optimization!AB111*100)","v":10.603768304104383},{"$f":"IF(Optimization!D112=0,\"\",Optimization!D112/Optimization!AB112*100)","v":12.828636688969992},{"$f":"IF(Optimization!D113=0,\"\",Optimization!D113/Optimization!AB113*100)","v":49.771973200148118},{"$f":"IF(Optimization!D114=0,\"\",Optimization!D114/Optimization!AB114*100)","v":32.756668631860833},{"$f":"IF(Optimization!D115=0,\"\",Optimization!D115/Optimization!AB115*100)","v":49.297983617933461},null,{"$f":"IF(SUM(U29:Y29)>0,Optimization!D110,\"\")","v":""},{"$f":"IF(Optimization!D160=0,\"\",Optimization!D160/Optimization!AB160*100)","v":""},{"$f":"IF(Optimization!D161=0,\"\",Optimization!D161/Optimization!AB161*100)","v":""},{"$f":"IF(Optimization!D162=0,\"\",Optimization!D162/Optimization!AB162*100)","v":""},{"$f":"IF(Optimization!D163=0,\"\",Optimization!D163/Optimization!AB163*100)","v":""},{"$f":"IF(Optimization!D161=0,\"\",Optimization!D161/Optimization!AB161*100)","v":""},null,{"$f":"IF(AND(AB29=\"\",AC29=\"\"),\"\",Optimization!D$110)","v":"AlSi-83"},{"$f":"IF(Optimization!D$152=0,\"\",IF(OR(Optimization!D$152>Optimization!D144,Optimization!D$152=Optimization!D144),Optimization!D144,Optimization!D152))","v":244.1103129622677},{"$f":"IF(Optimization!D$153<-0.01,Optimization!D$153*-1,\"\")","v":""}]
[null,null,null,{"$f":"Inputs!E57","v":"Dry cows"},null,{"$f":"P25","v":"Grp 3"},{"$f":"Inputs!F115","v":15},{"$f":"Inputs!F115*Inputs!E60/454","v":20.616740088105725},{"$f":"IF(Optimization!M382>0,Optimization!L382,\" \")","v":"LU 3"},{"$f":"IF(Optimization!M382>0,Optimization!M382,\" \")","v":50.4},"cow/ha",null,{"$f":"IF(SUM(N30:R30)>0,Optimization!E110,\"\")","v":"MxSi-74"},{"$f":"IF(Optimization!E111=0,\"\",Optimization!E111/Optimization!AB111*100)","v":""},{"$f":"IF(Optimization!E112=0,\"\",Optimization!E112/Optimization!AB112*100)","v":30.992004663906918},{"$f":"IF(Optimization!E113=0,\"\",Optimization!E113/Optimization!AB113*100)","v":""},{"$f":"IF(Optimization!E114=0,\"\",Optimization!E114/Optimization!AB114*100)","v":10.774833263603877},{"$f":"IF(Optimization!E115=0,\"\",Optimization!E115/Optimization!AB115*100)","v":4.7004540193454982},null,{"$f":"IF(SUM(U30:Y30)>0,Optimization!E110,\"\")","v":""},{"$f":"IF(Optimization!E160=0,\"\",Optimization!E160/Optimization!AB160*100)","v":""},{"$f":"IF(Optimization!E161=0,\"\",Optimization!E161/Optimization!AB161*100)","v":""},{"$f":"IF(Optimization!E162=0,\"\",Optimization!E162/Optimization!AB162*100)","v":""},{"$f":"IF(Optimization!E163=0,\"\",Optimization!E163/Optimization!AB163*100)","v":""},{"$f":"IF(Optimization!E161=0,\"\",Optimization!E161/Optimization!AB161*100)","v":""},null,{"$f":"IF(AND(AB30=\"\",AC30=\"\"),\"\",Optimization!E$110)","v":"MxSi-74"},{"$f":"IF(Optimization!E$152=0,\"\",IF(OR(Optimization!E$152>Optimization!E144,Optimization!E$152=Optimization!E144),Optimization!E144,Optimization!E152))","v":149.61599826718529},{"$f":"IF(Optimization!E$153<-0.01,Optimization!E$153*-1,\"\")","v":""}]
[null,null,null,{"$f":"Inputs!F57","v":"Heifers<1yr old"},null,{"$f":"Q25","v":"Grp 4"},{"$f":"Inputs!G115","v":38.762482014388489},{"$f":"Inputs!G115*Inputs!F60/454","v":16.129461513802173},{"$f":"IF(Optimization!M383>0,Optimization!L383,\" \")","v":" "},{"$f":"IF(Optimization!M383>0,Optimization!M383,\" \")","v":" "},{"$f":"Inputs!C31/Inputs!C318","v":0.70767195767195767},null,{"$f":"IF(SUM(N31:R31)>0,Optimization!F110,\"\")","v":"GrHy-52"},{"$f":"IF(Optimization!F111=0,\"\",Optimization!F111/Optimization!AB111*100)","v":""},{"$f":"IF(Optimization!F112=0,\"\",Optimization!F112/Optimization!AB112*100)","v":""},{"$f":"IF(Optimization!F113=0,\"\",Optimization!F113/Optimization!AB113*100)","v":9.999999999999984},{"$f":"IF(Optimization!F114=0,\"\",Optimization!F114/Optimization!AB114*100)","v":""},{"$f":"IF(Optimization!F115=0,\"\",Optimization!F115/Optimization!AB115*100)","v":5.84589147911207},null,{"$f":"IF(SUM(U31:Y31)>0,Optimization!F110,\"\")","v":""},{"$f":"IF(Optimization!F160=0,\"\",Optimization!F160/Optimization!AB160*100)","v":""},{"$f":"IF(Optimization!F161=0,\"\",Optimization!F161/Optimization!AB161*100)","v":""},{"$f":"IF(Optimization!F162=0,\"\",Optimization!F162/Optimization!AB162*100)","v":""},{"$f":"IF(Optimization!F163=0,\"\",Optimization!F163/Optimization!AB163*100)","v":""},{"$f":"IF(Optimization!F161=0,\"\",Optimization!F161/Optimization!AB161*100)","v":""},null,{"$f":"IF(AND(AB31=\"\",AC31=\"\"),\"\",Optimization!F$110)","v":"GrHy-52"},{"$f":"IF(Optimization!F$152=0,\"\",IF(OR(Optimization!F$152>Optimization!F144,Optimization!F$152=Optimization!F144),Optimization!F144,Optimization!F152))","v":0},{"$f":"IF(Optimization!F$153<-0.01,Optimization!F$153*-1,\"\")","v":18.727612037705576}]
[null,null,null,{"$f":"Inputs!G57","v":"Heifers>1yr old"},null,{"$f":"R25","v":"Grp 5"},{"$f":"Inputs!H115","v":41.092041366906479},{"$f":"Inputs!H115*Inputs!G60/454","v":46.833468452464906},{"$f":"IF(Optimization!M384>0,Optimization!L384,\" \")","v":"LU 5"},{"$f":"IF(Optimization!M384>0,Optimization!M384,\" \")","v":50.4},"ha/cow",null,{"$f":"IF(SUM(N32:R32)>0,Optimization!G110,\"\")","v":"SBw-108"},{"$f":"IF(Optimization!G111=0,\"\",Optimization!G111/Optimization!AB111*100)","v":10.062676839292966},{"$f":"IF(Optimization!G112=0,\"\",Optimization!G112/Optimization!AB112*100)","v":""},{"$f":"IF(Optimization!G113=0,\"\",Optimization!G113/Optimization!AB113*100)","v":""},{"$f":"IF(Optimization!G114=0,\"\",Optimization!G114/Optimization!AB114*100)","v":""},{"$f":"IF(Optimization!G115=0,\"\",Optimization!G115/Optimization!AB115*100)","v":""},null,{"$f":"IF(SUM(U32:Y32)>0,Optimization!G110,\"\")","v":""},{"$f":"IF(Optimization!G160=0,\"\",Optimization!G160/Optimization!AB160*100)","v":""},{"$f":"IF(Optimization!G161=0,\"\",Optimization!G161/Optimization!AB161*100)","v":""},{"$f":"IF(Optimization!G162=0,\"\",Optimization!G162/Optimization!AB162*100)","v":""},{"$f":"IF(Optimization!G163=0,\"\",Optimization!G163/Optimization!AB163*100)","v":""},{"$f":"IF(Optimization!G161=0,\"\",Optimization!G161/Optimization!AB161*100)","v":""},null,{"$f":"IF(AND(AB32=\"\",AC32=\"\"),\"\",Optimization!G$110)","v":"SBw-108"},{"$f":"IF(Optimization!G$152=0,\"\",IF(OR(Optimization!G$152>Optimization!G144,Optimization!G$152=Optimization!G144),Optimization!G144,Optimization!G152))","v":25.794809762189949},{"$f":"IF(Optimization!G$153<-0.01,Optimization!G$153*-1,\"\")","v":7.7789051450691105}]
[null,null,null,"Total",null,null,null,{"$f":"((SUMPRODUCT(Inputs!D115:H115,Inputs!C60:G60))/454)","v":210.02900926142127},"Total",{"$f":"Optimization!M385","v":151.19999999999999},{"$f":"Inputs!C318/Inputs!C31","v":1.4130841121495326},null,{"$f":"IF(SUM(N33:R33)>0,Optimization!H110,\"\")","v":"CoGr-27"},{"$f":"IF(Optimization!H111=0,\"\",Optimization!H111/Optimization!AB111*100)","v":21.787408549898004},{"$f":"IF(Optimization!H112=0,\"\",Optimization!H112/Optimization!AB112*100)","v":""},{"$f":"IF(Optimization!H113=0,\"\",Optimization!H113/Optimization!AB113*100)","v":""},{"$f":"IF(Optimization!H114=0,\"\",Optimization!H114/Optimization!AB114*100)","v":""},{"$f":"IF(Optimization!H115=0,\"\",Optimization!H115/Optimization!AB115*100)","v":""},null,{"$f":"IF(SUM(U33:Y33)>0,Optimization!H110,\"\")","v":""},{"$f":"IF(Optimization!H160=0,\"\",Optimization!H160/Optimization!AB160*100)","v":""},{"$f":"IF(Optimization!H161=0,\"\",Optimization!H161/Optimization!AB161*100)","v":""},{"$f":"IF(Optimization!H162=0,\"\",Optimization!H162/Optimization!AB162*100)","v":""},{"$f":"IF(Optimization!H163=0,\"\",Optimization!H163/Optimization!AB163*100)","v":""},{"$f":"IF(Optimization!H161=0,\"\",Optimization!H161/Optimization!AB161*100)","v":""},null,{"$f":"IF(AND(AB33=\"\",AC33=\"\"),\"\",Optimization!H$110)","v":"CoGr-27"},{"$f":"IF(Optimization!H$152=0,\"\",IF(OR(Optimization!H$152>Optimization!H144,Optimization!H$152=Optimization!H144),Optimization!H144,Optimization!H152))","v":72.692808772904058},{"$f":"IF(Optimization!H$153<-0.01,Optimization!H$153*-1,\"\")","v":""}]
[null,null,null,"FPCM kg/y",{"$f":"Inputs!C71*(0.1226*Inputs!C50+0.0776*(Inputs!C51-(Inputs!C51*0.19%))+0.2534)","v":946631.17868476943},null,null,null,null,null,null,null,{"$f":"IF(SUM(N34:R34)>0,Optimization!I110,\"\")","v":""},{"$f":"IF(Optimization!I111=0,\"\",Optimization!I111/Optimization!AB111*100)","v":""},{"$f":"IF(Optimization!I112=0,\"\",Optimization!I112/Optimization!AB112*100)","v":""},{"$f":"IF(Optimization!I113=0,\"\",Optimization!I113/Optimization!AB113*100)","v":""},{"$f":"IF(Optimization!I114=0,\"\",Optimization!I114/Optimization!AB114*100)","v":""},{"$f":"IF(Optimization!I115=0,\"\",Optimization!I115/Optimization!AB115*100)","v":""},null,{"$f":"IF(SUM(U34:Y34)>0,Optimization!I110,\"\")","v":""},{"$f":"IF(Optimization!I160=0,\"\",Optimization!I160/Optimization!AB160*100)","v":""},{"$f":"IF(Optimization!I161=0,\"\",Optimization!I161/Optimization!AB161*100)","v":""},{"$f":"IF(Optimization!I162=0,\"\",Optimization!I162/Optimization!AB162*100)","v":""},{"$f":"IF(Optimization!I163=0,\"\",Optimization!I163/Optimization!AB163*100)","v":""},{"$f":"IF(Optimization!I161=0,\"\",Optimization!I161/Optimization!AB161*100)","v":""},null,{"$f":"IF(AND(AB34=\"\",AC34=\"\"),\"\",Optimization!I$110)","v":""},{"$f":"IF(Optimization!I$152=0,\"\",IF(OR(Optimization!I$152>Optimization!I144,Optimization!I$152=Optimization!I144),Optimization!I144,Optimization!I152))","v":""},{"$f":"IF(Optimization!I$153<-0.01,Optimization!I$153*-1,\"\")","v":""}]
[null,"2- FARM INCOMES/EXPENSES",null,"$/Kg FPCM","$/yr","$/cow","Incomes - Expenses of Optimized Variables:",null,null,null,{"$f":"J40-SUM(E39:E42)","v":-69910.861660901486},null,{"$f":"IF(SUM(N35:R35)>0,Optimization!J110,\"\")","v":""},{"$f":"IF(Optimization!J111=0,\"\",Optimization!J111/Optimization!AB111*100)","v":""},{"$f":"IF(Optimization!J112=0,\"\",Optimization!J112/Optimization!AB112*100)","v":""},{"$f":"IF(Optimization!J113=0,\"\",Optimization!J113/Optimization!AB113*100)","v":""},{"$f":"IF(Optimization!J114=0,\"\",Optimization!J114/Optimization!AB114*100)","v":""},{"$f":"IF(Optimization!J115=0,\"\",Optimization!J115/Optimization!AB115*100)","v":""},null,{"$f":"IF(SUM(U35:Y35)>0,Optimization!J110,\"\")","v":""},{"$f":"IF(Optimization!J160=0,\"\",Optimization!J160/Optimization!AB160*100)","v":""},{"$f":"IF(Optimization!J161=0,\"\",Optimization!J161/Optimization!AB161*100)","v":""},{"$f":"IF(Optimization!J162=0,\"\",Optimization!J162/Optimization!AB162*100)","v":""},{"$f":"IF(Optimization!J163=0,\"\",Optimization!J163/Optimization!AB163*100)","v":""},{"$f":"IF(Optimization!J161=0,\"\",Optimization!J161/Optimization!AB161*100)","v":""},null,{"$f":"IF(AND(AB35=\"\",AC35=\"\"),\"\",Optimization!J$110)","v":""},{"$f":"IF(Optimization!J$152=0,\"\",IF(OR(Optimization!J$152>Optimization!J144,Optimization!J$152=Optimization!J144),Optimization!J144,Optimization!J152))","v":""},{"$f":"IF(Optimization!J$153<-0.01,Optimization!J$153*-1,\"\")","v":""}]
[null,"Farm Net Income",null,{"$f":"E36/$E$34","v":0.11810758317791931},{"$f":"Optimization!A427","v":111804.32067532319},{"$f":"E36/Inputs!C31","v":1044.9001932273195},null,null,null,null,null,null,{"$f":"IF(SUM(N36:R36)>0,Optimization!K110,\"\")","v":""},{"$f":"IF(Optimization!K111=0,\"\",Optimization!K111/Optimization!AB111*100)","v":""},{"$f":"IF(Optimization!K112=0,\"\",Optimization!K112/Optimization!AB112*100)","v":""},{"$f":"IF(Optimization!K113=0,\"\",Optimization!K113/Optimization!AB113*100)","v":""},{"$f":"IF(Optimization!K114=0,\"\",Optimization!K114/Optimization!AB114*100)","v":""},{"$f":"IF(Optimization!K115=0,\"\",Optimization!K115/Optimization!AB115*100)","v":""},null,{"$f":"IF(SUM(U36:Y36)>0,Optimization!K110,\"\")","v":""},{"$f":"IF(Optimization!K160=0,\"\",Optimization!K160/Optimization!AB160*100)","v":""},{"$f":"IF(Optimization!K161=0,\"\",Optimization!K161/Optimization!AB161*100)","v":""},{"$f":"IF(Optimization!K162=0,\"\",Optimization!K162/Optimization!AB162*100)","v":""},{"$f":"IF(Optimization!K163=0,\"\",Optimization!K163/Optimization!AB163*100)","v":""},{"$f":"IF(Optimization!K161=0,\"\",Optimization!K161/Optimization!AB161*100)","v":""},null,{"$f":"IF(AND(AB36=\"\",AC36=\"\"),\"\",Optimization!K$110)","v":""},null,{"$f":"IF(Optimization!K$153<-0.01,Optimization!K$153*-1,\"\")","v":""}]
[null,"Expenses","Prct t.e.","$/Kg FPCM","$/year","Prct o.v.","Incomes",null,"$/Kg FPCM","$/year","Percent",null,{"$f":"IF(SUM(N37:R37)>0,Optimization!L110,\"\")","v":""},{"$f":"IF(Optimization!L111=0,\"\",Optimization!L111/Optimization!AB111*100)","v":""},{"$f":"IF(Optimization!L112=0,\"\",Optimization!L112/Optimization!AB112*100)","v":""},{"$f":"IF(Optimization!L113=0,\"\",Optimization!L113/Optimization!AB113*100)","v":""},{"$f":"IF(Optimization!L114=0,\"\",Optimization!L114/Optimization!AB114*100)","v":""},{"$f":"IF(Optimization!L115=0,\"\",Optimization!L115/Optimization!AB115*100)","v":""},null,{"$f":"IF(SUM(U37:Y37)>0,Optimization!L110,\"\")","v":""},{"$f":"IF(Optimization!L160=0,\"\",Optimization!L160/Optimization!AB160*100)","v":""},{"$f":"IF(Optimization!L161=0,\"\",Optimization!L161/Optimization!AB161*100)","v":""},{"$f":"IF(Optimization!L162=0,\"\",Optimization!L162/Optimization!AB162*100)","v":""},{"$f":"IF(Optimization!L163=0,\"\",Optimization!L163/Optimization!AB163*100)","v":""},{"$f":"IF(Optimization!L161=0,\"\",Optimization!L161/Optimization!AB161*100)","v":""},null,{"$f":"IF(AND(AB37=\"\",AC37=\"\"),\"\",Optimization!L$110)","v":""},null,{"$f":"IF(Optimization!L$153<-0.01,Optimization!L$153*-1,\"\")","v":""}]
[null,"Fixed+variable",{"$f":"E38/$E$43%","v":59.133678028418231},{"$f":"E38/$E$34","v":0.23193318027231288},{"$f":"SUM(Optimization!E14:E15)","v":219555.17981728667},null,"Milk income ",null,{"$f":"J38/$E$34","v":0.37395630161149701},{"$f":"Optimization!E26","v":353998.69457108853},{"$f":"J38/$J$43%","v":73.277923530138239},null,{"$f":"IF(SUM(N38:R38)>0,Optimization!M110,\"\")","v":""},{"$f":"IF(Optimization!M111=0,\"\",Optimization!M111/Optimization!AB111*100)","v":""},{"$f":"IF(Optimization!M112=0,\"\",Optimization!M112/Optimization!AB112*100)","v":""},{"$f":"IF(Optimization!M113=0,\"\",Optimization!M113/Optimization!AB113*100)","v":""},{"$f":"IF(Optimization!M114=0,\"\",Optimization!M114/Optimization!AB114*100)","v":""},{"$f":"IF(Optimization!M115=0,\"\",Optimization!M115/Optimization!AB115*100)","v":""},null,{"$f":"IF(SUM(U38:Y38)>0,Optimization!M110,\"\")","v":""},{"$f":"IF(Optimization!M160=0,\"\",Optimization!M160/Optimization!AB160*100)","v":""},{"$f":"IF(Optimization!M161=0,\"\",Optimization!M161/Optimization!AB161*100)","v":""},{"$f":"IF(Optimization!M162=0,\"\",Optimization!M162/Optimization!AB162*100)","v":""},{"$f":"IF(Optimization!M163=0,\"\",Optimization!M163/Optimization!AB163*100)","v":""},{"$f":"IF(Optimization!M161=0,\"\",Optimization!M161/Optimization!AB161*100)","v":""},null,{"$f":"IF(AND(AB38=\"\",AC38=\"\"),\"\",Optimization!M$110)","v":""},null,{"$f":"IF(Optimization!M$153<-0.01,Optimization!M$153*-1,\"\")","v":""}]
[null,"Purchased feeds",{"$f":"E39/$E$43%","v":9.2145772779925448},{"$f":"E39/$E$34","v":3.6141269817898565E-2},{"$f":"Optimization!E17","v":34212.452846881599},{"$f":"E39/(SUM($E$39:$E$42)%)","v":22.548095432714295},"Animals sold",null,{"$f":"J39/$E$34","v":4.9936732115776178E-2},{"$f":"Optimization!E27","v":47271.667582422786},{"$f":"J39/$J$43%","v":9.7852610627389538},null,{"$f":"IF(SUM(N39:R39)>0,Optimization!N110,\"\")","v":""},{"$f":"IF(Optimization!N111=0,\"\",Optimization!N111/Optimization!AB111*100)","v":""},{"$f":"IF(Optimization!N112=0,\"\",Optimization!N112/Optimization!AB112*100)","v":""},{"$f":"IF(Optimization!N113=0,\"\",Optimization!N113/Optimization!AB113*100)","v":""},{"$f":"IF(Optimization!N114=0,\"\",Optimization!N114/Optimization!AB114*100)","v":""},{"$f":"IF(Optimization!N115=0,\"\",Optimization!N115/Optimization!AB115*100)","v":""},null,{"$f":"IF(SUM(U39:Y39)>0,Optimization!N110,\"\")","v":""},{"$f":"IF(Optimization!N160=0,\"\",Optimization!N160/Optimization!AB160*100)","v":""},{"$f":"IF(Optimization!N161=0,\"\",Optimization!N161/Optimization!AB161*100)","v":""},{"$f":"IF(Optimization!N162=0,\"\",Optimization!N162/Optimization!AB162*100)","v":""},{"$f":"IF(Optimization!N163=0,\"\",Optimization!N163/Optimization!AB163*100)","v":""},{"$f":"IF(Optimization!N161=0,\"\",Optimization!N161/Optimization!AB161*100)","v":""},null,{"$f":"IF(AND(AB39=\"\",AC39=\"\"),\"\",Optimization!N$110)","v":""},null,{"$f":"IF(Optimization!N$153<-0.01,Optimization!N$153*-1,\"\")","v":""}]
[null,"Homegrown feeds",{"$f":"E40/$E$43%","v":24.472717180793651},{"$f":"E40/$E$34","v":9.5986505742439637E-2},{"$f":"Optimization!E16","v":90863.819068798024},{"$f":"E40/(SUM($E$39:$E$42)%)","v":59.884804895854977},"Crop income",null,{"$f":"J40/$E$34","v":8.6432973883591641E-2},{"$f":"Optimization!E28","v":81820.147944654251},{"$f":"J40/$J$43%","v":16.936815407122804},null,{"$f":"IF(SUM(N40:R40)>0,Optimization!O110,\"\")","v":""},{"$f":"IF(Optimization!O111=0,\"\",Optimization!O111/Optimization!AB111*100)","v":""},{"$f":"IF(Optimization!O112=0,\"\",Optimization!O112/Optimization!AB112*100)","v":""},{"$f":"IF(Optimization!O113=0,\"\",Optimization!O113/Optimization!AB113*100)","v":""},{"$f":"IF(Optimization!O114=0,\"\",Optimization!O114/Optimization!AB114*100)","v":""},{"$f":"IF(Optimization!O115=0,\"\",Optimization!O115/Optimization!AB115*100)","v":""},null,{"$f":"IF(SUM(U40:Y40)>0,Optimization!O110,\"\")","v":""},{"$f":"IF(Optimization!O160=0,\"\",Optimization!O160/Optimization!AB160*100)","v":""},{"$f":"IF(Optimization!O161=0,\"\",Optimization!O161/Optimization!AB161*100)","v":""},{"$f":"IF(Optimization!O162=0,\"\",Optimization!O162/Optimization!AB162*100)","v":""},{"$f":"IF(Optimization!O163=0,\"\",Optimization!O163/Optimization!AB163*100)","v":""},{"$f":"IF(Optimization!O161=0,\"\",Optimization!O161/Optimization!AB161*100)","v":""},null,{"$f":"IF(AND(AB40=\"\",AC40=\"\"),\"\",Optimization!O$110)","v":""},null,{"$f":"IF(Optimization!O$153<-0.01,Optimization!O$153*-1,\"\")","v":""}]
[null,"Fertilizers",{"$f":"E41/$E$43%","v":5.4015474029401922},{"$f":"E41/$E$34","v":2.118586411881071E-2},{"$f":"Optimization!E18","v":20055.199522245148},{"$f":"E41/(SUM($E$39:$E$42)%)","v":13.217601052270869},null,null,null,null,null,null,{"$f":"IF(SUM(N41:R41)>0,Optimization!P110,\"\")","v":"CGM-25"},{"$f":"IF(Optimization!P111=0,\"\",Optimization!P111/Optimization!AB111*100)","v":""},{"$f":"IF(Optimization!P112=0,\"\",Optimization!P112/Optimization!AB112*100)","v":0.30329274021425551},{"$f":"IF(Optimization!P113=0,\"\",Optimization!P113/Optimization!AB113*100)","v":""},{"$f":"IF(Optimization!P114=0,\"\",Optimization!P114/Optimization!AB114*100)","v":1.4000665458427495},{"$f":"IF(Optimization!P115=0,\"\",Optimization!P115/Optimization!AB115*100)","v":""},null,{"$f":"IF(SUM(U41:Y41)>0,Optimization!P110,\"\")","v":""},{"$f":"IF(Optimization!P160=0,\"\",Optimization!P160/Optimization!AB160*100)","v":""},{"$f":"IF(Optimization!P161=0,\"\",Optimization!P161/Optimization!AB161*100)","v":""},{"$f":"IF(Optimization!P162=0,\"\",Optimization!P162/Optimization!AB162*100)","v":""},{"$f":"IF(Optimization!P163=0,\"\",Optimization!P163/Optimization!AB163*100)","v":""},{"$f":"IF(Optimization!P161=0,\"\",Optimization!P161/Optimization!AB161*100)","v":""},null,{"$f":"IF(AND(AB41=\"\",AC41=\"\"),\"\",Optimization!P$110)","v":"CGM-25"},null,{"$f":"IF(Optimization!P$153<-0.01,Optimization!P$153*-1,\"\")","v":2.2738890744849622}]
[null,"Manure spreading",{"$f":"E42/$E$43%","v":1.7774801098553685},{"$f":"E42/$E$34","v":6.9716044814837168E-3},{"$f":"Optimization!E19","v":6599.5381676309516},{"$f":"E42/(SUM($E$39:$E$42)%)","v":4.3494986191598537},null,null,null,null,null,null,{"$f":"IF(SUM(N42:R42)>0,Optimization!Q110,\"\")","v":"CoDi-23"},{"$f":"IF(Optimization!Q111=0,\"\",Optimization!Q111/Optimization!AB111*100)","v":14.999999999998384},{"$f":"IF(Optimization!Q112=0,\"\",Optimization!Q112/Optimization!AB112*100)","v":14.999999999999829},{"$f":"IF(Optimization!Q113<0.01,\"\",Optimization!Q113/Optimization!AB113*100)","v":""},{"$f":"IF(Optimization!Q114<0.01,\"\",Optimization!Q114/Optimization!AB114*100)","v":15.000000000000115},{"$f":"IF(Optimization!Q115<0.01,\"\",Optimization!Q115/Optimization!AB115*100)","v":""},null,{"$f":"IF(SUM(U42:Y42)>0,Optimization!Q110,\"\")","v":""},{"$f":"IF(Optimization!Q160=0,\"\",Optimization!Q160/Optimization!AB160*100)","v":""},{"$f":"IF(Optimization!Q161=0,\"\",Optimization!Q161/Optimization!AB161*100)","v":""},{"$f":"IF(Optimization!Q162=0,\"\",Optimization!Q162/Optimization!AB162*100)","v":""},{"$f":"IF(Optimization!Q163=0,\"\",Optimization!Q163/Optimization!AB163*100)","v":""},{"$f":"IF(Optimization!Q161=0,\"\",Optimization!Q161/Optimization!AB161*100)","v":""},null,{"$f":"IF(AND(AB42=\"\",AC42=\"\"),\"\",Optimization!Q$110)","v":"CoDi-23"},null,{"$f":"IF(Optimization!Q$153<-0.01,Optimization!Q$153*-1,\"\")","v":123.17041827706747}]
[null,"Total expenses",{"$f":"SUM(C38:C42)","v":100},{"$f":"SUM(D38:D42)","v":0.39221842443294552},{"$f":"SUM(E38:E42)","v":371286.18942284241},{"$f":"SUM(F38:F42)","v":100},"Total income",null,{"$f":"SUM(I38:I42)","v":0.51032600761086477},{"$f":"SUM(J38:J40)","v":483090.5100981656},{"$f":"SUM(K38:K40)","v":100},null,{"$f":"IF(SUM(N43:R43)>0,Optimization!R110,\"\")","v":""},{"$f":"IF(Optimization!R111=0,\"\",Optimization!R111/Optimization!AB111*100)","v":""},{"$f":"IF(Optimization!R112=0,\"\",Optimization!R112/Optimization!AB112*100)","v":""},{"$f":"IF(Optimization!R113=0,\"\",Optimization!R113/Optimization!AB113*100)","v":""},{"$f":"IF(Optimization!R114=0,\"\",Optimization!R114/Optimization!AB114*100)","v":""},{"$f":"IF(Optimization!R115=0,\"\",Optimization!R115/Optimization!AB115*100)","v":""},null,{"$f":"IF(SUM(U43:Y43)>0,Optimization!R110,\"\")","v":""},{"$f":"IF(Optimization!R160=0,\"\",Optimization!R160/Optimization!AB160*100)","v":""},{"$f":"IF(Optimization!R161=0,\"\",Optimization!R161/Optimization!AB161*100)","v":""},{"$f":"IF(Optimization!R162=0,\"\",Optimization!R162/Optimization!AB162*100)","v":""},{"$f":"IF(Optimization!R163=0,\"\",Optimization!R163/Optimization!AB163*100)","v":""},{"$f":"IF(Optimization!R161=0,\"\",Optimization!R161/Optimization!AB161*100)","v":""},null,{"$f":"IF(AND(AB43=\"\",AC43=\"\"),\"\",Optimization!R$110)","v":""},null,{"$f":"IF(Optimization!R$153<-0.01,Optimization!R$153*-1,\"\")","v":""}]
[null,null,null,null,null,null,null,null,null,null,null,null,{"$f":"IF(SUM(N44:R44)>0,Optimization!S110,\"\")","v":"Urea"},{"$f":"IF(Optimization!S111=0,\"\",Optimization!S111/Optimization!AB111*100)","v":0.28207584739039532},{"$f":"IF(Optimization!S112=0,\"\",Optimization!S112/Optimization!AB112*100)","v":""},{"$f":"IF(Optimization!S113=0,\"\",Optimization!S113/Optimization!AB113*100)","v":""},{"$f":"IF(Optimization!S114=0,\"\",Optimization!S114/Optimization!AB114*100)","v":""},{"$f":"IF(Optimization!S115=0,\"\",Optimization!S115/Optimization!AB115*100)","v":""},null,{"$f":"IF(SUM(U44:Y44)>0,Optimization!S110,\"\")","v":""},{"$f":"IF(Optimization!S160=0,\"\",Optimization!S160/Optimization!AB160*100)","v":""},{"$f":"IF(Optimization!S161=0,\"\",Optimization!S161/Optimization!AB161*100)","v":""},{"$f":"IF(Optimization!S162=0,\"\",Optimization!S162/Optimization!AB162*100)","v":""},{"$f":"IF(Optimization!S163=0,\"\",Optimization!S163/Optimization!AB163*100)","v":""},{"$f":"IF(Optimization!S161=0,\"\",Optimization!S161/Optimization!AB161*100)","v":""},null,{"$f":"IF(AND(AB44=\"\",AC44=\"\"),\"\",Optimization!S$110)","v":"Urea"},null,{"$f":"IF(Optimization!S$153<-0.01,Optimization!S$153*-1,\"\")","v":0.93190786305663831}]
[null,"3- PHOSPHORUS BALANCE",null,"g/kg FPCM","Kg/yr","Kg/ha","Expt/Imprt",null,null,null,null,null,{"$f":"IF(SUM(N45:R45)>0,Optimization!T110,\"\")","v":""},{"$f":"IF(Optimization!T111=0,\"\",Optimization!T111/Optimization!AB111*100)","v":""},{"$f":"IF(Optimization!T112=0,\"\",Optimization!T112/Optimization!AB112*100)","v":""},{"$f":"IF(Optimization!T113=0,\"\",Optimization!T113/Optimization!AB113*100)","v":""},{"$f":"IF(Optimization!T114=0,\"\",Optimization!T114/Optimization!AB114*100)","v":""},{"$f":"IF(Optimization!T115=0,\"\",Optimization!T115/Optimization!AB115*100)","v":""},null,{"$f":"IF(SUM(U45:Y45)>0,Optimization!T110,\"\")","v":""},{"$f":"IF(Optimization!T160=0,\"\",Optimization!T160/Optimization!AB160*100)","v":""},{"$f":"IF(Optimization!T161=0,\"\",Optimization!T161/Optimization!AB161*100)","v":""},{"$f":"IF(Optimization!T162=0,\"\",Optimization!T162/Optimization!AB162*100)","v":""},{"$f":"IF(Optimization!T163=0,\"\",Optimization!T163/Optimization!AB163*100)","v":""},{"$f":"IF(Optimization!T161=0,\"\",Optimization!T161/Optimization!AB161*100)","v":""},null,{"$f":"IF(AND(AB45=\"\",AC45=\"\"),\"\",Optimization!T$110)","v":""},null,{"$f":"IF(Optimization!T$153<-0.01,Optimization!T$153*-1,\"\")","v":""}]
[null,"P Balance",null,{"$f":"D52-I52","v":1.2967988952802014},{"$f":"E52-J52","v":1227.5902667562036},{"$f":"E46/$J$33","v":8.1189832457420881},{"$f":"J52/E52","v":0.65525240058690726},null,null,null,null,null,{"$f":"IF(SUM(N46:R46)>0,Optimization!U110,\"\")","v":"CottonSd-w-37"},{"$f":"IF(Optimization!U111=0,\"\",Optimization!U111/Optimization!AB111*100)","v":1.1518224718242929},{"$f":"IF(Optimization!U112=0,\"\",Optimization!U112/Optimization!AB112*100)","v":""},{"$f":"IF(Optimization!U113=0,\"\",Optimization!U113/Optimization!AB113*100)","v":""},{"$f":"IF(Optimization!U114=0,\"\",Optimization!U114/Optimization!AB114*100)","v":""},{"$f":"IF(Optimization!U115=0,\"\",Optimization!U115/Optimization!AB115*100)","v":""},null,{"$f":"IF(SUM(U46:Y46)>0,Optimization!U110,\"\")","v":""},{"$f":"IF(Optimization!U160=0,\"\",Optimization!U160/Optimization!AB160*100)","v":""},{"$f":"IF(Optimization!U161=0,\"\",Optimization!U161/Optimization!AB161*100)","v":""},{"$f":"IF(Optimization!U162=0,\"\",Optimization!U162/Optimization!AB162*100)","v":""},{"$f":"IF(Optimization!U163=0,\"\",Optimization!U163/Optimization!AB163*100)","v":""},{"$f":"IF(Optimization!U161=0,\"\",Optimization!U161/Optimization!AB161*100)","v":""},null,{"$f":"IF(AND(AB46=\"\",AC46=\"\"),\"\",Optimization!U$110)","v":"CottonSd-w-37"},null,{"$f":"IF(Optimization!U$153<-0.01,Optimization!U$153*-1,\"\")","v":3.8430091625123071}]
[null,"Imports",null,"g/kg FPCM","kg/year","Percent","Exports",null,"g/FPCM","kg/year","Percent",null,{"$f":"IF(SUM(N47:R47)>0,Optimization!V110,\"\")","v":"CaCO3"},{"$f":"IF(Optimization!V111=0,\"\",Optimization!V111/Optimization!AB111*100)","v":0.59757617494197346},{"$f":"IF(Optimization!V112=0,\"\",Optimization!V112/Optimization!AB112*100)","v":0.50777393217583655},{"$f":"IF(Optimization!V113=0,\"\",Optimization!V113/Optimization!AB113*100)","v":""},{"$f":"IF(Optimization!V114=0,\"\",Optimization!V114/Optimization!AB114*100)","v":""},{"$f":"IF(Optimization!V115=0,\"\",Optimization!V115/Optimization!AB115*100)","v":""},null,{"$f":"IF(SUM(U47:Y47)>0,Optimization!V110,\"\")","v":""},{"$f":"IF(Optimization!V160=0,\"\",Optimization!V160/Optimization!AB160*100)","v":""},{"$f":"IF(Optimization!V161=0,\"\",Optimization!V161/Optimization!AB161*100)","v":""},{"$f":"IF(Optimization!V162=0,\"\",Optimization!V162/Optimization!AB162*100)","v":""},{"$f":"IF(Optimization!V163=0,\"\",Optimization!V163/Optimization!AB163*100)","v":""},{"$f":"IF(Optimization!V161=0,\"\",Optimization!V161/Optimization!AB161*100)","v":""},null,{"$f":"IF(AND(AB47=\"\",AC47=\"\"),\"\",Optimization!V$110)","v":"CaCO3"},null,{"$f":"IF(Optimization!V$153<-0.001,Optimization!V$153*-1,\"\")","v":4.0607003961838117}]
[null,"Feed  P purchased",null,{"$f":"E48/$E$34*1000","v":1.2233008931376526},{"$f":"Optimization!F17","v":1158.0147663570272},{"$f":"E48/E52%","v":32.520851753037178},"Crop P sold",null,{"$f":"J48/$E$34*1000","v":1.2964946082538866},{"$f":"Optimization!F28","v":1227.3022191698251},{"$f":"J48/J52%","v":52.600601828712421},null,{"$f":"IF(SUM(N48:R48)>0,Optimization!W110,\"\")","v":"NaH2PO4.H20"},{"$f":"IF(Optimization!W111=0,\"\",Optimization!W111/Optimization!AB111*100)","v":5.2225703375177561E-3},{"$f":"IF(Optimization!W112=0,\"\",Optimization!W112/Optimization!AB112*100)","v":""},{"$f":"IF(Optimization!W113=0,\"\",Optimization!W113/Optimization!AB113*100)","v":""},{"$f":"IF(Optimization!W114=0,\"\",Optimization!W114/Optimization!AB114*100)","v":""},{"$f":"IF(Optimization!W115=0,\"\",Optimization!W115/Optimization!AB115*100)","v":""},null,{"$f":"IF(SUM(U48:Y48)>0,Optimization!W110,\"\")","v":""},{"$f":"IF(Optimization!W160=0,\"\",Optimization!W160/Optimization!AB160*100)","v":""},{"$f":"IF(Optimization!W161=0,\"\",Optimization!W161/Optimization!AB161*100)","v":""},{"$f":"IF(Optimization!W162=0,\"\",Optimization!W162/Optimization!AB162*100)","v":""},{"$f":"IF(Optimization!W163=0,\"\",Optimization!W163/Optimization!AB163*100)","v":""},{"$f":"IF(Optimization!W161=0,\"\",Optimization!W161/Optimization!AB161*100)","v":""},null,{"$f":"IF(AND(AB48=\"\",AC48=\"\"),\"\",Optimization!W$110)","v":"NaH2PO4.H20"},null,{"$f":"IF(Optimization!W$153<-0.001,Optimization!W$153*-1,\"\")","v":1.725406272080875E-2}]
[null,"Fertilizer P purchased",null,{"$f":"E49/$E$34*1000","v":2.5382884478408063},{"$f":"Optimization!F18","v":2402.8229852214763},{"$f":"E49/E52%","v":67.479148246962836},"Milk P sold",null,{"$f":"J49/$E$34*1000","v":0.96270797070085146},{"$f":"Optimization!F26","v":911.32938103376944},{"$f":"J49/J52%","v":39.058410518469984},null,{"$f":"IF(SUM(N49:R49)>0,Optimization!X110,\"\")","v":"MgO"},{"$f":"IF(Optimization!X111=0,\"\",Optimization!X111/Optimization!AB111*100)","v":1.3564849196203961E-2},{"$f":"IF(Optimization!X112=0,\"\",Optimization!X112/Optimization!AB112*100)","v":""},{"$f":"IF(Optimization!X113=0,\"\",Optimization!X113/Optimization!AB113*100)","v":""},{"$f":"IF(Optimization!X114=0,\"\",Optimization!X114/Optimization!AB114*100)","v":""},{"$f":"IF(Optimization!X115=0,\"\",Optimization!X115/Optimization!AB115*100)","v":""},null,{"$f":"IF(SUM(U49:Y49)>0,Optimization!X110,\"\")","v":""},{"$f":"IF(Optimization!X160=0,\"\",Optimization!X160/Optimization!AB160*100)","v":""},{"$f":"IF(Optimization!X161=0,\"\",Optimization!X161/Optimization!AB161*100)","v":""},{"$f":"IF(Optimization!X162=0,\"\",Optimization!X162/Optimization!AB162*100)","v":""},{"$f":"IF(Optimization!X163=0,\"\",Optimization!X163/Optimization!AB163*100)","v":""},{"$f":"IF(Optimization!X161=0,\"\",Optimization!X161/Optimization!AB161*100)","v":""},null,{"$f":"IF(AND(AB49=\"\",AC49=\"\"),\"\",Optimization!X$110)","v":"MgO"},null,{"$f":"IF(Optimization!X$153<-0.001,Optimization!X$153*-1,\"\")","v":4.4814860060047888E-2}]
[null,{"$f":"IF(E50=\"\",\"\",\"Manure P purchased\")","v":""},null,{"$f":"IF(E50=\"\",\"\",E50/Inputs!$C$71*103)","v":""},{"$f":"IF(Optimization!F19=0,\"\",Optimization!F19)","v":""},{"$f":"IF(E50=\"\",\"\",E50/E52%)","v":""},"Animal P sold",null,{"$f":"J50/$E$34*1000","v":0.20558786674351934},{"$f":"Optimization!F27","v":194.61588461870502},{"$f":"J50/J52%","v":8.3409876528175921},null,{"$f":"IF(SUM(N50:R50)>0,Optimization!Y110,\"\")","v":"CaSO4.2H20"},{"$f":"IF(Optimization!Y111=0,\"\",Optimization!Y111/Optimization!AB111*100)","v":1.4385340019236021E-2},{"$f":"IF(Optimization!Y112=0,\"\",Optimization!Y112/Optimization!AB112*100)","v":""},{"$f":"IF(Optimization!Y113=0,\"\",Optimization!Y113/Optimization!AB113*100)","v":""},{"$f":"IF(Optimization!Y114=0,\"\",Optimization!Y114/Optimization!AB114*100)","v":""},{"$f":"IF(Optimization!Y115=0,\"\",Optimization!Y115/Optimization!AB115*100)","v":""},null,{"$f":"IF(SUM(U50:Y50)>0,Optimization!Y110,\"\")","v":""},{"$f":"IF(Optimization!Y160=0,\"\",Optimization!Y160/Optimization!AB160*100)","v":""},{"$f":"IF(Optimization!Y161=0,\"\",Optimization!Y161/Optimization!AB161*100)","v":""},{"$f":"IF(Optimization!Y162=0,\"\",Optimization!Y162/Optimization!AB162*100)","v":""},{"$f":"IF(Optimization!Y163=0,\"\",Optimization!Y163/Optimization!AB163*100)","v":""},{"$f":"IF(Optimization!Y161=0,\"\",Optimization!Y161/Optimization!AB161*100)","v":""},null,{"$f":"IF(AND(AB50=\"\",AC50=\"\"),\"\",Optimization!Y$110)","v":"CaSO4.2H20"},null,{"$f":"IF(Optimization!Y$153<-0.001,Optimization!Y$153*-1,\"\")","v":4.7525555983230362E-2}]
[null,null,null,null,null,null,{"$f":"IF(J51=\"\",\"\",\"Manure P export\")","v":""},null,{"$f":"IF(J51=\"\",\"\",J51/Inputs!$C$71*103)","v":""},{"$f":"IF(Optimization!F29=0,\"\",Optimization!F29)","v":""},{"$f":"IF(J51=\"\",\"\",J51/J52%)","v":""},null,{"$f":"IF(SUM(N51:R51)>0,Optimization!Z110,\"\")","v":"NaCl"},{"$f":"IF(Optimization!Z111=0,\"\",Optimization!Z111/Optimization!AB111*100)","v":0.48149905299682655},{"$f":"IF(Optimization!Z112=0,\"\",Optimization!Z112/Optimization!AB112*100)","v":0.36829197473291586},{"$f":"IF(Optimization!Z113=0,\"\",Optimization!Z113/Optimization!AB113*100)","v":0.22802679985198956},{"$f":"IF(Optimization!Z114=0,\"\",Optimization!Z114/Optimization!AB114*100)","v":6.8431558694193179E-2},{"$f":"IF(Optimization!Z115=0,\"\",Optimization!Z115/Optimization!AB115*100)","v":0.15567088360879033},null,{"$f":"IF(SUM(U51:Y51)>0,Optimization!Z110,\"\")","v":""},{"$f":"IF(Optimization!Z160=0,\"\",Optimization!Z160/Optimization!AB160*100)","v":""},{"$f":"IF(Optimization!Z161=0,\"\",Optimization!Z161/Optimization!AB161*100)","v":""},{"$f":"IF(Optimization!Z162=0,\"\",Optimization!Z162/Optimization!AB162*100)","v":""},{"$f":"IF(Optimization!Z163=0,\"\",Optimization!Z163/Optimization!AB163*100)","v":""},{"$f":"IF(Optimization!Z161=0,\"\",Optimization!Z161/Optimization!AB161*100)","v":""},null,{"$f":"IF(AND(AB51=\"\",AC51=\"\"),\"\",Optimization!Z$110)","v":"NaCl"},null,{"$f":"IF(Optimization!Z$153<-0.001,Optimization!Z$153*-1,\"\")","v":3.5873451934254557}]
[null,"Total Imports",null,{"$f":"SUM(D48:D51)","v":3.7615893409784587},{"$f":"SUM(E48:E51)","v":3560.8377515785032},{"$f":"SUM(F48:F51)","v":100.00000000000001},"   Total Exports",null,{"$f":"SUM(I48:I51)","v":2.4647904456982572},{"$f":"SUM(J48:J51)","v":2333.2474848222996},{"$f":"SUM(K48:K51)","v":99.999999999999986},null,{"$f":"IF(SUM(N52:R52)>0,Optimization!AA110,\"\")","v":""},{"$f":"IF(Optimization!AA111=0,\"\",Optimization!AA111/Optimization!AB111*100)","v":""},{"$f":"IF(Optimization!AA112=0,\"\",Optimization!AA112/Optimization!AB112*100)","v":""},{"$f":"IF(Optimization!AA113=0,\"\",Optimization!AA113/Optimization!AB113*100)","v":""},{"$f":"IF(Optimization!AA114=0,\"\",Optimization!AA114/Optimization!AB114*100)","v":""},{"$f":"IF(Optimization!AA115=0,\"\",Optimization!AA115/Optimization!AB115*100)","v":""},null,{"$f":"IF(SUM(U52:Y52)>0,Optimization!AA110,\"\")","v":""},{"$f":"IF(Optimization!AA160=0,\"\",Optimization!AA160/Optimization!AB160*100)","v":""},{"$f":"IF(Optimization!AA161=0,\"\",Optimization!AA161/Optimization!AB161*100)","v":""},{"$f":"IF(Optimization!AA162=0,\"\",Optimization!AA162/Optimization!AB162*100)","v":""},{"$f":"IF(Optimization!AA163=0,\"\",Optimization!AA163/Optimization!AB163*100)","v":""},{"$f":"IF(Optimization!AA161=0,\"\",Optimization!AA161/Optimization!AB161*100)","v":""},null,{"$f":"IF(AND(AB52=\"\",AC52=\"\"),\"\",Optimization!AA$110)","v":""},null,{"$f":"IF(Optimization!AA$153<-0.001,Optimization!AA$153*-1,\"\")","v":""}]
[null,null,null,null,null,null,null,null,null,null,null,null,"Ration composition",null,null,null,null,null,null,"Ration composition",null,null,null,null,null,null,"Total:",{"$f":"SUM(AB27:AB35)","v":934.29276372166316},{"$f":"SUM(AC27:AC52)","v":164.48338162826946}]
[null,"4- NITROGEN BALANCE",null,"g/FPCM","Kg/yr","Kg/ha","Expt/Imprt",null,null,null,null,null,"ENlpX, Mcal/kg",{"$f":"Optimization!B181/(Optimization!B178*1000)","v":1.6735160989981355},{"$f":"Optimization!C181/(Optimization!C178*1000)","v":1.53420504403041},{"$f":"Optimization!D181/(Optimization!D178*1000)","v":1.4876467816374381},{"$f":"Optimization!E181/(Optimization!E178*1000)","v":1.6151229519731394},{"$f":"Optimization!F181/(Optimization!F178*1000)","v":1.492390599376316},null,"ENlpX, Mcal/kg",{"$f":"IF(Optimization!B206=0,0,Optimization!B209/(Optimization!B206*1000))","v":0},{"$f":"IF(Optimization!C206=0,0,Optimization!C209/(Optimization!C206*1000))","v":0},{"$f":"IF(Optimization!D206=0,0,Optimization!D209/(Optimization!D206*1000))","v":0},{"$f":"IF(Optimization!E206=0,0,Optimization!E209/(Optimization!E206*1000))","v":0},{"$f":"IF(Optimization!F206=0,0,Optimization!F209/(Optimization!F206*1000))","v":0},null,"Percent:",{"$f":"AB53/SUM(AB53:AC53)","v":0.8503031010234704},{"$f":"AC53/SUM(AB53:AC53)","v":0.14969689897652957}]
[null,"N Balance",null,{"$f":"D62-I62","v":14.048994955977014},{"$f":"E62-J62","v":13299.216654512902},{"$f":"E55/$J$33","v":87.957782106566825},{"$f":"J62/E62","v":0.46920124062239466},null,null,null,null,null,"EE, %DM",{"$f":"Optimization!B184/Optimization!B$178%","v":6.1119501008343482},{"$f":"Optimization!C184/Optimization!C$178%","v":3.9912598962380819},{"$f":"Optimization!D184/Optimization!D$178%","v":2.8577520656840556},{"$f":"Optimization!E184/Optimization!E$178%","v":3.9905396488453619},{"$f":"Optimization!F184/Optimization!F$178%","v":2.8777282190753071},null,"EE, %DM",{"$f":"SUMPRODUCT(Optimization!$B$168:$AA$168%,Optimization!$AE141:$BD141)","v":0},{"$f":"SUMPRODUCT(Optimization!$B$169:$AA$169%,Optimization!$AE141:$BD141)","v":0},{"$f":"SUMPRODUCT(Optimization!$B$170:$AA$170%,Optimization!$AE141:$BD141)","v":0},{"$f":"SUMPRODUCT(Optimization!$B$171:$AA$171%,Optimization!$AE141:$BD141)","v":0},{"$f":"SUMPRODUCT(Optimization!$B$172:$AA$172%,Optimization!$AE141:$BD141)","v":0}]
[null,"Imports",null,"g/FPCM","kg/year","Percent","Exports",null,"g/FPCM","kg/year","Percent",null,"FNDF, % DM",{"$f":"Optimization!B185/Optimization!B$178%","v":22.13719619769352},{"$f":"Optimization!C185/Optimization!C$178%","v":38.570234279315756},{"$f":"Optimization!D185/Optimization!D$178%","v":45.505026415106187},{"$f":"Optimization!E185/Optimization!E$178%","v":37.28653062700284},{"$f":"Optimization!F185/Optimization!F$178%","v":45.153169456723276},null,"FNDF, % DM",{"$f":"SUMPRODUCT(Optimization!$B$168:$AA$168%,Optimization!$AE142:$BD142)","v":0},{"$f":"SUMPRODUCT(Optimization!$B$169:$AA$169%,Optimization!$AE142:$BD142)","v":0},{"$f":"SUMPRODUCT(Optimization!$B$170:$AA$170%,Optimization!$AE142:$BD142)","v":0},{"$f":"SUMPRODUCT(Optimization!$B$171:$AA$171%,Optimization!$AE142:$BD142)","v":0},{"$f":"SUMPRODUCT(Optimization!$B$172:$AA$172%,Optimization!$AE142:$BD142)","v":0},null,"10- MANURE BALANCE"]
[null,"Feed N purchased",null,{"$f":"E57/$E$34*1000","v":7.9179674197675434},{"$f":"Optimization!G17","v":7495.3948313621522},{"$f":"E57/$E$62%","v":29.9156437622383},"Feed N sold",null,{"$f":"J57/$E$34*1000","v":6.4997596360462619},{"$f":"Optimization!G28","v":6152.8751254381605},{"$f":"J57/$J$62%","v":52.338682644067305},null,"NDF, % DM",{"$f":"Optimization!B186/Optimization!B$178%","v":32.377397684824842},{"$f":"Optimization!C186/Optimization!C$178%","v":44.423899773479462},{"$f":"Optimization!D186/Optimization!D$178%","v":45.505026415106187},{"$f":"Optimization!E186/Optimization!E$178%","v":43.261938013591418},{"$f":"Optimization!F186/Optimization!F$178%","v":45.153169456723276},null,"NDF, % DM",{"$f":"SUMPRODUCT(Optimization!$B$168:$AA$168%,Optimization!$AE143:$BD143)","v":0},{"$f":"SUMPRODUCT(Optimization!$B$169:$AA$169%,Optimization!$AE143:$BD143)","v":0},{"$f":"SUMPRODUCT(Optimization!$B$170:$AA$170%,Optimization!$AE143:$BD143)","v":0},{"$f":"SUMPRODUCT(Optimization!$B$171:$AA$171%,Optimization!$AE143:$BD143)","v":0},{"$f":"SUMPRODUCT(Optimization!$B$172:$AA$172%,Optimization!$AE143:$BD143)","v":0},null,null,"Solid","Liquid","Liquid"]
[null,"Fertilizer N purchased",null,{"$f":"E58/$E$34*1000","v":4.964897917872702},{"$f":"Optimization!G18","v":4699.927168045393},{"$f":"E58/$E$62%","v":18.758364306495075},"Milk N sold",null,{"$f":"J58/$E$34*1000","v":5.1974829487506788},{"$f":"Optimization!G26","v":4920.0994099698455},{"$f":"J58/$J$62%","v":41.852226210642712},null,"NFC, % DM",{"$f":"Optimization!B187/Optimization!B$178%","v":41.999999999994039},{"$f":"Optimization!C187/Optimization!C$178%","v":31.637544118796956},{"$f":"Optimization!D187/Optimization!D$178%","v":31.825670744597851},{"$f":"Optimization!E187/Optimization!E$178%","v":32.078557409595653},{"$f":"Optimization!F187/Optimization!F$178%","v":31.994135167585689},null,"NFC, % DM",{"$f":"SUMPRODUCT(Optimization!$B$168:$AA$168%,Optimization!$AE144:$BD144)","v":0},{"$f":"SUMPRODUCT(Optimization!$B$169:$AA$169%,Optimization!$AE144:$BD144)","v":0},{"$f":"SUMPRODUCT(Optimization!$B$170:$AA$170%,Optimization!$AE144:$BD144)","v":0},{"$f":"SUMPRODUCT(Optimization!$B$171:$AA$171%,Optimization!$AE144:$BD144)","v":0},{"$f":"SUMPRODUCT(Optimization!$B$172:$AA$172%,Optimization!$AE144:$BD144)","v":0},null,"Total, t/y",{"$f":"Optimization!B260","v":0},{"$f":"Optimization!C260","v":4399.6921117539632},{"$f":"Optimization!D260","v":0}]
[null,"Biological Fixation of N",null,{"$f":"E59/$E$34*1000","v":12.626437318124692},{"$f":"Optimization!G20","v":11952.579241045736},{"$f":"E59/$E$62%","v":47.70517239717806},"Animal N sold",null,{"$f":"J59/$E$34*1000","v":0.72141089994647722},{"$f":"Optimization!G27","v":682.91005053237393},{"$f":"J59/$J$62%","v":5.8090911452899947},null,"CP, % DM",{"$f":"Optimization!B188/Optimization!B178%","v":16.845182912108982},{"$f":"Optimization!C188/Optimization!C178%","v":15.534814877912281},{"$f":"Optimization!D188/Optimization!D178%","v":14.061082038348518},{"$f":"Optimization!E188/Optimization!E178%","v":16.745980088441435},{"$f":"Optimization!F188/Optimization!F178%","v":14.254875610788837},null,"CP, % DM",{"$f":"IF(Optimization!B206=0,0,Optimization!B216/Optimization!B206)","v":0},{"$f":"IF(Optimization!C206=0,0,Optimization!C216/Optimization!C206)","v":0},{"$f":"IF(Optimization!D206=0,0,Optimization!D216/Optimization!D206)","v":0},{"$f":"IF(Optimization!E206=0,0,Optimization!E216/Optimization!E206)","v":0},{"$f":"IF(Optimization!F206=0,0,Optimization!F216/Optimization!F206)","v":0},null,"Spread, t/y",{"$f":"Optimization!B261","v":0},{"$f":"Optimization!C261","v":4399.6921117539678},{"$f":"Optimization!D261","v":0}]
[null,"Atmospheric N deposition",null,{"$f":"E60/$E$34*1000","v":0.95834578495549405},{"$f":"Optimization!G21","v":907.19999999999993},{"$f":"E60/$E$62%","v":3.6208195340885698},{"$f":"IF(J60=\"\",\"\",\"Manure N export\")","v":""},null,{"$f":"IF(J60=\"\",\"\",J60/Inputs!$C$71*103)","v":""},{"$f":"IF(Optimization!G29=0,\"\",Optimization!G29)","v":""},{"$f":"IF(J60=\"\",\"\",J60/$J$62%)","v":""},null,"RDP, % DM",{"$f":"Optimization!B189/Optimization!B178%","v":10.897078275686487},{"$f":"Optimization!C189/Optimization!C178%","v":10.510058399395575},{"$f":"Optimization!D189/Optimization!D178%","v":11.091685197432499},{"$f":"Optimization!E189/Optimization!E178%","v":11.431840313717096},{"$f":"Optimization!F189/Optimization!F178%","v":11.188586165269042},null,"RDP, % DM",{"$f":"IF(Optimization!B206=0,0,Optimization!B217/Optimization!B206%)","v":0},{"$f":"IF(Optimization!C206=0,0,Optimization!C217/Optimization!C206%)","v":0},{"$f":"IF(Optimization!D206=0,0,Optimization!D217/Optimization!D206%)","v":0},{"$f":"IF(Optimization!E206=0,0,Optimization!E217/Optimization!E206%)","v":0},{"$f":"IF(Optimization!F206=0,0,Optimization!F217/Optimization!F206%)","v":0},null,"Exported"]
[null,{"$f":"IF(E61=\"\",\"\",\"Manure N Purchased\")","v":""},null,{"$f":"IF(E61=\"\",\"\",E61/Inputs!$C$71*103)","v":""},{"$f":"IF(Optimization!G19=0,\"\",Optimization!G19)","v":""},{"$f":"IF(E61=\"\",\"\",E61/$E$62%)","v":""},null,null,null,null,null,null,"RUP, % DM",{"$f":"Optimization!B190/Optimization!B178%","v":5.9481046364224985},{"$f":"Optimization!C190/Optimization!C178%","v":5.0247564785167045},{"$f":"Optimization!D190/Optimization!D178%","v":2.9693968409160219},{"$f":"Optimization!E190/Optimization!E178%","v":5.314139774724338},{"$f":"Optimization!F190/Optimization!F178%","v":3.066289445519792},null,"RUP, % DM",{"$f":"IF(Optimization!B206=0,0,Optimization!B218/Optimization!B206%)","v":0},{"$f":"IF(Optimization!C206=0,0,Optimization!C218/Optimization!C206%)","v":0},{"$f":"IF(Optimization!D206=0,0,Optimization!D218/Optimization!D206%)","v":0},{"$f":"IF(Optimization!E206=0,0,Optimization!E218/Optimization!E206%)","v":0},{"$f":"IF(Optimization!F206=0,0,Optimization!F218/Optimization!F206%)","v":0},null,"t/y",{"$f":"Optimization!B262","v":0},{"$f":"Optimization!C262","v":0},{"$f":"Optimization!D262","v":"n.a."}]
[null,"Total Imports",null,{"$f":"SUM(D57:D61)","v":26.467648440720431},{"$f":"SUM(E57:E60)","v":25055.101240453281},{"$f":"SUM(F57:F61)","v":100},"Total Exports",null,{"$f":"SUM(I57:I60)","v":12.418653484743418},{"$f":"SUM(J57:J60)","v":11755.884585940379},{"$f":"SUM(K57:K60)","v":100.00000000000001},null,"P, % DM",{"$f":"SUMPRODUCT(Optimization!B117:AA117%,Optimization!AE155:BD155)","v":0.39967651937666732},{"$f":"SUMPRODUCT(Optimization!B118:AA118%,Optimization!AE155:BD155)","v":0.38079591028283361},{"$f":"SUMPRODUCT(Optimization!B119:AA119%,Optimization!AE155:BD155)","v":0.30320190620051812},{"$f":"SUMPRODUCT(Optimization!B120:AA120%,Optimization!AE155:BD155)","v":0.38818317258281893},{"$f":"SUMPRODUCT(Optimization!B121:AA121%,Optimization!AE155:BD155)","v":0.30713921502632247},null,"P, % DM",{"$f":"SUMPRODUCT(Optimization!$B$168:$AA$168%,Optimization!$AE155:$BD155)","v":0},{"$f":"SUMPRODUCT(Optimization!$B$169:$AA$169%,Optimization!$AE155:$BD155)","v":0},{"$f":"SUMPRODUCT(Optimization!$B$170:$AA$170%,Optimization!$AE155:$BD155)","v":0},{"$f":"SUMPRODUCT(Optimization!$B$171:$AA$171%,Optimization!$AE155:$BD155)","v":0},{"$f":"SUMPRODUCT(Optimization!$B$172:$AA$172%,Optimization!$AE155:$BD155)","v":0},null,"%",{"$f":"IF(Optimization!B262=0,0,Optimization!B262/Optimization!B260)","v":0},{"$f":"IF(Optimization!C262=0,0,Optimization!C262/Optimization!C260)","v":0},"n.a."]
[null,null,null,null,null,null,null,null,null,null,null,null,"K, % DM",{"$f":"SUMPRODUCT(Optimization!B117:AA117%,Optimization!AE157:BD157)","v":1.1386453700635444},{"$f":"SUMPRODUCT(Optimization!B118:AA118%,Optimization!AE157:BD157)","v":1.642402286737368},{"$f":"SUMPRODUCT(Optimization!B119:AA119%,Optimization!AE157:BD157)","v":1.8601397112438052},{"$f":"SUMPRODUCT(Optimization!B120:AA120%,Optimization!AE157:BD157)","v":1.6700376549288978},{"$f":"SUMPRODUCT(Optimization!B121:AA121%,Optimization!AE157:BD157)","v":1.8848581586126261},null,"K, % DM",{"$f":"SUMPRODUCT(Optimization!$B$168:$AA$168%,Optimization!$AE157:$BD157)","v":0},{"$f":"SUMPRODUCT(Optimization!$B$169:$AA$169%,Optimization!$AE157:$BD157)","v":0},{"$f":"SUMPRODUCT(Optimization!$B$170:$AA$170%,Optimization!$AE157:$BD157)","v":0},{"$f":"SUMPRODUCT(Optimization!$B$171:$AA$171%,Optimization!$AE157:$BD157)","v":0},{"$f":"SUMPRODUCT(Optimization!$B$172:$AA$172%,Optimization!$AE157:$BD157)","v":0},null,"11- MANURE NUTRIENT "]
[null,"5- POTASSIUM BALANCE",null,"Kg/hL","Kg/yr","Kg/ha","Expt/Imprt",null,null,null,null,null,"Ca, % DM",{"$f":"SUMPRODUCT(Optimization!B117:AA117%,Optimization!AE153:BD153)","v":0.52927564743604127},{"$f":"SUMPRODUCT(Optimization!B118:AA118%,Optimization!AE153:BD153)","v":0.78293865965078824},{"$f":"SUMPRODUCT(Optimization!B119:AA119%,Optimization!AE153:BD153)","v":0.76910405964188078},{"$f":"SUMPRODUCT(Optimization!B120:AA120%,Optimization!AE153:BD153)","v":0.6365205808618134},{"$f":"SUMPRODUCT(Optimization!B121:AA121%,Optimization!AE153:BD153)","v":0.78594046817021457},null,"Ca, % DM",{"$f":"SUMPRODUCT(Optimization!$B$168:$AA$168%,Optimization!$AE153:$BD153)","v":0},{"$f":"SUMPRODUCT(Optimization!$B$169:$AA$169%,Optimization!$AE153:$BD153)","v":0},{"$f":"SUMPRODUCT(Optimization!$B$170:$AA$170%,Optimization!$AE153:$BD153)","v":0},{"$f":"SUMPRODUCT(Optimization!$B$171:$AA$171%,Optimization!$AE153:$BD153)","v":0},{"$f":"SUMPRODUCT(Optimization!$B$172:$AA$172%,Optimization!$AE153:$BD153)","v":0},null,"N","P205","K20","N","P","K"]
[null,"K Balance",null,{"$f":"D72-I72","v":0.41629880122936891},{"$f":"E72-J72","v":4092.6141191959114},{"$f":"E65/$J$33","v":27.067553698385659},{"$f":"J72/E72","v":0.44485872448519814},null,null,null,null,null,"Mg, % DM",{"$f":"SUMPRODUCT(Optimization!B117:AA117%,Optimization!AE159:BD159)","v":0.20055535643026334},{"$f":"SUMPRODUCT(Optimization!B118:AA118%,Optimization!AE159:BD159)","v":0.21791376338708626},{"$f":"SUMPRODUCT(Optimization!B119:AA119%,Optimization!AE159:BD159)","v":0.20640713032038494},{"$f":"SUMPRODUCT(Optimization!B120:AA120%,Optimization!AE159:BD159)","v":0.22248703143966506},{"$f":"SUMPRODUCT(Optimization!B121:AA121%,Optimization!AE159:BD159)","v":0.209393862567547},null,"Mg, % DM",{"$f":"SUMPRODUCT(Optimization!$B$168:$AA$168%,Optimization!$AE159:$BD159)","v":0},{"$f":"SUMPRODUCT(Optimization!$B$169:$AA$169%,Optimization!$AE159:$BD159)","v":0},{"$f":"SUMPRODUCT(Optimization!$B$170:$AA$170%,Optimization!$AE159:$BD159)","v":0},{"$f":"SUMPRODUCT(Optimization!$B$171:$AA$171%,Optimization!$AE159:$BD159)","v":0},{"$f":"SUMPRODUCT(Optimization!$B$172:$AA$172%,Optimization!$AE159:$BD159)","v":0},null,"t/yr","t/yr","t/yr",null,"g/kg FPCM"]
[null,"Imports",null,"kg/hL","kg/year","Percent","Exports",null,"kg/hL","kg/year","Percent",null,"Na, % DM",{"$f":"SUMPRODUCT(Optimization!B117:AA117%,Optimization!AE161:BD161)","v":0.24736626543530449},{"$f":"SUMPRODUCT(Optimization!B118:AA118%,Optimization!AE161:BD161)","v":0.22170170465826078},{"$f":"SUMPRODUCT(Optimization!B119:AA119%,Optimization!AE161:BD161)","v":0.1116601377018023},{"$f":"SUMPRODUCT(Optimization!B120:AA120%,Optimization!AE161:BD161)","v":9.1792208800472411E-2},{"$f":"SUMPRODUCT(Optimization!B121:AA121%,Optimization!AE161:BD161)","v":8.3537598734050894E-2},null,"Na, % DM",{"$f":"SUMPRODUCT(Optimization!$B$168:$AA$168%,Optimization!$AE161:$BD161)","v":0},{"$f":"SUMPRODUCT(Optimization!$B$169:$AA$169%,Optimization!$AE161:$BD161)","v":0},{"$f":"SUMPRODUCT(Optimization!$B$170:$AA$170%,Optimization!$AE161:$BD161)","v":0},{"$f":"SUMPRODUCT(Optimization!$B$171:$AA$171%,Optimization!$AE161:$BD161)","v":0},{"$f":"SUMPRODUCT(Optimization!$B$172:$AA$172%,Optimization!$AE161:$BD161)","v":0},null,"1-Manure production",null,null,"1-Manure production"]
[null,"Feed K purchased",null,{"$f":"E67/Inputs!$C$71*103","v":0.19453433151839428},{"$f":"Optimization!H17","v":1912.4579496491517},{"$f":"E67/$E$72%","v":25.941471993583537},"Feed K sold",null,{"$f":"J67/Inputs!$C$71*103","v":0.17477685381239522},{"$f":"SUMPRODUCT(IF(Optimization!B144:J144>Optimization!B152:J152,Optimization!B153:J153,0),((Optimization!AE157:AM157)*10))","v":1718.2231068379692},{"$f":"J67/$J$72%","v":52.391419279236707},null,"Cl, % DM",{"$f":"SUMPRODUCT(Optimization!B117:AA117%,Optimization!AE163:BD163)","v":0.53392084823322705},{"$f":"SUMPRODUCT(Optimization!B118:AA118%,Optimization!AE163:BD163)","v":0.59027088650398141},{"$f":"SUMPRODUCT(Optimization!B119:AA119%,Optimization!AE163:BD163)","v":0.64993693411511544},{"$f":"SUMPRODUCT(Optimization!B120:AA120%,Optimization!AE163:BD163)","v":0.44420017133892836},{"$f":"SUMPRODUCT(Optimization!B121:AA121%,Optimization!AE163:BD163)","v":0.58514648208401177},null,"Cl, % DM",{"$f":"SUMPRODUCT(Optimization!$B$168:$AA$168%,Optimization!$AE163:$BD163)","v":0},{"$f":"SUMPRODUCT(Optimization!$B$169:$AA$169%,Optimization!$AE163:$BD163)","v":0},{"$f":"SUMPRODUCT(Optimization!$B$170:$AA$170%,Optimization!$AE163:$BD163)","v":0},{"$f":"SUMPRODUCT(Optimization!$B$171:$AA$171%,Optimization!$AE163:$BD163)","v":0},{"$f":"SUMPRODUCT(Optimization!$B$172:$AA$172%,Optimization!$AE163:$BD163)","v":0},null,{"$f":"Optimization!R313","v":23.451379991676312},{"$f":"Optimization!R314","v":5.5173600595057888},{"$f":"Optimization!R315","v":12.132286276439793},{"$f":"AA67*1000000/$E$34","v":24.773513190490085},{"$f":"0.437*AB67*1000000/$E$34","v":2.5470176773111834},{"$f":"0.833*AC67*1000000/$E$34","v":10.675957749791943}]
[null,"Fertilizer K purchased",null,{"$f":"E68/Inputs!$C$71*103","v":0.53801000423165135},{"$f":"Optimization!H18","v":5289.1512852902542},{"$f":"E68/$E$72%","v":71.744515983922653},"Milk K sold",null,{"$f":"J68/Inputs!$C$71*103","v":0.1545},{"$f":"Optimization!H26","v":1518.8823017229493},{"$f":"J68/$J$72%","v":46.31319366425172},null,"S, % DM",{"$f":"SUMPRODUCT(Optimization!B117:AA117%,Optimization!AE165:BD165)","v":0.20999999999996871},{"$f":"SUMPRODUCT(Optimization!B118:AA118%,Optimization!AE165:BD165)","v":0.2411077124211162},{"$f":"SUMPRODUCT(Optimization!B119:AA119%,Optimization!AE165:BD165)","v":0.21936152496041461},{"$f":"SUMPRODUCT(Optimization!B120:AA120%,Optimization!AE165:BD165)","v":0.25377381094882612},{"$f":"SUMPRODUCT(Optimization!B121:AA121%,Optimization!AE165:BD165)","v":0.22028567413038122},null,"S, % DM",{"$f":"SUMPRODUCT(Optimization!$B$168:$AA$168%,Optimization!$AE165:$BD165)","v":0},{"$f":"SUMPRODUCT(Optimization!$B$169:$AA$169%,Optimization!$AE165:$BD165)","v":0},{"$f":"SUMPRODUCT(Optimization!$B$170:$AA$170%,Optimization!$AE165:$BD165)","v":0},{"$f":"SUMPRODUCT(Optimization!$B$171:$AA$171%,Optimization!$AE165:$BD165)","v":0},{"$f":"SUMPRODUCT(Optimization!$B$172:$AA$172%,Optimization!$AE165:$BD165)","v":0},null,"2-Collection & storage losses",null,null,{"$f":"AA68","v":"2-Collection & storage losses"}]
[null,"Atmospheric K deposition",null,{"$f":"E69/Inputs!$C$71*103","v":1.5379993547558656E-2},{"$f":"Optimization!H21","v":151.19999999999999},{"$f":"E69/$E$72%","v":2.0509473508420939},"Animal K sold",null,{"$f":"J69/Inputs!$C$71*103","v":4.3213884510305729E-3},{"$f":"Optimization!H27","v":42.483368525179849},{"$f":"J69/$J$72%","v":1.2953870565115837},null,"DCAD (meq/kg)",{"$f":"SUMPRODUCT(Optimization!B111:AA111,Optimization!AE166:BD166)/Optimization!B178","v":117.50600072261015},{"$f":"SUMPRODUCT(Optimization!B112:AA112,Optimization!AE166:BD166)/Optimization!C178","v":199.92828451327401},{"$f":"SUMPRODUCT(Optimization!B113:AA113,Optimization!AE166:BD166)/Optimization!D178","v":204.45939666175545},{"$f":"SUMPRODUCT(Optimization!B114:AA114,Optimization!AE166:BD166)/Optimization!E178","v":183.80595834720671},{"$f":"SUMPRODUCT(Optimization!B115:AA115,Optimization!AE166:BD166)/Optimization!F178","v":216.24867974029098},null,"DCAD (meq/kg)",{"$f":"SUMPRODUCT(Optimization!B160:AA160,Optimization!AE166:BD166)/Optimization!B206","v":{"$error":"#DIV/0!"}},{"$f":"SUMPRODUCT(Optimization!B161:AA161,Optimization!AE166:BD166)/Optimization!C206","v":{"$error":"#DIV/0!"}},{"$f":"SUMPRODUCT(Optimization!B162:AA162,Optimization!AE166:BD166)/Optimization!D206","v":{"$error":"#DIV/0!"}},{"$f":"SUMPRODUCT(Optimization!B163:AA163,Optimization!AE166:BD166)/Optimization!E206","v":{"$error":"#DIV/0!"}},{"$f":"SUMPRODUCT(Optimization!B164:AA164,Optimization!AE166:BD166)/Optimization!F206","v":{"$error":"#DIV/0!"}},null,{"$f":"AA67-AA71","v":7.5869904549071219},{"$f":"AB67-AB71","v":0},{"$f":"AC67-AC71","v":0},{"$f":"AA69*1000000/$E$34","v":8.0147269873873537},{"$f":"0.437*AB69*1000000/$E$34","v":0},{"$f":"0.833*AC69*1000000/$E$34","v":0}]
[null,"Drinking water K inputs",null,{"$f":"E70/Inputs!$C$71*103","v":1.9727141951904029E-3},{"$f":"Optimization!H22","v":19.393661342604108},{"$f":"E70/$E$72%","v":0.26306467165173697},{"$f":"IF(J70=\"\",\"\",\"Manure K export\")","v":""},null,{"$f":"IF(J70=\"\",\"\",J70/Inputs!$C$71*103)","v":""},{"$f":"IF(Optimization!H29=0,\"\",Optimization!H29)","v":""},{"$f":"IF(J70=\"\",\"\",J70/$J$72%)","v":""},null,"F:C ratio",{"$f":"Optimization!AB123","v":50.603768304104207},{"$f":"Optimization!AB124","v":83.820641352877175},{"$f":"Optimization!AB125","v":99.771973200148025},{"$f":"Optimization!AB126","v":83.531501895462938},{"$f":"Optimization!AB127","v":99.844329116391222},null,"F:C ratio",null,null,null,null,null,null,"3-Available (applcn. or exprt)",null,null,{"$f":"AA70","v":"3-Available (applcn. or exprt)"}]
[null,{"$f":"IF(E71=\"\",\"\",\"Manure K Purchased\")","v":""},null,{"$f":"IF(E71=\"\",\"\",E71/Inputs!$C$71*103)","v":""},{"$f":"IF(Optimization!H19=0,\"\",Optimization!H19)","v":""},{"$f":"IF(E71=\"\",\"\",E71/$E$72%)","v":""},null,null,null,null,null,null,"Cost, /t DM",{"$f":"SUMPRODUCT(Optimization!B117:AA117%,Optimization!AE169:BD169)","v":187.58301673112169},{"$f":"SUMPRODUCT(Optimization!B118:AA118%,Optimization!AE169:BD169)","v":150.4503035123723},{"$f":"SUMPRODUCT(Optimization!B119:AA119%,Optimization!AE169:BD169)","v":162.76548248199578},{"$f":"SUMPRODUCT(Optimization!B120:AA120%,Optimization!AE169:BD169)","v":164.09002699432767},{"$f":"SUMPRODUCT(Optimization!B121:AA121%,Optimization!AE169:BD169)","v":162.29437228806393},null,"Cost, /t DM",{"$f":"SUMPRODUCT(Optimization!B168:AA168%,Optimization!AE169:BD169)","v":0},{"$f":"SUMPRODUCT(Optimization!B169:AA169%,Optimization!AE169:BD169)","v":0},{"$f":"SUMPRODUCT(Optimization!B170:AA170%,Optimization!AE169:BD169)","v":0},{"$f":"SUMPRODUCT(Optimization!B171:AA171%,Optimization!AE169:BD169)","v":0},{"$f":"SUMPRODUCT(Optimization!B172:AA172%,Optimization!AE169:BD169)","v":0},null,{"$f":"Optimization!AG324+Optimization!AG335","v":15.86438953676919},{"$f":"Optimization!AG325+Optimization!AG336","v":5.5173600595057888},{"$f":"Optimization!AG326+Optimization!AG337","v":12.132286276439793},{"$f":"AA71*1000000/$E$34","v":16.758786203102733},{"$f":"0.437*AB71*1000000/$E$34","v":2.5470176773111834},{"$f":"0.833*AC71*1000000/$E$34","v":10.675957749791943}]
[null,"Total Imports",null,{"$f":"SUM(D67:D70)","v":0.74989704349279473},{"$f":"SUM(E67:E70)","v":7372.2028962820095},{"$f":"SUM(F67:F70)","v":100.00000000000001},"Total Exports",null,{"$f":"SUM(I67:I70)","v":0.33359824226342583},{"$f":"SUM(J67:J70)","v":3279.5887770860982},{"$f":"SUM(K67:K70)","v":100.00000000000001},null,null,null,null,null,null,null,null,null,null,null,null,null,null,null,"4- Field applied on-farm",null,null,{"$f":"AA72","v":"4- Field applied on-farm"}]
[null,null,null,null,null,null,null,null,null,null,null,null,null,null,null,null,null,null,null,null,null,null,null,null,null,null,{"$f":"Optimization!BQ314/1000","v":15.86438953676921},{"$f":"Optimization!BQ315/1000","v":5.5173600595057941},{"$f":"Optimization!BQ316/1000","v":12.132286276439807},{"$f":"AA73*1000000/$E$34","v":16.758786203102751},{"$f":"0.437*AB73*1000000/$E$34","v":2.5470176773111866},{"$f":"0.833*AC73*1000000/$E$34","v":10.675957749791957}]
[null,"6- CROPS - HECTARES - YIELDS (as homegrown feed  or as sold crop)",null,null,null,null,null,null,null,null,null,null,"9- MANURE",{"$f":"N25","v":"Grp 1"},{"$f":"O25","v":"Grp 2"},{"$f":"P25","v":"Grp 3"},{"$f":"Q25","v":"Grp 4"},{"$f":"R25","v":"Grp 5"},null,null,null,null,null,null,null,null,"5- Exported from the farm",null,null,{"$f":"AA74","v":"5- Exported from the farm"}]
[null,"Crops",{"$f":"IF(Optimization!B144>0,Inputs!C181,\"\")","v":""},{"$f":"IF(Optimization!C144>0,Inputs!D181,\"\")","v":"CoSi-35"},{"$f":"IF(Optimization!D144>0,Inputs!E181,\"\")","v":"AlSi-83"},{"$f":"IF(Optimization!E144>0,Inputs!F181,\"\")","v":"MxSi-74"},{"$f":"IF(Optimization!F144>0,Inputs!G181,\"\")","v":""},{"$f":"IF(Optimization!G144>0,Inputs!H181,\"\")","v":"SBw-108"},{"$f":"IF(Optimization!H144>0,Inputs!I181,\"\")","v":"CoGr-27"},{"$f":"IF(Optimization!I144>0,Inputs!J181,\"\")","v":""},{"$f":"IF(Optimization!J144>0,Inputs!K181,\"\")","v":""},null,"Excretion (urine and feces, as-is)",null,null,null,null,null,null,null,null,null,null,null,null,null,{"$f":"IF(Optimization!BR314<0.1,\"\",Optimization!BR314/1000)","v":""},{"$f":"IF(Optimization!BR315<0.1,\"\",Optimization!BR315/1000)","v":""},{"$f":"IF(Optimization!BR316<0.1,\"\",Optimization!BR316/1000)","v":""},{"$f":"IF(AA75=\"\",\"\",AA75*1000000/$E$34)","v":""},{"$f":"IF(AB75=\"\",\"\",0.437*AB75*1000000/$E$34)","v":""},{"$f":"IF(AC75=\"\",\"\",0.833*AC75*1000000/$E$34)","v":""}]
[null,{"$f":"I28","v":"LU 1"},{"$f":"IF(Optimization!B135>0.01,(COUNTIF(Optimization!$R$391:$AA$391,Outputs!C$75)*Optimization!$B$84/MAX(Optimization!$R$392:$AA$392)+COUNTIF(Optimization!$AB$391:$AK$391,Outputs!C$75)*Optimization!$C$84/MAX(Optimization!$AB$392:$AK$392)+COUNTIF(Optimization!$AL$391:$AU$391,Outputs!C$75)*Optimization!$D$84/MAX(Optimization!$AL$392:$AU$392)+COUNTIF(Optimization!$AV$391:$BE$391,Outputs!C$75)*Optimization!$E$84/MAX(Optimization!$AV$392:$BE$392)+COUNTIF(Optimization!$BF$391:$BO$391,Outputs!C$75)*Optimization!$F$84/MAX(Optimization!$BF$392:$BO$392))*Optimization!$M380,\"\")","v":""},{"$f":"IF(Optimization!C135>0.01,(COUNTIF(Optimization!$R$391:$AA$391,Outputs!D$75)*Optimization!$B$84/MAX(Optimization!$R$392:$AA$392)+COUNTIF(Optimization!$AB$391:$AK$391,Outputs!D$75)*Optimization!$C$84/MAX(Optimization!$AB$392:$AK$392)+COUNTIF(Optimization!$AL$391:$AU$391,Outputs!D$75)*Optimization!$D$84/MAX(Optimization!$AL$392:$AU$392)+COUNTIF(Optimization!$AV$391:$BE$391,Outputs!D$75)*Optimization!$E$84/MAX(Optimization!$AV$392:$BE$392)+COUNTIF(Optimization!$BF$391:$BO$391,Outputs!D$75)*Optimization!$F$84/MAX(Optimization!$BF$392:$BO$392))*Optimization!$M380,\"\")","v":10.080000000000069},{"$f":"IF(Optimization!D135>0.01,(COUNTIF(Optimization!$R$391:$AA$391,Outputs!E$75)*Optimization!$B$84/MAX(Optimization!$R$392:$AA$392)+COUNTIF(Optimization!$AB$391:$AK$391,Outputs!E$75)*Optimization!$C$84/MAX(Optimization!$AB$392:$AK$392)+COUNTIF(Optimization!$AL$391:$AU$391,Outputs!E$75)*Optimization!$D$84/MAX(Optimization!$AL$392:$AU$392)+COUNTIF(Optimization!$AV$391:$BE$391,Outputs!E$75)*Optimization!$E$84/MAX(Optimization!$AV$392:$BE$392)+COUNTIF(Optimization!$BF$391:$BO$391,Outputs!E$75)*Optimization!$F$84/MAX(Optimization!$BF$392:$BO$392))*Optimization!$M380,\"\")","v":20.160000000000139},{"$f":"IF(Optimization!E135>0.01,(COUNTIF(Optimization!$R$391:$AA$391,Outputs!F$75)*Optimization!$B$84/MAX(Optimization!$R$392:$AA$392)+COUNTIF(Optimization!$AB$391:$AK$391,Outputs!F$75)*Optimization!$C$84/MAX(Optimization!$AB$392:$AK$392)+COUNTIF(Optimization!$AL$391:$AU$391,Outputs!F$75)*Optimization!$D$84/MAX(Optimization!$AL$392:$AU$392)+COUNTIF(Optimization!$AV$391:$BE$391,Outputs!F$75)*Optimization!$E$84/MAX(Optimization!$AV$392:$BE$392)+COUNTIF(Optimization!$BF$391:$BO$391,Outputs!F$75)*Optimization!$F$84/MAX(Optimization!$BF$392:$BO$392))*Optimization!$M380,\"\")","v":10.080000000000069},{"$f":"IF(Optimization!F135>0.01,(COUNTIF(Optimization!$R$391:$AA$391,Outputs!G$75)*Optimization!$B$84/MAX(Optimization!$R$392:$AA$392)+COUNTIF(Optimization!$AB$391:$AK$391,Outputs!G$75)*Optimization!$C$84/MAX(Optimization!$AB$392:$AK$392)+COUNTIF(Optimization!$AL$391:$AU$391,Outputs!G$75)*Optimization!$D$84/MAX(Optimization!$AL$392:$AU$392)+COUNTIF(Optimization!$AV$391:$BE$391,Outputs!G$75)*Optimization!$E$84/MAX(Optimization!$AV$392:$BE$392)+COUNTIF(Optimization!$BF$391:$BO$391,Outputs!G$75)*Optimization!$F$84/MAX(Optimization!$BF$392:$BO$392))*Optimization!$M380,\"\")","v":""},{"$f":"IF(Optimization!G135>0.01,(COUNTIF(Optimization!$R$391:$AA$391,Outputs!H$75)*Optimization!$B$84/MAX(Optimization!$R$392:$AA$392)+COUNTIF(Optimization!$AB$391:$AK$391,Outputs!H$75)*Optimization!$C$84/MAX(Optimization!$AB$392:$AK$392)+COUNTIF(Optimization!$AL$391:$AU$391,Outputs!H$75)*Optimization!$D$84/MAX(Optimization!$AL$392:$AU$392)+COUNTIF(Optimization!$AV$391:$BE$391,Outputs!H$75)*Optimization!$E$84/MAX(Optimization!$AV$392:$BE$392)+COUNTIF(Optimization!$BF$391:$BO$391,Outputs!H$75)*Optimization!$F$84/MAX(Optimization!$BF$392:$BO$392))*Optimization!$M380,\"\")","v":""},{"$f":"IF(Optimization!H135>0.01,(COUNTIF(Optimization!$R$391:$AA$391,Outputs!I$75)*Optimization!$B$84/MAX(Optimization!$R$392:$AA$392)+COUNTIF(Optimization!$AB$391:$AK$391,Outputs!I$75)*Optimization!$C$84/MAX(Optimization!$AB$392:$AK$392)+COUNTIF(Optimization!$AL$391:$AU$391,Outputs!I$75)*Optimization!$D$84/MAX(Optimization!$AL$392:$AU$392)+COUNTIF(Optimization!$AV$391:$BE$391,Outputs!I$75)*Optimization!$E$84/MAX(Optimization!$AV$392:$BE$392)+COUNTIF(Optimization!$BF$391:$BO$391,Outputs!I$75)*Optimization!$F$84/MAX(Optimization!$BF$392:$BO$392))*Optimization!$M380,\"\")","v":10.080000000000069},{"$f":"IF(Optimization!I135>0.01,(COUNTIF(Optimization!$R$391:$AA$391,Outputs!J$75)*Optimization!$B$84/MAX(Optimization!$R$392:$AA$392)+COUNTIF(Optimization!$AB$391:$AK$391,Outputs!J$75)*Optimization!$C$84/MAX(Optimization!$AB$392:$AK$392)+COUNTIF(Optimization!$AL$391:$AU$391,Outputs!J$75)*Optimization!$D$84/MAX(Optimization!$AL$392:$AU$392)+COUNTIF(Optimization!$AV$391:$BE$391,Outputs!J$75)*Optimization!$E$84/MAX(Optimization!$AV$392:$BE$392)+COUNTIF(Optimization!$BF$391:$BO$391,Outputs!J$75)*Optimization!$F$84/MAX(Optimization!$BF$392:$BO$392))*Optimization!$M380,\"\")","v":""},{"$f":"IF(Optimization!J135>0.01,(COUNTIF(Optimization!$R$391:$AA$391,Outputs!K$75)*Optimization!$B$84/MAX(Optimization!$R$392:$AA$392)+COUNTIF(Optimization!$AB$391:$AK$391,Outputs!K$75)*Optimization!$C$84/MAX(Optimization!$AB$392:$AK$392)+COUNTIF(Optimization!$AL$391:$AU$391,Outputs!K$75)*Optimization!$D$84/MAX(Optimization!$AL$392:$AU$392)+COUNTIF(Optimization!$AV$391:$BE$391,Outputs!K$75)*Optimization!$E$84/MAX(Optimization!$AV$392:$BE$392)+COUNTIF(Optimization!$BF$391:$BO$391,Outputs!K$75)*Optimization!$F$84/MAX(Optimization!$BF$392:$BO$392))*Optimization!$M380,\"\")","v":""},null,"kg/animal/d",{"$f":"Optimization!M297","v":68.830999473846333},{"$f":"Optimization!N297","v":63.575962200610931},{"$f":"Optimization!O297","v":35.572000000000003},{"$f":"Optimization!P297","v":15.3209254},{"$f":"Optimization!Q297","v":27.165544539999999},null,null,null,null,null,null,null,null,"6-Plant available (total)",null,null,"6-Plant available (g/kg FPCM)"]
[null,{"$f":"I29","v":" "},{"$f":"IF(Optimization!B136>0.01,(COUNTIF(Optimization!$R$411:$AA$411,Outputs!C$75)*Optimization!$B$87/MAX(Optimization!$R$412:$AA$412)+COUNTIF(Optimization!$AB$411:$AK$411,Outputs!C$75)*Optimization!$C$87/MAX(Optimization!$AB$412:$AK$412)+COUNTIF(Optimization!$AL$411:$AU$411,Outputs!C$75)*Optimization!$D$87/MAX(Optimization!$AL$412:$AU$412)+COUNTIF(Optimization!$AV$411:$BE$411,Outputs!C$75)*Optimization!$E$87/MAX(Optimization!$AV$412:$BE$412)+COUNTIF(Optimization!$BF$411:$BO$411,Outputs!C$75)*Optimization!$F$87/MAX(Optimization!$BF$412:$BO$412))*Optimization!$M381,\"\")","v":""},{"$f":"IF(Optimization!C136>0.01,(COUNTIF(Optimization!$R$411:$AA$411,Outputs!D$75)*Optimization!$B$87/MAX(Optimization!$R$412:$AA$412)+COUNTIF(Optimization!$AB$411:$AK$411,Outputs!D$75)*Optimization!$C$87/MAX(Optimization!$AB$412:$AK$412)+COUNTIF(Optimization!$AL$411:$AU$411,Outputs!D$75)*Optimization!$D$87/MAX(Optimization!$AL$412:$AU$412)+COUNTIF(Optimization!$AV$411:$BE$411,Outputs!D$75)*Optimization!$E$87/MAX(Optimization!$AV$412:$BE$412)+COUNTIF(Optimization!$BF$411:$BO$411,Outputs!D$75)*Optimization!$F$87/MAX(Optimization!$BF$412:$BO$412))*Optimization!$M381,\"\")","v":""},{"$f":"IF(Optimization!D136>0.01,(COUNTIF(Optimization!$R$411:$AA$411,Outputs!E$75)*Optimization!$B$87/MAX(Optimization!$R$412:$AA$412)+COUNTIF(Optimization!$AB$411:$AK$411,Outputs!E$75)*Optimization!$C$87/MAX(Optimization!$AB$412:$AK$412)+COUNTIF(Optimization!$AL$411:$AU$411,Outputs!E$75)*Optimization!$D$87/MAX(Optimization!$AL$412:$AU$412)+COUNTIF(Optimization!$AV$411:$BE$411,Outputs!E$75)*Optimization!$E$87/MAX(Optimization!$AV$412:$BE$412)+COUNTIF(Optimization!$BF$411:$BO$411,Outputs!E$75)*Optimization!$F$87/MAX(Optimization!$BF$412:$BO$412))*Optimization!$M381,\"\")","v":""},{"$f":"IF(Optimization!E136>0.01,(COUNTIF(Optimization!$R$411:$AA$411,Outputs!F$75)*Optimization!$B$87/MAX(Optimization!$R$412:$AA$412)+COUNTIF(Optimization!$AB$411:$AK$411,Outputs!F$75)*Optimization!$C$87/MAX(Optimization!$AB$412:$AK$412)+COUNTIF(Optimization!$AL$411:$AU$411,Outputs!F$75)*Optimization!$D$87/MAX(Optimization!$AL$412:$AU$412)+COUNTIF(Optimization!$AV$411:$BE$411,Outputs!F$75)*Optimization!$E$87/MAX(Optimization!$AV$412:$BE$412)+COUNTIF(Optimization!$BF$411:$BO$411,Outputs!F$75)*Optimization!$F$87/MAX(Optimization!$BF$412:$BO$412))*Optimization!$M381,\"\")","v":""},{"$f":"IF(Optimization!F136>0.01,(COUNTIF(Optimization!$R$411:$AA$411,Outputs!G$75)*Optimization!$B$87/MAX(Optimization!$R$412:$AA$412)+COUNTIF(Optimization!$AB$411:$AK$411,Outputs!G$75)*Optimization!$C$87/MAX(Optimization!$AB$412:$AK$412)+COUNTIF(Optimization!$AL$411:$AU$411,Outputs!G$75)*Optimization!$D$87/MAX(Optimization!$AL$412:$AU$412)+COUNTIF(Optimization!$AV$411:$BE$411,Outputs!G$75)*Optimization!$E$87/MAX(Optimization!$AV$412:$BE$412)+COUNTIF(Optimization!$BF$411:$BO$411,Outputs!G$75)*Optimization!$F$87/MAX(Optimization!$BF$412:$BO$412))*Optimization!$M381,\"\")","v":""},{"$f":"IF(Optimization!G136>0.01,(COUNTIF(Optimization!$R$411:$AA$411,Outputs!H$75)*Optimization!$B$87/MAX(Optimization!$R$412:$AA$412)+COUNTIF(Optimization!$AB$411:$AK$411,Outputs!H$75)*Optimization!$C$87/MAX(Optimization!$AB$412:$AK$412)+COUNTIF(Optimization!$AL$411:$AU$411,Outputs!H$75)*Optimization!$D$87/MAX(Optimization!$AL$412:$AU$412)+COUNTIF(Optimization!$AV$411:$BE$411,Outputs!H$75)*Optimization!$E$87/MAX(Optimization!$AV$412:$BE$412)+COUNTIF(Optimization!$BF$411:$BO$411,Outputs!H$75)*Optimization!$F$87/MAX(Optimization!$BF$412:$BO$412))*Optimization!$M381,\"\")","v":""},{"$f":"IF(Optimization!H136>0.01,(COUNTIF(Optimization!$R$411:$AA$411,Outputs!I$75)*Optimization!$B$87/MAX(Optimization!$R$412:$AA$412)+COUNTIF(Optimization!$AB$411:$AK$411,Outputs!I$75)*Optimization!$C$87/MAX(Optimization!$AB$412:$AK$412)+COUNTIF(Optimization!$AL$411:$AU$411,Outputs!I$75)*Optimization!$D$87/MAX(Optimization!$AL$412:$AU$412)+COUNTIF(Optimization!$AV$411:$BE$411,Outputs!I$75)*Optimization!$E$87/MAX(Optimization!$AV$412:$BE$412)+COUNTIF(Optimization!$BF$411:$BO$411,Outputs!I$75)*Optimization!$F$87/MAX(Optimization!$BF$412:$BO$412))*Optimization!$M381,\"\")","v":""},{"$f":"IF(Optimization!I136>0.01,(COUNTIF(Optimization!$R$411:$AA$411,Outputs!J$75)*Optimization!$B$87/MAX(Optimization!$R$412:$AA$412)+COUNTIF(Optimization!$AB$411:$AK$411,Outputs!J$75)*Optimization!$C$87/MAX(Optimization!$AB$412:$AK$412)+COUNTIF(Optimization!$AL$411:$AU$411,Outputs!J$75)*Optimization!$D$87/MAX(Optimization!$AL$412:$AU$412)+COUNTIF(Optimization!$AV$411:$BE$411,Outputs!J$75)*Optimization!$E$87/MAX(Optimization!$AV$412:$BE$412)+COUNTIF(Optimization!$BF$411:$BO$411,Outputs!J$75)*Optimization!$F$87/MAX(Optimization!$BF$412:$BO$412))*Optimization!$M381,\"\")","v":""},{"$f":"IF(Optimization!J136>0.01,(COUNTIF(Optimization!$R$411:$AA$411,Outputs!K$75)*Optimization!$B$87/MAX(Optimization!$R$412:$AA$412)+COUNTIF(Optimization!$AB$411:$AK$411,Outputs!K$75)*Optimization!$C$87/MAX(Optimization!$AB$412:$AK$412)+COUNTIF(Optimization!$AL$411:$AU$411,Outputs!K$75)*Optimization!$D$87/MAX(Optimization!$AL$412:$AU$412)+COUNTIF(Optimization!$AV$411:$BE$411,Outputs!K$75)*Optimization!$E$87/MAX(Optimization!$AV$412:$BE$412)+COUNTIF(Optimization!$BF$411:$BO$411,Outputs!K$75)*Optimization!$F$87/MAX(Optimization!$BF$412:$BO$412))*Optimization!$M381,\"\")","v":""},null,"t/y",{"$f":"Optimization!M298","v":954.68596270224862},{"$f":"Optimization!N298","v":1253.0822149740416},{"$f":"Optimization!O298","v":194.75670000000002},{"$f":"Optimization!P298","v":216.76513977037004},{"$f":"Optimization!Q298","v":407.44500319716042},null,null,null,null,null,null,null,null,{"$f":"Optimization!Y324+Optimization!Y335","v":5.7715283710347798},{"$f":"Optimization!Y325+Optimization!Y336","v":4.082846444034284},{"$f":"Optimization!Y326+Optimization!Y337","v":10.416780996951207},{"$f":"AA77*1000000/$E34","v":6.0969134558335876},{"$f":"0.437*AB77*1000000/$E34","v":1.8847930812102762},{"$f":"0.833*AC77*1000000/$E34","v":9.166377323971366}]
[null,{"$f":"I30","v":"LU 3"},{"$f":"IF(Optimization!B137>0.01,(COUNTIF(Optimization!$R$431:$AA$431,Outputs!C$75)*Optimization!$B$90/MAX(Optimization!$R$432:$AA$432)+COUNTIF(Optimization!$AB$431:$AK$431,Outputs!C$75)*Optimization!$C$90/MAX(Optimization!$AB$432:$AK$432)+COUNTIF(Optimization!$AL$431:$AU$431,Outputs!C$75)*Optimization!$D$90/MAX(Optimization!$AL$432:$AU$432)+COUNTIF(Optimization!$AV$431:$BE$431,Outputs!C$75)*Optimization!$E$90/MAX(Optimization!$AV$432:$BE$432)+COUNTIF(Optimization!$BF$431:$BO$431,Outputs!C$75)*Optimization!$F$90/MAX(Optimization!$BF$432:$BO$432))*Optimization!$M382,\"\")","v":""},{"$f":"IF(Optimization!C137>0.01,(COUNTIF(Optimization!$R$431:$AA$431,Outputs!D$75)*Optimization!$B$90/MAX(Optimization!$R$432:$AA$432)+COUNTIF(Optimization!$AB$431:$AK$431,Outputs!D$75)*Optimization!$C$90/MAX(Optimization!$AB$432:$AK$432)+COUNTIF(Optimization!$AL$431:$AU$431,Outputs!D$75)*Optimization!$D$90/MAX(Optimization!$AL$432:$AU$432)+COUNTIF(Optimization!$AV$431:$BE$431,Outputs!D$75)*Optimization!$E$90/MAX(Optimization!$AV$432:$BE$432)+COUNTIF(Optimization!$BF$431:$BO$431,Outputs!D$75)*Optimization!$F$90/MAX(Optimization!$BF$432:$BO$432))*Optimization!$M382,\"\")","v":12.599999999999934},{"$f":"IF(Optimization!D137>0.01,(COUNTIF(Optimization!$R$431:$AA$431,Outputs!E$75)*Optimization!$B$90/MAX(Optimization!$R$432:$AA$432)+COUNTIF(Optimization!$AB$431:$AK$431,Outputs!E$75)*Optimization!$C$90/MAX(Optimization!$AB$432:$AK$432)+COUNTIF(Optimization!$AL$431:$AU$431,Outputs!E$75)*Optimization!$D$90/MAX(Optimization!$AL$432:$AU$432)+COUNTIF(Optimization!$AV$431:$BE$431,Outputs!E$75)*Optimization!$E$90/MAX(Optimization!$AV$432:$BE$432)+COUNTIF(Optimization!$BF$431:$BO$431,Outputs!E$75)*Optimization!$F$90/MAX(Optimization!$BF$432:$BO$432))*Optimization!$M382,\"\")","v":12.599999999999934},{"$f":"IF(Optimization!E137>0.01,(COUNTIF(Optimization!$R$431:$AA$431,Outputs!F$75)*Optimization!$B$90/MAX(Optimization!$R$432:$AA$432)+COUNTIF(Optimization!$AB$431:$AK$431,Outputs!F$75)*Optimization!$C$90/MAX(Optimization!$AB$432:$AK$432)+COUNTIF(Optimization!$AL$431:$AU$431,Outputs!F$75)*Optimization!$D$90/MAX(Optimization!$AL$432:$AU$432)+COUNTIF(Optimization!$AV$431:$BE$431,Outputs!F$75)*Optimization!$E$90/MAX(Optimization!$AV$432:$BE$432)+COUNTIF(Optimization!$BF$431:$BO$431,Outputs!F$75)*Optimization!$F$90/MAX(Optimization!$BF$432:$BO$432))*Optimization!$M382,\"\")","v":6.299999999999967},{"$f":"IF(Optimization!F137>0.01,(COUNTIF(Optimization!$R$431:$AA$431,Outputs!G$75)*Optimization!$B$90/MAX(Optimization!$R$432:$AA$432)+COUNTIF(Optimization!$AB$431:$AK$431,Outputs!G$75)*Optimization!$C$90/MAX(Optimization!$AB$432:$AK$432)+COUNTIF(Optimization!$AL$431:$AU$431,Outputs!G$75)*Optimization!$D$90/MAX(Optimization!$AL$432:$AU$432)+COUNTIF(Optimization!$AV$431:$BE$431,Outputs!G$75)*Optimization!$E$90/MAX(Optimization!$AV$432:$BE$432)+COUNTIF(Optimization!$BF$431:$BO$431,Outputs!G$75)*Optimization!$F$90/MAX(Optimization!$BF$432:$BO$432))*Optimization!$M382,\"\")","v":""},{"$f":"IF(Optimization!G137>0.01,(COUNTIF(Optimization!$R$431:$AA$431,Outputs!H$75)*Optimization!$B$90/MAX(Optimization!$R$432:$AA$432)+COUNTIF(Optimization!$AB$431:$AK$431,Outputs!H$75)*Optimization!$C$90/MAX(Optimization!$AB$432:$AK$432)+COUNTIF(Optimization!$AL$431:$AU$431,Outputs!H$75)*Optimization!$D$90/MAX(Optimization!$AL$432:$AU$432)+COUNTIF(Optimization!$AV$431:$BE$431,Outputs!H$75)*Optimization!$E$90/MAX(Optimization!$AV$432:$BE$432)+COUNTIF(Optimization!$BF$431:$BO$431,Outputs!H$75)*Optimization!$F$90/MAX(Optimization!$BF$432:$BO$432))*Optimization!$M382,\"\")","v":6.299999999999967},{"$f":"IF(Optimization!H137>0.01,(COUNTIF(Optimization!$R$431:$AA$431,Outputs!I$75)*Optimization!$B$90/MAX(Optimization!$R$432:$AA$432)+COUNTIF(Optimization!$AB$431:$AK$431,Outputs!I$75)*Optimization!$C$90/MAX(Optimization!$AB$432:$AK$432)+COUNTIF(Optimization!$AL$431:$AU$431,Outputs!I$75)*Optimization!$D$90/MAX(Optimization!$AL$432:$AU$432)+COUNTIF(Optimization!$AV$431:$BE$431,Outputs!I$75)*Optimization!$E$90/MAX(Optimization!$AV$432:$BE$432)+COUNTIF(Optimization!$BF$431:$BO$431,Outputs!I$75)*Optimization!$F$90/MAX(Optimization!$BF$432:$BO$432))*Optimization!$M382,\"\")","v":12.599999999999934},{"$f":"IF(Optimization!I137>0.01,(COUNTIF(Optimization!$R$431:$AA$431,Outputs!J$75)*Optimization!$B$90/MAX(Optimization!$R$432:$AA$432)+COUNTIF(Optimization!$AB$431:$AK$431,Outputs!J$75)*Optimization!$C$90/MAX(Optimization!$AB$432:$AK$432)+COUNTIF(Optimization!$AL$431:$AU$431,Outputs!J$75)*Optimization!$D$90/MAX(Optimization!$AL$432:$AU$432)+COUNTIF(Optimization!$AV$431:$BE$431,Outputs!J$75)*Optimization!$E$90/MAX(Optimization!$AV$432:$BE$432)+COUNTIF(Optimization!$BF$431:$BO$431,Outputs!J$75)*Optimization!$F$90/MAX(Optimization!$BF$432:$BO$432))*Optimization!$M382,\"\")","v":""},{"$f":"IF(Optimization!J137>0.01,(COUNTIF(Optimization!$R$431:$AA$431,Outputs!K$75)*Optimization!$B$90/MAX(Optimization!$R$432:$AA$432)+COUNTIF(Optimization!$AB$431:$AK$431,Outputs!K$75)*Optimization!$C$90/MAX(Optimization!$AB$432:$AK$432)+COUNTIF(Optimization!$AL$431:$AU$431,Outputs!K$75)*Optimization!$D$90/MAX(Optimization!$AL$432:$AU$432)+COUNTIF(Optimization!$AV$431:$BE$431,Outputs!K$75)*Optimization!$E$90/MAX(Optimization!$AV$432:$BE$432)+COUNTIF(Optimization!$BF$431:$BO$431,Outputs!K$75)*Optimization!$F$90/MAX(Optimization!$BF$432:$BO$432))*Optimization!$M382,\"\")","v":""},null,"Nutrient excretion (urine and feces)",null,null,null,null,null,null,null,null,null,null,null,null,null,"7- Plant available recycled",null,null,"7- Plant available recycled"]
[null,{"$f":"I31","v":" "},{"$f":"IF(Optimization!B138>0.01,(COUNTIF(Optimization!$R$451:$AA$451,Outputs!C$75)*Optimization!$B$93/MAX(Optimization!$R$452:$AA$452)+COUNTIF(Optimization!$AB$451:$AK$451,Outputs!C$75)*Optimization!$C$93/MAX(Optimization!$AB$452:$AK$452)+COUNTIF(Optimization!$AL$451:$AU$451,Outputs!C$75)*Optimization!$D$93/MAX(Optimization!$AL$452:$AU$452)+COUNTIF(Optimization!$AV$451:$BE$451,Outputs!C$75)*Optimization!$E$93/MAX(Optimization!$AV$452:$BE$452)+COUNTIF(Optimization!$BF$451:$BO$451,Outputs!C$75)*Optimization!$F$93/MAX(Optimization!$BF$452:$BO$452))*Optimization!$M383,\"\")","v":""},{"$f":"IF(Optimization!C138>0.01,(COUNTIF(Optimization!$R$451:$AA$451,Outputs!D$75)*Optimization!$B$93/MAX(Optimization!$R$452:$AA$452)+COUNTIF(Optimization!$AB$451:$AK$451,Outputs!D$75)*Optimization!$C$93/MAX(Optimization!$AB$452:$AK$452)+COUNTIF(Optimization!$AL$451:$AU$451,Outputs!D$75)*Optimization!$D$93/MAX(Optimization!$AL$452:$AU$452)+COUNTIF(Optimization!$AV$451:$BE$451,Outputs!D$75)*Optimization!$E$93/MAX(Optimization!$AV$452:$BE$452)+COUNTIF(Optimization!$BF$451:$BO$451,Outputs!D$75)*Optimization!$F$93/MAX(Optimization!$BF$452:$BO$452))*Optimization!$M383,\"\")","v":""},{"$f":"IF(Optimization!D138>0.01,(COUNTIF(Optimization!$R$451:$AA$451,Outputs!E$75)*Optimization!$B$93/MAX(Optimization!$R$452:$AA$452)+COUNTIF(Optimization!$AB$451:$AK$451,Outputs!E$75)*Optimization!$C$93/MAX(Optimization!$AB$452:$AK$452)+COUNTIF(Optimization!$AL$451:$AU$451,Outputs!E$75)*Optimization!$D$93/MAX(Optimization!$AL$452:$AU$452)+COUNTIF(Optimization!$AV$451:$BE$451,Outputs!E$75)*Optimization!$E$93/MAX(Optimization!$AV$452:$BE$452)+COUNTIF(Optimization!$BF$451:$BO$451,Outputs!E$75)*Optimization!$F$93/MAX(Optimization!$BF$452:$BO$452))*Optimization!$M383,\"\")","v":""},{"$f":"IF(Optimization!E138>0.01,(COUNTIF(Optimization!$R$451:$AA$451,Outputs!F$75)*Optimization!$B$93/MAX(Optimization!$R$452:$AA$452)+COUNTIF(Optimization!$AB$451:$AK$451,Outputs!F$75)*Optimization!$C$93/MAX(Optimization!$AB$452:$AK$452)+COUNTIF(Optimization!$AL$451:$AU$451,Outputs!F$75)*Optimization!$D$93/MAX(Optimization!$AL$452:$AU$452)+COUNTIF(Optimization!$AV$451:$BE$451,Outputs!F$75)*Optimization!$E$93/MAX(Optimization!$AV$452:$BE$452)+COUNTIF(Optimization!$BF$451:$BO$451,Outputs!F$75)*Optimization!$F$93/MAX(Optimization!$BF$452:$BO$452))*Optimization!$M383,\"\")","v":""},{"$f":"IF(Optimization!F138>0.01,(COUNTIF(Optimization!$R$451:$AA$451,Outputs!G$75)*Optimization!$B$93/MAX(Optimization!$R$452:$AA$452)+COUNTIF(Optimization!$AB$451:$AK$451,Outputs!G$75)*Optimization!$C$93/MAX(Optimization!$AB$452:$AK$452)+COUNTIF(Optimization!$AL$451:$AU$451,Outputs!G$75)*Optimization!$D$93/MAX(Optimization!$AL$452:$AU$452)+COUNTIF(Optimization!$AV$451:$BE$451,Outputs!G$75)*Optimization!$E$93/MAX(Optimization!$AV$452:$BE$452)+COUNTIF(Optimization!$BF$451:$BO$451,Outputs!G$75)*Optimization!$F$93/MAX(Optimization!$BF$452:$BO$452))*Optimization!$M383,\"\")","v":""},{"$f":"IF(Optimization!G138>0.01,(COUNTIF(Optimization!$R$451:$AA$451,Outputs!H$75)*Optimization!$B$93/MAX(Optimization!$R$452:$AA$452)+COUNTIF(Optimization!$AB$451:$AK$451,Outputs!H$75)*Optimization!$C$93/MAX(Optimization!$AB$452:$AK$452)+COUNTIF(Optimization!$AL$451:$AU$451,Outputs!H$75)*Optimization!$D$93/MAX(Optimization!$AL$452:$AU$452)+COUNTIF(Optimization!$AV$451:$BE$451,Outputs!H$75)*Optimization!$E$93/MAX(Optimization!$AV$452:$BE$452)+COUNTIF(Optimization!$BF$451:$BO$451,Outputs!H$75)*Optimization!$F$93/MAX(Optimization!$BF$452:$BO$452))*Optimization!$M383,\"\")","v":""},{"$f":"IF(Optimization!H138>0.01,(COUNTIF(Optimization!$R$451:$AA$451,Outputs!I$75)*Optimization!$B$93/MAX(Optimization!$R$452:$AA$452)+COUNTIF(Optimization!$AB$451:$AK$451,Outputs!I$75)*Optimization!$C$93/MAX(Optimization!$AB$452:$AK$452)+COUNTIF(Optimization!$AL$451:$AU$451,Outputs!I$75)*Optimization!$D$93/MAX(Optimization!$AL$452:$AU$452)+COUNTIF(Optimization!$AV$451:$BE$451,Outputs!I$75)*Optimization!$E$93/MAX(Optimization!$AV$452:$BE$452)+COUNTIF(Optimization!$BF$451:$BO$451,Outputs!I$75)*Optimization!$F$93/MAX(Optimization!$BF$452:$BO$452))*Optimization!$M383,\"\")","v":""},{"$f":"IF(Optimization!I138>0.01,(COUNTIF(Optimization!$R$451:$AA$451,Outputs!J$75)*Optimization!$B$93/MAX(Optimization!$R$452:$AA$452)+COUNTIF(Optimization!$AB$451:$AK$451,Outputs!J$75)*Optimization!$C$93/MAX(Optimization!$AB$452:$AK$452)+COUNTIF(Optimization!$AL$451:$AU$451,Outputs!J$75)*Optimization!$D$93/MAX(Optimization!$AL$452:$AU$452)+COUNTIF(Optimization!$AV$451:$BE$451,Outputs!J$75)*Optimization!$E$93/MAX(Optimization!$AV$452:$BE$452)+COUNTIF(Optimization!$BF$451:$BO$451,Outputs!J$75)*Optimization!$F$93/MAX(Optimization!$BF$452:$BO$452))*Optimization!$M383,\"\")","v":""},{"$f":"IF(Optimization!J138>0.01,(COUNTIF(Optimization!$R$451:$AA$451,Outputs!K$75)*Optimization!$B$93/MAX(Optimization!$R$452:$AA$452)+COUNTIF(Optimization!$AB$451:$AK$451,Outputs!K$75)*Optimization!$C$93/MAX(Optimization!$AB$452:$AK$452)+COUNTIF(Optimization!$AL$451:$AU$451,Outputs!K$75)*Optimization!$D$93/MAX(Optimization!$AL$452:$AU$452)+COUNTIF(Optimization!$AV$451:$BE$451,Outputs!K$75)*Optimization!$E$93/MAX(Optimization!$AV$452:$BE$452)+COUNTIF(Optimization!$BF$451:$BO$451,Outputs!K$75)*Optimization!$F$93/MAX(Optimization!$BF$452:$BO$452))*Optimization!$M383,\"\")","v":""},null,"N, g/animal/d",{"$f":"Optimization!M313*1000000/(Inputs!D115*365)","v":542.45787407521391},{"$f":"Optimization!N313*1000000/(Inputs!E115*365)","v":439.0723083896608},{"$f":"Optimization!O313*1000000/(Inputs!F115*365)","v":223.05709729608276},{"$f":"Optimization!P313*1000000/(Inputs!G115*365)","v":139.20464967318307},{"$f":"Optimization!Q313*1000000/(Inputs!H115*365)","v":272.20059439465933},null,null,null,null,null,null,null,null,{"$f":"Optimization!BQ304/1000","v":5.7715283710347869},{"$f":"Optimization!BQ305/1000","v":4.0828464440342884},{"$f":"Optimization!BQ306/1000","v":10.416780996951218},{"$f":"AA79*1000000/$E34","v":6.0969134558335947},{"$f":"0.437*AB79*1000000/$E34","v":1.8847930812102782},{"$f":"0.833*AC79*1000000/$E34","v":9.1663773239713731}]
[null,{"$f":"I32","v":"LU 5"},{"$f":"IF(Optimization!B139>0.01,(COUNTIF(Optimization!$R$471:$AA$471,Outputs!C$75)*Optimization!$B$96/MAX(Optimization!$R$472:$AA$472)+COUNTIF(Optimization!$AB$471:$AK$471,Outputs!C$75)*Optimization!$C$96/MAX(Optimization!$AB$472:$AK$472)+COUNTIF(Optimization!$AL$471:$AU$471,Outputs!C$75)*Optimization!$D$96/MAX(Optimization!$AL$472:$AU$472)+COUNTIF(Optimization!$AV$471:$BE$471,Outputs!C$75)*Optimization!$E$96/MAX(Optimization!$AV$472:$BE$472)+COUNTIF(Optimization!$BF$471:$BO$471,Outputs!C$75)*Optimization!$F$96/MAX(Optimization!$BF$472:$BO$472))*Optimization!$M384,\"\")","v":""},{"$f":"IF(Optimization!C139>0.01,(COUNTIF(Optimization!$R$471:$AA$471,Outputs!D$75)*Optimization!$B$96/MAX(Optimization!$R$472:$AA$472)+COUNTIF(Optimization!$AB$471:$AK$471,Outputs!D$75)*Optimization!$C$96/MAX(Optimization!$AB$472:$AK$472)+COUNTIF(Optimization!$AL$471:$AU$471,Outputs!D$75)*Optimization!$D$96/MAX(Optimization!$AL$472:$AU$472)+COUNTIF(Optimization!$AV$471:$BE$471,Outputs!D$75)*Optimization!$E$96/MAX(Optimization!$AV$472:$BE$472)+COUNTIF(Optimization!$BF$471:$BO$471,Outputs!D$75)*Optimization!$F$96/MAX(Optimization!$BF$472:$BO$472))*Optimization!$M384,\"\")","v":5.1895239739241701},{"$f":"IF(Optimization!D139>0.01,(COUNTIF(Optimization!$R$471:$AA$471,Outputs!E$75)*Optimization!$B$96/MAX(Optimization!$R$472:$AA$472)+COUNTIF(Optimization!$AB$471:$AK$471,Outputs!E$75)*Optimization!$C$96/MAX(Optimization!$AB$472:$AK$472)+COUNTIF(Optimization!$AL$471:$AU$471,Outputs!E$75)*Optimization!$D$96/MAX(Optimization!$AL$472:$AU$472)+COUNTIF(Optimization!$AV$471:$BE$471,Outputs!E$75)*Optimization!$E$96/MAX(Optimization!$AV$472:$BE$472)+COUNTIF(Optimization!$BF$471:$BO$471,Outputs!E$75)*Optimization!$F$96/MAX(Optimization!$BF$472:$BO$472))*Optimization!$M384,\"\")","v":5.1895239739241701},{"$f":"IF(Optimization!E139>0.01,(COUNTIF(Optimization!$R$471:$AA$471,Outputs!F$75)*Optimization!$B$96/MAX(Optimization!$R$472:$AA$472)+COUNTIF(Optimization!$AB$471:$AK$471,Outputs!F$75)*Optimization!$C$96/MAX(Optimization!$AB$472:$AK$472)+COUNTIF(Optimization!$AL$471:$AU$471,Outputs!F$75)*Optimization!$D$96/MAX(Optimization!$AL$472:$AU$472)+COUNTIF(Optimization!$AV$471:$BE$471,Outputs!F$75)*Optimization!$E$96/MAX(Optimization!$AV$472:$BE$472)+COUNTIF(Optimization!$BF$471:$BO$471,Outputs!F$75)*Optimization!$F$96/MAX(Optimization!$BF$472:$BO$472))*Optimization!$M384,\"\")","v":2.594761986962085},{"$f":"IF(Optimization!F139>0.01,(COUNTIF(Optimization!$R$471:$AA$471,Outputs!G$75)*Optimization!$B$96/MAX(Optimization!$R$472:$AA$472)+COUNTIF(Optimization!$AB$471:$AK$471,Outputs!G$75)*Optimization!$C$96/MAX(Optimization!$AB$472:$AK$472)+COUNTIF(Optimization!$AL$471:$AU$471,Outputs!G$75)*Optimization!$D$96/MAX(Optimization!$AL$472:$AU$472)+COUNTIF(Optimization!$AV$471:$BE$471,Outputs!G$75)*Optimization!$E$96/MAX(Optimization!$AV$472:$BE$472)+COUNTIF(Optimization!$BF$471:$BO$471,Outputs!G$75)*Optimization!$F$96/MAX(Optimization!$BF$472:$BO$472))*Optimization!$M384,\"\")","v":""},{"$f":"IF(Optimization!G139>0.01,(COUNTIF(Optimization!$R$471:$AA$471,Outputs!H$75)*Optimization!$B$96/MAX(Optimization!$R$472:$AA$472)+COUNTIF(Optimization!$AB$471:$AK$471,Outputs!H$75)*Optimization!$C$96/MAX(Optimization!$AB$472:$AK$472)+COUNTIF(Optimization!$AL$471:$AU$471,Outputs!H$75)*Optimization!$D$96/MAX(Optimization!$AL$472:$AU$472)+COUNTIF(Optimization!$AV$471:$BE$471,Outputs!H$75)*Optimization!$E$96/MAX(Optimization!$AV$472:$BE$472)+COUNTIF(Optimization!$BF$471:$BO$471,Outputs!H$75)*Optimization!$F$96/MAX(Optimization!$BF$472:$BO$472))*Optimization!$M384,\"\")","v":2.594761986962085},{"$f":"IF(Optimization!H139>0.01,(COUNTIF(Optimization!$R$471:$AA$471,Outputs!I$75)*Optimization!$B$96/MAX(Optimization!$R$472:$AA$472)+COUNTIF(Optimization!$AB$471:$AK$471,Outputs!I$75)*Optimization!$C$96/MAX(Optimization!$AB$472:$AK$472)+COUNTIF(Optimization!$AL$471:$AU$471,Outputs!I$75)*Optimization!$D$96/MAX(Optimization!$AL$472:$AU$472)+COUNTIF(Optimization!$AV$471:$BE$471,Outputs!I$75)*Optimization!$E$96/MAX(Optimization!$AV$472:$BE$472)+COUNTIF(Optimization!$BF$471:$BO$471,Outputs!I$75)*Optimization!$F$96/MAX(Optimization!$BF$472:$BO$472))*Optimization!$M384,\"\")","v":34.83142807822685},{"$f":"IF(Optimization!I139>0.01,(COUNTIF(Optimization!$R$471:$AA$471,Outputs!J$75)*Optimization!$B$96/MAX(Optimization!$R$472:$AA$472)+COUNTIF(Optimization!$AB$471:$AK$471,Outputs!J$75)*Optimization!$C$96/MAX(Optimization!$AB$472:$AK$472)+COUNTIF(Optimization!$AL$471:$AU$471,Outputs!J$75)*Optimization!$D$96/MAX(Optimization!$AL$472:$AU$472)+COUNTIF(Optimization!$AV$471:$BE$471,Outputs!J$75)*Optimization!$E$96/MAX(Optimization!$AV$472:$BE$472)+COUNTIF(Optimization!$BF$471:$BO$471,Outputs!J$75)*Optimization!$F$96/MAX(Optimization!$BF$472:$BO$472))*Optimization!$M384,\"\")","v":""},{"$f":"IF(Optimization!J139>0.01,(COUNTIF(Optimization!$R$471:$AA$471,Outputs!K$75)*Optimization!$B$96/MAX(Optimization!$R$472:$AA$472)+COUNTIF(Optimization!$AB$471:$AK$471,Outputs!K$75)*Optimization!$C$96/MAX(Optimization!$AB$472:$AK$472)+COUNTIF(Optimization!$AL$471:$AU$471,Outputs!K$75)*Optimization!$D$96/MAX(Optimization!$AL$472:$AU$472)+COUNTIF(Optimization!$AV$471:$BE$471,Outputs!K$75)*Optimization!$E$96/MAX(Optimization!$AV$472:$BE$472)+COUNTIF(Optimization!$BF$471:$BO$471,Outputs!K$75)*Optimization!$F$96/MAX(Optimization!$BF$472:$BO$472))*Optimization!$M384,\"\")","v":""},null,"P, g/animal/d",{"$f":"Optimization!M314*1000000/(Inputs!D115*365*2.29)","v":56.767663762043426},{"$f":"Optimization!N314*1000000/(Inputs!E115*365*2.29)","v":47.402173734594605},{"$f":"Optimization!O314*1000000/(Inputs!F115*365*2.29)","v":23.017453758145365},{"$f":"Optimization!P314*1000000/(Inputs!G115*365*2.29)","v":10.96594117863172},{"$f":"Optimization!Q314*1000000/(Inputs!H115*365*2.29)","v":27.102081464538795},null,null,null,null,null,null,null,null,"8- Plant available exported",null,null,{"$f":"AA80","v":"8- Plant available exported"}]
[null,"Crops (ha)",{"$f":"IF(Optimization!B144>0,SUM(C76:C80),\"\")","v":""},{"$f":"IF(Optimization!C144>0,SUM(D76:D80),\"\")","v":27.869523973924174},{"$f":"IF(Optimization!D144>0,SUM(E76:E80),\"\")","v":37.949523973924244},{"$f":"IF(Optimization!E144>0,SUM(F76:F80),\"\")","v":18.974761986962122},{"$f":"IF(Optimization!F144>0,SUM(G76:G80),\"\")","v":""},{"$f":"IF(Optimization!G144>0,SUM(H76:H80),\"\")","v":8.8947619869620524},{"$f":"IF(Optimization!H144>0,SUM(I76:I80),\"\")","v":57.511428078226857},{"$f":"IF(Optimization!I144>0,SUM(J76:J80),\"\")","v":""},{"$f":"IF(Optimization!J144>0,SUM(K76:K80),\"\")","v":""},null,"K, g/animal/d",{"$f":"Optimization!M315*1000000/(Inputs!D115*365*1.2)","v":264.21442043530584},{"$f":"Optimization!N315*1000000/(Inputs!E115*365*1.2)","v":228.37577061407686},{"$f":"Optimization!O315*1000000/(Inputs!F115*365*1.2)","v":75.636810578215616},{"$f":"Optimization!P315*1000000/(Inputs!G115*365*1.2)","v":29.353205424274456},{"$f":"Optimization!Q315*1000000/(Inputs!H115*365*1.2)","v":74.332858355529382},null,null,null,null,null,null,null,null,{"$f":"IF(Optimization!BR304<0.1,\"\",Optimization!BR304/1000)","v":""},{"$f":"IF(Optimization!BR305<0.1,\"\",Optimization!BR305/1000)","v":""},{"$f":"IF(Optimization!BR306<0.1,\"\",Optimization!BR306/1000)","v":""},{"$f":"IF(AA81=\"\",\"\",AA81*1000000/$E$34)","v":""},{"$f":"IF(AB81=\"\",\"\",0.437*AB81*1000000/$E$34)","v":""},{"$f":"IF(AC81=\"\",\"\",0.833*AC81*1000000/$E$34)","v":""}]
[null,"Yields (T DM/yr)",{"$f":"IF(Optimization!B144>0,SUM(Optimization!B135:B139),\"\")","v":""},{"$f":"IF(Optimization!C144>0,SUM(Optimization!C135:C139),\"\")","v":532.62510115315206},{"$f":"IF(Optimization!D144>0,SUM(Optimization!D135:D139),\"\")","v":294.10881079791289},{"$f":"IF(Optimization!E144>0,SUM(Optimization!E135:E139),\"\")","v":180.26023887614011},{"$f":"IF(Optimization!F144>0,SUM(Optimization!F135:F139),\"\")","v":""},{"$f":"IF(Optimization!G144>0,SUM(Optimization!G135:G139),\"\")","v":26.59258738370098},{"$f":"IF(Optimization!H144>0,SUM(Optimization!H135:H139),\"\")","v":496.69437989295534},{"$f":"IF(Optimization!I144>0,SUM(Optimization!I135:I139),\"\")","v":""},{"$f":"IF(Optimization!J144>0,SUM(Optimization!J135:J139),\"\")","v":""},null,"N, t/yr",{"$f":"Optimization!M313","v":7.5238907134232171},{"$f":"Optimization!N313","v":8.6541151983602145},{"$f":"Optimization!O313","v":1.2212376076960532},{"$f":"Optimization!P313","v":1.9695099711857431},{"$f":"Optimization!Q313","v":4.0826265010110836},null,null,null,null,null,null,null,null,"9- Loss during spreading /",null,null,"9- Loss during spreading /"]
[null," Sold (T DM/yr)",{"$f":"IF(Optimization!B$153>0.01,Optimization!B$153,\"\")","v":""},{"$f":"IF(Optimization!C$153>0.01,Optimization!C$153,\"\")","v":""},{"$f":"IF(Optimization!D$153>0.01,Optimization!D$153,\"\")","v":""},{"$f":"IF(Optimization!E$153>0.01,Optimization!E$153,\"\")","v":""},{"$f":"IF(Optimization!F$153>0.01,Optimization!F$153,\"\")","v":""},{"$f":"IF(Optimization!G$153>0.01,Optimization!G$153,\"\")","v":""},{"$f":"IF(Optimization!H$153>0.01,Optimization!H$153,\"\")","v":409.10073972326262},{"$f":"IF(Optimization!I$153>0.01,Optimization!I$153,\"\")","v":""},{"$f":"IF(Optimization!J$153>0.01,Optimization!J$153,\"\")","v":""},null,"P2O5, t/yr",{"$f":"Optimization!M314","v":1.8030715667091519},{"$f":"Optimization!N314","v":2.139539773467289},{"$f":"Optimization!O314","v":0.28858708085618706},{"$f":"Optimization!P314","v":0.35529233361885915},{"$f":"Optimization!Q314","v":0.93086930485430108},null,null,null,null,null,null,null,null,"Soil accum. / leach. / runoff",null,null,"Soil accum. / leach. / runoff"]
[null,"Crops (%)",null,null,null,null,null,null,null,null,null,null,"K2O, t/y",{"$f":"Optimization!M315","v":4.3975848137252305},{"$f":"Optimization!N315","v":5.4015437265641459},{"$f":"Optimization!O315","v":0.49693384549887665},{"$f":"Optimization!P315","v":0.49835775662751308},{"$f":"Optimization!Q315","v":1.3378661340240263},null,null,null,null,null,null,null,null,{"$f":"AA73-AA79","v":10.092861165734423},{"$f":"AB73-AB79","v":1.4345136154715057},{"$f":"AC73-AC79","v":1.715505279488589},{"$f":"AA84*1000000/$E34","v":10.661872747269157},{"$f":"0.437*AB84*1000000/$E34","v":0.66222459610090822},{"$f":"0.833*AC84*1000000/$E34","v":1.5095804258205829}]
[null,"Yields (T DM/yr)",{"$f":"IF(C82=\"\",\"\",C82*1000000/$E$34)","v":""},{"$f":"IF(D82=\"\",\"\",D82*1000000/$E$34)","v":562.65324145901343},310.6899681949435,190.42288373238469,"",28.091814407220554,524.69683132881028,"","",null,null,null,null,null,null,null,null,null,null,null,null,null,null,null,"Plant available used on-farm"]
[null," Sold (T DM/yr)",{"$f":"IF(C83=\"\",\"\",C83*1000000/$E$34)","v":""},{"$f":"IF(D83=\"\",\"\",D83*1000000/$E$34)","v":""},"","","","",432.16486941794909,"","",null,null,null,null,null,null,null,null,null,null,null,null,null,null,null,"% of total plant available"]
[null,null,null,null,null,null,null,null,null,null,null,null,null,null,null,null,null,null,null,null,null,null,null,null,null,null,{"$f":"AA79/AA77%","v":100.00000000000011},{"$f":"AB79/AB77%","v":100.00000000000011},{"$f":"AC79/AC77%","v":100.0000000000001}]
[null,"7- ROTATIONS, FERTILIZATION AND MANURE APPLICATIONS",null,null,null,null,null,null,null,null,null,null,null,null,null,null,null,null,null,null,null,null,null,null,null,null,"% of field applied"]
[null,null,null,null,"Rotations, ha",null,null,null,"Purchased Fertilizer Applied, t/yr",null,null,null,null,"Manure Applied, t/yr",null,null,"Soil  P",null,null,null,null,null,null,null,null,null,{"$f":"AA79/AA73%","v":36.380400000000009},{"$f":"AB79/AB73%","v":74.000000000000014},{"$f":"AC79/AC73%","v":85.86}]
[null,"Land Unit",{"$f":"Optimization!B89","v":"CCC"},{"$f":"Optimization!C89","v":"SCC"},{"$f":"Optimization!D89","v":"CCAAA"},{"$f":"Optimization!E89","v":"CCCSCAAA"},{"$f":"Optimization!F89","v":"CCCSWAAA"},{"$f":"Optimization!B99","v":"18-46-0"},{"$f":"Optimization!C99","v":"27-0-0"},{"$f":"Optimization!D99","v":"0-46-0"},{"$f":"Optimization!E99","v":"0-0-60"},{"$f":"Optimization!F99","v":"11-52-0"},{"$f":"Optimization!G99","v":"Solid"},{"$f":"Optimization!H99","v":"Liquid"},"Pasture",null,"ppm chg",null,null,null,null,null,null,null,null,null,"% of manure production"]
[null,{"$f":"I28","v":"LU 1"},{"$f":"IF(Optimization!M380>0,Optimization!B84*Optimization!$M380,\"\")","v":0},{"$f":"IF(Optimization!M380>0,Optimization!C84*Optimization!$M380,\"\")","v":0},{"$f":"IF(Optimization!M380>0,Optimization!D84*Optimization!$M380,\"\")","v":50.400000000000347},{"$f":"IF(Optimization!M380>0,Optimization!E84*Optimization!$M380,\"\")","v":0},{"$f":"IF(Optimization!M380>0,Optimization!F84*Optimization!$M380,\"\")","v":0},{"$f":"IF(Optimization!M380>0,Optimization!B100,\"\")","v":1.5728670817862427},{"$f":"IF(Optimization!M380>0,Optimization!C100,\"\")","v":0},{"$f":"IF(Optimization!M380>0,Optimization!D100,\"\")","v":0},{"$f":"IF(Optimization!M380>0,Optimization!E100,\"\")","v":3.1967194307131614},{"$f":"IF(Optimization!M380>0,Optimization!F100,\"\")","v":0},{"$f":"IF(Optimization!M380>0,Optimization!G100,\"\")","v":0},{"$f":"IF(Optimization!$M380>0,Optimization!H100,\"\")","v":752.37218245755173},{"$f":"IF(Optimization!$M380>0,Optimization!I100,\"\")","v":0},null,{"$f":"Optimization!BL325","v":-2.0702595462713553},null,null,null,null,null,null,null,null,null,{"$f":"AA79/AA67%","v":24.610612992000032},{"$f":"AB79/AB67%","v":74.000000000000085},{"$f":"AC79/AC67%","v":85.860000000000099}]
[null,{"$f":"I29","v":" "},{"$f":"IF(Optimization!M381>0,Optimization!B87*Optimization!$M381,\"\")","v":""},{"$f":"IF(Optimization!M381>0,Optimization!C87*Optimization!$M381,\"\")","v":""},{"$f":"IF(Optimization!M381>0,Optimization!D87*Optimization!$M381,\"\")","v":""},{"$f":"IF(Optimization!M381>0,Optimization!E87*Optimization!$M381,\"\")","v":""},{"$f":"IF(Optimization!M381>0,Optimization!F87*Optimization!$M381,\"\")","v":""},{"$f":"IF(Optimization!M381>0,Optimization!B101,\"\")","v":""},{"$f":"IF(Optimization!M381>0,Optimization!C101,\"\")","v":""},{"$f":"IF(Optimization!M381>0,Optimization!D101,\"\")","v":""},{"$f":"IF(Optimization!M381>0,Optimization!E101,\"\")","v":""},{"$f":"IF(Optimization!M381>0,Optimization!F101,\"\")","v":""},{"$f":"IF(Optimization!M381>0,Optimization!G101,\"\")","v":""},{"$f":"IF(Optimization!$M381>0,Optimization!H101,\"\")","v":""},{"$f":"IF(Optimization!$M381>0,Optimization!I101,\"\")","v":""},null,{"$f":"Optimization!BM325","v":""}]
[null,{"$f":"I30","v":"LU 3"},{"$f":"IF(Optimization!M382>0,Optimization!B90*Optimization!$M382,\"\")","v":0},{"$f":"IF(Optimization!M382>0,Optimization!C90*Optimization!$M382,\"\")","v":0},{"$f":"IF(Optimization!M382>0,Optimization!D90*Optimization!$M382,\"\")","v":0},{"$f":"IF(Optimization!M382>0,Optimization!E90*Optimization!$M382,\"\")","v":50.399999999999736},{"$f":"IF(Optimization!M382>0,Optimization!F90*Optimization!$M382,\"\")","v":0},{"$f":"IF(Optimization!M382>0,Optimization!B102,\"\")","v":3.7568839214621423},{"$f":"IF(Optimization!M382>0,Optimization!C102,\"\")","v":0},{"$f":"IF(Optimization!M382>0,Optimization!D102,\"\")","v":0},{"$f":"IF(Optimization!M382>0,Optimization!E102,\"\")","v":3.9909243130354675},{"$f":"IF(Optimization!M382>0,Optimization!F102,\"\")","v":0},{"$f":"IF(Optimization!M382>0,Optimization!G102,\"\")","v":0},{"$f":"IF(Optimization!$M382>0,Optimization!H102,\"\")","v":1545.7513243009821},{"$f":"IF(Optimization!$M382>0,Optimization!I102,\"\")","v":0},null,{"$f":"Optimization!BN325","v":-0.10152003695627304}]
[null,{"$f":"I31","v":" "},{"$f":"IF(Optimization!M383>0,Optimization!B93*Optimization!$M383,\"\")","v":""},{"$f":"IF(Optimization!M383>0,Optimization!C93*Optimization!$M383,\"\")","v":""},{"$f":"IF(Optimization!M383>0,Optimization!D93*Optimization!$M383,\"\")","v":""},{"$f":"IF(Optimization!M383>0,Optimization!E93*Optimization!$M383,\"\")","v":""},{"$f":"IF(Optimization!M383>0,Optimization!F93*Optimization!$M383,\"\")","v":""},{"$f":"IF(Optimization!M383>0,Optimization!B103,\"\")","v":""},{"$f":"IF(Optimization!M383>0,Optimization!C103,\"\")","v":""},{"$f":"IF(Optimization!M383>0,Optimization!D103,\"\")","v":""},{"$f":"IF(Optimization!M383>0,Optimization!E103,\"\")","v":""},{"$f":"IF(Optimization!M383>0,Optimization!F103,\"\")","v":""},{"$f":"IF(Optimization!M383>0,Optimization!G103,\"\")","v":""},{"$f":"IF(Optimization!$M383>0,Optimization!H103,\"\")","v":""},{"$f":"IF(Optimization!$M383>0,Optimization!I103,\"\")","v":""},null,{"$f":"Optimization!BO325","v":""}]
[null,{"$f":"I32","v":"LU 5"},{"$f":"IF(Optimization!M384>0,Optimization!B96*Optimization!$M384,\"\")","v":29.641904104302679},{"$f":"IF(Optimization!M384>0,Optimization!C96*Optimization!$M384,\"\")","v":0},{"$f":"IF(Optimization!M384>0,Optimization!D96*Optimization!$M384,\"\")","v":0},{"$f":"IF(Optimization!M384>0,Optimization!E96*Optimization!$M384,\"\")","v":20.75809589569668},{"$f":"IF(Optimization!M384>0,Optimization!F96*Optimization!$M384,\"\")","v":0},{"$f":"IF(Optimization!M384>0,Optimization!B104,\"\")","v":6.6234028382672676},{"$f":"IF(Optimization!M384>0,Optimization!C104,\"\")","v":9.4383684317502805},{"$f":"IF(Optimization!M384>0,Optimization!D104,\"\")","v":0},{"$f":"IF(Optimization!M384>0,Optimization!E104,\"\")","v":3.4331419696856158},{"$f":"IF(Optimization!M384>0,Optimization!F104,\"\")","v":0},{"$f":"IF(Optimization!M384>0,Optimization!G104,\"\")","v":0},{"$f":"IF(Optimization!$M384>0,Optimization!H104,\"\")","v":2101.5686049954343},{"$f":"IF(Optimization!$M384>0,Optimization!I104,\"\")","v":0},null,{"$f":"Optimization!BP325","v":1.8830126290302802}]
[null,"Total",{"$f":"SUM(C91:C95)","v":29.641904104302679},{"$f":"SUM(D91:D95)","v":0},{"$f":"SUM(E91:E95)","v":50.400000000000347},{"$f":"SUM(F91:F95)","v":71.15809589569642},{"$f":"SUM(G91:G95)","v":0},{"$f":"SUM(H91:H95)","v":11.953153841515652},9.4383684317502805,0,10.620785713434245,0,0,4399.6921117539678,0]
[null,null,null,null,"Rotation, %",null,null,null,"Purchased Fertilizer Applied, g/kg FPCM"]
[null,"Total",{"$f":"C96*100/SUM($C$96:$G$96)","v":19.604433931417187},{"$f":"D96*100/SUM($C$96:$G$96)","v":0},33.333333333333684,47.062232735249133,0,{"$f":"H96*1000000/$E$34","v":12.627044313206678},{"$f":"I96*1000000/$E$34","v":9.9704812647981473},0,11.219560429216534,0]
[]
[null,null,"Recom. Application (kg/ha)",null,null,"Max Application Allowed (kg/ha)",null,null,"Purchased Fertilizer Supply (kg/ha)",null,null,"Manure Supply (kg/ha)",null,null,"Excess or Deficit (kg/ha)",null,null,"Manure/Total Supply (%)"]
[null,{"$f":"B90","v":"Land Unit"},"N","P2O5","K2O",{"$f":"C101","v":"N"},{"$f":"D101","v":"P2O5"},{"$f":"E101","v":"K2O"},{"$f":"C101","v":"N"},{"$f":"D101","v":"P2O5"},{"$f":"E101","v":"K2O"},"N","P2O5","K2O","N","P2O5","K2O","N","P2O5","K2O"]
[null,"LU 1",{"$f":"IF(Optimization!$M$380>0,Optimization!AR287,\"\")","v":25.200000000000173},{"$f":"IF(Optimization!$M$380>0,Optimization!AS287,\"\")","v":28.208504814670281},{"$f":"IF(Optimization!$M$380>0,Optimization!AT287,\"\")","v":73.400000000000517},{"$f":"IF(Optimization!$M$380>0,C102+Inputs!D434,\"\")","v":65.200000000000173},{"$f":"IF(Optimization!$M$380>0,D102+Inputs!E434,\"\")","v":28.208504814670281},{"$f":"IF(Optimization!$M$380>0,E102+Inputs!F434,\"\")","v":173.40000000000052},{"$f":"IF(Optimization!$M$380>0,Optimization!AW287,\"\")","v":5.6173824349508665},{"$f":"IF(Optimization!$M$380>0,Optimization!AX287,\"\")","v":14.355532889318884},{"$f":"IF(Optimization!$M$380>0,Optimization!AY287,\"\")","v":38.056183698966208},{"$f":"IF(Optimization!$M$380>0,C102+O102-I102,\"\")","v":19.582617565038646},{"$f":"IF(Optimization!$M$380>0,D102+P102-J102,\"\")","v":13.852971925349227},{"$f":"IF(Optimization!$M$380>0,E102+Q102-K102,\"\")","v":35.343816301033698},{"$f":"IF(Optimization!M380>0,Optimization!B275/Optimization!M380,\"\")","v":-1.0660396727626139E-11},{"$f":"IF(Optimization!M380>0,Optimization!B276/Optimization!M380,\"\")","v":-2.1699749580990998E-12},{"$f":"IF(Optimization!M380>0,Optimization!B277/Optimization!M380,\"\")","v":-6.1354801310078496E-13},{"$f":"IF(Optimization!$M$380>0,L102/(I102+L102),\"\")","v":0.77708799861296807},{"$f":"IF(Optimization!$M$380>0,M102/(J102+M102),\"\")","v":0.49109203115742012},{"$f":"IF(Optimization!$M$380>0,N102/(K102+N102),\"\")","v":0.48152338284787116}]
[null," ",{"$f":"IF(Optimization!$M$381>0,Optimization!AR288,\"\")","v":""},{"$f":"IF(Optimization!$M$381>0,Optimization!AS288,\"\")","v":""},{"$f":"IF(Optimization!$M$381>0,Optimization!AT288,\"\")","v":""},{"$f":"IF(Optimization!$M$381>0,C103+Inputs!D435,\"\")","v":""},{"$f":"IF(Optimization!$M$381>0,D103+Inputs!E435,\"\")","v":""},{"$f":"IF(Optimization!$M$381>0,E103+Inputs!F435,\"\")","v":""},{"$f":"IF(Optimization!$M$381>0,Optimization!AW288,\"\")","v":""},{"$f":"IF(Optimization!$M$381>0,Optimization!AX288,\"\")","v":""},{"$f":"IF(Optimization!$M$381>0,Optimization!AY288,\"\")","v":""},{"$f":"IF(Optimization!$M$381>0,C103+O103-I103,\"\")","v":""},{"$f":"IF(Optimization!$M$381>0,D103+P103-J103,\"\")","v":""},{"$f":"IF(Optimization!$M$381>0,E103+Q103-K103,\"\")","v":""},{"$f":"IF(Optimization!M381>0,Optimization!C275/Optimization!M381,\"\")","v":""},{"$f":"IF(Optimization!M381>0,Optimization!C276/Optimization!M381,\"\")","v":""},{"$f":"IF(Optimization!M381>0,Optimization!C277/Optimization!M381,\"\")","v":""},{"$f":"IF(Optimization!$M$381>0,L103/(I103+L103),\"\")","v":""},{"$f":"IF(Optimization!$M$381>0,M103/(J103+M103),\"\")","v":""},{"$f":"IF(Optimization!$M$381>0,N103/(K103+N103),\"\")","v":""}]
[null,"LU 3",{"$f":"IF(Optimization!$M$382>0,Optimization!AR289,\"\")","v":53.649999999999721},{"$f":"IF(Optimization!$M$382>0,Optimization!AS289,\"\")","v":62.749999999999673},{"$f":"IF(Optimization!$M$382>0,Optimization!AT289,\"\")","v":120.12499999999937},{"$f":"IF(Optimization!$M$382>0,C104+Inputs!D436,\"\")","v":93.649999999999721},{"$f":"IF(Optimization!$M$382>0,D104+Inputs!E436,\"\")","v":72.749999999999673},{"$f":"IF(Optimization!$M$382>0,E104+Inputs!F436,\"\")","v":220.12499999999937},{"$f":"IF(Optimization!$M$382>0,Optimization!AW289,\"\")","v":13.417442576650508},{"$f":"IF(Optimization!$M$382>0,Optimization!AX289,\"\")","v":34.289019918106852},{"$f":"IF(Optimization!$M$382>0,Optimization!AY289,\"\")","v":47.511003726612707},{"$f":"IF(Optimization!$M$382>0,C104+O104-I104,\"\")","v":40.232557423328146},{"$f":"IF(Optimization!$M$382>0,D104+P104-J104,\"\")","v":28.460980081917121},{"$f":"IF(Optimization!$M$382>0,E104+Q104-K104,\"\")","v":72.61399627338804},{"$f":"IF(Optimization!M382>0,Optimization!D275/Optimization!M382,\"\")","v":-2.1068156038093131E-11},{"$f":"IF(Optimization!M382>0,Optimization!D276/Optimization!M382,\"\")","v":2.4298305871770792E-11},{"$f":"IF(Optimization!M382>0,Optimization!D277/Optimization!M382,\"\")","v":1.3714602645782251E-12},{"$f":"IF(Optimization!$M$382>0,L104/(I104+L104),\"\")","v":0.7499078736876823},{"$f":"IF(Optimization!$M$382>0,M104/(J104+M104),\"\")","v":0.45356143556822703},{"$f":"IF(Optimization!$M$382>0,N104/(K104+N104),\"\")","v":0.60448696169313287}]
[null," ",{"$f":"IF(Optimization!$M$383>0,Optimization!AR290,\"\")","v":""},{"$f":"IF(Optimization!$M$383>0,Optimization!AS290,\"\")","v":""},{"$f":"IF(Optimization!$M$383>0,Optimization!AT290,\"\")","v":""},{"$f":"IF(Optimization!$M$383>0,C105+Inputs!D437,\"\")","v":""},{"$f":"IF(Optimization!$M$383>0,D105+Inputs!E437,\"\")","v":""},{"$f":"IF(Optimization!$M$383>0,E105+Inputs!F437,\"\")","v":""},{"$f":"IF(Optimization!$M$383>0,Optimization!AW290,\"\")","v":""},{"$f":"IF(Optimization!$M$383>0,Optimization!AX290,\"\")","v":""},{"$f":"IF(Optimization!$M$383>0,Optimization!AY290,\"\")","v":""},{"$f":"IF(Optimization!$M$383>0,C105+O105-I105,\"\")","v":""},{"$f":"IF(Optimization!$M$383>0,D105+P105-J105,\"\")","v":""},{"$f":"IF(Optimization!$M$383>0,E105+Q105-K105,\"\")","v":""},{"$f":"IF(Optimization!M383>0,Optimization!E275/Optimization!M383,\"\")","v":""},{"$f":"IF(Optimization!M383>0,Optimization!E276/Optimization!M383,\"\")","v":""},{"$f":"IF(Optimization!M383>0,Optimization!E277/Optimization!M383,\"\")","v":""},{"$f":"IF(Optimization!$M$383>0,L105/(I105+L105),\"\")","v":""},{"$f":"IF(Optimization!$M$383>0,M105/(J105+M105),\"\")","v":""},{"$f":"IF(Optimization!$M$383>0,N105/(K105+N105),\"\")","v":""}]
[null,"LU 5",{"$f":"IF(Optimization!$M$384>0,Optimization!AR291,\"\")","v":128.91697498180892},{"$f":"IF(Optimization!$M$384>0,Optimization!AS291,\"\")","v":99.14659858074009},{"$f":"IF(Optimization!$M$384>0,Optimization!AT291,\"\")","v":139.59508779784932},{"$f":"IF(Optimization!$M$384>0,C106+Inputs!D438,\"\")","v":168.91697498180892},{"$f":"IF(Optimization!$M$384>0,D106+Inputs!E438,\"\")","v":119.14659858074009},{"$f":"IF(Optimization!$M$384>0,E106+Inputs!F438,\"\")","v":239.59508779784932},{"$f":"IF(Optimization!$M$384>0,Optimization!AW291,\"\")","v":74.217698163902455},{"$f":"IF(Optimization!$M$384>0,Optimization!AX291,\"\")","v":60.451692571486966},{"$f":"IF(Optimization!$M$384>0,Optimization!AY291,\"\")","v":40.870737734352566},{"$f":"IF(Optimization!$M$384>0,C106+O106-I106,\"\")","v":54.699276817878982},{"$f":"IF(Optimization!$M$384>0,D106+P106-J106,\"\")","v":38.694906009287017},{"$f":"IF(Optimization!$M$384>0,E106+Q106-K106,\"\")","v":98.724350063499315},{"$f":"IF(Optimization!M384>0,Optimization!F275/Optimization!M384,\"\")","v":-2.7483341880955748E-11},{"$f":"IF(Optimization!M384>0,Optimization!F276/Optimization!M384,\"\")","v":3.388950495891983E-11},{"$f":"IF(Optimization!M384>0,Optimization!F277/Optimization!M384,\"\")","v":2.5444197013885495E-12},{"$f":"IF(Optimization!$M$384>0,L106/(I106+L106),\"\")","v":0.42429848222554933},{"$f":"IF(Optimization!$M$384>0,M106/(J106+M106),\"\")","v":0.39027971270000322},{"$f":"IF(Optimization!$M$384>0,N106/(K106+N106),\"\")","v":0.70721937011467328}]
[]
[]
[]
[]
[]
[]
[]
[]
[]
[]
[null,"See what nutrient is \"binding\" among the dietary constraints for winter diet of each ANIMAL GROUP",null,null,null,null,null,null,null,null,null,null,null,null,null,"Binding Fertilization Constraints for each LAND UNIT"]
[null,null,null,null,"Actual amount relative to set dietary MINIMUM",null,null,null,null,"Actual amount relative to set dietary MAXIMUM",null,null,null,null,null,"Actual amount of fertilizer relative to MAXIMUM excess allowed",null,null,null,null,null,"Actual amount relative to MINIMUM"]
[null,null,null,null,null,null,null,null,null,null,null,null,null,null,null,"allowed",null,null,null,null,null,"(Maximum nutrient drawn from soil reserves)"]
[null,null,null,null,1,2,3,4,5,1,2,3,4,5,null,null,1,2,3,4,5,1,2,3,4,5]
[null,{"$f":"Optimization!A178","v":"DM, t/yr   (> min & < max)"},null,null,{"$f":"IF(ROUND(Optimization!B178,2)=ROUND(Optimization!G178,2),\"Binding\",\"\")","v":"Binding"},{"$f":"IF(ROUND(Optimization!C178,2)=ROUND(Optimization!H178,2),\"Binding\",\"\")","v":"Binding"},{"$f":"IF(ROUND(Optimization!D178,2)=ROUND(Optimization!I178,2),\"Binding\",\"\")","v":"Binding"},{"$f":"IF(ROUND(Optimization!E178,2)=ROUND(Optimization!J178,2),\"Binding\",\"\")","v":"Binding"},{"$f":"IF(ROUND(Optimization!F178,2)=ROUND(Optimization!K178,2),\"Binding\",\"\")","v":"Binding"},{"$f":"IF(ROUND(Optimization!B178,2)=ROUND(Optimization!L178,2),\"Binding\",\"\")","v":"Binding"},{"$f":"IF(ROUND(Optimization!C178,2)=ROUND(Optimization!M178,2),\"Binding\",\"\")","v":"Binding"},{"$f":"IF(ROUND(Optimization!D178,2)=ROUND(Optimization!N178,2),\"Binding\",\"\")","v":"Binding"},{"$f":"IF(ROUND(Optimization!E178,2)=ROUND(Optimization!O178,2),\"Binding\",\"\")","v":"Binding"},{"$f":"IF(ROUND(Optimization!F178,2)=ROUND(Optimization!P178,2),\"Binding\",\"\")","v":"Binding"},null,"N",{"$f":"IF(Optimization!B280=0,\"\",IF(ROUND(Optimization!B275,2)=ROUND(Optimization!B280,2),\"Binding\",\"\"))","v":""},{"$f":"IF(Optimization!C280=0,\"\",IF(ROUND(Optimization!C275,2)=ROUND(Optimization!C280,2),\"Binding\",\"\"))","v":""},{"$f":"IF(Optimization!D280=0,\"\",IF(ROUND(Optimization!D275,2)=ROUND(Optimization!D280,2),\"Binding\",\"\"))","v":""},{"$f":"IF(Optimization!E280=0,\"\",IF(ROUND(Optimization!E275,2)=ROUND(Optimization!E280,2),\"Binding\",\"\"))","v":""},{"$f":"IF(Optimization!F280=0,\"\",IF(ROUND(Optimization!F275,2)=ROUND(Optimization!F280,2),\"Binding\",\"\"))","v":""},{"$f":"IF(Optimization!B284=0,\"\",IF(ROUND(Optimization!B275,2)=ROUND(Optimization!B284,2),\"Binding\",\"\"))","v":""},{"$f":"IF(Optimization!C284=0,\"\",IF(ROUND(Optimization!C275,2)=ROUND(Optimization!C284,2),\"Binding\",\"\"))","v":""},{"$f":"IF(Optimization!D284=0,\"\",IF(ROUND(Optimization!D275,2)=ROUND(Optimization!D284,2),\"Binding\",\"\"))","v":""},{"$f":"IF(Optimization!E284=0,\"\",IF(ROUND(Optimization!E275,2)=ROUND(Optimization!E284,2),\"Binding\",\"\"))","v":""},{"$f":"IF(Optimization!F284=0,\"\",IF(ROUND(Optimization!F275,2)=ROUND(Optimization!F284,2),\"Binding\",\"\"))","v":""}]
[null,{"$f":"Optimization!A181","v":"NELpX, Mcal"},null,null,{"$f":"IF(ROUND(Optimization!B181,2)=ROUND(Optimization!G181,2),\"Binding\",\"\")","v":"Binding"},{"$f":"IF(ROUND(Optimization!C181,2)=ROUND(Optimization!H181,2),\"Binding\",\"\")","v":""},{"$f":"IF(ROUND(Optimization!D181,2)=ROUND(Optimization!I181,2),\"Binding\",\"\")","v":""},{"$f":"IF(ROUND(Optimization!E181,2)=ROUND(Optimization!J181,2),\"Binding\",\"\")","v":""},{"$f":"IF(ROUND(Optimization!F181,2)=ROUND(Optimization!K181,2),\"Binding\",\"\")","v":""},{"$f":"IF(ROUND(Optimization!B181,2)=ROUND(Optimization!L181,2),\"Binding\",\"\")","v":""},{"$f":"IF(ROUND(Optimization!C181,2)=ROUND(Optimization!M181,2),\"Binding\",\"\")","v":""},{"$f":"IF(ROUND(Optimization!D181,2)=ROUND(Optimization!N181,2),\"Binding\",\"\")","v":""},{"$f":"IF(ROUND(Optimization!E181,2)=ROUND(Optimization!O181,2),\"Binding\",\"\")","v":""},{"$f":"IF(ROUND(Optimization!F181,2)=ROUND(Optimization!P181,2),\"Binding\",\"\")","v":""},null,"P2O5",{"$f":"IF(Optimization!B281=0,\"\",IF(ROUND(Optimization!B276,2)=ROUND(Optimization!B281,2),\"Binding\",\"\"))","v":""},{"$f":"IF(Optimization!C281=0,\"\",IF(ROUND(Optimization!C276,2)=ROUND(Optimization!C281,2),\"Binding\",\"\"))","v":""},{"$f":"IF(Optimization!D281=0,\"\",IF(ROUND(Optimization!D276,2)=ROUND(Optimization!D281,2),\"Binding\",\"\"))","v":""},{"$f":"IF(Optimization!E281=0,\"\",IF(ROUND(Optimization!E276,2)=ROUND(Optimization!E281,2),\"Binding\",\"\"))","v":""},{"$f":"IF(Optimization!F281=0,\"\",IF(ROUND(Optimization!F276,2)=ROUND(Optimization!F281,2),\"Binding\",\"\"))","v":""},{"$f":"IF(Optimization!B285=0,\"\",IF(ROUND(Optimization!B276,2)=ROUND(Optimization!B285,2),\"Binding\",\"\"))","v":""},{"$f":"IF(Optimization!C285=0,\"\",IF(ROUND(Optimization!C276,2)=ROUND(Optimization!C285,2),\"Binding\",\"\"))","v":""},{"$f":"IF(Optimization!D285=0,\"\",IF(ROUND(Optimization!D276,2)=ROUND(Optimization!D285,2),\"Binding\",\"\"))","v":""},{"$f":"IF(Optimization!E285=0,\"\",IF(ROUND(Optimization!E276,2)=ROUND(Optimization!E285,2),\"Binding\",\"\"))","v":""},{"$f":"IF(Optimization!F285=0,\"\",IF(ROUND(Optimization!F276,2)=ROUND(Optimization!F285,2),\"Binding\",\"\"))","v":""}]
[null,{"$f":"Optimization!A184","v":"EE, (t) (<max)"},null,null,null,null,null,null,null,{"$f":"IF(ROUND(Optimization!B184,2)=ROUND(Optimization!L184,2),\"Binding\",\"\")","v":""},{"$f":"IF(ROUND(Optimization!C184,2)=ROUND(Optimization!M184,2),\"Binding\",\"\")","v":""},{"$f":"IF(ROUND(Optimization!D184,2)=ROUND(Optimization!N184,2),\"Binding\",\"\")","v":""},{"$f":"IF(ROUND(Optimization!E184,2)=ROUND(Optimization!O184,2),\"Binding\",\"\")","v":""},{"$f":"IF(ROUND(Optimization!F184,2)=ROUND(Optimization!P184,2),\"Binding\",\"\")","v":""},null,"K2O",{"$f":"IF(Optimization!B282=0,\"\",IF(ROUND(Optimization!B277,2)=ROUND(Optimization!B282,2),\"Binding\",\"\"))","v":""},{"$f":"IF(Optimization!C282=0,\"\",IF(ROUND(Optimization!C277,2)=ROUND(Optimization!C282,2),\"Binding\",\"\"))","v":""},{"$f":"IF(Optimization!D282=0,\"\",IF(ROUND(Optimization!D277,2)=ROUND(Optimization!D282,2),\"Binding\",\"\"))","v":""},{"$f":"IF(Optimization!E282=0,\"\",IF(ROUND(Optimization!E277,2)=ROUND(Optimization!E282,2),\"Binding\",\"\"))","v":""},{"$f":"IF(Optimization!F282=0,\"\",IF(ROUND(Optimization!F277,2)=ROUND(Optimization!F282,2),\"Binding\",\"\"))","v":""},{"$f":"IF(Optimization!B286=0,\"\",IF(ROUND(Optimization!B277,2)=ROUND(Optimization!B286,2),\"Binding\",\"\"))","v":""},{"$f":"IF(Optimization!C286=0,\"\",IF(ROUND(Optimization!C277,2)=ROUND(Optimization!C286,2),\"Binding\",\"\"))","v":""},{"$f":"IF(Optimization!D286=0,\"\",IF(ROUND(Optimization!D277,2)=ROUND(Optimization!D286,2),\"Binding\",\"\"))","v":""},{"$f":"IF(Optimization!E286=0,\"\",IF(ROUND(Optimization!E277,2)=ROUND(Optimization!E286,2),\"Binding\",\"\"))","v":""},{"$f":"IF(Optimization!F286=0,\"\",IF(ROUND(Optimization!F277,2)=ROUND(Optimization!F286,2),\"Binding\",\"\"))","v":""}]
[null,{"$f":"Optimization!A185","v":"FNDF, (t) (>min)"},null,null,{"$f":"IF(ROUND(Optimization!B185,2)=ROUND(Optimization!G185,2),\"Binding\",\"\")","v":""},{"$f":"IF(ROUND(Optimization!C185,2)=ROUND(Optimization!H185,2),\"Binding\",\"\")","v":""},{"$f":"IF(ROUND(Optimization!D185,2)=ROUND(Optimization!I185,2),\"Binding\",\"\")","v":""},{"$f":"IF(ROUND(Optimization!E185,2)=ROUND(Optimization!J185,2),\"Binding\",\"\")","v":""},{"$f":"IF(ROUND(Optimization!F185,2)=ROUND(Optimization!K185,2),\"Binding\",\"\")","v":""}]
[null,{"$f":"Optimization!A186","v":"NDF, (t) (> min)"},null,null,{"$f":"IF(ROUND(Optimization!B186,2)=ROUND(Optimization!G186,2),\"Binding\",\"\")","v":""},{"$f":"IF(ROUND(Optimization!C186,2)=ROUND(Optimization!H186,2),\"Binding\",\"\")","v":""},{"$f":"IF(ROUND(Optimization!D186,2)=ROUND(Optimization!I186,2),\"Binding\",\"\")","v":""},{"$f":"IF(ROUND(Optimization!E186,2)=ROUND(Optimization!J186,2),\"Binding\",\"\")","v":""},{"$f":"IF(ROUND(Optimization!F186,2)=ROUND(Optimization!K186,2),\"Binding\",\"\")","v":""},{"$f":"IF(ROUND(Optimization!B186,2)=ROUND(Optimization!L186,2),\"Binding\",\"\")","v":""},{"$f":"IF(ROUND(Optimization!C186,2)=ROUND(Optimization!M186,2),\"Binding\",\"\")","v":""},{"$f":"IF(ROUND(Optimization!D186,2)=ROUND(Optimization!N186,2),\"Binding\",\"\")","v":""},{"$f":"IF(ROUND(Optimization!E186,2)=ROUND(Optimization!O186,2),\"Binding\",\"\")","v":""},{"$f":"IF(ROUND(Optimization!F186,2)=ROUND(Optimization!P186,2),\"Binding\",\"\")","v":""},null,"Binding Manure Balance Constraints"]
[null,{"$f":"Optimization!A187","v":"NFC, (t) (>min & <max)"},null,null,{"$f":"IF(ROUND(Optimization!B187,2)=ROUND(Optimization!G187,2),\"Binding\",\"\")","v":""},{"$f":"IF(ROUND(Optimization!C187,2)=ROUND(Optimization!H187,2),\"Binding\",\"\")","v":""},{"$f":"IF(ROUND(Optimization!D187,2)=ROUND(Optimization!I187,2),\"Binding\",\"\")","v":""},{"$f":"IF(ROUND(Optimization!E187,2)=ROUND(Optimization!J187,2),\"Binding\",\"\")","v":""},{"$f":"IF(ROUND(Optimization!F187,2)=ROUND(Optimization!K187,2),\"Binding\",\"\")","v":""},{"$f":"IF(ROUND(Optimization!B187,2)=ROUND(Optimization!L187,2),\"Binding\",\"\")","v":"Binding"},{"$f":"IF(ROUND(Optimization!C187,2)=ROUND(Optimization!M187,2),\"Binding\",\"\")","v":""},{"$f":"IF(ROUND(Optimization!D187,2)=ROUND(Optimization!N187,2),\"Binding\",\"\")","v":""},{"$f":"IF(ROUND(Optimization!E187,2)=ROUND(Optimization!O187,2),\"Binding\",\"\")","v":""},{"$f":"IF(ROUND(Optimization!F187,2)=ROUND(Optimization!P187,2),\"Binding\",\"\")","v":""},null,null,null,"Solid","Liquid"]
[null,{"$f":"Optimization!A188","v":"CP (t)  (< max)"},null,null,null,null,null,null,null,{"$f":"IF(ROUND(Optimization!B188,2)=ROUND(Optimization!L188,2),\"Binding\",\"\")","v":""},{"$f":"IF(ROUND(Optimization!C188,2)=ROUND(Optimization!M188,2),\"Binding\",\"\")","v":""},{"$f":"IF(ROUND(Optimization!D188,2)=ROUND(Optimization!N188,2),\"Binding\",\"\")","v":""},{"$f":"IF(ROUND(Optimization!E188,2)=ROUND(Optimization!O188,2),\"Binding\",\"\")","v":""},{"$f":"IF(ROUND(Optimization!F188,2)=ROUND(Optimization!P188,2),\"Binding\",\"\")","v":""},null,"Manure Exported",null,{"$f":"IF(Optimization!B264=0,\"\",IF(ROUND(Optimization!B262,1)=ROUND(Optimization!B264,1),\"Binding\",\"\"))","v":""},{"$f":"IF(Optimization!C264=0,\"\",IF(ROUND(Optimization!C262,1)=ROUND(Optimization!C264,1),\"Binding\",\"\"))","v":""}]
[null,{"$f":"Optimization!A189","v":"RDP, (t) (> min & < max)"},null,null,{"$f":"IF(ROUND(Optimization!B189,2)=ROUND(Optimization!G189,2),\"Binding\",\"\")","v":"Binding"},{"$f":"IF(ROUND(Optimization!C189,2)=ROUND(Optimization!H189,2),\"Binding\",\"\")","v":""},{"$f":"IF(ROUND(Optimization!D189,2)=ROUND(Optimization!I189,2),\"Binding\",\"\")","v":""},{"$f":"IF(ROUND(Optimization!E189,2)=ROUND(Optimization!J189,2),\"Binding\",\"\")","v":""},{"$f":"IF(ROUND(Optimization!F189,2)=ROUND(Optimization!K189,2),\"Binding\",\"\")","v":""},{"$f":"IF(ROUND(Optimization!B189,2)=ROUND(Optimization!L189,2),\"Binding\",\"\")","v":""},{"$f":"IF(ROUND(Optimization!C189,2)=ROUND(Optimization!M189,2),\"Binding\",\"\")","v":""},{"$f":"IF(ROUND(Optimization!D189,2)=ROUND(Optimization!N189,2),\"Binding\",\"\")","v":""},{"$f":"IF(ROUND(Optimization!E189,2)=ROUND(Optimization!O189,2),\"Binding\",\"\")","v":""},{"$f":"IF(ROUND(Optimization!F189,2)=ROUND(Optimization!P189,2),\"Binding\",\"\")","v":""}]
[null,{"$f":"Optimization!A190","v":"RUP, (t)  (> min)"},null,null,{"$f":"IF(ROUND(Optimization!B190,2)=ROUND(Optimization!G190,2),\"Binding\",\"\")","v":""},{"$f":"IF(ROUND(Optimization!C190,2)=ROUND(Optimization!H190,2),\"Binding\",\"\")","v":"Binding"},{"$f":"IF(ROUND(Optimization!D190,2)=ROUND(Optimization!I190,2),\"Binding\",\"\")","v":""},{"$f":"IF(ROUND(Optimization!E190,2)=ROUND(Optimization!J190,2),\"Binding\",\"\")","v":"Binding"},{"$f":"IF(ROUND(Optimization!F190,2)=ROUND(Optimization!K190,2),\"Binding\",\"\")","v":""},"na","na","No constraints applied to Max RUP"]
[null,{"$f":"Optimization!A191","v":"Ca, (t abs) (> min & <max)"},null,null,{"$f":"IF(ROUND(Optimization!B191,2)=ROUND(Optimization!G191,2),\"Binding\",\"\")","v":"Binding"},{"$f":"IF(ROUND(Optimization!C191,2)=ROUND(Optimization!H191,2),\"Binding\",\"\")","v":"Binding"},{"$f":"IF(ROUND(Optimization!D191,2)=ROUND(Optimization!I191,2),\"Binding\",\"\")","v":""},{"$f":"IF(ROUND(Optimization!E191,2)=ROUND(Optimization!J191,2),\"Binding\",\"\")","v":"Binding"},{"$f":"IF(ROUND(Optimization!F191,2)=ROUND(Optimization!K191,2),\"Binding\",\"\")","v":""},{"$f":"IF(ROUND(Optimization!B191,2)=ROUND(Optimization!L191,2),\"Binding\",\"\")","v":""},{"$f":"IF(ROUND(Optimization!C191,2)=ROUND(Optimization!M191,2),\"Binding\",\"\")","v":""},{"$f":"IF(ROUND(Optimization!D191,2)=ROUND(Optimization!N191,2),\"Binding\",\"\")","v":""},{"$f":"IF(ROUND(Optimization!E191,2)=ROUND(Optimization!O191,2),\"Binding\",\"\")","v":""},{"$f":"IF(ROUND(Optimization!F191,2)=ROUND(Optimization!P191,2),\"Binding\",\"\")","v":""}]
[null,{"$f":"Optimization!A192","v":"P, (t abs) (> min & < max)"},null,null,{"$f":"IF(ROUND(Optimization!B192,2)=ROUND(Optimization!G192,2),\"Binding\",\"\")","v":"Binding"},{"$f":"IF(ROUND(Optimization!C192,2)=ROUND(Optimization!H192,2),\"Binding\",\"\")","v":""},{"$f":"IF(ROUND(Optimization!D192,2)=ROUND(Optimization!I192,2),\"Binding\",\"\")","v":""},{"$f":"IF(ROUND(Optimization!E192,2)=ROUND(Optimization!J192,2),\"Binding\",\"\")","v":""},{"$f":"IF(ROUND(Optimization!F192,2)=ROUND(Optimization!K192,2),\"Binding\",\"\")","v":""},{"$f":"IF(ROUND(Optimization!B192,2)=ROUND(Optimization!L192,2),\"Binding\",\"\")","v":""},{"$f":"IF(ROUND(Optimization!C192,2)=ROUND(Optimization!M192,2),\"Binding\",\"\")","v":""},{"$f":"IF(ROUND(Optimization!D192,2)=ROUND(Optimization!N192,2),\"Binding\",\"\")","v":""},{"$f":"IF(ROUND(Optimization!E192,2)=ROUND(Optimization!O192,2),\"Binding\",\"\")","v":""},{"$f":"IF(ROUND(Optimization!F192,2)=ROUND(Optimization!P192,2),\"Binding\",\"\")","v":""}]
[null,{"$f":"Optimization!A193","v":"K, (t abs) (>min)"},null,null,{"$f":"IF(ROUND(Optimization!B193,2)=ROUND(Optimization!G193,2),\"Binding\",\"\")","v":"Binding"},{"$f":"IF(ROUND(Optimization!C193,2)=ROUND(Optimization!H193,2),\"Binding\",\"\")","v":""},{"$f":"IF(ROUND(Optimization!D193,2)=ROUND(Optimization!I193,2),\"Binding\",\"\")","v":""},{"$f":"IF(ROUND(Optimization!E193,2)=ROUND(Optimization!J193,2),\"Binding\",\"\")","v":""},{"$f":"IF(ROUND(Optimization!F193,2)=ROUND(Optimization!K193,2),\"Binding\",\"\")","v":""},{"$f":"IF(ROUND(Optimization!B193,2)=ROUND(Optimization!L193,2),\"Binding\",\"\")","v":""},{"$f":"IF(ROUND(Optimization!C193,2)=ROUND(Optimization!M193,2),\"Binding\",\"\")","v":""},{"$f":"IF(ROUND(Optimization!D193,2)=ROUND(Optimization!N193,2),\"Binding\",\"\")","v":""},{"$f":"IF(ROUND(Optimization!E193,2)=ROUND(Optimization!O193,2),\"Binding\",\"\")","v":""},{"$f":"IF(ROUND(Optimization!F193,2)=ROUND(Optimization!P193,2),\"Binding\",\"\")","v":""}]
[null,{"$f":"Optimization!A194","v":"Mg, (t abs)  (> min & < max)"},null,null,{"$f":"IF(ROUND(Optimization!B194,2)=ROUND(Optimization!G194,2),\"Binding\",\"\")","v":"Binding"},{"$f":"IF(ROUND(Optimization!C194,2)=ROUND(Optimization!H194,2),\"Binding\",\"\")","v":""},{"$f":"IF(ROUND(Optimization!D194,2)=ROUND(Optimization!I194,2),\"Binding\",\"\")","v":""},{"$f":"IF(ROUND(Optimization!E194,2)=ROUND(Optimization!J194,2),\"Binding\",\"\")","v":""},{"$f":"IF(ROUND(Optimization!F194,2)=ROUND(Optimization!K194,2),\"Binding\",\"\")","v":""},{"$f":"IF(ROUND(Optimization!B194,2)=ROUND(Optimization!L194,2),\"Binding\",\"\")","v":""},{"$f":"IF(ROUND(Optimization!C194,2)=ROUND(Optimization!M194,2),\"Binding\",\"\")","v":""},{"$f":"IF(ROUND(Optimization!D194,2)=ROUND(Optimization!N194,2),\"Binding\",\"\")","v":""},{"$f":"IF(ROUND(Optimization!E194,2)=ROUND(Optimization!O194,2),\"Binding\",\"\")","v":""},{"$f":"IF(ROUND(Optimization!F194,2)=ROUND(Optimization!P194,2),\"Binding\",\"\")","v":""}]
[null,{"$f":"Optimization!A195","v":"Na (t abs)  (> min & < max)"},null,null,{"$f":"IF(ROUND(Optimization!B195,2)=ROUND(Optimization!G195,2),\"Binding\",\"\")","v":"Binding"},{"$f":"IF(ROUND(Optimization!C195,2)=ROUND(Optimization!H195,2),\"Binding\",\"\")","v":"Binding"},{"$f":"IF(ROUND(Optimization!D195,2)=ROUND(Optimization!I195,2),\"Binding\",\"\")","v":"Binding"},{"$f":"IF(ROUND(Optimization!E195,2)=ROUND(Optimization!J195,2),\"Binding\",\"\")","v":"Binding"},{"$f":"IF(ROUND(Optimization!F195,2)=ROUND(Optimization!K195,2),\"Binding\",\"\")","v":"Binding"},{"$f":"IF(ROUND(Optimization!B195,2)=ROUND(Optimization!L195,2),\"Binding\",\"\")","v":""},{"$f":"IF(ROUND(Optimization!C195,2)=ROUND(Optimization!M195,2),\"Binding\",\"\")","v":""},{"$f":"IF(ROUND(Optimization!D195,2)=ROUND(Optimization!N195,2),\"Binding\",\"\")","v":""},{"$f":"IF(ROUND(Optimization!E195,2)=ROUND(Optimization!O195,2),\"Binding\",\"\")","v":""},{"$f":"IF(ROUND(Optimization!F195,2)=ROUND(Optimization!P195,2),\"Binding\",\"\")","v":""}]
[null,{"$f":"Optimization!A196","v":"Cl (t abs)  (> min & < max)"},null,null,{"$f":"IF(ROUND(Optimization!B196,2)=ROUND(Optimization!G196,2),\"Binding\",\"\")","v":""},{"$f":"IF(ROUND(Optimization!C196,2)=ROUND(Optimization!H196,2),\"Binding\",\"\")","v":""},{"$f":"IF(ROUND(Optimization!D196,2)=ROUND(Optimization!I196,2),\"Binding\",\"\")","v":""},{"$f":"IF(ROUND(Optimization!E196,2)=ROUND(Optimization!J196,2),\"Binding\",\"\")","v":""},{"$f":"IF(ROUND(Optimization!F196,2)=ROUND(Optimization!K196,2),\"Binding\",\"\")","v":""},{"$f":"IF(ROUND(Optimization!B196,2)=ROUND(Optimization!L196,2),\"Binding\",\"\")","v":""},{"$f":"IF(ROUND(Optimization!C196,2)=ROUND(Optimization!M196,2),\"Binding\",\"\")","v":""},{"$f":"IF(ROUND(Optimization!D196,2)=ROUND(Optimization!N196,2),\"Binding\",\"\")","v":""},{"$f":"IF(ROUND(Optimization!E196,2)=ROUND(Optimization!O196,2),\"Binding\",\"\")","v":""},{"$f":"IF(ROUND(Optimization!F196,2)=ROUND(Optimization!P196,2),\"Binding\",\"\")","v":"Binding"}]
[null,{"$f":"Optimization!A197","v":"S (t)  (> min & < max)"},null,null,{"$f":"IF(ROUND(Optimization!B197,2)=ROUND(Optimization!G197,2),\"Binding\",\"\")","v":"Binding"},{"$f":"IF(ROUND(Optimization!C197,2)=ROUND(Optimization!H197,2),\"Binding\",\"\")","v":""},{"$f":"IF(ROUND(Optimization!D197,2)=ROUND(Optimization!I197,2),\"Binding\",\"\")","v":"Binding"},{"$f":"IF(ROUND(Optimization!E197,2)=ROUND(Optimization!J197,2),\"Binding\",\"\")","v":""},{"$f":"IF(ROUND(Optimization!F197,2)=ROUND(Optimization!K197,2),\"Binding\",\"\")","v":""},{"$f":"IF(ROUND(Optimization!B197,2)=ROUND(Optimization!L197,2),\"Binding\",\"\")","v":""},{"$f":"IF(ROUND(Optimization!C197,2)=ROUND(Optimization!M197,2),\"Binding\",\"\")","v":""},{"$f":"IF(ROUND(Optimization!D197,2)=ROUND(Optimization!N197,2),\"Binding\",\"\")","v":""},{"$f":"IF(ROUND(Optimization!E197,2)=ROUND(Optimization!O197,2),\"Binding\",\"\")","v":""},{"$f":"IF(ROUND(Optimization!F197,2)=ROUND(Optimization!P197,2),\"Binding\",\"\")","v":""}]
[]
[]
[]
[]
[]
[]
[]
[]
[]
[]
[]
[]
[]
[]
[null,"Potassium Imports",null,null,null,"Potassium Exports",null,null,null,"Potassium losses"]
[null,"Feed K purchased kg/yr",null,null,{"$f":"SUMPRODUCT(IF(Optimization!B153:AA153>0,0,ABS(Optimization!B153:AA153)),((Optimization!AE157:BD157)*10))","v":1912.4579496491517},"Feed K sold kg/yr",null,null,{"$f":"SUMPRODUCT(IF(Optimization!B144:J144>Optimization!B152:J152,Optimization!B153:J153,0),((Optimization!AE157:AM157)*10))","v":1718.2231068379692},"Soil level",null,"Crop level (field and storage)",null,null,null,"Animal level",null,null,null,"Manure storage level"]
[null,"Fertilizer K purchased kg/yr",null,null,{"$f":"SUMPRODUCT(Optimization!B106:F106,((((Optimization!T299:X299)*10))*0.83))","v":5289.1512852902542},"Milk K sold kg/yr",null,null,{"$f":"(Inputs!C71*0.15%)","v":1518.8823017229493},"Fert. Supply",{"$f":"(SUMPRODUCT(Optimization!$B$106:$F$106,Optimization!$T$296:$X$296,Optimization!T299:X299)*10*0.83)+SUMPRODUCT(TRANSPOSE(Optimization!AB326:AF326),Optimization!AF372:AF376)*1000*0.83+Optimization!$M$385*1+SUMPRODUCT(TRANSPOSE(Optimization!M337:Q337),Optimization!AF372:AF376)*1000*0.83","v":15510.148894735281},"Crops uptake",null,{"$f":"K154","v":{"$error":"#REF!"}},null,"Feed intake",null,{"$f":"SUMPRODUCT(Optimization!B152:AA152,Optimization!AE157:BD157)*1000/100+SUMPRODUCT(Optimization!M495:Q495,Inputs!D$115:H$115)*365/1000","v":17021.400779477146},null,"Manure produced",null,{"$f":"SUM(Optimization!M315:Q315)*1000*0.83","v":10069.797609445028}]
[null,"Precipitation K deposit kg/yr",null,null,{"$f":"1*Optimization!M385","v":151.19999999999999},"Meat K sold kg/yr",null,null,{"$f":"Inputs!C31*Inputs!C34%*Inputs!C32*0.16%+(Inputs!C31*12/Inputs!C33)*0.5*45*0.155%+((Inputs!C31*12/Inputs!C33)*0.5-Inputs!C31*Inputs!C34%*(1-Inputs!C39/100))*IF(Inputs!C42=1,Inputs!C32*0.16%,45*0.155%)","v":42.483368525179849},"Crops uptake",{"$f":"(Optimization!AE157%*Optimization!B144/(1-Optimization!B141%)+Optimization!AF157%*Optimization!C144/(1-Optimization!C141%)+Optimization!AG157%*Optimization!D144/(1-Optimization!D141%)+Optimization!AG157%*Optimization!D144/(1-Optimization!D141%)+Optimization!AH157%*Optimization!E144/(1-Optimization!E141%)+Optimization!AI157%*Optimization!F144/(1-Optimization!F141%)+Optimization!AJ157%*Optimization!G144/(1-Optimization!G141%)+Optimization!AK157%*Optimization!H144/(1-Optimization!H141%)+Optimization!AL157%*Optimization!I144/(1-Optimization!I141%)+Optimization!AM157%*Optimization!J144/(1-Optimization!J141%)+Optimization!#REF!%*Optimization!#REF!/(1-Optimization!#REF!%))*1000","v":{"$error":"#REF!"}},"Feed produced",null,{"$f":"SUMPRODUCT(Optimization!B144:J144,Optimization!AE157:AM157)*1000/100","v":16807.772275323361},null,"Animal products",null,{"$f":"(Inputs!C71*0.15%)+Inputs!C31*Inputs!C34%*Inputs!C32*0.16%+(Inputs!C31*12/Inputs!C33)*0.5*45*0.155%+((Inputs!C31*12/Inputs!C33)*0.5-Inputs!C31*Inputs!C34%*(1-Inputs!C39/100))*IF(Inputs!C42=1,Inputs!C32*0.16%,45*0.155%)","v":1561.3656702481292},null,"Remaining",null,{"$f":"SUMPRODUCT(TRANSPOSE(Optimization!M315:Q315),Optimization!M372:M376,Optimization!Q372:Q376)*1000*0.83","v":10069.797609445028}]
[null,"Drinking water K inputs kg/yr",null,null,{"$f":"SUMPRODUCT(Optimization!M495:Q495,Inputs!D$115:H$115)*365/1000","v":19.393661342604108},"   Manure K export",null,null,{"$f":"(Optimization!B262*Optimization!AB299%+Optimization!C262*Optimization!AC299%)*0.83*1000","v":0},null,null,null,null,null,null,"Manure",null,{"$f":"SUM(Optimization!M315:Q315)*1000*0.83","v":10069.797609445028}]
[null,"Total Imports",null,null,{"$f":"SUM(E152:E155)","v":7372.2028962820095},"Total Exports",null,null,{"$f":"SUM(I152:I155)","v":3279.5887770860982},"Losses",{"$f":"K153-K154","v":{"$error":"#REF!"}},"Losses",null,{"$f":"N153-N154","v":{"$error":"#REF!"}},null,"Losses",null,{"$f":"R153-R154-R155","v":5390.2374997839888},null,"Losses",null,{"$f":"V153-V154","v":0}]
[null,"K Balance, kg/y",null,null,{"$f":"(E152+E153+E154+E155)-(I153+I154+I152+I155)","v":4092.6141191959114}]
[]
[null,"Sodium Imports",null,null,null,"Sodium Exports",null,null,null,"Sodium losses"]
[null,"Feed Na purchased kg/yr",null,null,{"$f":"SUMPRODUCT(IF(Optimization!B153:AA153>0,0,ABS(Optimization!B153:AA153)),(Optimization!AE161:BD161))*10","v":1803.7527783387363},"Feed Na sold kg/yr",null,null,{"$f":"SUMPRODUCT(IF(Optimization!B144:J144>Optimization!B152:J152,Optimization!B153:J153,0),((Optimization!AE161:AM161)*10))","v":81.820147944661329},"Soil level",null,"Crop level (field and storage)",null,null,null,"Animal level",null,null,null,"Manure storage level"]
[null,"Fertilizer Na purchased kg/yr",null,null,{"$f":"SUMPRODUCT(Optimization!B106:F106,((Optimization!T300:X300)*10))","v":0},"Milk Na sold kg/yr",null,null,{"$f":"(Inputs!C71*0.063%)","v":637.93056672363866},"Fert. Supply",{"$f":"(SUMPRODUCT(Optimization!$B$106:$F$106,Optimization!$T$296:$X$296,Optimization!T300:X300)*10)+SUMPRODUCT(TRANSPOSE(Optimization!M316:Q316),Optimization!AL358:AL362,Optimization!AP358:AP362)*1000+Optimization!$M$385*3.4","v":4491.830938520342},"Crops uptake",null,{"$f":"K162","v":{"$error":"#REF!"}},null,"Feed intake",null,{"$f":"SUMPRODUCT(Optimization!B152:AA152,Optimization!AE161:BD161)*1000/100+SUMPRODUCT(Optimization!M496:Q496,Inputs!D$115:H$115)*365/1000","v":2320.6197535419906},null,"Manure produced",null,{"$f":"SUM(Optimization!M316:Q316)*1000","v":3977.7509385203421}]
[null,"Precipitation Na deposit kg/yr",null,null,{"$f":"3.4*Optimization!M385","v":514.07999999999993},"Meat Na sold kg/yr",null,null,{"$f":"Inputs!C31*Inputs!C34%*Inputs!C32*0.14%+(Inputs!C31*12/Inputs!C33)*0.5*1.39*80/1000+((Inputs!C31*12/Inputs!C33)*0.5-Inputs!C31*Inputs!C34%*(1-Inputs!C39/100))*IF(Inputs!C42=1,Inputs!C32*0.14%,1.39*80/1000)","v":40.067990399999999},"Crops uptake",{"$f":"(Optimization!AE161%*Optimization!B144/(1-Optimization!B141%)+Optimization!AF161%*Optimization!C144/(1-Optimization!C141%)+Optimization!AG161%*Optimization!D144/(1-Optimization!D141%)+Optimization!AG161%*Optimization!D144/(1-Optimization!D141%)+Optimization!AH161%*Optimization!E144/(1-Optimization!E141%)+Optimization!AI161%*Optimization!F144/(1-Optimization!F141%)+Optimization!AJ161%*Optimization!G144/(1-Optimization!G141%)+Optimization!AK161%*Optimization!H144/(1-Optimization!H141%)+Optimization!AL161%*Optimization!I144/(1-Optimization!I141%)+Optimization!AM161%*Optimization!J144/(1-Optimization!J141%)+Optimization!#REF!%*Optimization!#REF!/(1-Optimization!#REF!%))*1000","v":{"$error":"#REF!"}},"Feed produced",null,{"$f":"SUMPRODUCT(Optimization!B144:J144,Optimization!AE161:AM161)*1000/100","v":311.66093527737451},null,"Animal products",null,{"$f":"(Inputs!C71*0.063%)+Inputs!C31*Inputs!C34%*Inputs!C32*0.14%+(Inputs!C31*12/Inputs!C33)*0.5*1.39*80/100+((Inputs!C31*12/Inputs!C33)*0.5-Inputs!C31*Inputs!C34%*(1-Inputs!C39/100))*IF(Inputs!C42=1,Inputs!C32*0.14%,1.39*80/1000)","v":724.22255712363869},null,"Remaining",null,{"$f":"SUMPRODUCT(TRANSPOSE(Optimization!M316:Q316),Optimization!AL358:AL362,Optimization!AP358:AP362)*1000","v":3977.7509385203421}]
[null,"Drinking water Na inputs kg/yr",null,null,{"$f":"SUMPRODUCT(Optimization!M496:Q496,Inputs!D$115:H$115)*365/1000","v":287.02618787054075},"   Manure Na export",null,null,{"$f":"(Optimization!B262*Optimization!AB300%+Optimization!C262*Optimization!AC300%)*1000","v":0},null,null,null,null,null,null,"Manure",null,{"$f":"SUM(Optimization!M316:Q316)*1000","v":3977.7509385203421}]
[null,"Total Imports",null,null,{"$f":"SUM(E160:E163)","v":2604.8589662092772},"Total Exports",null,null,{"$f":"SUM(I160:I163)","v":759.81870506830001},"Losses",{"$f":"K161-K162","v":{"$error":"#REF!"}},"Losses",null,{"$f":"N161-N162","v":{"$error":"#REF!"}},null,"Losses",null,{"$f":"R161-R162-R163","v":-2381.3537421019901},null,"Losses",null,{"$f":"V161-V162","v":0}]
[null,"Na Balance, kg/y",null,null,{"$f":"(E160+E161+E162+E163)-(I161+I162+I160+I163)","v":1845.0402611409772}]
[]
[null,"Chloride Imports",null,null,null,"Chloride Exports",null,null,null,"Chloride losses"]
[null,"Feed Cl purchased kg/yr",null,null,{"$f":"SUMPRODUCT(IF((Optimization!B153:AA153)<0,ABS(Optimization!B153:AA153),0),Optimization!AE163:BD163%)*1000","v":2676.6469784924861},"Feed Cl sold kg/yr",null,null,{"$f":"SUMPRODUCT(IF(Optimization!B153:J153>0,Optimization!B153:J153,0),Optimization!AE163:AM163)*10","v":327.28059177865748},"Soil level",null,"Crop level (field and storage)",null,null,null,"Animal level",null,null,null,"Manure storage level"]
[null,"Fertilizer Cl purchased kg/yr",null,null,{"$f":"SUMPRODUCT(Optimization!B106:F106,((Optimization!T301:X301)*10))","v":5044.8732138812666},"Milk Cl sold kg/yr",null,null,{"$f":"(Inputs!C71*0.115%)","v":1164.4764313209278},"Fert. Supply",{"$f":"(SUMPRODUCT(Optimization!$B$106:$F$106,Optimization!$T$296:$X$296,Optimization!T301:X301)*10)+SUMPRODUCT(TRANSPOSE(Optimization!M317:Q317),Optimization!AL365:AL369,Optimization!AP365:AP369)*1000+Optimization!$M$385*1","v":13396.28104993144},"Crops uptake",null,{"$f":"K170","v":{"$error":"#REF!"}},null,"Feed intake",null,{"$f":"SUMPRODUCT(Optimization!B152:AA152,Optimization!AE163:BD163)*1000/100+SUMPRODUCT(Optimization!M497:Q497,Inputs!D$115:H$115)*365/1000","v":6450.4743896491118},null,"Manure produced",null,{"$f":"SUM(Optimization!M317:Q317)*1000","v":8200.2078360501728}]
[null,"Precipitation Cl deposit kg/yr",null,null,{"$f":"1*Optimization!M385","v":151.19999999999999},"Meat Cl sold kg/yr",null,null,{"$f":"Inputs!C31*Inputs!C34%*Inputs!C32*0.1%+(Inputs!C31*12/Inputs!C33)*0.5*1*80/1000+((Inputs!C31*12/Inputs!C33)*0.5-Inputs!C31*Inputs!C34%*(1-Inputs!C39/100))*IF(Inputs!C42=1,Inputs!C32*0.1%,1*80/1000)","v":28.652968057553956},"Crops uptake",{"$f":"(Optimization!AE163%*Optimization!B144/(1-Optimization!B141%)+Optimization!AF163%*Optimization!C144/(1-Optimization!C141%)+Optimization!AG163%*Optimization!D144/(1-Optimization!D141%)+Optimization!AG163%*Optimization!D144/(1-Optimization!D141%)+Optimization!AH163%*Optimization!E144/(1-Optimization!E141%)+Optimization!AI163%*Optimization!F144/(1-Optimization!F141%)+Optimization!AJ163%*Optimization!G144/(1-Optimization!G141%)+Optimization!AK163%*Optimization!H144/(1-Optimization!H141%)+Optimization!AL163%*Optimization!I144/(1-Optimization!I141%)+Optimization!AM163%*Optimization!J144/(1-Optimization!J141%)+Optimization!#REF!%*Optimization!#REF!/(1-Optimization!#REF!%))*1000","v":{"$error":"#REF!"}},"Feed produced",null,{"$f":"SUMPRODUCT(Optimization!B144:J144,Optimization!AE163:AM163)*1000/100","v":3810.2030827962235},null,"Animal products",null,{"$f":"Inputs!C71*0.115%+Inputs!C31*Inputs!C34%*Inputs!C32*0.1%+(Inputs!C31*12/Inputs!C33)*0.5*1*80/1000+((Inputs!C31*12/Inputs!C33)*0.5+Inputs!C31*Inputs!C34%*(1-Inputs!C39/100))*IF(Inputs!C42=1,Inputs!C32*0.1%,1*80/1000)","v":1198.6762793784817},null,"Remaining",null,{"$f":"SUMPRODUCT(TRANSPOSE(Optimization!M317:Q317),Optimization!AL365:AL369,Optimization!AP365:AP369)*1000","v":8200.2078360501728}]
[null,"Drinking water Cl inputs kg/yr",null,null,{"$f":"SUMPRODUCT(Optimization!M497:Q497,Inputs!D$115:H$115)*365/1000","v":290.90492013906157},"   Manure Cl export",null,null,{"$f":"(Optimization!B262*Optimization!AB301%+Optimization!C262*Optimization!AC301%)*1000","v":0},null,null,null,null,null,null,"Manure",null,{"$f":"SUM(Optimization!M317:Q317)*1000","v":8200.2078360501728}]
[null,"Total Imports",null,null,{"$f":"SUM(E168:E171)","v":8163.6251125128147},"Total Exports",null,null,{"$f":"SUM(I168:I171)","v":1520.4099911571393},"Losses",{"$f":"K169-K170","v":{"$error":"#REF!"}},"Losses",null,{"$f":"N169-N170","v":{"$error":"#REF!"}},null,"Losses",null,{"$f":"R169-R170-R171","v":-2948.4097257795429},null,"Losses",null,{"$f":"V169-V170","v":0}]
[null,"Cl Balance, kg/y",null,null,{"$f":"(E168+E169+E170+E171)-(I169+I170+I168+I171)","v":6643.2151213556754}]
[]
[null,"Sulfur Imports",null,null,null,"Sulfur Exports",null,null,null,"Sulfur losses"]
[null,"Feed S purchased kg/yr",null,null,{"$f":"SUMPRODUCT(IF((Optimization!B153:AA153)<0,ABS(Optimization!B153:AA153),0),Optimization!AE165:BD165%)*1000","v":648.25434089776229},"Feed S sold kg/yr",null,null,{"$f":"SUMPRODUCT(IF(Optimization!B153:J153>0,Optimization!B153:J153,0),Optimization!AE165:AM165)*10","v":409.10073972329121},"Soil level",null,"Crop level (field and storage)",null,null,null,"Animal level",null,null,null,"Manure storage level"]
[null,"Fertilizer S purchased kg/yr",null,null,{"$f":"SUMPRODUCT(Optimization!B106:F106,((Optimization!T302:X302)*10))","v":0},"Milk S sold kg/yr",null,null,{"$f":"(Inputs!C71*0.014%)","v":141.76234816080861},"Fert. Supply",{"$f":"(SUMPRODUCT(Optimization!$B$106:$F$106,Optimization!$T$296:$X$296,Optimization!T302:X302)*10)+SUMPRODUCT(TRANSPOSE(Optimization!M318:Q318),Optimization!AL372:AL376,Optimization!AP372:AP376)*1000+Optimization!$M$385*5.5","v":4104.9461380461744},"Crops uptake",null,{"$f":"K178","v":{"$error":"#REF!"}},null,"Feed intake",null,{"$f":"SUMPRODUCT(Optimization!B152:AA152,Optimization!AE165:BD165)*1000/100+SUMPRODUCT(Optimization!M498:Q498,Inputs!D$115:H$115)*365/1000","v":2566.0278123643452},null,"Manure produced",null,{"$f":"SUM(Optimization!M318:Q318)*1000","v":3273.3461380461745}]
[null,"Precipitation S deposit kg/yr",null,null,{"$f":"5.5*Optimization!M385","v":831.59999999999991},"Meat S sold kg/yr",null,null,{"$f":"Inputs!C31*Inputs!C34%*Inputs!C32*0.15%+(Inputs!C31*12/Inputs!C33)*0.5*45*0.15%+((Inputs!C31*12/Inputs!C33)*0.5-Inputs!C31*Inputs!C34%*(1-Inputs!C39/100))*IF(Inputs!C42=1,Inputs!C32*0.15%,45*0.15%)","v":39.949881798561151},"Crops uptake",{"$f":"(Optimization!AE165%*Optimization!B144/(1-Optimization!B141%)+Optimization!AF165%*Optimization!C144/(1-Optimization!C141%)+Optimization!AG165%*Optimization!D144/(1-Optimization!D141%)+Optimization!AG165%*Optimization!D144/(1-Optimization!D141%)+Optimization!AH165%*Optimization!E144/(1-Optimization!E141%)+Optimization!AI165%*Optimization!F144/(1-Optimization!F141%)+Optimization!AJ165%*Optimization!G144/(1-Optimization!G141%)+Optimization!AK165%*Optimization!H144/(1-Optimization!H141%)+Optimization!AL165%*Optimization!I144/(1-Optimization!I141%)+Optimization!AM165%*Optimization!J144/(1-Optimization!J141%)+Optimization!#REF!%*Optimization!#REF!/(1-Optimization!#REF!%))*1000","v":{"$error":"#REF!"}},"Feed produced",null,{"$f":"SUMPRODUCT(Optimization!B144:J144,Optimization!AE165:AM165)*1000/100","v":2253.178298087978},null,"Animal products",null,{"$f":"Inputs!C71*0.014%+Inputs!C31*Inputs!C34%*Inputs!C32*0.15%+(Inputs!C31*12/Inputs!C33)*0.5*45*0.15%+((Inputs!C31*12/Inputs!C33)*0.5+Inputs!C31*Inputs!C34%*(1-Inputs!C39/100))*IF(Inputs!C42=1,Inputs!C32*0.15%,45*0.15%)","v":186.39240995936976},null,"Remaining",null,{"$f":"SUMPRODUCT(TRANSPOSE(Optimization!M318:Q318),Optimization!AL372:AL376,Optimization!AP372:AP376)*1000","v":3273.3461380461745}]
[null,"Drinking water S inputs kg/yr",null,null,{"$f":"SUMPRODUCT(Optimization!M498:Q498,Inputs!D$115:H$115)*365/1000","v":73.695913101895613},"   Manure S export",null,null,{"$f":"(Optimization!B262*Optimization!AB302%+Optimization!C262*Optimization!AC302%)*1000","v":0},null,null,null,null,null,null,"Manure",null,{"$f":"SUM(Optimization!M318:Q318)*1000","v":3273.3461380461745}]
[null,"Total Imports",null,null,{"$f":"SUM(E176:E179)","v":1553.5502539996578},"   Total export",null,null,{"$f":"SUM(I176:I179)","v":590.81296968266099},"Losses",{"$f":"K177-K178","v":{"$error":"#REF!"}},"Losses",null,{"$f":"N177-N178","v":{"$error":"#REF!"}},null,"Losses",null,{"$f":"R177-R178-R179","v":-893.71073564119888},null,"Losses",null,{"$f":"V177-V178","v":0}]
[null,"S Balance, kg/y",null,null,{"$f":"(E176+E177+E178+E179)-(I177+I178+I176+I179)","v":962.73728431699681}]

{"sheet":"Calculations & Conversions","index":6,"n_rows":153,"n_cols":118,"rows_kept":153,"cut":false,"hidden":false,"merged":[]}
[]
[null,null,null,null,null,null,null,null,null,null,null,null,null,null,null,null,null,null,null,"Back to Menu",null,null,null,null,null,null,null,"Back to Menu",null,null,null,null,null,null,null,"Back to Menu",null,null,null,null,null,null,null,"Back to Menu",null,null,null,null,null,null,null,"Back to Menu",null,null,null,null,null,null,null,"Back to Menu",null,null,null,null,null,null,null,"Back to Menu",null,null,null,null,null,null,null,"Back to Menu",null,null,null,null,null,null,null,"Back to Menu"]
[]
[null,"Click on the following links  to access",null,null,null,null,null,null,null,null,null,null,null,null,null,null,null,null,"MANURE PRODUCTION AND N, P, K EXCRETION",null,null,null,null,null,null,null,null,"Nutrient Concentration",null,null,null,null,null,null,null,"WEIGHT",null,null,null,null,null,null,null,"VOLUME",null,null,null,null,null,null,null,"DENSITY",null,null,null,null,null,null,null,"MILK PRICE & COMPOSITION",null,null,null,null,null,null,null,"LAND AREA",null,null,null,null,null,null,null,"CROP YIELD",null,null,null,null,null,null,null,"NUTRIENTS-RELATED CONVERSIONS"]
[null,"calculations and conversions:",null,null,null,null,null,null,null,null,null,null,null,null,null,null,null,null,"Source"]
[null,null,null,null,null,null,null,null,null,null,null,null,null,null,null,null,null,null,"ASAE D348.2 March 2005; Manure Production and Characteristics",null,null,null,null,null,null,"Pound/1000 gallons","lb/1000 gal.",0.12,"kg/M3","Kilo/Cubic Meter",null,null,null,"Kilo","kg",2.2046000000000001,"lb","Pound"]
[null,"Manure production and composition",null,null,null,null,null,null,null,null,null,null,null,null,null,null,null,null,null,null,null,null,null,null,null,null,null,"kg/M3/ lb/1000 G.",null,null,null,null,null,null,null,"lb/kg",null,null,null,null,null,"Liter","l",0.01,"hl","Hectoliter",null,null,null,"Liter of urine","L",1.038,"Kg","Kg of urine",null,null,null,"$ per hundredweight","$/cwt",2.2000000000000002,"$/hl","$ per hectoliter"]
[null,null,null,null,null,null,null,null,null,null,null,null,null,null,null,null,null,null,"Total Manure Excretion as-is  (kg/d)",null,null,null,null,null,null,null,29,"=",{"$f":"AA8*$AB$6","v":3.48},null,null,null,null,null,1,"=",{"$f":"AI8*$AJ$6","v":2.2046000000000001},null,null,null,null,null,null,"hl/l",null,null,null,null,null,null,null,"kg/l",null,null,null,null,null,null,null,"cwt/hl",null,null,null,null,null,"Acre","a",0.40500000000000003,"ha","Hectare",null,null,null,"pounds/acre","lb/a",1.1200000000000001,"kg/ha","kilograms/hectare",null,null,null,"Nitrogen (N)","kg",6.25,"kg","Crude Protein (CP)"]
[null,"Weight",null,null,null,null,null,null,null,null,null,null,null,null,null,null,null,null,"Lactating cows",null,null,null,null,null,null,null,{"$f":"AC9/$AB$6","v":28},"=",3.36,null,null,null,null,null,{"$f":"AK9/$AJ$6","v":0.4535970244035199},"=",1,null,null,null,null,null,1,"=",{"$f":"AQ9*$AR$7","v":0.01},null,null,null,null,null,1,"=",{"$f":"AY9*$AZ$7","v":1.038},null,null,null,null,null,12.5,"=",{"$f":"BG9*$BH$7","v":27.500000000000004},null,null,null,null,null,null,"ha/a",null,null,null,null,null,null,null,"lb/a/kg/ha"]
[null,null,null,null,null,null,null,null,null,null,null,null,null,null,null,null,null,null,null,"Milk yield","kg/d",40,null,null,null,null,"* Assuming a density of 1 kg/L.",null,null,null,null,null,null,null,null,null,null,null,null,null,null,null,{"$f":"AS10/$AR$7","v":100},"=",1,null,null,null,null,null,{"$f":"BA10/$AZ$7","v":0.96339113680154143},"=",1,null,null,null,null,null,{"$f":"BI10/$BH$7","v":13.409090909090908},"=",29.5,null,null,null,null,null,1,"=",{"$f":"BO10*$BP$8","v":0.40500000000000003},null,null,null,null,null,35,"=",{"$f":"BW10*$BX$8","v":39.200000000000003},null,null,null,null,null,1,"=",{"$f":"CE10*$CF$8","v":6.25},null,null,null,null,null,null,null,null,null,null,null,null,null,null,null,null,null,"CHANGE IN WEIGHT AND % SOLID AS WATER (CLEANING WATER) IS ADDED TO MANURE",null,null,null,null,null,null,null,null,null,null,null,"CHANGE IN WEIGHT AND % SOLID AS SOLID (DRY BEDDING) IS ADDED TO MANURE"]
[null,"Volume ",null,null,null,null,null,null,null,null,null,null,null,null,null,null,null,null,null,"Body weigth","kg",628,null,null,null,null,null,null,null,null,null,null,null,"ton (short)","t",2000,"lb","Pound",null,null,null,null,null,null,null,null,null,null,null,null,null,null,null,null,null,null,null,null,null,null,null,null,null,null,null,null,{"$f":"BQ11/$BP$8","v":184.19753086419752},"=",74.599999999999994,null,null,null,null,null,{"$f":"BY11/$BX$8","v":7.5},"=",8.4,null,null,null,null,null,{"$f":"CG11/$CF$8","v":0.16},"=",1,null,null,null,null,null,null,null,null,null,null,null,null,null,null,null,null,null,null,"(to change % solid in the range of 13% to 5.5%)",null,null,null,null,null,null,null,null,null,null,null,"(to change % solid in the range of 13% to 50%)"]
[null,null,null,null,null,null,null,null,null,null,null,null,null,null,null,null,null,null,null,"days in milk",null,120,null,null,null,"pound/ton","lb/ Sht. ton",0.5,"kg/ton","Kilo/Metric tonne",null,null,null,null,null,"lb/t",null,null,null,null,null,"Gallon","gal",3.78,"l","Liter"]
[null,"Density (milk, urine)",null,null,null,null,null,null,null,null,null,null,null,null,null,null,null,null,null,"Milk fat","kg/kg milk",3.5999999999999997E-2,null,null,null,null,null,"kg/ton / lb/Sht. Ton",null,null,null,null,null,null,1,"=",{"$f":"AI13*$AJ$11","v":2000},null,null,null,null,null,null,"l/gal",null,null,null,null,null,"Liter of milk","L",1.03,"Kg","Kg of milk",null,null,null,"True Protein in milk","%",1.0640000000000001,"%","Crude Protein in milk",null,null,null,"Square mile","mi2",640,"a","Acre",null,null,null,null,null,null,null,null,null,null,null,"Phosphorus (P)","kg",2.29,"kg","Phosphate (P2O5)",null,null,null,null,null,null,null,null,null,null,null,null,null,null,null,null,"Solid","Moisture","total ","% solid",null,null,null,null,null,null,null,null,"Solid","Moisture","total ","% solid"]
[null,null,null,null,null,null,null,null,null,null,null,null,null,null,null,null,null,null,null,"Milk true protein","kg/kg milk",3.2000000000000001E-2,null,null,null,null,9,"=",{"$f":"AA14*$AB$12","v":4.5},null,null,null,null,null,{"$f":"AK14/$AJ$11","v":5.0000000000000001E-4},"=",1,null,null,null,null,null,1,"=",{"$f":"AQ14*$AR$12","v":3.78},null,null,null,null,null,null,"kg/l",null,null,null,null,null,null,null,"Crude/True",null,null,null,null,null,null,null,"a/mi2",null,null,null,null,null,"short tons/acre","t(s)/a",2.2400000000000002,"t(m)/ha","Metric tons/hectare"]
[null,"Milk composition and prices",null,null,null,null,null,null,null,null,null,null,null,null,null,null,null,null,null,"Manure Excretion, as-is, kg/d:",null,{"$f":"V10*0.954+V11*0.037+V12*0.017+V13*186.72+V14*1141.48-33.06","v":73.625279999999989},null,null,null,null,{"$f":"AC15/$AB$12","v":18},"=",9,null,null,null,null,null,null,null,null,null,null,null,null,null,{"$f":"AS15/$AR$12","v":0.26455026455026459},"=",1,null,null,null,null,null,1,"=",{"$f":"AY15*$AZ$13","v":1.03},null,null,null,null,null,3.2,"=",{"$f":"BG15*$BH$13","v":3.4048000000000003},null,null,null,null,null,1,"=",{"$f":"BO15*$BP$13","v":640},null,null,null,null,null,null,"t/a/t/ha",null,null,null,null,null,null,1,"=",{"$f":"CE15*$CF$13","v":2.29},null,null,null,null,null,null,null,null,null,null,null,null,null,null,null,null,null,13,87,{"$f":"SUM(CY15:CZ15)","v":100},{"$f":"CY15/DA15","v":0.13},null,null,null,null,null,null,null,null,13,87,{"$f":"SUM(DK15:DL15)","v":100},{"$f":"DK15/DM15","v":0.13}]
[null,null,null,null,null,null,null,null,null,null,null,null,null,null,null,null,null,null,"Dry cow",null,null,null,null,null,null,null,null,null,null,null,null,null,null,"ton (short)","t",907.03,"kg","kilo",null,null,null,null,null,null,null,null,null,null,null,null,{"$f":"BA16/$AZ$13","v":0.970873786407767},"=",1,null,null,null,null,null,{"$f":"BI16/$BH$13","v":3.007518796992481},"=",3.2,null,null,null,null,null,{"$f":"BQ16/$BP$13","v":0.11656249999999999},"=",74.599999999999994,null,null,null,null,null,4,"=",{"$f":"BW16*$BX$14","v":8.9600000000000009},null,null,null,null,null,{"$f":"CG16/$CF$13","v":0.4366812227074236},"=",1,null,null,null,null,null,null,null,null,null,null,null,null,null,null,null,null,null,13,{"$f":"CZ15+1","v":88},101,0.12871287128712872,null,null,null,null,null,null,null,null,{"$f":"DK15+1","v":14},87,101,0.13861386138613863]
[null,"Land area",null,null,null,null,null,null,null,null,null,null,null,null,null,null,null,null,null,"Body weigth","kg",628,null,null,null,null,null,null,null,null,null,null,null,null,null,"kg/t",null,null,null,null,null,null,null,null,null,null,null,null,null,null,null,null,null,null,null,null,null,null,null,null,null,null,null,null,null,null,null,null,null,null,null,null,null,null,{"$f":"BY17/$BX$14","v":0.4464285714285714},"=",1,null,null,null,null,null,null,null,null,null,null,null,null,null,null,null,null,null,null,null,null,null,null,null,null,null,13,{"$f":"CZ16+1","v":89},102,0.12745098039215685,null,null,null,null,null,null,null,null,{"$f":"DK16+1","v":15},87,102,0.14705882352941177]
[null,null,null,null,null,null,null,null,null,null,null,null,null,null,null,null,null,null,null,"Manure Excretion, as-is, kg/d:",null,{"$f":"V17*0.022+21.844","v":35.659999999999997},null,null,null,null,null,null,null,null,null,null,null,null,1,"=",{"$f":"AI18*$AJ$16","v":907.03},null,null,null,null,null,null,null,null,null,null,null,null,null,null,null,null,null,null,null,null,null,"Note: The ratio varies with breed",null,null,null,null,null,null,null,null,null,null,null,null,null,null,null,null,null,null,null,null,null,null,"Potassium (K)","kg",1.2,"kg","Potash (K2O)",null,null,null,null,null,null,null,null,null,null,null,null,null,null,null,null,13,90,103,0.12621359223300971,null,null,null,null,null,null,null,null,16,87,103,0.1553398058252427]
[null,"Crop yield and Grain yield",null,null,null,null,null,null,null,null,null,null,null,null,null,null,null,null,"Heifer",null,null,null,null,null,null,null,null,null,null,null,null,null,null,null,{"$f":"AK19/$AJ$16","v":1.1024993660628645E-3},"=",1,null,null,null,null,null,null,null,null,null,null,null,null,null,null,null,null,null,null,null,null,null,null,null,"Ratio","Ratio",null,null,null,null,null,null,null,null,null,null,null,null,null,null,null,null,null,null,null,null,null,null,null,null,null,null,null,null,null,null,null,null,null,null,null,null,null,null,null,null,13,91,104,0.125,null,null,null,null,null,null,null,null,17,87,104,0.16346153846153846]
[null,null,null,null,null,null,null,null,null,null,null,null,null,null,null,null,null,null,null,"Body weigth","kg",300,null,null,null,null,null,null,null,null,null,null,null,null,null,null,null,null,null,null,null,null,null,null,null,null,null,null,null,null,null,null,null,null,null,null,null,null,"Breed",null,"True:Crude","Crude:True",null,null,null,null,null,null,null,null,null,null,null,"BARLEY","Bu/a","t/a","kg/ha",null,null,null,null,null,1,"=",{"$f":"CE20*$CF$18","v":1.2},null,null,null,null,null,null,null,null,null,null,null,null,null,null,null,null,null,13,92,105,0.12380952380952381,null,null,null,null,null,null,null,null,18,87,105,0.17142857142857143]
[null,"N, P, K Nutrients",null,null,null,null,null,null,null,null,null,null,null,null,null,null,null,null,null,"Manure Excretion, as-is, kg/d:",null,{"$f":"V20*0.018+17.817","v":23.216999999999999},null,null,null,null,null,null,null,null,null,null,null,null,null,null,null,null,null,null,null,null,null,null,null,null,null,null,null,null,null,null,null,null,null,null,null,null,"Ayshire",null,0.94199999999999995,{"$f":"1/BI21","v":1.0615711252653928},null,null,null,null,null,null,null,null,null,null,null,"CORN (Shelled)",50,{"$f":"BW21*48/2000","v":1.2},{"$f":"BX21*1000*0.4536/0.405","v":1344},"@14.5% moisture",null,null,null,null,{"$f":"CG21/$CF$18","v":0.83333333333333337},"=",1,null,null,null,null,null,null,null,null,null,null,null,null,null,null,null,null,null,13,93,106,0.12264150943396226,null,null,null,null,null,null,null,null,19,87,106,0.17924528301886791]
[null,null,null,null,null,null,null,null,null,null,null,null,null,null,null,null,null,null,null,null,null,null,null,null,null,null,null,null,null,null,null,null,null,null,null,null,null,null,null,null,null,null,null,null,null,null,null,null,null,null,null,null,null,null,null,null,null,null,"Brown Swiss",null,0.94499999999999995,1.0582010582010584,null,null,null,null,null,null,null,null,null,null,null,"OAT",150,{"$f":"BW22*48/2000","v":3.6},{"$f":"BX22*1000*0.4536/0.405","v":4032},"@15.5% moisture",null,null,null,null,null,null,null,null,null,null,null,null,null,null,null,null,null,null,null,null,null,null,null,null,13,94,107,0.12149532710280374,null,null,null,null,null,null,null,null,20,87,107,0.18691588785046728]
[null,null,null,null,null,null,null,null,null,null,null,null,null,null,null,null,null,null,null,null,null,null,null,null,null,null,null,null,null,null,null,null,null,null,null,null,null,null,null,null,null,null,null,null,null,null,null,null,null,null,null,null,null,null,null,null,null,null,"Guernsey",null,0.94499999999999995,1.0582010582010584,null,null,null,null,null,null,null,null,null,null,null,"RYE",100,2.4,2688,"@14.0% moisture",null,null,null,null,null,null,null,null,null,null,null,null,null,null,null,null,null,null,null,null,null,null,null,null,13,95,108,0.12037037037037036,null,null,null,null,null,null,null,null,21,87,108,0.19444444444444445]
[null,null,null,null,null,null,null,null,null,null,null,null,null,null,null,null,null,null,"Nitrogen Excretion, g/d",null,null,null,null,null,null,null,null,null,null,null,null,null,null,null,null,null,null,null,null,null,null,null,null,null,null,null,null,null,null,null,null,null,null,null,null,null,null,null,"Holstein",null,0.94,1.0638297872340425,null,null,null,null,null,null,null,null,null,null,null,"SORGHUM",100,2.4,2688,null,null,null,null,null,null,null,null,null,null,null,null,null,null,null,null,null,null,null,null,null,null,null,null,null,13,96,109,0.11926605504587157,null,null,null,null,null,null,null,null,22,87,109,0.20183486238532111]
[null,null,null,null,null,null,null,null,null,null,null,null,null,null,null,null,null,null,"Lactating Cow",null,null,null,null,null,null,null,null,null,null,null,null,null,null,null,null,null,null,null,null,null,null,null,null,null,null,null,null,null,null,null,null,null,null,null,null,null,null,null,"Jersey",null,0.94899999999999995,1.053740779768177,null,null,null,null,null,null,null,null,null,null,null,"SOYBEAN",100,2.4,2688,null,null,null,null,null,null,null,null,null,null,null,null,null,null,null,null,null,null,null,null,null,null,null,null,null,13,97,110,0.11818181818181818,null,null,null,null,null,null,null,null,23,87,110,0.20909090909090908]
[null,null,null,null,null,null,null,null,null,null,null,null,null,null,null,null,null,null,null,"Milk yield","kg/d",40,null,null,null,null,null,null,null,null,null,null,null,null,null,null,null,null,null,null,null,null,null,null,null,null,null,null,null,null,null,null,null,null,null,null,null,null,"Milk Shorthorn",null,0.94099999999999995,1.0626992561105209,null,null,null,null,null,null,null,null,null,null,null,"WHEAT",40,0.96,1075.2,"@13.0% moisture",null,null,null,null,null,null,null,null,null,null,null,null,null,null,null,null,null,null,null,null,null,null,null,null,13,98,111,0.11711711711711711,null,null,null,null,null,null,null,null,24,87,111,0.21621621621621623]
[null,null,null,null,null,null,null,null,null,null,null,null,null,null,null,null,null,null,null,"Days in milk",null,120,null,null,null,null,null,null,null,null,null,null,null,null,null,null,null,null,null,null,null,null,null,null,null,null,null,null,null,null,null,null,null,null,null,null,null,null,"http://www.aipl.arsusda.gov/reference/trueprot.htm",null,null,null,null,null,null,null,null,null,null,null,null,null,null,null,50,1.2,1344,"@13.5% moisture",null,null,null,null,null,null,null,null,null,null,null,null,null,null,null,null,null,null,null,null,null,null,null,null,13,99,112,0.11607142857142858,null,null,null,null,null,null,null,null,25,87,112,0.22321428571428573]
[null,null,null,null,null,null,null,null,null,null,null,null,null,null,null,null,null,null,null,"Dry matter intake","kg/d",20,null,null,null,null,null,null,null,null,null,null,null,null,null,null,null,null,null,null,null,null,null,null,null,null,null,null,null,null,null,null,null,null,null,null,null,null,null,null,null,null,null,null,null,null,null,null,null,null,null,null,null,null,null,null,null,null,null,null,null,null,null,null,null,null,null,null,null,null,null,null,null,null,null,null,null,null,null,null,null,null,13,100,113,0.11504424778761062,null,null,null,null,null,null,null,null,26,87,113,0.23008849557522124]
[null,null,null,null,null,null,null,null,null,null,null,null,null,null,null,null,null,null,null,"Diet crude protein","% of DM",17,null,null,null,null,null,null,null,null,null,null,null,null,null,null,null,null,null,null,null,null,null,null,null,null,null,null,null,null,null,null,null,null,null,null,null,null,null,null,null,null,null,null,null,null,null,null,null,null,null,null,null,null,null,null,null,null,null,null,null,null,null,null,null,null,null,null,null,null,null,null,null,null,null,null,null,null,null,null,null,null,13,101,114,0.11403508771929824,null,null,null,null,null,null,null,null,27,87,114,0.23684210526315788]
[null,null,null,null,null,null,null,null,null,null,null,null,null,null,null,null,null,null,null,"Body weight",null,628,null,null,null,null,null,null,null,null,null,null,null,null,null,null,null,null,null,null,null,null,null,null,null,null,null,null,null,null,null,null,null,null,null,null,null,null,null,null,null,null,null,null,null,null,null,null,null,null,null,null,null,null,null,null,null,null,null,null,null,null,null,null,null,null,null,null,null,null,null,null,null,null,null,null,null,null,null,null,null,null,13,102,115,0.11304347826086956,null,null,null,null,null,null,null,null,28,87,115,0.24347826086956523]
[null,null,null,null,null,null,null,null,null,null,null,null,null,null,null,null,null,null,null,"Nitrogen Excretion, g/d:",null,{"$f":"(V26*2.303)+(V27*0.159)+(V28*V29/100*70.138)+(V30*0.193)-56.632","v":414.24119999999999},null,null,null,null,null,null,null,null,null,null,null,null,null,null,null,null,null,null,null,null,null,null,null,null,null,null,null,null,null,null,null,null,null,null,null,null,null,null,null,null,null,null,null,null,null,null,null,null,null,null,null,null,"Bushel","lbs","kg",null,null,null,null,null,null,null,null,null,null,null,null,null,null,null,null,null,null,null,null,null,null,null,null,null,13,103,116,0.11206896551724138,null,null,null,null,null,null,null,null,29,87,116,0.25]
[null,null,null,null,null,null,null,null,null,null,null,null,null,null,null,null,null,null,"Dry Cow",null,null,null,null,null,null,null,null,null,null,null,null,null,null,null,null,null,null,null,null,null,null,null,null,null,null,null,null,null,null,null,null,null,null,null,null,null,null,null,null,null,null,null,null,null,null,null,null,null,null,null,null,null,null,"BARLEY",1,{"$f":"BW32*48","v":48},{"$f":"BX32*0.4536","v":21.7728},"@14.5% moisture",null,null,null,null,null,null,null,null,null,null,null,null,null,null,null,null,null,null,null,null,null,null,null,null,13,104,117,0.1111111111111111,null,null,null,null,null,null,null,null,30,87,117,0.25641025641025639]
[null,null,null,null,null,null,null,null,null,null,null,null,null,null,null,null,null,null,null,"Dry matter intake","kg/d",12.5,null,null,null,null,null,null,null,null,null,null,null,null,null,null,null,null,null,null,null,null,null,null,null,null,null,null,null,null,null,null,null,null,null,null,null,null,null,null,null,null,null,null,null,null,null,null,null,null,null,null,null,"CORN (Shelled)",1,{"$f":"BW33*56","v":56},{"$f":"BX33*0.4536","v":25.401600000000002},"@15.5% moisture",null,null,null,null,null,null,null,null,null,null,null,null,null,null,null,null,null,null,null,null,null,null,null,null,13,105,118,0.11016949152542373,null,null,null,null,null,null,null,null,31,87,118,0.26271186440677968]
[null,null,null,null,null,null,null,null,null,null,null,null,null,null,null,null,null,null,null,"Diet crude protein","% of DM",13,null,null,null,null,null,null,null,null,null,null,null,null,null,null,null,null,null,null,null,null,null,null,null,null,null,null,null,null,null,null,null,null,null,null,null,null,null,null,null,null,null,null,null,null,null,null,null,null,null,null,null,"OAT",1,{"$f":"BW34*32","v":32},14.5152,"@14.0% moisture",null,null,null,null,null,null,null,null,null,null,null,null,null,null,null,"`",null,null,null,null,null,null,null,null,13,106,119,0.1092436974789916,null,null,null,null,null,null,null,null,32,87,119,0.26890756302521007]
[null,null,null,null,null,null,null,null,null,null,null,null,null,null,null,null,null,null,null,"Nitrogen Excretion, g/d:",null,{"$f":"(V33*12.747)+(V34/100*1606.29)-117.5","v":250.65520000000004},null,null,null,null,null,null,null,null,null,null,null,null,null,null,null,null,null,null,null,null,null,null,null,null,null,null,null,null,null,null,null,null,null,null,null,null,null,null,null,null,null,null,null,null,null,null,null,null,null,null,null,"RYE",1,{"$f":"BW35*56","v":56},25.401600000000002,null,null,null,null,null,null,null,null,null,null,null,null,null,null,null,null,null,null,null,null,null,null,null,null,null,13,107,120,0.10833333333333334,null,null,null,null,null,null,null,null,33,87,120,0.27500000000000002]
[null,null,null,null,null,null,null,null,null,null,null,null,null,null,null,null,null,null,"Heifer",null,null,null,null,null,null,null,null,null,null,null,null,null,null,null,null,null,null,null,null,null,null,null,null,null,null,null,null,null,null,null,null,null,null,null,null,null,null,null,null,null,null,null,null,null,null,null,null,null,null,null,null,null,null,"SORGHUM",1,{"$f":"BW36*56","v":56},25.401600000000002,null,null,null,null,null,null,null,null,null,null,null,null,null,null,null,null,null,null,null,null,null,null,null,null,null,13,108,121,0.10743801652892562,null,null,null,null,null,null,null,null,34,87,121,0.28099173553719009]
[null,null,null,null,null,null,null,null,null,null,null,null,null,null,null,null,null,null,null,"Dry matter intake","kg/d",6,null,null,null,null,null,null,null,null,null,null,null,null,null,null,null,null,null,null,null,null,null,null,null,null,null,null,null,null,null,null,null,null,null,null,null,null,null,null,null,null,null,null,null,null,null,null,null,null,null,null,null,"SOYBEAN",1,{"$f":"BW37*60","v":60},27.216000000000001,"@13.0% moisture",null,null,null,null,null,null,null,null,null,null,null,null,null,null,null,null,null,null,null,null,null,null,null,null,13,109,122,0.10655737704918032,null,null,null,null,null,null,null,null,35,87,122,0.28688524590163933]
[null,null,null,null,null,null,null,null,null,null,null,null,null,null,null,null,null,null,null,"Diet crude protein","% of DM",13,null,null,null,null,null,null,null,null,null,null,null,null,null,null,null,null,null,null,null,null,null,null,null,null,null,null,null,null,null,null,null,null,null,null,null,null,null,null,null,null,null,null,null,null,null,null,null,null,null,null,null,"WHEAT",1,{"$f":"BW38*60","v":60},27.216000000000001,"@13.5% moisture",null,null,null,null,null,null,null,null,null,null,null,null,null,null,null,null,null,null,null,null,null,null,null,null,13,110,123,0.10569105691056911,null,null,null,null,null,null,null,null,36,87,123,0.29268292682926828]
[null,null,null,null,null,null,null,null,null,null,null,null,null,null,null,null,null,null,null,"Nitrogen Excretion, g/d:",null,{"$f":"(V37*1000)*(V38/625)","v":124.8},null,null,null,null,null,null,null,null,null,null,null,null,null,null,null,null,null,null,null,null,null,null,null,null,null,null,null,null,null,null,null,null,null,null,null,null,null,null,null,null,null,null,null,null,null,null,null,null,null,null,null,null,null,null,null,null,null,null,null,null,null,null,null,null,null,null,null,null,null,null,null,null,null,null,null,null,null,null,null,null,13,111,124,0.10483870967741936,null,null,null,null,null,null,null,null,37,87,124,0.29838709677419356]
[null,null,null,null,null,null,null,null,null,null,null,null,null,null,null,null,null,null,null,null,null,null,null,null,null,null,null,null,null,null,null,null,null,null,null,null,null,null,null,null,null,null,null,null,null,null,null,null,null,null,null,null,null,null,null,null,null,null,null,null,null,null,null,null,null,null,null,null,null,null,null,null,null,null,null,null,null,null,null,null,null,null,null,null,null,null,null,null,null,null,null,null,null,null,null,null,null,null,null,null,null,null,13,112,125,0.104,null,null,null,null,null,null,null,null,38,87,125,0.30399999999999999]
[null,null,null,null,null,null,null,null,null,null,null,null,null,null,null,null,null,null,null,null,null,null,null,null,null,null,null,null,null,null,null,null,null,null,null,null,null,null,null,null,null,null,null,null,null,null,null,null,null,null,null,null,null,null,null,null,null,null,null,null,null,null,null,null,null,null,null,null,null,null,null,null,null,null,null,null,null,null,null,null,null,null,null,null,null,null,null,null,null,null,null,null,null,null,null,null,null,null,null,null,null,null,13,113,126,0.10317460317460317,null,null,null,null,null,null,null,null,39,87,126,0.30952380952380953]
[null,null,null,null,null,null,null,null,null,null,null,null,null,null,null,null,null,null,"Phosphorus Excretion, g/d",null,null,null,null,null,null,null,null,null,null,null,null,null,null,null,null,null,null,null,null,null,null,null,null,null,null,null,null,null,null,null,null,null,null,null,null,null,null,null,null,null,null,null,null,null,null,null,null,null,null,null,null,null,null,null,null,null,null,null,null,null,null,null,null,null,null,null,null,null,null,null,null,null,null,null,null,null,null,null,null,null,null,null,13,114,127,0.10236220472440945,null,null,null,null,null,null,null,null,40,87,127,0.31496062992125984]
[null,null,null,null,null,null,null,null,null,null,null,null,null,null,null,null,null,null,"Lactating Cow",null,null,null,null,null,null,null,null,null,null,null,null,null,null,null,null,null,null,null,null,null,null,null,null,null,null,null,null,null,null,null,null,null,null,null,null,null,null,null,null,null,null,null,null,null,null,null,null,null,null,null,null,null,null,null,null,null,null,null,null,null,null,null,null,null,null,null,null,null,null,null,null,null,null,null,null,null,null,null,null,null,null,null,13,115,128,0.1015625,null,null,null,null,null,null,null,null,41,87,128,0.3203125]
[null,null,null,null,null,null,null,null,null,null,null,null,null,null,null,null,null,null,"If P concentration is < 0.40% of ration dry matter",null,null,null,null,null,null,null,null,null,null,null,null,null,null,null,null,null,null,null,null,null,null,null,null,null,null,null,null,null,null,null,null,null,null,null,null,null,null,null,null,null,null,null,null,null,null,null,null,null,null,null,null,null,null,null,null,null,null,null,null,null,null,null,null,null,null,null,null,null,null,null,null,null,null,null,null,null,null,null,null,null,null,null,13,116,129,0.10077519379844961,null,null,null,null,null,null,null,null,42,87,129,0.32558139534883723]
[null,null,null,null,null,null,null,null,null,null,null,null,null,null,null,null,null,null,null,"Milk yield","kg/d",40,null,null,null,null,null,null,null,null,null,null,null,null,null,null,null,null,null,null,null,null,null,null,null,null,null,null,null,null,null,null,null,null,null,null,null,null,null,null,null,null,null,null,null,null,null,null,null,null,null,null,null,null,null,null,null,null,null,null,null,null,null,null,null,null,null,null,null,null,null,null,null,null,null,null,null,null,null,null,null,null,13,117,130,0.1,null,null,null,null,null,null,null,null,43,87,130,0.33076923076923076]
[null,null,null,null,null,null,null,null,null,null,null,null,null,null,null,null,null,null,null,"Dry matter intake","kg/d",23,null,null,null,null,null,null,null,null,null,null,null,null,null,null,null,null,null,null,null,null,null,null,null,null,null,null,null,null,null,null,null,null,null,null,null,null,null,null,null,null,null,null,null,null,null,null,null,null,null,null,null,null,null,null,null,null,null,null,null,null,null,null,null,null,null,null,null,null,null,null,null,null,null,null,null,null,null,null,null,null,13,118,131,9.9236641221374045E-2,null,null,null,null,null,null,null,null,44,87,131,0.33587786259541985]
[null,null,null,null,null,null,null,null,null,null,null,null,null,null,null,null,null,null,null,"Diet phosphorus","% of DM",0.38,null,null,null,null,null,null,null,null,null,null,null,null,null,null,null,null,null,null,null,null,null,null,null,null,null,null,null,null,null,null,null,null,null,null,null,null,null,null,null,null,null,null,null,null,null,null,null,null,null,null,null,null,null,null,null,null,null,null,null,null,null,null,null,null,null,null,null,null,null,null,null,null,null,null,null,null,null,null,null,null,13,119,132,9.8484848484848481E-2,null,null,null,null,null,null,null,null,45,87,132,0.34090909090909088]
[null,null,null,null,null,null,null,null,null,null,null,null,null,null,null,null,null,null,null,"Phosphorus Excretion, g/d:",null,{"$f":"((V46*1000)*V47/100)-(V45*0.9)","v":51.400000000000006},null,null,null,null,null,null,null,null,null,null,null,null,null,null,null,null,null,null,null,null,null,null,null,null,null,null,null,null,null,null,null,null,null,null,null,null,null,null,null,null,null,null,null,null,null,null,null,null,null,null,null,null,null,null,null,null,null,null,null,null,null,null,null,null,null,null,null,null,null,null,null,null,null,null,null,null,null,null,null,null,13,120,133,9.7744360902255634E-2,null,null,null,null,null,null,null,null,46,87,133,0.34586466165413532]
[null,null,null,null,null,null,null,null,null,null,null,null,null,null,null,null,null,null,"If P concentration is = or > 0.40% of ration dry matter",null,null,null,null,null,null,null,null,null,null,null,null,null,null,null,null,null,null,null,null,null,null,null,null,null,null,null,null,null,null,null,null,null,null,null,null,null,null,null,null,null,null,null,null,null,null,null,null,null,null,null,null,null,null,null,null,null,null,null,null,null,null,null,null,null,null,null,null,null,null,null,null,null,null,null,null,null,null,null,null,null,null,null,13,121,134,9.7014925373134331E-2,null,null,null,null,null,null,null,null,47,87,134,0.35074626865671643]
[null,null,null,null,null,null,null,null,null,null,null,null,null,null,null,null,null,null,null,"Milk yield","kg/d",40,null,null,null,null,null,null,null,null,null,null,null,null,null,null,null,null,null,null,null,null,null,null,null,null,null,null,null,null,null,null,null,null,null,null,null,null,null,null,null,null,null,null,null,null,null,null,null,null,null,null,null,null,null,null,null,null,null,null,null,null,null,null,null,null,null,null,null,null,null,null,null,null,null,null,null,null,null,null,null,null,13,122,135,9.6296296296296297E-2,null,null,null,null,null,null,null,null,48,87,135,0.35555555555555557]
[null,null,null,null,null,null,null,null,null,null,null,null,null,null,null,null,null,null,null,"Milk true protein","kg/kg milk",3.2000000000000001E-2,null,null,null,null,null,null,null,null,null,null,null,null,null,null,null,null,null,null,null,null,null,null,null,null,null,null,null,null,null,null,null,null,null,null,null,null,null,null,null,null,null,null,null,null,null,null,null,null,null,null,null,null,null,null,null,null,null,null,null,null,null,null,null,null,null,null,null,null,null,null,null,null,null,null,null,null,null,null,null,null,13,123,136,9.5588235294117641E-2,null,null,null,null,null,null,null,null,49,87,136,0.36029411764705882]
[null,null,null,null,null,null,null,null,null,null,null,null,null,null,null,null,null,null,null,"Dry matter intake","kg/d",23,null,null,null,null,null,null,null,null,null,null,null,null,null,null,null,null,null,null,null,null,null,null,null,null,null,null,null,null,null,null,null,null,null,null,null,null,null,null,null,null,null,null,null,null,null,null,null,null,null,null,null,null,null,null,null,null,null,null,null,null,null,null,null,null,null,null,null,null,null,null,null,null,null,null,null,null,null,null,null,null,13,124,137,9.4890510948905105E-2,null,null,null,null,null,null,null,null,50,87,137,0.36496350364963503]
[null,null,null,null,null,null,null,null,null,null,null,null,null,null,null,null,null,null,null,"Diet phosphorus","% of DM",0.42,null,null,null,null,null,null,null,null,null,null,null,null,null,null,null,null,null,null,null,null,null,null,null,null,null,null,null,null,null,null,null,null,null,null,null,null,null,null,null,null,null,null,null,null,null,null,null,null,null,null,null,null,null,null,null,null,null,null,null,null,null,null,null,null,null,null,null,null,null,null,null,null,null,null,null,null,null,null,null,null,13,125,138,9.420289855072464E-2,null,null,null,null,null,null,null,null,51,87,138,0.36956521739130432]
[null,null,null,null,null,null,null,null,null,null,null,null,null,null,null,null,null,null,null,"Phosphorus Excretion, g/d:",null,{"$f":"(V50*0.565)+(V51*816.26)+(V52*V53/100*421.41)-9.697","v":79.731526000000002},null,null,null,null,null,null,null,null,null,null,null,null,null,null,null,null,null,null,null,null,null,null,null,null,null,null,null,null,null,null,null,null,null,null,null,null,null,null,null,null,null,null,null,null,null,null,null,null,null,null,null,null,null,null,null,null,null,null,null,null,null,null,null,null,null,null,null,null,null,null,null,null,null,null,null,null,null,null,null,null,13,126,139,9.3525179856115109E-2,null,null,null,null,null,null,null,null,52,87,139,0.37410071942446044]
[null,null,null,null,null,null,null,null,null,null,null,null,null,null,null,null,null,null,"Dry Cow",null,null,null,null,null,null,null,null,null,null,null,null,null,null,null,null,null,null,null,null,null,null,null,null,null,null,null,null,null,null,null,null,null,null,null,null,null,null,null,null,null,null,null,null,null,null,null,null,null,null,null,null,null,null,null,null,null,null,null,null,null,null,null,null,null,null,null,null,null,null,null,null,null,null,null,null,null,null,null,null,null,null,null,13,127,140,9.285714285714286E-2,null,null,null,null,null,null,null,null,53,87,140,0.37857142857142856]
[null,null,null,null,null,null,null,null,null,null,null,null,null,null,null,null,null,null,null,"Dry matter intake","kg/d",12.5,null,null,null,null,null,null,null,null,null,null,null,null,null,null,null,null,null,null,null,null,null,null,null,null,null,null,null,null,null,null,null,null,null,null,null,null,null,null,null,null,null,null,null,null,null,null,null,null,null,null,null,null,null,null,null,null,null,null,null,null,null,null,null,null,null,null,null,null,null,null,null,null,null,null,null,null,null,null,null,null,13,128,141,9.2198581560283682E-2,null,null,null,null,null,null,null,null,54,87,141,0.38297872340425532]
[null,null,null,null,null,null,null,null,null,null,null,null,null,null,null,null,null,null,null,"Diet phosphorus","% of DM",0.42,null,null,null,null,null,null,null,null,null,null,null,null,null,null,null,null,null,null,null,null,null,null,null,null,null,null,null,null,null,null,null,null,null,null,null,null,null,null,null,null,null,null,null,null,null,null,null,null,null,null,null,null,null,null,null,null,null,null,null,null,null,null,null,null,null,null,null,null,null,null,null,null,null,null,null,null,null,null,null,null,13,129,142,9.154929577464789E-2,null,null,null,null,null,null,null,null,55,87,142,0.38732394366197181]
[null,null,null,null,null,null,null,null,null,null,null,null,null,null,null,null,null,null,null,"Dry period length","days",60,null,null,null,null,null,null,null,null,null,null,null,null,null,null,null,null,null,null,null,null,null,null,null,null,null,null,null,null,null,null,null,null,null,null,null,null,null,null,null,null,null,null,null,null,null,null,null,null,null,null,null,null,null,null,null,null,null,null,null,null,null,null,null,null,null,null,null,null,null,null,null,null,null,null,null,null,null,null,null,null,13,130,143,9.0909090909090912E-2,null,null,null,null,null,null,null,null,56,87,143,0.39160839160839161]
[null,null,null,null,null,null,null,null,null,null,null,null,null,null,null,null,null,null,null,"Phosphorus Excretion, g/d:",null,{"$f":"(((V56*1000)*V57/100*V58)-264.386)/V58","v":48.093566666666668},null,null,null,null,null,null,null,null,null,null,null,null,null,null,null,null,null,null,null,null,null,null,null,null,null,null,null,null,null,null,null,null,null,null,null,null,null,null,null,null,null,null,null,null,null,null,null,null,null,null,null,null,null,null,null,null,null,null,null,null,null,null,null,null,null,null,null,null,null,null,null,null,null,null,null,null,null,null,null,null,13,131,144,9.0277777777777776E-2,null,null,null,null,null,null,null,null,57,87,144,0.39583333333333331]
[null,null,null,null,null,null,null,null,null,null,null,null,null,null,null,null,null,null,"Heifer",null,null,null,null,null,null,null,null,null,null,null,null,null,null,null,null,null,null,null,null,null,null,null,null,null,null,null,null,null,null,null,null,null,null,null,null,null,null,null,null,null,null,null,null,null,null,null,null,null,null,null,null,null,null,null,null,null,null,null,null,null,null,null,null,null,null,null,null,null,null,null,null,null,null,null,null,null,null,null,null,null,null,null,13,132,145,8.9655172413793102E-2,null,null,null,null,null,null,null,null,58,87,145,0.4]
[null,null,null,null,null,null,null,null,null,null,null,null,null,null,null,null,null,null,null,"Dry matter intake","kg/d",6,null,null,null,null,null,null,null,null,null,null,null,null,null,null,null,null,null,null,null,null,null,null,null,null,null,null,null,null,null,null,null,null,null,null,null,null,null,null,null,null,null,null,null,null,null,null,null,null,null,null,null,null,null,null,null,null,null,null,null,null,null,null,null,null,null,null,null,null,null,null,null,null,null,null,null,null,null,null,null,null,13,133,146,8.9041095890410954E-2,null,null,null,null,null,null,null,null,59,87,146,0.4041095890410959]
[null,null,null,null,null,null,null,null,null,null,null,null,null,null,null,null,null,null,null,"Diet phosphorus","% of DM",0.42,null,null,null,null,null,null,null,null,null,null,null,null,null,null,null,null,null,null,null,null,null,null,null,null,null,null,null,null,null,null,null,null,null,null,null,null,null,null,null,null,null,null,null,null,null,null,null,null,null,null,null,null,null,null,null,null,null,null,null,null,null,null,null,null,null,null,null,null,null,null,null,null,null,null,null,null,null,null,null,null,13,134,147,8.8435374149659865E-2,null,null,null,null,null,null,null,null,60,87,147,0.40816326530612246]
[null,null,null,null,null,null,null,null,null,null,null,null,null,null,null,null,null,null,null,"Phosphorus Excretion, g/d:",null,{"$f":"(V61*1000)*(V62/100)","v":25.2},null,null,null,null,null,null,null,null,null,null,null,null,null,null,null,null,null,null,null,null,null,null,null,null,null,null,null,null,null,null,null,null,null,null,null,null,null,null,null,null,null,null,null,null,null,null,null,null,null,null,null,null,null,null,null,null,null,null,null,null,null,null,null,null,null,null,null,null,null,null,null,null,null,null,null,null,null,null,null,null,13,135,148,8.7837837837837843E-2,null,null,null,null,null,null,null,null,61,87,148,0.41216216216216217]
[null,null,null,null,null,null,null,null,null,null,null,null,null,null,null,null,null,null,null,null,null,null,null,null,null,null,null,null,null,null,null,null,null,null,null,null,null,null,null,null,null,null,null,null,null,null,null,null,null,null,null,null,null,null,null,null,null,null,null,null,null,null,null,null,null,null,null,null,null,null,null,null,null,null,null,null,null,null,null,null,null,null,null,null,null,null,null,null,null,null,null,null,null,null,null,null,null,null,null,null,null,null,13,136,149,8.7248322147651006E-2,null,null,null,null,null,null,null,null,62,87,149,0.41610738255033558]
[null,null,null,null,null,null,null,null,null,null,null,null,null,null,null,null,null,null,null,null,null,null,null,null,null,null,null,null,null,null,null,null,null,null,null,null,null,null,null,null,null,null,null,null,null,null,null,null,null,null,null,null,null,null,null,null,null,null,null,null,null,null,null,null,null,null,null,null,null,null,null,null,null,null,null,null,null,null,null,null,null,null,null,null,null,null,null,null,null,null,null,null,null,null,null,null,null,null,null,null,null,null,13,137,150,8.666666666666667E-2,null,null,null,null,null,null,null,null,63,87,150,0.42]
[null,null,null,null,null,null,null,null,null,null,null,null,null,null,null,null,null,null,"Potassium Excretion, g/d",null,null,null,null,null,null,null,null,null,null,null,null,null,null,null,null,null,null,null,null,null,null,null,null,null,null,null,null,null,null,null,null,null,null,null,null,null,null,null,null,null,null,null,null,null,null,null,null,null,null,null,null,null,null,null,null,null,null,null,null,null,null,null,null,null,null,null,null,null,null,null,null,null,null,null,null,null,null,null,null,null,null,null,13,138,151,8.6092715231788075E-2,null,null,null,null,null,null,null,null,64,87,151,0.42384105960264901]
[null,null,null,null,null,null,null,null,null,null,null,null,null,null,null,null,null,null,"Lactating Cow",null,null,null,null,null,null,null,null,null,null,null,null,null,null,null,null,null,null,null,null,null,null,null,null,null,null,null,null,null,null,null,null,null,null,null,null,null,null,null,null,null,null,null,null,null,null,null,null,null,null,null,null,null,null,null,null,null,null,null,null,null,null,null,null,null,null,null,null,null,null,null,null,null,null,null,null,null,null,null,null,null,null,null,13,139,152,8.5526315789473686E-2,null,null,null,null,null,null,null,null,65,87,152,0.42763157894736842]
[null,null,null,null,null,null,null,null,null,null,null,null,null,null,null,null,null,null,null,"Milk yield","kg/d",40,null,null,null,null,null,null,null,null,null,null,null,null,null,null,null,null,null,null,null,null,null,null,null,null,null,null,null,null,null,null,null,null,null,null,null,null,null,null,null,null,null,null,null,null,null,null,null,null,null,null,null,null,null,null,null,null,null,null,null,null,null,null,null,null,null,null,null,null,null,null,null,null,null,null,null,null,null,null,null,null,13,140,153,8.4967320261437912E-2,null,null,null,null,null,null,null,null,66,87,153,0.43137254901960786]
[null,null,null,null,null,null,null,null,null,null,null,null,null,null,null,null,null,null,null,"Milk true protein","kg/kg milk",3.2000000000000001E-2,null,null,null,null,null,null,null,null,null,null,null,null,null,null,null,null,null,null,null,null,null,null,null,null,null,null,null,null,null,null,null,null,null,null,null,null,null,null,null,null,null,null,null,null,null,null,null,null,null,null,null,null,null,null,null,null,null,null,null,null,null,null,null,null,null,null,null,null,null,null,null,null,null,null,null,null,null,null,null,null,13,141,154,8.4415584415584416E-2,null,null,null,null,null,null,null,null,67,87,154,0.43506493506493504]
[null,null,null,null,null,null,null,null,null,null,null,null,null,null,null,null,null,null,null,"Dry matter intake","kg/d",23,null,null,null,null,null,null,null,null,null,null,null,null,null,null,null,null,null,null,null,null,null,null,null,null,null,null,null,null,null,null,null,null,null,null,null,null,null,null,null,null,null,null,null,null,null,null,null,null,null,null,null,null,null,null,null,null,null,null,null,null,null,null,null,null,null,null,null,null,null,null,null,null,null,null,null,null,null,null,null,null,13,142,155,8.387096774193549E-2,null,null,null,null,null,null,null,null,68,87,155,0.43870967741935485]
[null,null,null,null,null,null,null,null,null,null,null,null,null,null,null,null,null,null,null,"Diet potassium","% of DM",1.2,null,null,null,null,null,null,null,null,null,null,null,null,null,null,null,null,null,null,null,null,null,null,null,null,null,null,null,null,null,null,null,null,null,null,null,null,null,null,null,null,null,null,null,null,null,null,null,null,null,null,null,null,null,null,null,null,null,null,null,null,null,null,null,null,null,null,null,null,null,null,null,null,null,null,null,null,null,null,null,null,13,143,156,8.3333333333333329E-2,null,null,null,null,null,null,null,null,69,87,156,0.44230769230769229]
[null,null,null,null,null,null,null,null,null,null,null,null,null,null,null,null,null,null,null,"Phosphorus Excretion, g/d:",null,{"$f":"(V68*1.822)+(V69*2688.88)+(V70*V71/100*156.93)-91.755","v":110.48184000000001},null,null,null,null,null,null,null,null,null,null,null,null,null,null,null,null,null,null,null,null,null,null,null,null,null,null,null,null,null,null,null,null,null,null,null,null,null,null,null,null,null,null,null,null,null,null,null,null,null,null,null,null,null,null,null,null,null,null,null,null,null,null,null,null,null,null,null,null,null,null,null,null,null,null,null,null,null,null,null,null,13,144,157,8.2802547770700632E-2,null,null,null,null,null,null,null,null,70,87,157,0.44585987261146498]
[null,null,null,null,null,null,null,null,null,null,null,null,null,null,null,null,null,null,"Dry cow and Heifer",null,null,null,null,null,null,null,null,null,null,null,null,null,null,null,null,null,null,null,null,null,null,null,null,null,null,null,null,null,null,null,null,null,null,null,null,null,null,null,null,null,null,null,null,null,null,null,null,null,null,null,null,null,null,null,null,null,null,null,null,null,null,null,null,null,null,null,null,null,null,null,null,null,null,null,null,null,null,null,null,null,null,null,13,145,158,8.2278481012658222E-2,null,null,null,null,null,null,null,null,71,87,158,0.44936708860759494]
[null,null,null,null,null,null,null,null,null,null,null,null,null,null,null,null,null,null,null,"Dry matter intake","kg/d",6,null,null,null,null,null,null,null,null,null,null,null,null,null,null,null,null,null,null,null,null,null,null,null,null,null,null,null,null,null,null,null,null,null,null,null,null,null,null,null,null,null,null,null,null,null,null,null,null,null,null,null,null,null,null,null,null,null,null,null,null,null,null,null,null,null,null,null,null,null,null,null,null,null,null,null,null,null,null,null,null,13,146,159,8.1761006289308172E-2,null,null,null,null,null,null,null,null,72,87,159,0.45283018867924529]
[null,null,null,null,null,null,null,null,null,null,null,null,null,null,null,null,null,null,null,"Diet potassium","% of DM",1.2,null,null,null,null,null,null,null,null,null,null,null,null,null,null,null,null,null,null,null,null,null,null,null,null,null,null,null,null,null,null,null,null,null,null,null,null,null,null,null,null,null,null,null,null,null,null,null,null,null,null,null,null,null,null,null,null,null,null,null,null,null,null,null,null,null,null,null,null,null,null,null,null,null,null,null,null,null,null,null,null,13,147,160,8.1250000000000003E-2,null,null,null,null,null,null,null,null,73,87,160,0.45624999999999999]
[null,null,null,null,null,null,null,null,null,null,null,null,null,null,null,null,null,null,null,"Phosphorus Excretion, g/d:",null,{"$f":"(V74*1000)*(V75/100)","v":72},null,null,null,null,null,null,null,null,null,null,null,null,null,null,null,null,null,null,null,null,null,null,null,null,null,null,null,null,null,null,null,null,null,null,null,null,null,null,null,null,null,null,null,null,null,null,null,null,null,null,null,null,null,null,null,null,null,null,null,null,null,null,null,null,null,null,null,null,null,null,null,null,null,null,null,null,null,null,null,null,13,148,161,8.0745341614906832E-2,null,null,null,null,null,null,null,null,74,87,161,0.45962732919254656]
[null,null,null,null,null,null,null,null,null,null,null,null,null,null,null,null,null,null,null,null,null,null,null,null,null,null,null,null,null,null,null,null,null,null,null,null,null,null,null,null,null,null,null,null,null,null,null,null,null,null,null,null,null,null,null,null,null,null,null,null,null,null,null,null,null,null,null,null,null,null,null,null,null,null,null,null,null,null,null,null,null,null,null,null,null,null,null,null,null,null,null,null,null,null,null,null,null,null,null,null,null,null,13,149,162,8.0246913580246909E-2,null,null,null,null,null,null,null,null,75,87,162,0.46296296296296297]
[null,null,null,null,null,null,null,null,null,null,null,null,null,null,null,null,null,null,null,null,null,null,null,null,null,null,null,null,null,null,null,null,null,null,null,null,null,null,null,null,null,null,null,null,null,null,null,null,null,null,null,null,null,null,null,null,null,null,null,null,null,null,null,null,null,null,null,null,null,null,null,null,null,null,null,null,null,null,null,null,null,null,null,null,null,null,null,null,null,null,null,null,null,null,null,null,null,null,null,null,null,null,13,150,163,7.9754601226993863E-2,null,null,null,null,null,null,null,null,76,87,163,0.46625766871165641]
[null,null,null,null,null,null,null,null,null,null,null,null,null,null,null,null,null,null,null,null,null,null,null,null,null,null,null,null,null,null,null,null,null,null,null,null,null,null,null,null,null,null,null,null,null,null,null,null,null,null,null,null,null,null,null,null,null,null,null,null,null,null,null,null,null,null,null,null,null,null,null,null,null,null,null,null,null,null,null,null,null,null,null,null,null,null,null,null,null,null,null,null,null,null,null,null,null,null,null,null,null,null,13,151,{"$f":"SUM(CY79:CZ79)","v":164},{"$f":"CY79/DA79","v":7.926829268292683E-2},null,null,null,null,null,null,null,null,77,87,{"$f":"SUM(DK79:DL79)","v":164},{"$f":"DK79/DM79","v":0.46951219512195119}]
[null,null,null,null,null,null,null,null,null,null,null,null,null,null,null,null,null,null,null,"Back to Menu",null,null,null,null,null,null,null,null,null,null,null,null,null,null,null,null,null,null,null,null,null,null,null,null,null,null,null,null,null,null,null,null,null,null,null,null,null,null,null,null,null,null,null,null,null,null,null,null,null,null,null,null,null,null,null,null,null,null,null,null,null,null,null,null,null,null,null,null,null,null,null,null,null,null,null,null,null,null,null,null,null,null,13,152,165,7.8787878787878782E-2,null,null,null,null,null,null,null,null,78,87,165,0.47272727272727272]
[null,null,null,null,null,null,null,null,null,null,null,null,null,null,null,null,null,null,null,null,null,null,null,null,null,null,null,null,null,null,null,null,null,null,null,null,null,null,null,null,null,null,null,null,null,null,null,null,null,null,null,null,null,null,null,null,null,null,null,null,null,null,null,null,null,null,null,null,null,null,null,null,null,null,null,null,null,null,null,null,null,null,null,null,null,null,null,null,null,null,null,null,null,null,null,null,null,null,null,null,null,null,13,{"$f":"CZ80+1","v":153},166,7.8313253012048195E-2,null,null,null,null,null,null,null,null,{"$f":"DK80+1","v":79},87,166,0.4759036144578313]
[null,null,null,null,null,null,null,null,null,null,null,null,null,null,null,null,null,null,null,null,null,null,null,null,null,null,null,null,null,null,null,null,null,null,null,null,null,null,null,null,null,null,null,null,null,null,null,null,null,null,null,null,null,null,null,null,null,null,null,null,null,null,null,null,null,null,null,null,null,null,null,null,null,null,null,null,null,null,null,null,null,null,null,null,null,null,null,null,null,null,null,null,null,null,null,null,null,null,null,null,null,null,13,154,167,7.7844311377245512E-2,null,null,null,null,null,null,null,null,80,87,167,0.47904191616766467]
[null,null,null,null,null,null,null,null,null,null,null,null,null,null,null,null,null,null,null,null,null,null,null,null,null,null,null,null,null,null,null,null,null,null,null,null,null,null,null,null,null,null,null,null,null,null,null,null,null,null,null,null,null,null,null,null,null,null,null,null,null,null,null,null,null,null,null,null,null,null,null,null,null,null,null,null,null,null,null,null,null,null,null,null,null,null,null,null,null,null,null,null,null,null,null,null,null,null,null,null,null,null,13,155,168,7.7380952380952384E-2,null,null,null,null,null,null,null,null,81,87,168,0.48214285714285715]
[null,null,null,null,null,null,null,null,null,null,null,null,null,null,null,null,null,null,null,null,null,null,null,null,null,null,null,null,null,null,null,null,null,null,null,null,null,null,null,null,null,null,null,null,null,null,null,null,null,null,null,null,null,null,null,null,null,null,null,null,null,null,null,null,null,null,null,null,null,null,null,null,null,null,null,null,null,null,null,null,null,null,null,null,null,null,null,null,null,null,null,null,null,null,null,null,null,null,null,null,null,null,13,156,169,7.6923076923076927E-2,null,null,null,null,null,null,null,null,82,87,169,0.48520710059171596]
[null,null,null,null,null,null,null,null,null,null,null,null,null,null,null,null,null,null,null,null,null,null,null,null,null,null,null,null,null,null,null,null,null,null,null,null,null,null,null,null,null,null,null,null,null,null,null,null,null,null,null,null,null,null,null,null,null,null,null,null,null,null,null,null,null,null,null,null,null,null,null,null,null,null,null,null,null,null,null,null,null,null,null,null,null,null,null,null,null,null,null,null,null,null,null,null,null,null,null,null,null,null,13,157,170,7.6470588235294124E-2,null,null,null,null,null,null,null,null,83,87,170,0.48823529411764705]
[null,null,null,null,null,null,null,null,null,null,null,null,null,null,null,null,null,null,null,null,null,null,null,null,null,null,null,null,null,null,null,null,null,null,null,null,null,null,null,null,null,null,null,null,null,null,null,null,null,null,null,null,null,null,null,null,null,null,null,null,null,null,null,null,null,null,null,null,null,null,null,null,null,null,null,null,null,null,null,null,null,null,null,null,null,null,null,null,null,null,null,null,null,null,null,null,null,null,null,null,null,null,13,158,171,7.6023391812865493E-2,null,null,null,null,null,null,null,null,84,87,171,0.49122807017543857]
[null,null,null,null,null,null,null,null,null,null,null,null,null,null,null,null,null,null,null,null,null,null,null,null,null,null,null,null,null,null,null,null,null,null,null,null,null,null,null,null,null,null,null,null,null,null,null,null,null,null,null,null,null,null,null,null,null,null,null,null,null,null,null,null,null,null,null,null,null,null,null,null,null,null,null,null,null,null,null,null,null,null,null,null,null,null,null,null,null,null,null,null,null,null,null,null,null,null,null,null,null,null,13,159,172,7.5581395348837205E-2,null,null,null,null,null,null,null,null,85,87,172,0.4941860465116279]
[null,null,null,null,null,null,null,null,null,null,null,null,null,null,null,null,null,null,null,null,null,null,null,null,null,null,null,null,null,null,null,null,null,null,null,null,null,null,null,null,null,null,null,null,null,null,null,null,null,null,null,null,null,null,null,null,null,null,null,null,null,null,null,null,null,null,null,null,null,null,null,null,null,null,null,null,null,null,null,null,null,null,null,null,null,null,null,null,null,null,null,null,null,null,null,null,null,null,null,null,null,null,13,160,173,7.5144508670520235E-2,null,null,null,null,null,null,null,null,86,87,173,0.49710982658959535]
[null,null,null,null,null,null,null,null,null,null,null,null,null,null,null,null,null,null,null,null,null,null,null,null,null,null,null,null,null,null,null,null,null,null,null,null,null,null,null,null,null,null,null,null,null,null,null,null,null,null,null,null,null,null,null,null,null,null,null,null,null,null,null,null,null,null,null,null,null,null,null,null,null,null,null,null,null,null,null,null,null,null,null,null,null,null,null,null,null,null,null,null,null,null,null,null,null,null,null,null,null,null,13,161,174,7.4712643678160925E-2,null,null,null,null,null,null,null,null,87,87,174,0.5]
[null,null,null,null,null,null,null,null,null,null,null,null,null,null,null,null,null,null,null,null,null,null,null,null,null,null,null,null,null,null,null,null,null,null,null,null,null,null,null,null,null,null,null,null,null,null,null,null,null,null,null,null,null,null,null,null,null,null,null,null,null,null,null,null,null,null,null,null,null,null,null,null,null,null,null,null,null,null,null,null,null,null,null,null,null,null,null,null,null,null,null,null,null,null,null,null,null,null,null,null,null,null,13,162,175,7.4285714285714288E-2]
[null,null,null,null,null,null,null,null,null,null,null,null,null,null,null,null,null,null,null,null,null,null,null,null,null,null,null,null,null,null,null,null,null,null,null,null,null,null,null,null,null,null,null,null,null,null,null,null,null,null,null,null,null,null,null,null,null,null,null,null,null,null,null,null,null,null,null,null,null,null,null,null,null,null,null,null,null,null,null,null,null,null,null,null,null,null,null,null,null,null,null,null,null,null,null,null,null,null,null,null,null,null,13,163,176,7.3863636363636367E-2]
[null,null,null,null,null,null,null,null,null,null,null,null,null,null,null,null,null,null,null,null,null,null,null,null,null,null,null,null,null,null,null,null,null,null,null,null,null,null,null,null,null,null,null,null,null,null,null,null,null,null,null,null,null,null,null,null,null,null,null,null,null,null,null,null,null,null,null,null,null,null,null,null,null,null,null,null,null,null,null,null,null,null,null,null,null,null,null,null,null,null,null,null,null,null,null,null,null,null,null,null,null,null,13,164,177,7.3446327683615822E-2]
[null,null,null,null,null,null,null,null,null,null,null,null,null,null,null,null,null,null,null,null,null,null,null,null,null,null,null,null,null,null,null,null,null,null,null,null,null,null,null,null,null,null,null,null,null,null,null,null,null,null,null,null,null,null,null,null,null,null,null,null,null,null,null,null,null,null,null,null,null,null,null,null,null,null,null,null,null,null,null,null,null,null,null,null,null,null,null,null,null,null,null,null,null,null,null,null,null,null,null,null,null,null,13,165,178,7.3033707865168537E-2]
[null,null,null,null,null,null,null,null,null,null,null,null,null,null,null,null,null,null,null,null,null,null,null,null,null,null,null,null,null,null,null,null,null,null,null,null,null,null,null,null,null,null,null,null,null,null,null,null,null,null,null,null,null,null,null,null,null,null,null,null,null,null,null,null,null,null,null,null,null,null,null,null,null,null,null,null,null,null,null,null,null,null,null,null,null,null,null,null,null,null,null,null,null,null,null,null,null,null,null,null,null,null,13,166,179,7.2625698324022353E-2]
[null,null,null,null,null,null,null,null,null,null,null,null,null,null,null,null,null,null,null,null,null,null,null,null,null,null,null,null,null,null,null,null,null,null,null,null,null,null,null,null,null,null,null,null,null,null,null,null,null,null,null,null,null,null,null,null,null,null,null,null,null,null,null,null,null,null,null,null,null,null,null,null,null,null,null,null,null,null,null,null,null,null,null,null,null,null,null,null,null,null,null,null,null,null,null,null,null,null,null,null,null,null,13,167,180,7.2222222222222215E-2]
[null,null,null,null,null,null,null,null,null,null,null,null,null,null,null,null,null,null,null,null,null,null,null,null,null,null,null,null,null,null,null,null,null,null,null,null,null,null,null,null,null,null,null,null,null,null,null,null,null,null,null,null,null,null,null,null,null,null,null,null,null,null,null,null,null,null,null,null,null,null,null,null,null,null,null,null,null,null,null,null,null,null,null,null,null,null,null,null,null,null,null,null,null,null,null,null,null,null,null,null,null,null,13,168,181,7.18232044198895E-2]
[null,null,null,null,null,null,null,null,null,null,null,null,null,null,null,null,null,null,null,null,null,null,null,null,null,null,null,null,null,null,null,null,null,null,null,null,null,null,null,null,null,null,null,null,null,null,null,null,null,null,null,null,null,null,null,null,null,null,null,null,null,null,null,null,null,null,null,null,null,null,null,null,null,null,null,null,null,null,null,null,null,null,null,null,null,null,null,null,null,null,null,null,null,null,null,null,null,null,null,null,null,null,13,169,182,7.1428571428571425E-2]
[null,null,null,null,null,null,null,null,null,null,null,null,null,null,null,null,null,null,null,null,null,null,null,null,null,null,null,null,null,null,null,null,null,null,null,null,null,null,null,null,null,null,null,null,null,null,null,null,null,null,null,null,null,null,null,null,null,null,null,null,null,null,null,null,null,null,null,null,null,null,null,null,null,null,null,null,null,null,null,null,null,null,null,null,null,null,null,null,null,null,null,null,null,null,null,null,null,null,null,null,null,null,13,170,183,7.1038251366120214E-2]
[null,null,null,null,null,null,null,null,null,null,null,null,null,null,null,null,null,null,null,null,null,null,null,null,null,null,null,null,null,null,null,null,null,null,null,null,null,null,null,null,null,null,null,null,null,null,null,null,null,null,null,null,null,null,null,null,null,null,null,null,null,null,null,null,null,null,null,null,null,null,null,null,null,null,null,null,null,null,null,null,null,null,null,null,null,null,null,null,null,null,null,null,null,null,null,null,null,null,null,null,null,null,13,171,184,7.0652173913043473E-2]
[null,null,null,null,null,null,null,null,null,null,null,null,null,null,null,null,null,null,null,null,null,null,null,null,null,null,null,null,null,null,null,null,null,null,null,null,null,null,null,null,null,null,null,null,null,null,null,null,null,null,null,null,null,null,null,null,null,null,null,null,null,null,null,null,null,null,null,null,null,null,null,null,null,null,null,null,null,null,null,null,null,null,null,null,null,null,null,null,null,null,null,null,null,null,null,null,null,null,null,null,null,null,13,172,185,7.0270270270270274E-2]
[null,null,null,null,null,null,null,null,null,null,null,null,null,null,null,null,null,null,null,null,null,null,null,null,null,null,null,null,null,null,null,null,null,null,null,null,null,null,null,null,null,null,null,null,null,null,null,null,null,null,null,null,null,null,null,null,null,null,null,null,null,null,null,null,null,null,null,null,null,null,null,null,null,null,null,null,null,null,null,null,null,null,null,null,null,null,null,null,null,null,null,null,null,null,null,null,null,null,null,null,null,null,13,173,186,6.9892473118279563E-2]
[null,null,null,null,null,null,null,null,null,null,null,null,null,null,null,null,null,null,null,null,null,null,null,null,null,null,null,null,null,null,null,null,null,null,null,null,null,null,null,null,null,null,null,null,null,null,null,null,null,null,null,null,null,null,null,null,null,null,null,null,null,null,null,null,null,null,null,null,null,null,null,null,null,null,null,null,null,null,null,null,null,null,null,null,null,null,null,null,null,null,null,null,null,null,null,null,null,null,null,null,null,null,13,174,187,6.9518716577540107E-2]
[null,null,null,null,null,null,null,null,null,null,null,null,null,null,null,null,null,null,null,null,null,null,null,null,null,null,null,null,null,null,null,null,null,null,null,null,null,null,null,null,null,null,null,null,null,null,null,null,null,null,null,null,null,null,null,null,null,null,null,null,null,null,null,null,null,null,null,null,null,null,null,null,null,null,null,null,null,null,null,null,null,null,null,null,null,null,null,null,null,null,null,null,null,null,null,null,null,null,null,null,null,null,13,175,188,6.9148936170212769E-2]
[null,null,null,null,null,null,null,null,null,null,null,null,null,null,null,null,null,null,null,null,null,null,null,null,null,null,null,null,null,null,null,null,null,null,null,null,null,null,null,null,null,null,null,null,null,null,null,null,null,null,null,null,null,null,null,null,null,null,null,null,null,null,null,null,null,null,null,null,null,null,null,null,null,null,null,null,null,null,null,null,null,null,null,null,null,null,null,null,null,null,null,null,null,null,null,null,null,null,null,null,null,null,13,176,189,6.8783068783068779E-2]
[null,null,null,null,null,null,null,null,null,null,null,null,null,null,null,null,null,null,null,null,null,null,null,null,null,null,null,null,null,null,null,null,null,null,null,null,null,null,null,null,null,null,null,null,null,null,null,null,null,null,null,null,null,null,null,null,null,null,null,null,null,null,null,null,null,null,null,null,null,null,null,null,null,null,null,null,null,null,null,null,null,null,null,null,null,null,null,null,null,null,null,null,null,null,null,null,null,null,null,null,null,null,13,177,190,6.8421052631578952E-2]
[null,null,null,null,null,null,null,null,null,null,null,null,null,null,null,null,null,null,null,null,null,null,null,null,null,null,null,null,null,null,null,null,null,null,null,null,null,null,null,null,null,null,null,null,null,null,null,null,null,null,null,null,null,null,null,null,null,null,null,null,null,null,null,null,null,null,null,null,null,null,null,null,null,null,null,null,null,null,null,null,null,null,null,null,null,null,null,null,null,null,null,null,null,null,null,null,null,null,null,null,null,null,13,178,191,6.8062827225130892E-2]
[null,null,null,null,null,null,null,null,null,null,null,null,null,null,null,null,null,null,null,null,null,null,null,null,null,null,null,null,null,null,null,null,null,null,null,null,null,null,null,null,null,null,null,null,null,null,null,null,null,null,null,null,null,null,null,null,null,null,null,null,null,null,null,null,null,null,null,null,null,null,null,null,null,null,null,null,null,null,null,null,null,null,null,null,null,null,null,null,null,null,null,null,null,null,null,null,null,null,null,null,null,null,13,179,192,6.7708333333333329E-2]
[null,null,null,null,null,null,null,null,null,null,null,null,null,null,null,null,null,null,null,null,null,null,null,null,null,null,null,null,null,null,null,null,null,null,null,null,null,null,null,null,null,null,null,null,null,null,null,null,null,null,null,null,null,null,null,null,null,null,null,null,null,null,null,null,null,null,null,null,null,null,null,null,null,null,null,null,null,null,null,null,null,null,null,null,null,null,null,null,null,null,null,null,null,null,null,null,null,null,null,null,null,null,13,180,193,6.7357512953367879E-2]
[null,null,null,null,null,null,null,null,null,null,null,null,null,null,null,null,null,null,null,null,null,null,null,null,null,null,null,null,null,null,null,null,null,null,null,null,null,null,null,null,null,null,null,null,null,null,null,null,null,null,null,null,null,null,null,null,null,null,null,null,null,null,null,null,null,null,null,null,null,null,null,null,null,null,null,null,null,null,null,null,null,null,null,null,null,null,null,null,null,null,null,null,null,null,null,null,null,null,null,null,null,null,13,181,194,6.7010309278350513E-2]
[null,null,null,null,null,null,null,null,null,null,null,null,null,null,null,null,null,null,null,null,null,null,null,null,null,null,null,null,null,null,null,null,null,null,null,null,null,null,null,null,null,null,null,null,null,null,null,null,null,null,null,null,null,null,null,null,null,null,null,null,null,null,null,null,null,null,null,null,null,null,null,null,null,null,null,null,null,null,null,null,null,null,null,null,null,null,null,null,null,null,null,null,null,null,null,null,null,null,null,null,null,null,13,182,195,6.6666666666666666E-2]
[null,null,null,null,null,null,null,null,null,null,null,null,null,null,null,null,null,null,null,null,null,null,null,null,null,null,null,null,null,null,null,null,null,null,null,null,null,null,null,null,null,null,null,null,null,null,null,null,null,null,null,null,null,null,null,null,null,null,null,null,null,null,null,null,null,null,null,null,null,null,null,null,null,null,null,null,null,null,null,null,null,null,null,null,null,null,null,null,null,null,null,null,null,null,null,null,null,null,null,null,null,null,13,183,196,6.6326530612244902E-2]
[null,null,null,null,null,null,null,null,null,null,null,null,null,null,null,null,null,null,null,null,null,null,null,null,null,null,null,null,null,null,null,null,null,null,null,null,null,null,null,null,null,null,null,null,null,null,null,null,null,null,null,null,null,null,null,null,null,null,null,null,null,null,null,null,null,null,null,null,null,null,null,null,null,null,null,null,null,null,null,null,null,null,null,null,null,null,null,null,null,null,null,null,null,null,null,null,null,null,null,null,null,null,13,184,197,6.5989847715736044E-2]
[null,null,null,null,null,null,null,null,null,null,null,null,null,null,null,null,null,null,null,null,null,null,null,null,null,null,null,null,null,null,null,null,null,null,null,null,null,null,null,null,null,null,null,null,null,null,null,null,null,null,null,null,null,null,null,null,null,null,null,null,null,null,null,null,null,null,null,null,null,null,null,null,null,null,null,null,null,null,null,null,null,null,null,null,null,null,null,null,null,null,null,null,null,null,null,null,null,null,null,null,null,null,13,185,198,6.5656565656565663E-2]
[null,null,null,null,null,null,null,null,null,null,null,null,null,null,null,null,null,null,null,null,null,null,null,null,null,null,null,null,null,null,null,null,null,null,null,null,null,null,null,null,null,null,null,null,null,null,null,null,null,null,null,null,null,null,null,null,null,null,null,null,null,null,null,null,null,null,null,null,null,null,null,null,null,null,null,null,null,null,null,null,null,null,null,null,null,null,null,null,null,null,null,null,null,null,null,null,null,null,null,null,null,null,13,186,199,6.5326633165829151E-2]
[null,null,null,null,null,null,null,null,null,null,null,null,null,null,null,null,null,null,null,null,null,null,null,null,null,null,null,null,null,null,null,null,null,null,null,null,null,null,null,null,null,null,null,null,null,null,null,null,null,null,null,null,null,null,null,null,null,null,null,null,null,null,null,null,null,null,null,null,null,null,null,null,null,null,null,null,null,null,null,null,null,null,null,null,null,null,null,null,null,null,null,null,null,null,null,null,null,null,null,null,null,null,13,187,200,6.5000000000000002E-2]
[null,null,null,null,null,null,null,null,null,null,null,null,null,null,null,null,null,null,null,null,null,null,null,null,null,null,null,null,null,null,null,null,null,null,null,null,null,null,null,null,null,null,null,null,null,null,null,null,null,null,null,null,null,null,null,null,null,null,null,null,null,null,null,null,null,null,null,null,null,null,null,null,null,null,null,null,null,null,null,null,null,null,null,null,null,null,null,null,null,null,null,null,null,null,null,null,null,null,null,null,null,null,13,188,201,6.4676616915422883E-2]
[null,null,null,null,null,null,null,null,null,null,null,null,null,null,null,null,null,null,null,null,null,null,null,null,null,null,null,null,null,null,null,null,null,null,null,null,null,null,null,null,null,null,null,null,null,null,null,null,null,null,null,null,null,null,null,null,null,null,null,null,null,null,null,null,null,null,null,null,null,null,null,null,null,null,null,null,null,null,null,null,null,null,null,null,null,null,null,null,null,null,null,null,null,null,null,null,null,null,null,null,null,null,13,189,202,6.4356435643564358E-2]
[null,null,null,null,null,null,null,null,null,null,null,null,null,null,null,null,null,null,null,null,null,null,null,null,null,null,null,null,null,null,null,null,null,null,null,null,null,null,null,null,null,null,null,null,null,null,null,null,null,null,null,null,null,null,null,null,null,null,null,null,null,null,null,null,null,null,null,null,null,null,null,null,null,null,null,null,null,null,null,null,null,null,null,null,null,null,null,null,null,null,null,null,null,null,null,null,null,null,null,null,null,null,13,190,203,6.4039408866995079E-2]
[null,null,null,null,null,null,null,null,null,null,null,null,null,null,null,null,null,null,null,null,null,null,null,null,null,null,null,null,null,null,null,null,null,null,null,null,null,null,null,null,null,null,null,null,null,null,null,null,null,null,null,null,null,null,null,null,null,null,null,null,null,null,null,null,null,null,null,null,null,null,null,null,null,null,null,null,null,null,null,null,null,null,null,null,null,null,null,null,null,null,null,null,null,null,null,null,null,null,null,null,null,null,13,191,204,6.3725490196078427E-2]
[null,null,null,null,null,null,null,null,null,null,null,null,null,null,null,null,null,null,null,null,null,null,null,null,null,null,null,null,null,null,null,null,null,null,null,null,null,null,null,null,null,null,null,null,null,null,null,null,null,null,null,null,null,null,null,null,null,null,null,null,null,null,null,null,null,null,null,null,null,null,null,null,null,null,null,null,null,null,null,null,null,null,null,null,null,null,null,null,null,null,null,null,null,null,null,null,null,null,null,null,null,null,13,192,205,6.3414634146341464E-2]
[null,null,null,null,null,null,null,null,null,null,null,null,null,null,null,null,null,null,null,null,null,null,null,null,null,null,null,null,null,null,null,null,null,null,null,null,null,null,null,null,null,null,null,null,null,null,null,null,null,null,null,null,null,null,null,null,null,null,null,null,null,null,null,null,null,null,null,null,null,null,null,null,null,null,null,null,null,null,null,null,null,null,null,null,null,null,null,null,null,null,null,null,null,null,null,null,null,null,null,null,null,null,13,193,206,6.3106796116504854E-2]
[null,null,null,null,null,null,null,null,null,null,null,null,null,null,null,null,null,null,null,null,null,null,null,null,null,null,null,null,null,null,null,null,null,null,null,null,null,null,null,null,null,null,null,null,null,null,null,null,null,null,null,null,null,null,null,null,null,null,null,null,null,null,null,null,null,null,null,null,null,null,null,null,null,null,null,null,null,null,null,null,null,null,null,null,null,null,null,null,null,null,null,null,null,null,null,null,null,null,null,null,null,null,13,194,207,6.280193236714976E-2]
[null,null,null,null,null,null,null,null,null,null,null,null,null,null,null,null,null,null,null,null,null,null,null,null,null,null,null,null,null,null,null,null,null,null,null,null,null,null,null,null,null,null,null,null,null,null,null,null,null,null,null,null,null,null,null,null,null,null,null,null,null,null,null,null,null,null,null,null,null,null,null,null,null,null,null,null,null,null,null,null,null,null,null,null,null,null,null,null,null,null,null,null,null,null,null,null,null,null,null,null,null,null,13,195,208,6.25E-2]
[null,null,null,null,null,null,null,null,null,null,null,null,null,null,null,null,null,null,null,null,null,null,null,null,null,null,null,null,null,null,null,null,null,null,null,null,null,null,null,null,null,null,null,null,null,null,null,null,null,null,null,null,null,null,null,null,null,null,null,null,null,null,null,null,null,null,null,null,null,null,null,null,null,null,null,null,null,null,null,null,null,null,null,null,null,null,null,null,null,null,null,null,null,null,null,null,null,null,null,null,null,null,13,196,209,6.2200956937799042E-2]
[null,null,null,null,null,null,null,null,null,null,null,null,null,null,null,null,null,null,null,null,null,null,null,null,null,null,null,null,null,null,null,null,null,null,null,null,null,null,null,null,null,null,null,null,null,null,null,null,null,null,null,null,null,null,null,null,null,null,null,null,null,null,null,null,null,null,null,null,null,null,null,null,null,null,null,null,null,null,null,null,null,null,null,null,null,null,null,null,null,null,null,null,null,null,null,null,null,null,null,null,null,null,13,197,210,6.1904761904761907E-2]
[null,null,null,null,null,null,null,null,null,null,null,null,null,null,null,null,null,null,null,null,null,null,null,null,null,null,null,null,null,null,null,null,null,null,null,null,null,null,null,null,null,null,null,null,null,null,null,null,null,null,null,null,null,null,null,null,null,null,null,null,null,null,null,null,null,null,null,null,null,null,null,null,null,null,null,null,null,null,null,null,null,null,null,null,null,null,null,null,null,null,null,null,null,null,null,null,null,null,null,null,null,null,13,198,211,6.1611374407582936E-2]
[null,null,null,null,null,null,null,null,null,null,null,null,null,null,null,null,null,null,null,null,null,null,null,null,null,null,null,null,null,null,null,null,null,null,null,null,null,null,null,null,null,null,null,null,null,null,null,null,null,null,null,null,null,null,null,null,null,null,null,null,null,null,null,null,null,null,null,null,null,null,null,null,null,null,null,null,null,null,null,null,null,null,null,null,null,null,null,null,null,null,null,null,null,null,null,null,null,null,null,null,null,null,13,199,212,6.1320754716981132E-2]
[null,null,null,null,null,null,null,null,null,null,null,null,null,null,null,null,null,null,null,null,null,null,null,null,null,null,null,null,null,null,null,null,null,null,null,null,null,null,null,null,null,null,null,null,null,null,null,null,null,null,null,null,null,null,null,null,null,null,null,null,null,null,null,null,null,null,null,null,null,null,null,null,null,null,null,null,null,null,null,null,null,null,null,null,null,null,null,null,null,null,null,null,null,null,null,null,null,null,null,null,null,null,13,200,213,6.1032863849765258E-2]
[null,null,null,null,null,null,null,null,null,null,null,null,null,null,null,null,null,null,null,null,null,null,null,null,null,null,null,null,null,null,null,null,null,null,null,null,null,null,null,null,null,null,null,null,null,null,null,null,null,null,null,null,null,null,null,null,null,null,null,null,null,null,null,null,null,null,null,null,null,null,null,null,null,null,null,null,null,null,null,null,null,null,null,null,null,null,null,null,null,null,null,null,null,null,null,null,null,null,null,null,null,null,13,201,214,6.0747663551401869E-2]
[null,null,null,null,null,null,null,null,null,null,null,null,null,null,null,null,null,null,null,null,null,null,null,null,null,null,null,null,null,null,null,null,null,null,null,null,null,null,null,null,null,null,null,null,null,null,null,null,null,null,null,null,null,null,null,null,null,null,null,null,null,null,null,null,null,null,null,null,null,null,null,null,null,null,null,null,null,null,null,null,null,null,null,null,null,null,null,null,null,null,null,null,null,null,null,null,null,null,null,null,null,null,13,202,215,6.0465116279069767E-2]
[null,null,null,null,null,null,null,null,null,null,null,null,null,null,null,null,null,null,null,null,null,null,null,null,null,null,null,null,null,null,null,null,null,null,null,null,null,null,null,null,null,null,null,null,null,null,null,null,null,null,null,null,null,null,null,null,null,null,null,null,null,null,null,null,null,null,null,null,null,null,null,null,null,null,null,null,null,null,null,null,null,null,null,null,null,null,null,null,null,null,null,null,null,null,null,null,null,null,null,null,null,null,13,203,216,6.0185185185185182E-2]
[null,null,null,null,null,null,null,null,null,null,null,null,null,null,null,null,null,null,null,null,null,null,null,null,null,null,null,null,null,null,null,null,null,null,null,null,null,null,null,null,null,null,null,null,null,null,null,null,null,null,null,null,null,null,null,null,null,null,null,null,null,null,null,null,null,null,null,null,null,null,null,null,null,null,null,null,null,null,null,null,null,null,null,null,null,null,null,null,null,null,null,null,null,null,null,null,null,null,null,null,null,null,13,204,217,5.9907834101382486E-2]
[null,null,null,null,null,null,null,null,null,null,null,null,null,null,null,null,null,null,null,null,null,null,null,null,null,null,null,null,null,null,null,null,null,null,null,null,null,null,null,null,null,null,null,null,null,null,null,null,null,null,null,null,null,null,null,null,null,null,null,null,null,null,null,null,null,null,null,null,null,null,null,null,null,null,null,null,null,null,null,null,null,null,null,null,null,null,null,null,null,null,null,null,null,null,null,null,null,null,null,null,null,null,13,205,218,5.9633027522935783E-2]
[null,null,null,null,null,null,null,null,null,null,null,null,null,null,null,null,null,null,null,null,null,null,null,null,null,null,null,null,null,null,null,null,null,null,null,null,null,null,null,null,null,null,null,null,null,null,null,null,null,null,null,null,null,null,null,null,null,null,null,null,null,null,null,null,null,null,null,null,null,null,null,null,null,null,null,null,null,null,null,null,null,null,null,null,null,null,null,null,null,null,null,null,null,null,null,null,null,null,null,null,null,null,13,206,219,5.9360730593607303E-2]
[null,null,null,null,null,null,null,null,null,null,null,null,null,null,null,null,null,null,null,null,null,null,null,null,null,null,null,null,null,null,null,null,null,null,null,null,null,null,null,null,null,null,null,null,null,null,null,null,null,null,null,null,null,null,null,null,null,null,null,null,null,null,null,null,null,null,null,null,null,null,null,null,null,null,null,null,null,null,null,null,null,null,null,null,null,null,null,null,null,null,null,null,null,null,null,null,null,null,null,null,null,null,13,207,220,5.909090909090909E-2]
[null,null,null,null,null,null,null,null,null,null,null,null,null,null,null,null,null,null,null,null,null,null,null,null,null,null,null,null,null,null,null,null,null,null,null,null,null,null,null,null,null,null,null,null,null,null,null,null,null,null,null,null,null,null,null,null,null,null,null,null,null,null,null,null,null,null,null,null,null,null,null,null,null,null,null,null,null,null,null,null,null,null,null,null,null,null,null,null,null,null,null,null,null,null,null,null,null,null,null,null,null,null,13,208,221,5.8823529411764705E-2]
[null,null,null,null,null,null,null,null,null,null,null,null,null,null,null,null,null,null,null,null,null,null,null,null,null,null,null,null,null,null,null,null,null,null,null,null,null,null,null,null,null,null,null,null,null,null,null,null,null,null,null,null,null,null,null,null,null,null,null,null,null,null,null,null,null,null,null,null,null,null,null,null,null,null,null,null,null,null,null,null,null,null,null,null,null,null,null,null,null,null,null,null,null,null,null,null,null,null,null,null,null,null,13,209,222,5.8558558558558557E-2]
[null,null,null,null,null,null,null,null,null,null,null,null,null,null,null,null,null,null,null,null,null,null,null,null,null,null,null,null,null,null,null,null,null,null,null,null,null,null,null,null,null,null,null,null,null,null,null,null,null,null,null,null,null,null,null,null,null,null,null,null,null,null,null,null,null,null,null,null,null,null,null,null,null,null,null,null,null,null,null,null,null,null,null,null,null,null,null,null,null,null,null,null,null,null,null,null,null,null,null,null,null,null,13,210,223,5.829596412556054E-2]
[null,null,null,null,null,null,null,null,null,null,null,null,null,null,null,null,null,null,null,null,null,null,null,null,null,null,null,null,null,null,null,null,null,null,null,null,null,null,null,null,null,null,null,null,null,null,null,null,null,null,null,null,null,null,null,null,null,null,null,null,null,null,null,null,null,null,null,null,null,null,null,null,null,null,null,null,null,null,null,null,null,null,null,null,null,null,null,null,null,null,null,null,null,null,null,null,null,null,null,null,null,null,13,211,224,5.8035714285714288E-2]
[null,null,null,null,null,null,null,null,null,null,null,null,null,null,null,null,null,null,null,null,null,null,null,null,null,null,null,null,null,null,null,null,null,null,null,null,null,null,null,null,null,null,null,null,null,null,null,null,null,null,null,null,null,null,null,null,null,null,null,null,null,null,null,null,null,null,null,null,null,null,null,null,null,null,null,null,null,null,null,null,null,null,null,null,null,null,null,null,null,null,null,null,null,null,null,null,null,null,null,null,null,null,13,212,225,5.7777777777777775E-2]
[null,null,null,null,null,null,null,null,null,null,null,null,null,null,null,null,null,null,null,null,null,null,null,null,null,null,null,null,null,null,null,null,null,null,null,null,null,null,null,null,null,null,null,null,null,null,null,null,null,null,null,null,null,null,null,null,null,null,null,null,null,null,null,null,null,null,null,null,null,null,null,null,null,null,null,null,null,null,null,null,null,null,null,null,null,null,null,null,null,null,null,null,null,null,null,null,null,null,null,null,null,null,13,213,226,5.7522123893805309E-2]
[null,null,null,null,null,null,null,null,null,null,null,null,null,null,null,null,null,null,null,null,null,null,null,null,null,null,null,null,null,null,null,null,null,null,null,null,null,null,null,null,null,null,null,null,null,null,null,null,null,null,null,null,null,null,null,null,null,null,null,null,null,null,null,null,null,null,null,null,null,null,null,null,null,null,null,null,null,null,null,null,null,null,null,null,null,null,null,null,null,null,null,null,null,null,null,null,null,null,null,null,null,null,13,214,227,5.7268722466960353E-2]
[null,null,null,null,null,null,null,null,null,null,null,null,null,null,null,null,null,null,null,null,null,null,null,null,null,null,null,null,null,null,null,null,null,null,null,null,null,null,null,null,null,null,null,null,null,null,null,null,null,null,null,null,null,null,null,null,null,null,null,null,null,null,null,null,null,null,null,null,null,null,null,null,null,null,null,null,null,null,null,null,null,null,null,null,null,null,null,null,null,null,null,null,null,null,null,null,null,null,null,null,null,null,13,215,{"$f":"SUM(CY143:CZ143)","v":228},{"$f":"CY143/DA143","v":5.701754385964912E-2}]
[null,null,null,null,null,null,null,null,null,null,null,null,null,null,null,null,null,null,null,null,null,null,null,null,null,null,null,null,null,null,null,null,null,null,null,null,null,null,null,null,null,null,null,null,null,null,null,null,null,null,null,null,null,null,null,null,null,null,null,null,null,null,null,null,null,null,null,null,null,null,null,null,null,null,null,null,null,null,null,null,null,null,null,null,null,null,null,null,null,null,null,null,null,null,null,null,null,null,null,null,null,null,13,216,229,5.6768558951965066E-2]
[null,null,null,null,null,null,null,null,null,null,null,null,null,null,null,null,null,null,null,null,null,null,null,null,null,null,null,null,null,null,null,null,null,null,null,null,null,null,null,null,null,null,null,null,null,null,null,null,null,null,null,null,null,null,null,null,null,null,null,null,null,null,null,null,null,null,null,null,null,null,null,null,null,null,null,null,null,null,null,null,null,null,null,null,null,null,null,null,null,null,null,null,null,null,null,null,null,null,null,null,null,null,13,{"$f":"CZ144+1","v":217},230,5.6521739130434782E-2]
[null,null,null,null,null,null,null,null,null,null,null,null,null,null,null,null,null,null,null,null,null,null,null,null,null,null,null,null,null,null,null,null,null,null,null,null,null,null,null,null,null,null,null,null,null,null,null,null,null,null,null,null,null,null,null,null,null,null,null,null,null,null,null,null,null,null,null,null,null,null,null,null,null,null,null,null,null,null,null,null,null,null,null,null,null,null,null,null,null,null,null,null,null,null,null,null,null,null,null,null,null,null,13,218,231,5.627705627705628E-2]
[null,null,null,null,null,null,null,null,null,null,null,null,null,null,null,null,null,null,null,null,null,null,null,null,null,null,null,null,null,null,null,null,null,null,null,null,null,null,null,null,null,null,null,null,null,null,null,null,null,null,null,null,null,null,null,null,null,null,null,null,null,null,null,null,null,null,null,null,null,null,null,null,null,null,null,null,null,null,null,null,null,null,null,null,null,null,null,null,null,null,null,null,null,null,null,null,null,null,null,null,null,null,13,219,232,5.6034482758620691E-2]
[null,null,null,null,null,null,null,null,null,null,null,null,null,null,null,null,null,null,null,null,null,null,null,null,null,null,null,null,null,null,null,null,null,null,null,null,null,null,null,null,null,null,null,null,null,null,null,null,null,null,null,null,null,null,null,null,null,null,null,null,null,null,null,null,null,null,null,null,null,null,null,null,null,null,null,null,null,null,null,null,null,null,null,null,null,null,null,null,null,null,null,null,null,null,null,null,null,null,null,null,null,null,13,220,233,5.5793991416309016E-2]
[null,null,null,null,null,null,null,null,null,null,null,null,null,null,null,null,null,null,null,null,null,null,null,null,null,null,null,null,null,null,null,null,null,null,null,null,null,null,null,null,null,null,null,null,null,null,null,null,null,null,null,null,null,null,null,null,null,null,null,null,null,null,null,null,null,null,null,null,null,null,null,null,null,null,null,null,null,null,null,null,null,null,null,null,null,null,null,null,null,null,null,null,null,null,null,null,null,null,null,null,null,null,13,221,234,5.5555555555555552E-2]
[null,null,null,null,null,null,null,null,null,null,null,null,null,null,null,null,null,null,null,null,null,null,null,null,null,null,null,null,null,null,null,null,null,null,null,null,null,null,null,null,null,null,null,null,null,null,null,null,null,null,null,null,null,null,null,null,null,null,null,null,null,null,null,null,null,null,null,null,null,null,null,null,null,null,null,null,null,null,null,null,null,null,null,null,null,null,null,null,null,null,null,null,null,null,null,null,null,null,null,null,null,null,13,222,235,5.5319148936170209E-2]
[null,null,null,null,null,null,null,null,null,null,null,null,null,null,null,null,null,null,null,null,null,null,null,null,null,null,null,null,null,null,null,null,null,null,null,null,null,null,null,null,null,null,null,null,null,null,null,null,null,null,null,null,null,null,null,null,null,null,null,null,null,null,null,null,null,null,null,null,null,null,null,null,null,null,null,null,null,null,null,null,null,null,null,null,null,null,null,null,null,null,null,null,null,null,null,null,null,null,null,null,null,null,13,223,236,5.5084745762711863E-2]
[null,null,null,null,null,null,null,null,null,null,null,null,null,null,null,null,null,null,null,null,null,null,null,null,null,null,null,null,null,null,null,null,null,null,null,null,null,null,null,null,null,null,null,null,null,null,null,null,null,null,null,null,null,null,null,null,null,null,null,null,null,null,null,null,null,null,null,null,null,null,null,null,null,null,null,null,null,null,null,null,null,null,null,null,null,null,null,null,null,null,null,null,null,null,null,null,null,null,null,null,null,null,13,224,237,5.4852320675105488E-2]
[null,null,null,null,null,null,null,null,null,null,null,null,null,null,null,null,null,null,null,null,null,null,null,null,null,null,null,null,null,null,null,null,null,null,null,null,null,null,null,null,null,null,null,null,null,null,null,null,null,null,null,null,null,null,null,null,null,null,null,null,null,null,null,null,null,null,null,null,null,null,null,null,null,null,null,null,null,null,null,null,null,null,null,null,null,null,null,null,null,null,null,null,null,null,null,null,null,null,null,null,null,null,13,225,238,5.4621848739495799E-2]