{"text_format":"1","workbook":"xlsx","n_sheets":8,"sheets":["Start here","Animal data","cow info","Feed Table","diet formulation","Ration Guidlines","lists to hide","diets with the feed analysi (2"],"not_rendered":{"charts":0,"images":1,"macros":1,"external_links":0,"defined_names":62,"comments":1,"pivot_tables":0},"unopened":[],"bounds":{"document_bytes":16777216,"sheet_cells":100000,"rows_first":2000,"rows_last":500,"rows_between":2000,"halvings":0,"cell_chars":16384,"cell_head_chars":4096},"cells_cut":0,"cells_raw":0,"read":"whole","date_system":"1900"}

{"sheet":"Start here","index":0,"n_rows":32,"n_cols":3,"rows_kept":32,"cut":false,"hidden":false,"merged":[[26,1,26,2]]}
[]
[]
[]
[]
[]
[]
[]
[]
[]
[]
[]
[]
[]
[]
[]
[]
[]
[]
[]
[]
[]
[]
[]
[]
[]
[]
[null,"GENERAL INFORMATION"]
[null,null,"Cells where instructions can be found."]
[null,null,"Under the tab \"Diet Formulation\" enter the feed entry number that you can find on the the tab \"Feed Table\" in order to enter that feed in the ration formulation program"]
[null,null,"Cells where you should enter numbers"]
[null,null,"Ration Cost --> Least-Cost Formulation "]
[null,null,"Cells that show calculated values (Do not change)"]

{"sheet":"Animal data","index":1,"n_rows":23,"n_cols":8,"rows_kept":23,"cut":false,"hidden":true,"merged":[]}
[]
["select animal Breed and Type"]
[null,"Breed","Holstein"]
[]
[null,"type","Lactating cow"]
[]
["Describe the Target Lactating cow",null,"//////","Animal Description"]
[]
["current Information",null,null,"Units"]
[null,"Cow stage","mid lactation cow",null,null,"age"]
[]
[null,"lactation number",null,null,null,"days pregnant "]
[]
[null,"days in milk",null,null,null,"Condition score"]
[]
[null,"Body Weigh",600,"kg ",null,"Age at 1st calving"]
[]
[null,"Mature Body Weight",null,"kg",null,"Calving interval"]
[]
["Production"]
[null,"milk production",null,"kg/day",null,"milk fat ",null,"%"]
[]
[null,"True protein",null,"%",null,"Lactose",null,"%"]

{"sheet":"cow info","index":2,"n_rows":28,"n_cols":11,"rows_kept":28,"cut":false,"hidden":false,"merged":[[2,1,2,3],[4,1,4,3]]}
[]
[null,null,null,null,null,null,null,null,null,"Cells where instructions can be found."]
[null,null,null,null,null,null,null,null,null,"Cells where you should enter numbers"]
[null,null,null,null,null,null,null,null,null,"Cells where calcuated values are displayed (Do not change)"]
[]
[]
[null,null,null,null,null,null,null,null,"Use this converter to change lbs to kg"]
[null,null,null,"Enter value here",null,"Do not change"]
[null,null,null,null,null,null,null,null,"Instructions:"]
[null,"COW CHARACTERISTICS:",null,"(Metric System)",null,"(Standard System)",null,null,"Change values in the blue cells ONLY"]
[null,"Body Weight","kg",600,null,{"$f":"CONVERT(D11,\"kg\",\"lbm\")","v":1322.7735731092655},"Lb",null,"CONVERSION:","(lb to kg or kg to lb)"]
[null,"Milk Yield","kg",60,null,{"$f":"CONVERT(D12,\"kg\",\"lbm\")","v":132.27735731092653},"Lb",null,"kg",null,"lb"]
[null,"Week of Lactation",null,5,null,null,null,null,1,"=",{"$f":"I13*2.2046","v":2.2046000000000001}]
[null,"Milk fat","%",3.5,null,null,null,null,{"$f":"K14*0.4536","v":0.4536},"=",1]
[]
[null,"Dry Matter Intake","kg/d",{"$f":"(0.0968*D11^0.75+0.372*(0.4*D12+(15*D12*(D14/100))))*(1-EXP(-0.192*(D13+3.67)))","v":26.252736376717611}]
[null,"Dry Matter Intake","Lb/d",{"$f":"CONVERT(D16,\"kg\", \"lbm\")","v":57.877376501543907}]
[]
[null,"Intake Prediction Based on NRC 2001"]
[]
[null,"Empirical Equation"]
[null,"(Equation that fits observed data best)"]
[]
[null,"Factors Used in Predicting DMI:"]
[null,"     1- Cow Body Weight"]
[null,"     2- Milk Yield"]
[null,"     3- Week of Lactation"]
[null,"     4- Milk Fat Percent"]

{"sheet":"Feed Table","index":3,"n_rows":177,"n_cols":40,"rows_kept":177,"cut":false,"hidden":false,"merged":[]}
[]
[null,null,null,null,null,null,null,null,null,null,null,null,null,null,null,null,null,null,null,null,null,null,null,null,null,null,null,null,"CONVERTER",null,"$/ton",null,"$/lb",null,"$/lb","$/lb","$/kg",null,null,"Cells where instructions can be found."]
[null,null,null,null,null,null,null,null,null,null,null,null,null,null,null,null,null,null,null,null,null,null,null,null,null,null,null,null,null,null,"as fed","% DM","as fed",null,"as fed","DM","DM",null,null,"Cells where you should enter numbers"]
[null,null,null,null,null,null,null,null,null,null,null,null,null,null,null,null,null,null,null,null,null,null,null,null,null,null,null,null,"ROW A",null,85.66,71.8,null,null,{"$f":"AE4/2000","v":4.283E-2},{"$f":"(AE4/2000)/(AF4/100)","v":5.965181058495822E-2},{"$f":"2.2046226*((AE4/2000)/(AF4/100))","v":0.13150972974651812},null,null,"Cells where calcuated values are displayed (Do not change)"]
[null,null,null,null,null,null,null,null,null,null,null,null,null,null,null,null,null,null,null,null,null,null,null,null,null,null,null,null,"ROW B",null,null,33,2.3800000000000002E-2,null,null,{"$f":"AG5/(AF5/100)","v":7.2121212121212128E-2},{"$f":"2.2046226*AJ5","v":0.1590000541818182}]
[]
[]
[]
[]
[null,null,null,null,null,null,null,"Table 15.1: Nutrient Composition of some feedstuffs commonly fed to dairy cattle",null,null,null,null,null,null,null,null,null,null,null,null,"Table 15.2: N fraction, RUP digestibility, Lysine and Methionine",null,null,null,null,null,null,null,"Table 15.3: Mineral composition of some feedstuffs",null,null,null,null,null,"STARCH","PRICE","PRICE"]
[null,null,null,null,null,null,null,"% \"as-is\"",null,null,null,"% of the dry matter (DM) in the feed from Lab. Analysis",null,null,null,null,"% of DM",null,"% of DM","%","% of CP","% of CP","% of CP","%/h","%","% of CP","% of CP",null,null,null,"% of the dry matter in the feed from Lab. Analysis",null,null,null,"% of DM","$/Lbs of DM","$/kg of DM"]
[null,null,null,1,2,3,4,5,6,7,8,9,10,11,12,13,14,15,16,17,18,19,20,21,22,23,24,25,26,27,28,29,30,31,32,34,35]
[null,null,"Entry","Name","Description","TDN eq. Cl.","AVG-SD","DM","CP","NDICP ","ADICP","EE","NDF","ADF","Lig.","Ash","NFC","PAF","Hcel","TDN 1x","A","B","C","B Frc. Kd","RUP Dig","Lys2","Met2","Ca","P","Mg","K","Na","Cl","S","starch","Price","Price2"]
[null,null,301,"your feed"]
[null,null,302,"your feed",null,null,null,null,null,null,null,null,null,null,null,null,null,null,null,null,null,null,null,null,null,null,null,null,null,null,null,null,null,null,null,"",{"$f":"IF(List1[[#This Row],[Price]]=\"\",\"\",CONVERT(List1[[#This Row],[Price]],\"kg\",\"lbm\"))","v":""}]
[null,null,303,"your feed",null,null,null,null,null,null,null,null,null,null,null,null,null,null,null,null,null,null,null,null,null,null,null,null,null,null,null,null,null,null,null,"",{"$f":"IF(List1[[#This Row],[Price]]=\"\",\"\",CONVERT(List1[[#This Row],[Price]],\"kg\",\"lbm\"))","v":""}]
[null,null,304,"your feed",null,null,null,null,null,null,null,null,null,null,null,null,null,null,null,null,null,null,null,null,null,null,null,null,null,null,null,null,null,null,null,"",{"$f":"IF(List1[[#This Row],[Price]]=\"\",\"\",CONVERT(List1[[#This Row],[Price]],\"kg\",\"lbm\"))","v":""}]
[null,null,305,"your feed"]
[null,null,306,"your feed",null,null,null,null,null,null,null,null,null,null,null,null,null,null,null,null,null,null,null,null,null,null,null,null,null,null,null,null,null,null,null,"",{"$f":"IF(List1[[#This Row],[Price]]=\"\",\"\",CONVERT(List1[[#This Row],[Price]],\"kg\",\"lbm\"))","v":""}]
[null,null,307,"your feed",null,null,null,null,null,null,null,null,null,null,null,null,null,null,null,null,null,null,null,null,null,null,null,null,null,null,null,null,null,null,null,"",{"$f":"IF(List1[[#This Row],[Price]]=\"\",\"\",CONVERT(List1[[#This Row],[Price]],\"kg\",\"lbm\"))","v":""}]
[null,null,308,"your feed",null,null,null,null,null,null,null,null,null,null,null,null,null,null,null,null,null,null,null,null,null,null,null,null,null,null,null,null,null,null,null,"",{"$f":"IF(List1[[#This Row],[Price]]=\"\",\"\",CONVERT(List1[[#This Row],[Price]],\"kg\",\"lbm\"))","v":""}]
[null,null,309,"your feed",null,null,null,null,null,null,null,null,null,null,null,null,null,null,null,null,null,null,null,null,null,null,null,null,null,null,null,null,null,null,null,null,{"$f":"IF(List1[[#This Row],[Price]]=\"\",\"\",CONVERT(List1[[#This Row],[Price]],\"kg\",\"lbm\"))","v":""}]
[null,null,310,"your feed",null,null,null,null,null,null,null,null,null,null,null,null,null,null,null,null,null,null,null,null,null,null,null,null,null,null,null,null,null,null,null,"",{"$f":"IF(List1[[#This Row],[Price]]=\"\",\"\",CONVERT(List1[[#This Row],[Price]],\"kg\",\"lbm\"))","v":""}]
[null,null,311,"your feed",null,null,null,null,null,null,null,null,null,null,null,null,null,null,null,null,null,null,null,null,null,null,null,null,null,null,null,null,null,null,null,"",{"$f":"IF(List1[[#This Row],[Price]]=\"\",\"\",CONVERT(List1[[#This Row],[Price]],\"kg\",\"lbm\"))","v":""}]
[null,null,312,"your feed",null,null,null,null,null,null,null,null,null,null,null,null,null,null,null,null,null,null,null,null,null,null,null,null,null,null,null,null,null,null,null,"",{"$f":"IF(List1[[#This Row],[Price]]=\"\",\"\",CONVERT(List1[[#This Row],[Price]],\"kg\",\"lbm\"))","v":""}]
[null,null,313,"your feed",null,null,null,null,null,null,null,null,null,null,null,null,null,null,null,null,null,null,null,null,null,null,null,null,null,null,null,null,null,null,null,"",{"$f":"IF(List1[[#This Row],[Price]]=\"\",\"\",CONVERT(List1[[#This Row],[Price]],\"kg\",\"lbm\"))","v":""}]
[null,null,314,"your feed",null,null,null,null,null,null,null,null,null,null,null,null,null,null,null,null,null,null,null,null,null,null,null,null,null,null,null,null,null,null,null,"",{"$f":"IF(List1[[#This Row],[Price]]=\"\",\"\",CONVERT(List1[[#This Row],[Price]],\"kg\",\"lbm\"))","v":""}]
[null,null,315,"your feed",null,null,null,null,null,null,null,null,null,null,null,null,null,null,null,null,null,null,null,null,null,null,null,null,null,null,null,null,null,null,null,"",{"$f":"IF(List1[[#This Row],[Price]]=\"\",\"\",CONVERT(List1[[#This Row],[Price]],\"kg\",\"lbm\"))","v":""}]
[null,null,316,"your feed",null,null,null,null,null,null,null,null,null,null,null,null,null,null,null,null,null,null,null,null,null,null,null,null,null,null,null,null,null,null,null,"",{"$f":"IF(List1[[#This Row],[Price]]=\"\",\"\",CONVERT(List1[[#This Row],[Price]],\"kg\",\"lbm\"))","v":""}]
[null,null,317,"your feed",null,null,null,null,null,null,null,null,null,null,null,null,null,null,null,null,null,null,null,null,null,null,null,null,null,null,null,null,null,null,null,"",{"$f":"IF(List1[[#This Row],[Price]]=\"\",\"\",CONVERT(List1[[#This Row],[Price]],\"kg\",\"lbm\"))","v":""}]
[null,null,318,"your feed",null,null,null,null,null,null,null,null,null,null,null,null,null,null,null,null,null,null,null,null,null,null,null,null,null,null,null,null,null,null,null,"",{"$f":"IF(List1[[#This Row],[Price]]=\"\",\"\",CONVERT(List1[[#This Row],[Price]],\"kg\",\"lbm\"))","v":""}]
[null,null,319,"your feed",null,null,null,null,null,null,null,null,null,null,null,null,null,null,null,null,null,null,null,null,null,null,null,null,null,null,null,null,null,null,null,"",{"$f":"IF(List1[[#This Row],[Price]]=\"\",\"\",CONVERT(List1[[#This Row],[Price]],\"kg\",\"lbm\"))","v":""}]
[null,null,320,"your feed",null,null,null,null,null,null,null,null,null,null,null,null,null,null,null,null,null,null,null,null,null,null,null,null,null,null,null,null,null,null,null,"",{"$f":"IF(List1[[#This Row],[Price]]=\"\",\"\",CONVERT(List1[[#This Row],[Price]],\"kg\",\"lbm\"))","v":""}]
[]
[null,null,1,"ALFALFA","Meal, 17% CP","Forage","AVG",90.3,19.2,3.1,2.4,2.5,41.6,32.799999999999997,7.6,11,{"$f":"IF(G35=\"AVG\",100-(I35+(M35-J35)+L35+P35),\"\")","v":28.799999999999997},1,{"$f":"IF(G35=\"AVG\",M35-N35,\"\")","v":8.8000000000000043},null,27.8,66,6.2,6.7,75,4.34,1.46,1.47,0.28000000000000003,0.28999999999999998,2.37,0.1,0.65,0.26,null,null,{"$f":"IF(List1[[#This Row],[Price]]=\"\",\"\",CONVERT(List1[[#This Row],[Price]],\"kg\",\"lbm\"))","v":""}]
[null,null,2,"ALMOND","Hulls","Conc","AVG",86.9,6.5,2.2999999999999998,1.8,2.9,36.799999999999997,28.7,14.9,6.1,{"$f":"IF(G36=\"AVG\",100-(I36+(M36-J36)+L36+P36),\"\")","v":50},1,{"$f":"IF(G36=\"AVG\",M36-N36,\"\")","v":8.0999999999999979},null,29.6,35.4,35,5.3,50,2.74,0.9,0.28000000000000003,0.13,0.13,2.6,0.02,0.03,0.04,null,"",{"$f":"IF(List1[[#This Row],[Price]]=\"\",\"\",CONVERT(List1[[#This Row],[Price]],\"kg\",\"lbm\"))","v":""}]
[null,null,{"$f":"+C36+1","v":3},"APPLE","Pomace, wet","Conc","AVG",35.9,7.7,3.7,3.1,5,52.5,43.2,15.4,2.6,35.900000000000006,1,9.2999999999999972,null,41.7,53.3,5,7.4,80,3.93,1.38,0.2,0.14000000000000001,0.09,0.3,0.04,0.03,7.0000000000000007E-2,null,"",{"$f":"IF(List1[[#This Row],[Price]]=\"\",\"\",CONVERT(List1[[#This Row],[Price]],\"kg\",\"lbm\"))","v":""}]
[null,null,{"$f":"+C37+1","v":4},"BAKERY BYPRODUCT","Byproduct meal","Conc","AVG",84.7,12.5,2.2999999999999998,1.1000000000000001,9.5,13.9,6.5,1.6,3.8,62.6,1.04,7.4,null,40.299999999999997,53.6,6.1,15.2,90,2.91,1.73,0.2,0.36,0.13,0.42,0.72,1.2,0.14000000000000001,null,"",{"$f":"IF(List1[[#This Row],[Price]]=\"\",\"\",CONVERT(List1[[#This Row],[Price]],\"kg\",\"lbm\"))","v":""}]
[null,null,5,"BAKERY BYPRODUCT","Bread, waste","Conc","AVG",68.3,15,0.6,0.5,2.2000000000000002,8.9,3.1,0.1,2.8,71.7,1.04,5.8000000000000007,null,40.299999999999997,53.6,6.1,15.2,90,2.91,1.73,0.14000000000000001,0.2,0.05,0.23,0.85,0.94,0.17,null,"",{"$f":"IF(List1[[#This Row],[Price]]=\"\",\"\",CONVERT(List1[[#This Row],[Price]],\"kg\",\"lbm\"))","v":""}]
[null,null,6,"BAKERY BYPRODUCT","Cereal byproduct","Conc","AVG",88.5,9.1,3.2,1.2,3.5,10,3.9,2.6,3.2,77.400000000000006,1.04,6.1,null,33.700000000000003,62.5,3.8,20,75,4.05,1.57,0.17,0.28999999999999998,0.1,0.33,0.59,0.69,0.1,null,"",{"$f":"IF(List1[[#This Row],[Price]]=\"\",\"\",CONVERT(List1[[#This Row],[Price]],\"kg\",\"lbm\"))","v":""}]
[null,null,7,"BAKERY BYPRODUCT","Cookie byproduct","Conc","AVG",90.1,9.6999999999999993,1.9,0.5,10.6,12.7,6.5,2.6,3,65.900000000000006,1.04,6.1999999999999993,null,40.299999999999997,53.6,6.1,15.2,90,1.71,1.83,0.23,0.28999999999999998,0.13,0.46,0.68,1.2,0.13,null,"",{"$f":"IF(List1[[#This Row],[Price]]=\"\",\"\",CONVERT(List1[[#This Row],[Price]],\"kg\",\"lbm\"))","v":""}]
[null,null,8,"BARLEY","Grain, rolled","Conc","AVG",91,12.4,1.8,0.5,2.2000000000000002,20.8,7.2,1.9,2.9,63.5,1.04,13.600000000000001,null,30.2,61.2,8.6,22.7,85,3.63,1.7,0.06,0.39,0.14000000000000001,0.56000000000000005,0.02,0.13,0.12,60,0.21772433760000001,{"$f":"IF(List1[[#This Row],[Price]]=\"\",\"\",CONVERT(List1[[#This Row],[Price]],\"kg\",\"lbm\"))","v":0.48000000000000004}]
[null,null,9,"BARLEY","Malt sprouts","Conc","AVG",90.5,20.100000000000001,3.7,1.1000000000000001,2.2999999999999998,47,21.8,3.4,7.4,26.899999999999991,1,25.2,null,56,44,0,4.5,80,4.38,1.33,0.24,0.51,0.18,1.19,0.04,null,0.28999999999999998,null,"",{"$f":"IF(List1[[#This Row],[Price]]=\"\",\"\",CONVERT(List1[[#This Row],[Price]],\"kg\",\"lbm\"))","v":""}]
[null,null,10,"BARLEY","Silage, headed","Forage","AVG",35.5,12,1.6,0.9,3.5,56.3,34.5,5.6,7.5,22.300000000000011,1,21.799999999999997,null,56.6,32.9,10.5,5.9,65,2.35,1.1599999999999999,0.48,0.3,0.18,2.4300000000000002,0.13,0.72,0.17,null,"",{"$f":"IF(List1[[#This Row],[Price]]=\"\",\"\",CONVERT(List1[[#This Row],[Price]],\"kg\",\"lbm\"))","v":""}]
[null,null,11,"BEET, SUGAR","Pulp dried","Conc","AVG",88.3,10,5.5,0.6,1.1000000000000001,45.8,23.1,1.6,7.3,41.300000000000004,1,22.699999999999996,null,4.5,90.5,5,2,80,4.3499999999999996,1.24,0.91,0.09,0.23,0.96,0.31,0.18,0.3,null,"",{"$f":"IF(List1[[#This Row],[Price]]=\"\",\"\",CONVERT(List1[[#This Row],[Price]],\"kg\",\"lbm\"))","v":""}]
[null,null,12,"BERMUDAGRASS","Coastal, hay, early head","Forage","AVG",87.1,10.4,4,0.9,2.7,73.3,36.799999999999997,6.5,8.1,9.5,1,36.5,null,36.700000000000003,51.7,11.6,8.1,65,3.49,1.3,0.49,0.27,0.19,1.8,0.17,0.67,0.48,null,"",{"$f":"IF(List1[[#This Row],[Price]]=\"\",\"\",CONVERT(List1[[#This Row],[Price]],\"kg\",\"lbm\"))","v":""}]
[null,null,13,"BERMUDAGRASS","Tifton-85, hay, 3-4wk growth","Forage","AVG",87.3,13.7,5.3,1.2,2.7,76.900000000000006,36.200000000000003,5.4,6.5,5.4999999999999858,1,40.700000000000003,null,36.700000000000003,51.7,11.6,8.1,65,3.49,1.3,0.39,0.22,0.15,1.4,0.14000000000000001,0.54,0.38,null,"",{"$f":"IF(List1[[#This Row],[Price]]=\"\",\"\",CONVERT(List1[[#This Row],[Price]],\"kg\",\"lbm\"))","v":""}]
[null,null,14,"BLOOD","Meal, ring dried","Animal","AVG",90.2,95.5,0,0,1.2,0,0,0,2.5,0.79999999999999716,1,0,null,10.1,60.9,29,1.9,80,8.98,1.17,0.3,0.3,0.03,0.33,0.4,0.33,0.77,0,0.87543327409999994,{"$f":"IF(List1[[#This Row],[Price]]=\"\",\"\",CONVERT(List1[[#This Row],[Price]],\"kg\",\"lbm\"))","v":1.9299999999999997}]
[null,null,15,"BLOOD","Meal, batch dried","Animal","AVG",90.2,95.5,0,0,1.2,0,0,0,2.5,0.79999999999999716,null,0,null,10.1,60.9,29,1.9,80,8.89,1.17,0.3,0.3,0.03,0.33,0.4,0.33,0.77,0,0.87543327409999994,{"$f":"IF(List1[[#This Row],[Price]]=\"\",\"\",CONVERT(List1[[#This Row],[Price]],\"kg\",\"lbm\"))","v":1.9299999999999997}]
[null,null,16,"BREWERS GRAINS","Dried","Conc","AVG",90.7,29.2,9.1,3.5,5.2,47.4,22.2,5,4.3,23,1,25.2,null,18.3,64.599999999999994,17.100000000000001,4.7,80,4.08,1.7,0.3,0.67,0.26,0.5,0.04,7.0000000000000007E-2,0.38,"","",{"$f":"IF(List1[[#This Row],[Price]]=\"\",\"\",CONVERT(List1[[#This Row],[Price]],\"kg\",\"lbm\"))","v":""}]
[null,null,17,"BREWERS GRAINS","Wet","Conc","AVG",21.8,28.4,9.3000000000000007,2.9,5.2,47.1,23.1,4.7,4.9000000000000004,23.700000000000003,1,24,null,48.3,42.5,9.1999999999999993,4.5999999999999996,85,3.4,1.93,0.35,0.59,0.21,0.47,0.01,0.12,0.33,"","",{"$f":"IF(List1[[#This Row],[Price]]=\"\",\"\",CONVERT(List1[[#This Row],[Price]],\"kg\",\"lbm\"))","v":""}]
[null,null,18,"CANOLA","Seed","Conc","AVG",89.9,20.5,3.4,1.3,40.5,17.8,11.6,2.7,4.5999999999999996,20,1,6.2000000000000011,null,35.200000000000003,59.5,5.3,20.100000000000001,50,5.62,1.87,0.44,0.68,0.21,0.91,0.03,null,0.42,"","",{"$f":"IF(List1[[#This Row],[Price]]=\"\",\"\",CONVERT(List1[[#This Row],[Price]],\"kg\",\"lbm\"))","v":""}]
[null,null,19,"CANOLA","Meal, mech. Extracted","Conc","AVG",90.3,37.799999999999997,6.3,2.4,5.4,29.8,20.5,9.5,7.4,25.899999999999991,1,9.3000000000000007,null,23.2,70.400000000000006,6.4,10.4,75,5.62,1.87,0.75,1.1000000000000001,0.53,1.41,7.0000000000000007E-2,0.04,0.73,1.5,0.17581099612403103,{"$f":"IF(List1[[#This Row],[Price]]=\"\",\"\",CONVERT(List1[[#This Row],[Price]],\"kg\",\"lbm\"))","v":0.38759689922480622}]
[null,null,20,"CHOCOLATE","Byproduct","Conc","AVG",95.2,11.9,0,0,20.5,23.8,15.7,3.2,2.1,41.699999999999996,1.04,8.1000000000000014,null,74.099999999999994,25.9,0,3.2,90,2.25,1.57,0.22,0.3,0.22,1.18,7.0000000000000007E-2,null,0.11,"","",{"$f":"IF(List1[[#This Row],[Price]]=\"\",\"\",CONVERT(List1[[#This Row],[Price]],\"kg\",\"lbm\"))","v":""}]
[null,null,21,"CITRUS","Pulp dried","Conc","AVG",85.8,6.9,0.4,0.3,4.9000000000000004,24.2,22.2,0.9,7.2,57.199999999999996,1,2,null,41.7,53.3,5,7.4,80,2.56,1.03,1.92,0.12,0.12,1.1000000000000001,0.06,0.08,0.1,"","",{"$f":"IF(List1[[#This Row],[Price]]=\"\",\"\",CONVERT(List1[[#This Row],[Price]],\"kg\",\"lbm\"))","v":""}]
[null,null,22,"CORN, YELLOW","Cobs","Conc","AVG",90.8,3,1.7,0.8,0.6,86.2,42.2,5.9,2.2000000000000002,9.7000000000000028,1,44,null,45,49.4,5.6,2.8,60,2.78,2.5,0.1,0.06,0.06,0.9,0.04,null,7.0000000000000007E-2,"","",{"$f":"IF(List1[[#This Row],[Price]]=\"\",\"\",CONVERT(List1[[#This Row],[Price]],\"kg\",\"lbm\"))","v":""}]
[null,null,23,"CORN, YELLOW","Distillers grains with solubles, dried","Conc","AVG",90.2,29.7,8.6,5,10,38.799999999999997,19.7,4.3,5.2,24.900000000000006,1,19.099999999999998,null,28.5,63.3,8.1999999999999993,3.6,80,2.2400000000000002,1.82,0.22,0.83,0.33,1.1000000000000001,0.3,0.26,0.44,2.5,6.0344882926829269E-2,{"$f":"IF(List1[[#This Row],[Price]]=\"\",\"\",CONVERT(List1[[#This Row],[Price]],\"kg\",\"lbm\"))","v":0.13303769401330376}]
[null,null,24,"CORN, YELLOW","Gluten feed, dried","Conc","AVG",89.4,23.8,3.6,1.4,3.5,35.5,12.1,2,6.8,34,1,23.4,null,48,43.2,8.8000000000000007,7.7,85,2.74,1.61,7.0000000000000007E-2,1,0.42,1.46,0.13,0.2,0.44,23.3,6.5958622035794195E-2,{"$f":"IF(List1[[#This Row],[Price]]=\"\",\"\",CONVERT(List1[[#This Row],[Price]],\"kg\",\"lbm\"))","v":0.14541387024608501}]
[null,null,25,"CORN, YELLOW","Gluten meal, dried","Conc","AVG",86.4,65,3.6,3,2.5,11.1,8.1999999999999993,1.5,3.3,21.700000000000003,1,2.9000000000000004,null,3.9,90.9,5.2,2.2999999999999998,92,1.69,2.37,0.06,0.6,0.14000000000000001,0.46,0.05,0.11,0.86,2.5,0.36749381828703703,{"$f":"IF(List1[[#This Row],[Price]]=\"\",\"\",CONVERT(List1[[#This Row],[Price]],\"kg\",\"lbm\"))","v":0.81018518518518512}]
[null,null,26,"CORN, YELLOW","Grain, cracked, dry","Conc","AVG",88.1,9.4,0.7,0.3,4.2,9.5,3.4,0.9,1.5,76.099999999999994,0.95,6.1,null,23.9,72.5,3.6,4.9000000000000004,90,2.84,2.13,0.04,0.3,0.12,0.42,0.02,0.08,0.1,"","",{"$f":"IF(List1[[#This Row],[Price]]=\"\",\"\",CONVERT(List1[[#This Row],[Price]],\"kg\",\"lbm\"))","v":""}]
[null,null,27,"CORN, YELLOW","Grain, ground, dry","Conc","AVG",88.1,9.4,0.7,0.3,4.2,9.5,3.4,0.9,1.5,76.099999999999994,1,6.1,null,23.9,72.5,3.6,4.9000000000000004,90,2.84,2.13,0.04,0.3,0.12,0.42,0.02,0.08,0.1,"","",{"$f":"IF(List1[[#This Row],[Price]]=\"\",\"\",CONVERT(List1[[#This Row],[Price]],\"kg\",\"lbm\"))","v":""}]
[null,null,28,"CORN, YELLOW","Grain, steam-flaked","Conc","AVG",88.1,9.4,0.7,0.3,4.2,9.5,3.4,0.9,1.5,76.099999999999994,1.04,6.1,null,1.7,82.8,15.5,3,90,3.05,2.04,0.04,0.3,0.12,0.42,0.02,0.08,0.1,"","",{"$f":"IF(List1[[#This Row],[Price]]=\"\",\"\",CONVERT(List1[[#This Row],[Price]],\"kg\",\"lbm\"))","v":""}]
[null,null,29,"CORN, YELLOW","Grain, rolled, high moisture","Conc","AVG",71.8,9.1999999999999993,0.6,0.3,4.3,10.3,3.6,0.9,1.5,75.3,1,6.7000000000000011,null,27.9,71.400000000000006,0.7,5.0999999999999996,90,2.64,2.11,0.03,0.3,0.12,0.43,0.01,0.05,0.1,"","",{"$f":"IF(List1[[#This Row],[Price]]=\"\",\"\",CONVERT(List1[[#This Row],[Price]],\"kg\",\"lbm\"))","v":""}]
[null,null,30,"CORN, YELLOW","Grain, ground, high moisture","Conc","AVG",71.8,9.1999999999999993,0.6,0.3,4.3,10.3,3.6,0.9,1.5,75.3,1.04,6.7000000000000011,null,27.9,71.400000000000006,0.7,5.0999999999999996,90,2.64,2.11,0.03,0.3,0.12,0.43,0.01,0.05,0.1,72,0.11113013065000001,{"$f":"IF(List1[[#This Row],[Price]]=\"\",\"\",CONVERT(List1[[#This Row],[Price]],\"kg\",\"lbm\"))","v":0.24500000000000002}]
[null,null,31,"CORN, YELLOW","Grain and cob, dry, ground","Conc","AVG",89.2,8.6,0.9,0.4,3.9,21.5,8,1.6,1.7,65.199999999999989,1,13.5,null,30,68.3,1.7,5,90,2.6,2,0.06,0.28999999999999998,0.13,0.49,0.03,7.0000000000000007E-2,0.1,"","",{"$f":"IF(List1[[#This Row],[Price]]=\"\",\"\",CONVERT(List1[[#This Row],[Price]],\"kg\",\"lbm\"))","v":""}]
[null,null,32,"CORN, YELLOW","Grain and cob, high moisture, ground","Conc","AVG",67.099999999999994,8.4,0.7,0.3,3.9,21,9.4,1.4,1.7,65.699999999999989,1.04,11.6,null,34,65.7,0.3,5.2,90,2.2799999999999998,1.7,0.05,0.28000000000000003,0.12,0.48,0.01,7.0000000000000007E-2,0.09,"","",{"$f":"IF(List1[[#This Row],[Price]]=\"\",\"\",CONVERT(List1[[#This Row],[Price]],\"kg\",\"lbm\"))","v":""}]
[null,null,33,"CORN, YELLOW","Hominy","Conc","AVG",88.5,11.9,1.5,0.5,4.2,21.1,6.2,1.7,2.7,{"$f":"IF(G67=\"AVG\",100-(I67+(M67-J67)+L67+P67),\"\")","v":61.599999999999994},1,{"$f":"IF(G67=\"AVG\",M67-N67,\"\")","v":14.900000000000002},null,45,49,6,7,90,3.69,1.75,0.03,0.65,0.26,0.82,0.01,0.1,0.12,31,5.6378712655367237E-2,{"$f":"IF(List1[[#This Row],[Price]]=\"\",\"\",CONVERT(List1[[#This Row],[Price]],\"kg\",\"lbm\"))","v":0.12429378531073447}]
[null,null,34,"CORN, YELLOW","Silage, immature <25% DM","Forage","AVG",23.5,9.6999999999999993,1.4,0.9,2.5,54.1,34.1,3.5,4.8,30.299999999999997,1,20,null,57.8,23.7,18.5,4,70,2.5099999999999998,1.53,0.28999999999999998,0.24,0.19,1.3,0.01,0.3,0.14000000000000001,"","",{"$f":"IF(List1[[#This Row],[Price]]=\"\",\"\",CONVERT(List1[[#This Row],[Price]],\"kg\",\"lbm\"))","v":""}]
[null,null,35,"CORN, YELLOW","Silage, normal 32-38% DM","Forage","AVG",35.1,8.8000000000000007,1.3,0.8,3.2,45,28.1,2.6,4.3,40,0.94,16.899999999999999,null,51.3,30.2,18.5,4.4000000000000004,70,2.5099999999999998,1.53,0.28000000000000003,0.26,0.17,1.2,0.01,0.28999999999999998,0.14000000000000001,30,3.876857863247863E-2,{"$f":"IF(List1[[#This Row],[Price]]=\"\",\"\",CONVERT(List1[[#This Row],[Price]],\"kg\",\"lbm\"))","v":8.5470085470085458E-2}]
[null,null,36,"CORN, YELLOW","Silage, mature >40% DM","Forage","AVG",44.2,8.5,1.3,0.9,3.2,44.5,27.5,3.1,4,41.099999999999994,0.87,17,null,48.8,27.6,23.6,3.2,70,2.5099999999999998,1.53,0.26,0.25,0.16,1.1000000000000001,0.01,0.17,0.1,"","",{"$f":"IF(List1[[#This Row],[Price]]=\"\",\"\",CONVERT(List1[[#This Row],[Price]],\"kg\",\"lbm\"))","v":""}]
[null,null,37,"COTTON SEED","Whole seeds with lint","Conc","AVG",90.1,23.5,2.4,1.9,19.3,50.3,40.1,12.9,4.2,5.0999999999999943,1,10.199999999999996,null,45.4,46.7,7.9,15.7,80,4.3499999999999996,1.71,0.17,0.6,0.37,1.1299999999999999,0.02,0.06,0.23,1,0.2114415043285239,{"$f":"IF(List1[[#This Row],[Price]]=\"\",\"\",CONVERT(List1[[#This Row],[Price]],\"kg\",\"lbm\"))","v":0.46614872364039961}]
[null,null,38,"COTTON SEED","Hulls","Conc","AVG",89,6.2,3,1.1000000000000001,2.5,85,64.900000000000006,22.5,2.8,6.5,1,20.099999999999994,null,29.6,35.4,35,5.3,50,4.66,1.83,0.18,0.12,0.17,1.1599999999999999,0.02,0.06,7.0000000000000007E-2,"","",{"$f":"IF(List1[[#This Row],[Price]]=\"\",\"\",CONVERT(List1[[#This Row],[Price]],\"kg\",\"lbm\"))","v":""}]
[null,null,39,"COTTON SEED","Meal, solvent, 41% CP","Conc","AVG",90.5,44.9,3.3,1.8,1.9,30.8,19.899999999999999,7.6,6.7,18.999999999999986,1,10.900000000000002,null,25.6,55.5,18.899999999999999,6.8,92,4.13,1.59,0.2,1.1499999999999999,0.61,1.64,7.0000000000000007E-2,7.0000000000000007E-2,0.4,1.5,0.22053109701657461,{"$f":"IF(List1[[#This Row],[Price]]=\"\",\"\",CONVERT(List1[[#This Row],[Price]],\"kg\",\"lbm\"))","v":0.48618784530386744}]
[null,null,40,"FATS AND OILS","Calcium soaps","Fat","AVG",95.3,0,0,0,84.5,0,0,0,15.5,0,1,0,null,0,0,0,0,0,null,null,12,0,0,0,0,0,0,"","",{"$f":"IF(List1[[#This Row],[Price]]=\"\",\"\",CONVERT(List1[[#This Row],[Price]],\"kg\",\"lbm\"))","v":""}]
[null,null,41,"FATS AND OILS","Hydrolyzed tallow fatty acids","Fat","AVG",99.8,0,0,0,99.2,0,0,0,0,0.79999999999999716,1,0,null,0,0,0,0,0,null,null,0,0,0,0,0,0,0,"","",{"$f":"IF(List1[[#This Row],[Price]]=\"\",\"\",CONVERT(List1[[#This Row],[Price]],\"kg\",\"lbm\"))","v":""}]
[null,null,42,"FATS AND OILS","Partially hydrogenated tallow","Fat+G","AVG",100,0,0,0,99.5,0,0,0,0,0.5,1,0,null,0,0,0,0,0,null,null,0,0,0,0,0,0,0,"","",{"$f":"IF(List1[[#This Row],[Price]]=\"\",\"\",CONVERT(List1[[#This Row],[Price]],\"kg\",\"lbm\"))","v":""}]
[null,null,43,"FATS AND OILS","Tallow","Fat+G","AVG",99.8,0,0,0,99.8,0,0,0,0,0.20000000000000284,1,0,null,0,0,0,0,0,null,null,0,0,0,0,0,0,0,"","",{"$f":"IF(List1[[#This Row],[Price]]=\"\",\"\",CONVERT(List1[[#This Row],[Price]],\"kg\",\"lbm\"))","v":""}]
[null,null,44,"FATS AND OILS","Vegetable oil","Fat+G","AVG",100,0,0,0,99.9,0,0,0,0,9.9999999999994316E-2,1,0,null,0,0,0,0,0,null,null,0,0,0,0,0,0,0,"","",{"$f":"IF(List1[[#This Row],[Price]]=\"\",\"\",CONVERT(List1[[#This Row],[Price]],\"kg\",\"lbm\"))","v":""}]
[null,null,45,"FEATHERS","Hydrolyzed meal","Animal","AVG",93.3,92,0,0,4.5999999999999996,0,0,0,3.5,-9.9999999999994316E-2,1,0,null,23.4,23.7,52.9,6.6,65,2.57,0.75,0.33,0.5,0.22,0.33,0.34,0.26,1.39,"","",{"$f":"IF(List1[[#This Row],[Price]]=\"\",\"\",CONVERT(List1[[#This Row],[Price]],\"kg\",\"lbm\"))","v":""}]
[null,null,46,"FEATHERS","Hydrolyzed meal with some viscera","Animal","AVG",91.5,85,0,0,8.8000000000000007,0,0,0,5.5,0.70000000000000284,1,0,null,23.4,23.7,52.9,6.6,70,2.9,0.84,1.36,0.77,0.06,0.24,0.27,0.47,1.75,"","",{"$f":"IF(List1[[#This Row],[Price]]=\"\",\"\",CONVERT(List1[[#This Row],[Price]],\"kg\",\"lbm\"))","v":""}]
[null,null,47,"FISH BYPRODUCTS","Anchovy, meal, mech.","Animal","AVG",92,null,0,0,4.5999999999999996,0,0,0,16,79.400000000000006,1,0,null,32.4,37.9,29.7,3.2,90,7.91,3.02,4.0599999999999996,2.69,0.27,0.79,0.96,0.8,0.78,"","",{"$f":"IF(List1[[#This Row],[Price]]=\"\",\"\",CONVERT(List1[[#This Row],[Price]],\"kg\",\"lbm\"))","v":""}]
[null,null,48,"FISH BYPRODUCTS","Menhaden, meal, mech.","Animal","AVG",91.2,68.5,0,0,10.4,0,0,0,19.7,1.3999999999999915,1,0,null,22.8,72,5.2,1.4,90,7.65,2.81,5.34,3.05,0.2,0.74,0.68,0.8,1.1599999999999999,"","",{"$f":"IF(List1[[#This Row],[Price]]=\"\",\"\",CONVERT(List1[[#This Row],[Price]],\"kg\",\"lbm\"))","v":""}]
[null,null,49,"GRASSES, COOL SEASON","Pasture, intensively managed","Forage","AVG",20.100000000000001,26.5,3.9,1.1000000000000001,2.7,45.8,25,2.1,9.8000000000000007,19.099999999999994,1,20.799999999999997,null,30.7,63.5,5.8,12.3,75,3.46,1.37,0.56000000000000005,0.44,0.2,3.36,0.02,0.56000000000000005,0.2,"","",{"$f":"IF(List1[[#This Row],[Price]]=\"\",\"\",CONVERT(List1[[#This Row],[Price]],\"kg\",\"lbm\"))","v":""}]
[null,null,50,"GRASSES, COOL SEASON","Hay, all samples","Forage","AVG",88.1,10.6,3.8,1.1000000000000001,2.6,64.400000000000006,39.5,6.4,7,19.200000000000003,1,24.900000000000006,null,36.700000000000003,50.4,12.9,8.5,65,3.48,1.3,0.57999999999999996,0.23,0.2,2.0099999999999998,0.04,0.5,0.21,"","",{"$f":"IF(List1[[#This Row],[Price]]=\"\",\"\",CONVERT(List1[[#This Row],[Price]],\"kg\",\"lbm\"))","v":""}]
[null,null,51,"GRASSES, COOL SEASON","Hay, immature <55% NDF","Forage","AVG",84,18,3.4,1.3,3.3,49.6,31.4,3.9,9.1999999999999993,23.299999999999997,1,18.200000000000003,null,45,46.7,8.3000000000000007,12.4,70,3.48,1.3,0.72,0.34,0.23,2.57,0.03,0.42,0.24,"","",{"$f":"IF(List1[[#This Row],[Price]]=\"\",\"\",CONVERT(List1[[#This Row],[Price]],\"kg\",\"lbm\"))","v":""}]
[null,null,52,"GRASSES, COOL SEASON","Hay, mid maturity 55-60% NDF","Forage","AVG",83.8,13.3,3.9,1.2,2.5,57.7,36.9,4.3,8.8000000000000007,21.599999999999994,1,20.800000000000004,null,36.700000000000003,51.7,11.6,8.1,65,3.49,1.3,0.66,0.28999999999999998,0.23,2.13,0.08,0.92,0.24,"","",{"$f":"IF(List1[[#This Row],[Price]]=\"\",\"\",CONVERT(List1[[#This Row],[Price]],\"kg\",\"lbm\"))","v":""}]
[null,null,53,"GRASSES, COOL SEASON","Hay, mature >60% NDF","Forage","AVG",84.4,10.8,7.4,1.1000000000000001,2,69.099999999999994,41.6,5.9,7,18.5,1,27.499999999999993,null,28.4,52.9,18.7,5,60,3.48,1.3,0.47,0.26,0.18,1.97,0.02,0.66,0.17,"","",{"$f":"IF(List1[[#This Row],[Price]]=\"\",\"\",CONVERT(List1[[#This Row],[Price]],\"kg\",\"lbm\"))","v":""}]
[null,null,54,"GRASSES, COOL SEASON","Silage, all samples","Forage","AVG",36.5,12.8,3.3,1.5,3.1,60.7,40.299999999999997,6.9,8.1,18.600000000000009,1,20.400000000000006,null,56.1,33.200000000000003,10.7,5.8,60,3.3,1.22,0.55000000000000004,0.28999999999999998,0.23,2.54,0.05,0.67,0.21,"","",{"$f":"IF(List1[[#This Row],[Price]]=\"\",\"\",CONVERT(List1[[#This Row],[Price]],\"kg\",\"lbm\"))","v":""}]
[null,null,55,"GRASSES, COOL SEASON","Silage, immature <55% NDF","Forage","AVG",36.200000000000003,16.8,4.3,1.1000000000000001,2.8,51,32.9,4.8,9.9,23.799999999999997,1,18.100000000000001,null,60.1,31.8,8.1,8.1,65,3.28,1.21,0.56999999999999995,0.36,0.22,3.11,0.05,0.67,0.21,"","",{"$f":"IF(List1[[#This Row],[Price]]=\"\",\"\",CONVERT(List1[[#This Row],[Price]],\"kg\",\"lbm\"))","v":""}]
[null,null,56,"GRASSES, COOL SEASON","Silage, mid maturity 55-60% NDF","Forage","AVG",42,16.8,4.3,1.1000000000000001,2.4,58.2,35.200000000000003,6.8,8.6999999999999993,18.199999999999989,1,23,null,60.4,31,8.6,4.8,60,3.28,1.21,0.6,0.36,0.21,2.78,0.05,0.67,0.21,"","",{"$f":"IF(List1[[#This Row],[Price]]=\"\",\"\",CONVERT(List1[[#This Row],[Price]],\"kg\",\"lbm\"))","v":""}]
[null,null,57,"GRASSES, COOL SEASON","Silage, mature >60% NDF","Forage","AVG",38.700000000000003,12.7,3.2,1.4,3,66.599999999999994,41.1,7.4,8,12.900000000000006,1,25.499999999999993,null,47.9,37.1,15,4.5999999999999996,55,3.35,1.23,0.56000000000000005,0.31,0.2,2.42,0.05,0.89,0.2,"","",{"$f":"IF(List1[[#This Row],[Price]]=\"\",\"\",CONVERT(List1[[#This Row],[Price]],\"kg\",\"lbm\"))","v":""}]
[null,null,58,"GRASS-Legume MIXTURES Pr. GR.  (17-22% Hcel.)","Hay, immature <51% NDF","Forage","AVG",84.3,18.399999999999999,4.2,1.3,2.4,49.6,31.5,4,9.1999999999999993,24.599999999999994,1,18.100000000000001,null,44.4,47.7,7.9,13.8,70,3.89,1.37,1.01,0.31,0.26,2.83,0.03,0.74,0.28000000000000003,"","",{"$f":"IF(List1[[#This Row],[Price]]=\"\",\"\",CONVERT(List1[[#This Row],[Price]],\"kg\",\"lbm\"))","v":""}]
[null,null,59,"GRASS-Legume MIXTURES Pr. GR.  (17-22% Hcel.)","Hay, mid maturity 51-57% NDF","Forage","AVG",87.3,17.399999999999999,4.2,1.4,2.6,55.1,36.4,4.5,9.5,19.600000000000009,1,18.700000000000003,null,38.6,50.5,10.9,10.6,65,3.89,1.37,0.88,0.36,0.25,2.4500000000000002,0.01,0.77,0.27,"","",{"$f":"IF(List1[[#This Row],[Price]]=\"\",\"\",CONVERT(List1[[#This Row],[Price]],\"kg\",\"lbm\"))","v":""}]
[null,null,60,"GRASS-Legume MIXTURES Pr. GR.  (17-22% Hcel.)","Hay, mature >57% NDF","Forage","AVG",84.7,13.3,4.4000000000000004,1.3,2.2999999999999998,62.5,42.1,5.5,7.9,18.399999999999991,1,20.399999999999999,null,31,52.1,16.899999999999999,7.25,60,3.86,1.36,0.73,0.27,0.21,2.09,0.1,0.71,0.28999999999999998,"","",{"$f":"IF(List1[[#This Row],[Price]]=\"\",\"\",CONVERT(List1[[#This Row],[Price]],\"kg\",\"lbm\"))","v":""}]
[null,null,61,"GRASS-Legume MIXTURES Pr. GR.  (17-22% Hcel.)","Silage, immature <51% NDF","Forage","AVG",47.1,18,3.1,1.2,2.9,49.9,31.8,5,9.1,23.200000000000003,1,18.099999999999998,null,60.5,31.1,0.4,9.4,65,3.58,1.25,1.02,0.34,0.25,2.88,0.03,0.74,0.27,"","",{"$f":"IF(List1[[#This Row],[Price]]=\"\",\"\",CONVERT(List1[[#This Row],[Price]],\"kg\",\"lbm\"))","v":""}]
[null,null,62,"GRASS-Legume MIXTURES Pr. GR.  (17-22% Hcel.)","Silage, mid maturity 51-57% NDF","Forage","AVG",44.5,17.600000000000001,3.1,1.4,2.9,54.5,35.700000000000003,6.5,9.5,18.599999999999994,1,18.799999999999997,null,59.6,32.1,8.3000000000000007,6.7,60,3.56,1.25,0.89,0.36,0.26,2.64,0.01,0.45,0.25,"","",{"$f":"IF(List1[[#This Row],[Price]]=\"\",\"\",CONVERT(List1[[#This Row],[Price]],\"kg\",\"lbm\"))","v":""}]
[null,null,63,"GRASS-Legume MIXTURES Pr. GR.  (17-22% Hcel.)","Silage, mature >57% NDF","Forage","AVG",38.5,15.4,3.1,1.8,2.6,61.7,42.2,6.9,9,14.400000000000006,1,19.5,null,49.2,36.4,14.4,5.5,55,3.59,1.27,0.85,0.33,0.23,2.5099999999999998,0.1,0.9,0.34,"","",{"$f":"IF(List1[[#This Row],[Price]]=\"\",\"\",CONVERT(List1[[#This Row],[Price]],\"kg\",\"lbm\"))","v":""}]
[null,null,64,"Mixed grass-legume (12-15% Hcel.)","Hay, immature <47% NDF","Forage","AVG",83.1,19.7,3.9,1.3,2.5,45.4,30.8,5.0999999999999996,8.8000000000000007,27.5,1,14.599999999999998,null,43.8,48.8,7.4,15.1,75,4.3099999999999996,1.43,1.2,0.31,0.28999999999999998,3.06,7.0000000000000007E-2,0.5,0.27,"","",{"$f":"IF(List1[[#This Row],[Price]]=\"\",\"\",CONVERT(List1[[#This Row],[Price]],\"kg\",\"lbm\"))","v":""}]
[null,null,65,"Mixed grass-legume (12-15% Hcel.)","Hay, mid maturity 47-53% NDF","Forage","AVG",85.3,18.399999999999999,4.5999999999999996,1.5,2.2999999999999998,50.8,35.799999999999997,5.7,9.3000000000000007,{"$f":"IF(G99=\"AVG\",100-(I99+(M99-J99)+L99+P99),\"\")","v":23.800000000000011},1,{"$f":"IF(G99=\"AVG\",M99-N99,\"\")","v":15},null,40.5,49.3,10.199999999999999,13,70,4.29,1.43,1.04,0.32,0.25,2.59,0.03,0.8,0.24,"","",{"$f":"IF(List1[[#This Row],[Price]]=\"\",\"\",CONVERT(List1[[#This Row],[Price]],\"kg\",\"lbm\"))","v":""}]
[null,null,66,"Mixed grass-legume (12-15% Hcel.)","Hay, mature >53% NDF","Forage","AVG",89.7,18.2,4.4000000000000004,1.7,2,56,40.1,7,9.9,18.299999999999997,1,15.899999999999999,null,33.6,51.3,15.1,9.5,65,4.25,1.43,0.97,0.37,0.26,2.2400000000000002,0.01,0.93,0.28000000000000003,"","",{"$f":"IF(List1[[#This Row],[Price]]=\"\",\"\",CONVERT(List1[[#This Row],[Price]],\"kg\",\"lbm\"))","v":""}]
[null,null,67,"Mixed grass-legume (12-15% Hcel.)","Silage, immature <47% NDF","Forage","AVG",45.9,20.3,3.1,1.4,2.2999999999999998,45.3,30.8,5.8,9.8000000000000007,25.400000000000006,1,14.499999999999996,null,60.9,30.4,8.6999999999999993,10.6,70,3.85,1.29,1.08,0.35,0.28000000000000003,2.89,0.01,1.77,0.16,"","",{"$f":"IF(List1[[#This Row],[Price]]=\"\",\"\",CONVERT(List1[[#This Row],[Price]],\"kg\",\"lbm\"))","v":""}]
[null,null,{"$f":"+C101+1","v":68},"Mixed grass-legume (12-15% Hcel.)","Silage, mid maturity 47-53% NDF","Forage","AVG",44.1,19.100000000000001,3.5,1.6,2.5,50.4,35.4,5.9,10.1,21.400000000000006,1,15,null,58.9,33.200000000000003,8,8.5,65,3.85,1.29,1.0900000000000001,0.35,0.27,2.8,1E-3,1.1000000000000001,0.26,"","",{"$f":"IF(List1[[#This Row],[Price]]=\"\",\"\",CONVERT(List1[[#This Row],[Price]],\"kg\",\"lbm\"))","v":""}]
[null,null,69,"Mixed grass-legume (12-15% Hcel.)","Silage, mature >53% NDF","Forage","AVG",42.8,17.399999999999999,3.5,2,2.2999999999999998,57.4,42.1,7.1,9.6,16.800000000000011,1,15.299999999999997,null,50.4,35.700000000000003,13.9,6.3,60,3.83,1.3,1.06,0.33,0.24,2.7,0.02,0.52,0.31,"","",{"$f":"IF(List1[[#This Row],[Price]]=\"\",\"\",CONVERT(List1[[#This Row],[Price]],\"kg\",\"lbm\"))","v":""}]
[null,null,70,"Grass-LEGUME MIXTURES Pr. LG. (10-13% HCEL.)","Hay, immature <44% NDF","Forage","AVG",83.8,20.5,2.9,1.5,2,41.7,30.5,5.8,9.1999999999999993,29.5,1,11.200000000000003,null,43.1,49.9,7,16.5,75,4.72,1.5,1.3,0.3,0.3,2.41,0.03,0.06,0.2,"","",{"$f":"IF(List1[[#This Row],[Price]]=\"\",\"\",CONVERT(List1[[#This Row],[Price]],\"kg\",\"lbm\"))","v":""}]
[null,null,71,"Grass-LEGUME MIXTURES Pr. LG. (10-13% HCEL.)","Hay, mid maturity 44-50% NDF","Forage","AVG",84.2,19.100000000000001,3.1,1.6,2,47.2,35.4,6.7,9.1,25.700000000000003,1,11.800000000000004,null,42.4,48.1,9.5,15.5,70,4.6900000000000004,1.5,1.17,0.3,0.27,2.34,0.08,0.43,0.26,"","",{"$f":"IF(List1[[#This Row],[Price]]=\"\",\"\",CONVERT(List1[[#This Row],[Price]],\"kg\",\"lbm\"))","v":""}]
[null,null,72,"Grass-LEGUME MIXTURES Pr. LG. (10-13% HCEL.)","Hay, mature >50% NDF","Forage","AVG",84.3,17.2,3.6,1.7,1.7,53.6,41.5,8.1,8.6999999999999993,22.399999999999991,1,12.100000000000001,null,36.299999999999997,50.4,13.3,11.8,65,4.63,1.49,1.0900000000000001,0.28000000000000003,0.25,2.23,0.01,0.21,0.26,2.5,6.9949001304863589E-2,{"$f":"IF(List1[[#This Row],[Price]]=\"\",\"\",CONVERT(List1[[#This Row],[Price]],\"kg\",\"lbm\"))","v":0.15421115065243179}]
[null,null,73,"Grass-LEGUME MIXTURES Pr. LG. (10-13% HCEL.)","Silage, immature <44% NDF","Forage","AVG",43.2,20,2.8,1.7,2.2000000000000002,42.2,31.1,6.7,11.5,26.899999999999991,1,11.100000000000001,null,61.2,29.8,9,11.9,70,4.18,1.33,1.1599999999999999,0.36,0.3,2.95,0.01,0.6,0.32,"","",{"$f":"IF(List1[[#This Row],[Price]]=\"\",\"\",CONVERT(List1[[#This Row],[Price]],\"kg\",\"lbm\"))","v":""}]
[null,null,74,"Grass-LEGUME MIXTURES Pr. LG. (10-13% HCEL.)","Silage, mid maturity 44-50% NDF","Forage","AVG",43.3,19,2.7,1.7,2.1,47,35.4,7.3,10.8,23.800000000000011,1,11.600000000000001,null,58.1,34.200000000000003,7.7,10.4,65,4.13,1.33,1.1399999999999999,0.34,0.28000000000000003,2.88,0.01,0.6,0.25,"","",{"$f":"IF(List1[[#This Row],[Price]]=\"\",\"\",CONVERT(List1[[#This Row],[Price]],\"kg\",\"lbm\"))","v":""}]
[null,null,75,"Grass-LEGUME MIXTURES Pr. LG. (10-13% HCEL.)","Silage, mid maturity >50% NDF","Forage","AVG",42.9,18.3,2.7,2,2,53.7,41.6,8.4,10.199999999999999,18.5,1,12.100000000000001,null,51.6,35.1,13.3,7.2,60,4.0599999999999996,1.34,1.17,0.33,0.26,2.77,0.03,0.6,0.26,"","",{"$f":"IF(List1[[#This Row],[Price]]=\"\",\"\",CONVERT(List1[[#This Row],[Price]],\"kg\",\"lbm\"))","v":""}]
[null,null,76,"LEGUMES, FORAGE","Pasture, intensively managed","Forage","AVG",21.4,26.5,3.8,1.1000000000000001,3.7,33.1,23.9,5.4,10,30.5,1,9.2000000000000028,null,31.1,61.6,7.3,12.3,75,5.18,1.58,1.31,0.37,0.28000000000000003,3.21,0.01,0.6,0.31,"","",{"$f":"IF(List1[[#This Row],[Price]]=\"\",\"\",CONVERT(List1[[#This Row],[Price]],\"kg\",\"lbm\"))","v":""}]
[null,null,77,"LEGUMES, FORAGE","Hay, all samples","Forage","AVG",87.8,20.2,2.4,1.6,2.1,39.6,31.2,7,10,30.5,1,8.4000000000000021,null,41.9,49.2,8.9,16.600000000000001,70,5.08,1.56,1.52,0.26,0.3,2.5299999999999998,0.01,0.74,0.25,2.5,0.1239888027334852,{"$f":"IF(List1[[#This Row],[Price]]=\"\",\"\",CONVERT(List1[[#This Row],[Price]],\"kg\",\"lbm\"))","v":0.27334851936218679}]
[null,null,78,"LEGUMES, FORAGE","Hay, immature <40% NDF","Forage","AVG",84.2,22.8,2.7,1.6,2.1,36.299999999999997,28.6,5.9,9.5,32,1,7.6999999999999957,null,42.5,51,6.5,17.8,75,5.13,1.56,1.56,0.31,0.33,2.56,0.03,0.55000000000000004,0.33,"","",{"$f":"IF(List1[[#This Row],[Price]]=\"\",\"\",CONVERT(List1[[#This Row],[Price]],\"kg\",\"lbm\"))","v":""}]
[null,null,79,"LEGUMES, FORAGE","Hay, mid maturity 40-46% NDF","Forage","AVG",83.9,20.8,2.5,1.6,2,42.9,33.4,6.4,9.4,27.399999999999991,1,9.5,null,44.3,46.9,8.8000000000000007,17.899999999999999,70,5.09,1.56,1.37,0.3,0.3,2.4500000000000002,0.02,0.61,0.31,"","",{"$f":"IF(List1[[#This Row],[Price]]=\"\",\"\",CONVERT(List1[[#This Row],[Price]],\"kg\",\"lbm\"))","v":""}]
[null,null,80,"LEGUMES, FORAGE","Hay, mature >46% NDF","Forage","AVG",83.6,17.8,2.1,1.7,1.6,50.9,39.5,7.3,9.1999999999999993,22.600000000000009,1,11.399999999999999,null,38.9,49.6,11.5,14,65,5.01,1.55,1.22,0.28000000000000003,0.27,2.38,0.02,0.48,0.23,"","",{"$f":"IF(List1[[#This Row],[Price]]=\"\",\"\",CONVERT(List1[[#This Row],[Price]],\"kg\",\"lbm\"))","v":""}]
[null,null,81,"LEGUMES, FORAGE","Silage, all samples","Forage","AVG",39.1,20,2.9,1.6,3.1,45.7,37,8.1,10.4,23.699999999999989,1,8.7000000000000028,null,57.3,33,9.9,11.1,65,4.4000000000000004,1.37,1.34,0.32,0.27,2.87,0.06,0.62,0.24,"","",{"$f":"IF(List1[[#This Row],[Price]]=\"\",\"\",CONVERT(List1[[#This Row],[Price]],\"kg\",\"lbm\"))","v":""}]
[null,null,82,"LEGUMES, FORAGE","Silage, immature <40% NDF","Forage","AVG",41.2,23.2,3.4,1.6,2.2999999999999998,36.700000000000003,30.2,6.2,11.1,30.100000000000009,1,6.5000000000000036,null,61.6,29.1,9.3000000000000007,13.1,70,4.4800000000000004,1.37,1.39,0.36,0.3,3.03,0.03,0.55000000000000004,0.3,"","",{"$f":"IF(List1[[#This Row],[Price]]=\"\",\"\",CONVERT(List1[[#This Row],[Price]],\"kg\",\"lbm\"))","v":""}]
[null,null,83,"LEGUMES, FORAGE","Silage, mid maturity 40-46% NDF","Forage","AVG",42.9,21.9,3.1,1.8,2.2000000000000002,43.2,35.200000000000003,7.3,10.8,25,1,8,null,57.3,35.299999999999997,7.4,12.2,65,4.41,1.37,1.36,0.35,0.28000000000000003,3,0.02,0.61,0.28000000000000003,null,0.10886216880000001,{"$f":"IF(List1[[#This Row],[Price]]=\"\",\"\",CONVERT(List1[[#This Row],[Price]],\"kg\",\"lbm\"))","v":0.24000000000000002}]
[null,null,84,"LEGUMES, FORAGE","Silage, mature >46% NDF","Forage","AVG",42.6,20.3,2.9,2.1,2.1,50,40.9,8.4,10.3,20.200000000000003,1,9.1000000000000014,null,52.9,34.4,12.7,8,60,4.3,1.37,1.3,0.33,0.26,2.87,0.02,0.48,0.28000000000000003,"","",{"$f":"IF(List1[[#This Row],[Price]]=\"\",\"\",CONVERT(List1[[#This Row],[Price]],\"kg\",\"lbm\"))","v":""}]
[null,null,85,"LINSEED (FLAX)","Meal, solvent","Conc","AVG",90.3,32.6,7.9,1.1000000000000001,1.7,36.1,22.1,8.3000000000000007,6.5,31,1,14,null,17.600000000000001,69.900000000000006,12.5,5.5,85,3.69,1.76,0.4,0.83,0.55000000000000004,1.22,0.09,null,0.37,4,0.18083416744186045,{"$f":"IF(List1[[#This Row],[Price]]=\"\",\"\",CONVERT(List1[[#This Row],[Price]],\"kg\",\"lbm\"))","v":0.3986710963455149}]
[null,null,86,"MEAT","Meal, rendered","Animal","AVG",93.9,57.6,0,0,12.7,0,0,0,22.9,6.8000000000000114,1,0,null,34.9,40.1,25,6,80,5.38,1.43,8.86,4.2,0.26,0.49,0.78,0.44,0.51,"","",{"$f":"IF(List1[[#This Row],[Price]]=\"\",\"\",CONVERT(List1[[#This Row],[Price]],\"kg\",\"lbm\"))","v":""}]
[null,null,87,"MEAT","Meat and bone, rendered","Animal","AVG",94,54.2,0,0,10.4,0,0,0,30.4,5,1,0,null,18.100000000000001,48.2,33.700000000000003,7.2,60,5.18,1.4,10.6,4.7300000000000004,0.24,1.02,0.71,0.44,0.39,"","",{"$f":"IF(List1[[#This Row],[Price]]=\"\",\"\",CONVERT(List1[[#This Row],[Price]],\"kg\",\"lbm\"))","v":""}]
[null,null,88,"MOLASSES","Beet sugar","Conc","AVG",77.900000000000006,8.5,0,0,0.2,0.1,0.1,0,11.4,79.8,1.04,0,null,74.099999999999994,25.9,0,3.2,100,1,0.22,0.15,0.03,0.28999999999999998,6.06,1.48,null,0.6,"","",{"$f":"IF(List1[[#This Row],[Price]]=\"\",\"\",CONVERT(List1[[#This Row],[Price]],\"kg\",\"lbm\"))","v":""}]
[null,null,89,"MOLASSES","Sugarcane","Conc","AVG",74.3,5.8,0,0,0.2,0.4,0.2,0,13.3,80.3,1.04,0.2,null,74.099999999999994,25.9,0,3.2,100,1,0.22,1,0.1,0.42,4.01,0.22,null,0.47,5,0.13430729663526247,{"$f":"IF(List1[[#This Row],[Price]]=\"\",\"\",CONVERT(List1[[#This Row],[Price]],\"kg\",\"lbm\"))","v":0.29609690444145359}]
[null,null,90,"OATS","Grain, rolled","Conc","AVG",90,13.2,1.8,0.3,5.0999999999999996,30,14.6,4.9000000000000004,3.3,50.2,1.04,15.4,null,65.2,28.8,6,17.399999999999999,75,4.18,1.71,0.11,0.4,0.16,0.52,0.03,null,0.19,47,0.1310377957777778,{"$f":"IF(List1[[#This Row],[Price]]=\"\",\"\",CONVERT(List1[[#This Row],[Price]],\"kg\",\"lbm\"))","v":0.28888888888888892}]
[null,null,91,"OATS","Hay, headed","Forage","AVG",91.9,9.1,1.3,0.6,2.2000000000000002,58,36.4,6.5,8.5,23.5,1,21.6,null,35,53.1,11.9,4.3,70,3.56,1.87,0.37,0.22,0.17,2.0099999999999998,0.33,1.08,0.14000000000000001,"","",{"$f":"IF(List1[[#This Row],[Price]]=\"\",\"\",CONVERT(List1[[#This Row],[Price]],\"kg\",\"lbm\"))","v":""}]
[null,null,92,"OATS","Silage, headed","Forage","AVG",34.6,12.9,2.1,1,3.4,60.6,38.9,5.5,9.8000000000000007,15.399999999999991,1,21.700000000000003,null,45.6,30.9,23.5,5.4,65,3.56,1.87,0.52,0.31,0.2,2.89,0.24,1.34,0.19,"","",{"$f":"IF(List1[[#This Row],[Price]]=\"\",\"\",CONVERT(List1[[#This Row],[Price]],\"kg\",\"lbm\"))","v":""}]
[null,null,93,"PEANUT","Meal, solvent","Conc","AVG",92.3,51.8,5.8,1.1000000000000001,1.4,21.4,13.5,4.5999999999999996,5.8,25.400000000000006,1,7.8999999999999986,null,61.7,36.6,1.7,16.100000000000001,90,3.34,1.17,0.2,0.64,0.32,1.32,0.03,0.1,0.32,"","",{"$f":"IF(List1[[#This Row],[Price]]=\"\",\"\",CONVERT(List1[[#This Row],[Price]],\"kg\",\"lbm\"))","v":""}]
[null,null,94,"POTATO","Byproduct meal","Conc","AVG",5.4,10.5,5.2,2.2999999999999998,10.8,22.1,16.5,2.2999999999999998,12.8,49,1,5.6000000000000014,null,4.5,90.5,5,2,90,4.21,0.95,0.49,0.28999999999999998,0.11,1.04,0.26,0.19,0.11,"","",{"$f":"IF(List1[[#This Row],[Price]]=\"\",\"\",CONVERT(List1[[#This Row],[Price]],\"kg\",\"lbm\"))","v":""}]
[null,null,95,"RICE","Bran","Conc","AVG",90.6,15.5,3.7,0.4,15.2,26.1,13.1,4.5999999999999996,10.4,36.499999999999993,1,13.000000000000002,null,32.6,49,18.399999999999999,5,65,4.6500000000000004,2.0499999999999998,7.0000000000000007E-2,1.78,0.81,1.57,0.03,0.09,0.19,"","",{"$f":"IF(List1[[#This Row],[Price]]=\"\",\"\",CONVERT(List1[[#This Row],[Price]],\"kg\",\"lbm\"))","v":""}]
[null,null,96,"RYE, ANNUAL","Silage, vegetative","Forage","AVG",29.7,16.100000000000001,1.9,0.9,3.8,57.8,34.9,4.5,9.6,14.600000000000009,1,22.9,null,56.6,33,10.4,5.9,65,2.35,1.1599999999999999,0.43,0.42,0.16,3.34,0.05,0.9,0.2,"","",{"$f":"IF(List1[[#This Row],[Price]]=\"\",\"\",CONVERT(List1[[#This Row],[Price]],\"kg\",\"lbm\"))","v":""}]
[null,null,97,"SAFFLOWER","Meal, solvent","Conc","AVG",93.5,29,2,1.2,2.4,53.8,39.1,14.5,4.7,{"$f":"IF(G131=\"AVG\",100-(I131+(M131-J131)+L131+P131),\"\")","v":12.099999999999994},1,{"$f":"IF(G131=\"AVG\",M131-N131,\"\")","v":14.699999999999996},null,23.2,70.400000000000006,6.4,10.4,75,3.16,1.45,0.38,0.72,3.9E-2,1.21,0.04,null,0.32,"","",{"$f":"IF(List1[[#This Row],[Price]]=\"\",\"\",CONVERT(List1[[#This Row],[Price]],\"kg\",\"lbm\"))","v":""}]
[null,null,98,"SORGHUM, GRAIN TYPE","Grain, dry rolled","Conc","AVG",88.6,11.6,2.8,1,3.1,10.9,5.9,1.1000000000000001,2,75.199999999999989,0.92,5,null,18.899999999999999,79.400000000000006,1.7,5.5,85,2.38,1.81,7.0000000000000007E-2,0.35,0.17,0.47,0.01,0.06,0.11,"","",{"$f":"IF(List1[[#This Row],[Price]]=\"\",\"\",CONVERT(List1[[#This Row],[Price]],\"kg\",\"lbm\"))","v":""}]
[null,null,99,"SORGHUM, GRAIN TYPE","Grain, steam-flaked","Conc","AVG",88.6,11.6,2.8,1,3.1,10.9,5.9,1.1000000000000001,2,75.199999999999989,1.04,5,null,33.200000000000003,21.9,44.9,2.5,85,2.38,1.81,7.0000000000000007E-2,0.35,0.17,0.47,0.01,0.06,0.11,"","",{"$f":"IF(List1[[#This Row],[Price]]=\"\",\"\",CONVERT(List1[[#This Row],[Price]],\"kg\",\"lbm\"))","v":""}]
[null,null,100,"SORGHUM, GRAIN TYPE","Silage","Forage","AVG",28.8,9.1,2.4,1.2,2.9,60.7,38.700000000000003,6.5,7.5,22.199999999999989,1,22,null,42.4,37.299999999999997,20.3,4.0999999999999996,70,2.64,1.93,0.5,0.21,0.27,1.75,0.02,0.6,0.12,"","",{"$f":"IF(List1[[#This Row],[Price]]=\"\",\"\",CONVERT(List1[[#This Row],[Price]],\"kg\",\"lbm\"))","v":""}]
[null,null,101,"SORGHUM, SUDAN TYPE","Hay","Forage","AVG",86.5,9.4,2.8,1.2,2.2999999999999998,64.8,40,6,8.6999999999999993,17.599999999999994,1,24.799999999999997,null,28.4,52.9,18.7,5,60,3.48,1.3,0.54,0.2,0.32,2.36,0.03,1.1599999999999999,0.13,"","",{"$f":"IF(List1[[#This Row],[Price]]=\"\",\"\",CONVERT(List1[[#This Row],[Price]],\"kg\",\"lbm\"))","v":""}]
[null,null,102,"SORGHUM, SUDAN TYPE","Silage","Forage","AVG",28.8,10.8,2.4,1.2,3.6,63.3,40.700000000000003,5.9,10.9,13.799999999999997,1,22.599999999999994,null,37.6,29.7,32.700000000000003,3.7,55,3.35,1.23,0.64,0.24,0.31,2.57,0.03,0.56000000000000005,0.15,"","",{"$f":"IF(List1[[#This Row],[Price]]=\"\",\"\",CONVERT(List1[[#This Row],[Price]],\"kg\",\"lbm\"))","v":""}]
[null,null,103,"SOYBEAN","Hulls","Conc","AVG",90.9,13.9,3.5,1,2.7,60.3,44.6,2.5,4.8,21.799999999999997,1,15.699999999999996,null,22.5,72.2,5.3,6.2,70,6.27,1.1599999999999999,0.63,0.17,0.25,1.51,0.01,0.05,0.12,5.3,0.10978033157315731,{"$f":"IF(List1[[#This Row],[Price]]=\"\",\"\",CONVERT(List1[[#This Row],[Price]],\"kg\",\"lbm\"))","v":0.242024202420242}]
[null,null,104,"SOYBEAN","Meal, expellers, 45% CP","Conc","AVG",89.6,46.3,9.6,0.4,8.1,21.7,10.4,1.5,5.5,28,1,11.299999999999999,null,8.6999999999999993,91.3,0,2.4,93,6.27,1.45,0.36,0.66,0.3,2.12,0.04,0.1,0.34,2.7,"",{"$f":"IF(List1[[#This Row],[Price]]=\"\",\"\",CONVERT(List1[[#This Row],[Price]],\"kg\",\"lbm\"))","v":""}]
[null,null,105,"SOYBEAN","Meal, nonenzymatically browned","Conc","AVG",89,50,27,1.6,2.2999999999999998,29.7,9.5,3.7,6.8,38.200000000000003,1,20.2,null,2.4,97.6,0,1.7,93,5.78,1.32,0.39,0.75,0.3,2.3199999999999998,0.1,null,0.4,"","",{"$f":"IF(List1[[#This Row],[Price]]=\"\",\"\",CONVERT(List1[[#This Row],[Price]],\"kg\",\"lbm\"))","v":""}]
[null,null,106,"SOYBEAN","Meal, solvent, 44% CP","Conc","AVG",89.1,49.9,0.7,0.4,1.6,14.9,10,0.7,6.6,27.700000000000017,1,4.9000000000000004,null,22.5,76.8,0.7,9.4,93,6.28,1.45,0.4,0.71,0.31,2.2200000000000002,0.04,0.13,0.46,2.7,0.22908705555555556,{"$f":"IF(List1[[#This Row],[Price]]=\"\",\"\",CONVERT(List1[[#This Row],[Price]],\"kg\",\"lbm\"))","v":0.50505050505050508}]
[null,null,107,"SOYBEAN","Meal, solvent, 48% CP","Conc","AVG",89.5,53.8,0.7,0.4,1.1000000000000001,9.8000000000000007,6.2,0.5,6.4,29.599999999999994,1,3.6000000000000005,null,15,84.4,0.6,7.5,93,6.29,1.44,0.35,0.7,0.28999999999999998,2.41,0.03,0.13,0.39,2.7,0.23313127396648045,{"$f":"IF(List1[[#This Row],[Price]]=\"\",\"\",CONVERT(List1[[#This Row],[Price]],\"kg\",\"lbm\"))","v":0.51396648044692739}]
[null,null,108,"SOYBEAN","Seeds, whole","Conc","AVG",90,39.200000000000003,2.2999999999999998,0.6,19.2,19.5,13.1,1.2,5.9,18.499999999999986,1,6.4,null,27.8,70.2,2,10.9,85,5.98,1.47,0.32,0.6,0.25,1.99,0.01,0.04,0.31,10,0.20663652411111111,{"$f":"IF(List1[[#This Row],[Price]]=\"\",\"\",CONVERT(List1[[#This Row],[Price]],\"kg\",\"lbm\"))","v":0.45555555555555549}]
[null,null,109,"SOYBEAN","Seeds, whole roasted","Conc","AVG",91,43,6.1,1,19,22.1,14.7,3.1,5,17,1,7.4000000000000021,null,17.8,77,5.2,9.3000000000000007,85,5.98,1.4,0.26,0.64,0.25,1.99,0.01,0.06,0.32,10,"",{"$f":"IF(List1[[#This Row],[Price]]=\"\",\"\",CONVERT(List1[[#This Row],[Price]],\"kg\",\"lbm\"))","v":""}]
[null,null,110,"SOYBEAN","Silage, early maturity","Forage","AVG",40.4,17.399999999999999,2.5,1.4,5.7,46.6,36.9,6.5,12.2,20.599999999999994,1,9.7000000000000028,null,57.3,35.299999999999997,7.4,12.2,65,4.4800000000000004,1.37,1.07,0.37,0.35,2.25,0.01,null,0.22,"","",{"$f":"IF(List1[[#This Row],[Price]]=\"\",\"\",CONVERT(List1[[#This Row],[Price]],\"kg\",\"lbm\"))","v":""}]
[null,null,111,"SUNFLOWER","Meal, solvent","Conc","AVG",92.2,28.4,5.5,1.4,1.4,40.299999999999997,30,9.5,7.7,27.700000000000003,1,10.299999999999997,null,42,52.8,5.2,29.2,90,3.56,2.29,0.48,1,0.63,1.5,0.04,0.12,0.39,6,7.3794854121475059E-2,{"$f":"IF(List1[[#This Row],[Price]]=\"\",\"\",CONVERT(List1[[#This Row],[Price]],\"kg\",\"lbm\"))","v":0.16268980477223427}]
[null,null,112,"SUNFLOWER","Oil seeds, whole","Conc","AVG",91.8,19.2,2.9,1.9,41.9,24,16.7,6,5.0999999999999996,12.700000000000017,1,7.3000000000000007,null,66.7,31.7,1.6,17,80,3.56,2.29,0.71,0.51,0.34,1.06,0.01,null,0.21,"","",{"$f":"IF(List1[[#This Row],[Price]]=\"\",\"\",CONVERT(List1[[#This Row],[Price]],\"kg\",\"lbm\"))","v":""}]
[null,null,113,"TOMATO","Pomace","Conc","AVG",24.7,19.3,8,3.8,13.3,60,17.600000000000001,13.3,5.5,9.9000000000000057,1,42.4,null,41.7,53.3,5,7.4,80,7.4,0.47,0.22,0.47,0.28000000000000003,0.98,0.12,null,0.15,"","",{"$f":"IF(List1[[#This Row],[Price]]=\"\",\"\",CONVERT(List1[[#This Row],[Price]],\"kg\",\"lbm\"))","v":""}]
[null,null,114,"TRITICALE","Silage, headed","Forage","AVG",32,13.8,2.2000000000000002,1,3.8,59.7,39.6,5.8,9.6999999999999993,15.200000000000003,1,20.100000000000001,null,56.6,32.9,10.5,5.9,65,1.83,1.31,0.56999999999999995,0.33,0.19,3.01,0.05,null,0.21,"","",{"$f":"IF(List1[[#This Row],[Price]]=\"\",\"\",CONVERT(List1[[#This Row],[Price]],\"kg\",\"lbm\"))","v":""}]
[null,null,115,"WHEAT","Bran","Conc","AVG",89.1,17.3,2.8,1.4,4.3,42.5,15.5,3,6.3,32.400000000000006,1,27,null,33.700000000000003,62.5,3.8,20,75,4.05,1.57,0.13,1.18,0.53,1.32,0.04,0.16,0.21,29,"",{"$f":"IF(List1[[#This Row],[Price]]=\"\",\"\",CONVERT(List1[[#This Row],[Price]],\"kg\",\"lbm\"))","v":""}]
[null,null,116,"WHEAT","Grain, rolled","Conc","AVG",89.4,14.2,1.7,0.2,2.2999999999999998,13.4,4.4000000000000004,1.7,2,69.8,1.04,9,null,27.1,65.099999999999994,7.8,18.8,95,2.81,1.6,0.05,0.43,0.15,0.5,0.01,0.11,0.15,67,8.6253582662192393E-2,{"$f":"IF(List1[[#This Row],[Price]]=\"\",\"\",CONVERT(List1[[#This Row],[Price]],\"kg\",\"lbm\"))","v":0.19015659955257272}]
[null,null,117,"WHEAT","Hay, headed","Forage","AVG",86.8,9.4,1.1000000000000001,0.8,1.7,61.1,38.1,8.6999999999999993,6.7,22.199999999999989,1,23,null,35,53.1,11.9,4.3,70,4.21,1.77,0.31,0.2,0.13,1.71,0.06,0.38,0.13,"","",{"$f":"IF(List1[[#This Row],[Price]]=\"\",\"\",CONVERT(List1[[#This Row],[Price]],\"kg\",\"lbm\"))","v":""}]
[null,null,118,"WHEAT","Middlings","Conc","AVG",89.5,18.5,2.8,0.5,4.5,36.700000000000003,12.1,4.2,5,38.099999999999994,1,24.6,null,40.299999999999997,53.6,6.1,15.2,90,3.63,1.6,0.16,1.02,0.42,1.38,0.03,0.1,0.18,29,6.588492525139665E-2,{"$f":"IF(List1[[#This Row],[Price]]=\"\",\"\",CONVERT(List1[[#This Row],[Price]],\"kg\",\"lbm\"))","v":0.14525139664804471}]
[null,null,119,"WHEAT","Silage, early head","Forage","AVG",33.299999999999997,12,1.5,1,3.2,59.9,37.6,5.8,8.6,17.799999999999997,1,22.299999999999997,null,69.5,8.6999999999999993,21.8,29,70,4.21,1.77,0.38,0.28999999999999998,0.16,2.2799999999999998,7.0000000000000007E-2,0.83,0.17,"","",{"$f":"IF(List1[[#This Row],[Price]]=\"\",\"\",CONVERT(List1[[#This Row],[Price]],\"kg\",\"lbm\"))","v":""}]
[null,null,120,"WHEAT","Straw","Forage","AVG",92.7,4.8,2.1,1.4,1.6,73,49.4,8.8000000000000007,7.6,15.100000000000009,1,23.6,null,9.3000000000000007,51.4,39.299999999999997,1.4,65,3.25,1.19,0.31,0.1,0.14000000000000001,1.55,0.12,0.6,0.11,1,"",{"$f":"IF(List1[[#This Row],[Price]]=\"\",\"\",CONVERT(List1[[#This Row],[Price]],\"kg\",\"lbm\"))","v":""}]
[null,null,121,"WHEY","Wet, cattle","Animal","AVG",20.8,14.6,0,0,0.7,0,0,0,9.8000000000000007,74.900000000000006,1,0,null,90,10,0,5,95,7.42,1.41,1.37,1.04,0.22,3.32,1.4,2.41,1.1499999999999999,"","",{"$f":"IF(List1[[#This Row],[Price]]=\"\",\"\",CONVERT(List1[[#This Row],[Price]],\"kg\",\"lbm\"))","v":""}]
[null,null,122,"MILK","Skim, dried powder",null,"AVG",null,38.5,null,null,null,null,null,null,null,61.5,null,0,null,null,null,null,null,null,7.71,2.4900000000000002,null,null,null,null,null,null,null,"","",{"$f":"IF(List1[[#This Row],[Price]]=\"\",\"\",CONVERT(List1[[#This Row],[Price]],\"kg\",\"lbm\"))","v":""}]
[null,null,200,"Ammonium Chloride",null,"Minerals-wN","AVG",100,163.63,null,null,null,null,null,null,null,null,null,null,null,100,null,null,null,null,null,null,null,null,null,null,null,66.28,null,"","",{"$f":"IF(List1[[#This Row],[Price]]=\"\",\"\",CONVERT(List1[[#This Row],[Price]],\"kg\",\"lbm\"))","v":""}]
[null,null,201,"Calcium Choride,anhydrous","CaCl2","Minerals","AVG",100,null,null,null,null,null,null,null,null,null,null,null,null,null,null,null,null,null,null,null,36.11,null,null,null,null,63.89,null,"","",{"$f":"IF(List1[[#This Row],[Price]]=\"\",\"\",CONVERT(List1[[#This Row],[Price]],\"kg\",\"lbm\"))","v":""}]
[null,null,202,"Calcium Choride dihydrate","CaCl2.2H20","Minerals","AVG",100,null,null,null,null,null,null,null,null,null,null,null,null,null,null,null,null,null,null,null,27.53,null,null,null,null,48.23,null,"","",{"$f":"IF(List1[[#This Row],[Price]]=\"\",\"\",CONVERT(List1[[#This Row],[Price]],\"kg\",\"lbm\"))","v":""}]
[null,null,203,"Magnesium Chloride, Hexahydrate","MgCl2.6H20","Minerals","AVG",100,null,null,null,null,null,null,null,null,null,null,null,null,null,null,null,null,null,null,null,null,null,11.96,null,null,34.880000000000003,null,"","",{"$f":"IF(List1[[#This Row],[Price]]=\"\",\"\",CONVERT(List1[[#This Row],[Price]],\"kg\",\"lbm\"))","v":""}]
[null,null,204,"Bone Meal","Steamed","Minerals","AVG",97,13.2,null,null,null,null,null,null,null,null,null,null,null,null,null,100,null,null,null,null,30.71,12.86,null,null,5.69,null,2.5099999999999998,"","",{"$f":"IF(List1[[#This Row],[Price]]=\"\",\"\",CONVERT(List1[[#This Row],[Price]],\"kg\",\"lbm\"))","v":""}]
[null,null,205,"Calcium carbonate","CaCO3","Minerals","AVG",100,null,null,null,null,null,null,null,null,null,null,null,null,null,null,null,null,null,null,null,39.39,null,null,null,null,null,null,"","",{"$f":"IF(List1[[#This Row],[Price]]=\"\",\"\",CONVERT(List1[[#This Row],[Price]],\"kg\",\"lbm\"))","v":""}]
[null,null,206,"Dicalcium Phosphate, dibasic","CaHPO4","Minerals","AVG",97,null,null,null,null,null,null,null,null,null,null,null,null,null,null,null,null,null,null,null,22,19.3,null,null,null,null,1.1399999999999999,"","",{"$f":"IF(List1[[#This Row],[Price]]=\"\",\"\",CONVERT(List1[[#This Row],[Price]],\"kg\",\"lbm\"))","v":""}]
[null,null,207,"Calcium Phosphate monobasic","Ca(H2PO4)2","Minerals","AVG",97,null,null,null,null,null,null,null,null,null,null,null,null,null,null,null,null,null,null,null,16.399999999999999,21.6,null,null,null,null,1.22,"","",{"$f":"IF(List1[[#This Row],[Price]]=\"\",\"\",CONVERT(List1[[#This Row],[Price]],\"kg\",\"lbm\"))","v":""}]
[null,null,208,"Calcium Sulfate, dihydrate","CaSO4.2H20","Minerals","AVG",97,null,null,null,null,null,null,null,null,null,null,null,null,null,null,null,null,null,null,null,23.28,null,null,null,null,null,18.62,"","",{"$f":"IF(List1[[#This Row],[Price]]=\"\",\"\",CONVERT(List1[[#This Row],[Price]],\"kg\",\"lbm\"))","v":""}]
[null,null,209,"Limestone, ground",null,"Minerals","AVG",100,null,null,null,null,null,null,null,null,null,null,null,null,null,null,null,null,null,null,null,34,null,2.06,null,null,null,null,"","",{"$f":"IF(List1[[#This Row],[Price]]=\"\",\"\",CONVERT(List1[[#This Row],[Price]],\"kg\",\"lbm\"))","v":""}]
[null,null,210,"Limestone, dolomite",null,"Minerals","AVG",99,null,null,null,null,null,null,null,null,null,null,null,null,null,null,null,null,null,null,null,22.3,null,9.99,null,null,null,null,"","",{"$f":"IF(List1[[#This Row],[Price]]=\"\",\"\",CONVERT(List1[[#This Row],[Price]],\"kg\",\"lbm\"))","v":""}]
[null,null,211,"Magnesium Oxide","MgO","Minerals","AVG",98,null,null,null,null,null,null,null,null,null,null,null,null,null,null,null,null,null,null,null,3.07,null,56.2,null,null,null,null,"","",{"$f":"IF(List1[[#This Row],[Price]]=\"\",\"\",CONVERT(List1[[#This Row],[Price]],\"kg\",\"lbm\"))","v":""}]
[null,null,212,"Potassium Chloride","KCl","Minerals","AVG",100,null,null,null,null,null,null,null,null,null,null,null,null,null,null,null,null,null,null,null,null,null,null,50,1,47.3,null,"","",{"$f":"IF(List1[[#This Row],[Price]]=\"\",\"\",CONVERT(List1[[#This Row],[Price]],\"kg\",\"lbm\"))","v":""}]
[null,null,213,"Phosphate rock",null,"Minerals","AVG",100,null,null,null,null,null,null,null,null,null,null,null,null,null,null,null,null,null,null,null,35,13,null,null,null,null,null,"","",{"$f":"IF(List1[[#This Row],[Price]]=\"\",\"\",CONVERT(List1[[#This Row],[Price]],\"kg\",\"lbm\"))","v":""}]
[null,null,214,"Sodium Choride","NaCl","Minerals","AVG",100,null,null,null,null,null,null,null,null,null,null,null,null,null,null,null,null,null,null,null,null,null,null,null,39.340000000000003,60.66,null,"","",{"$f":"IF(List1[[#This Row],[Price]]=\"\",\"\",CONVERT(List1[[#This Row],[Price]],\"kg\",\"lbm\"))","v":""}]
[null,null,215,"Sodium Bicarbonate","NaHCO3","Minerals","AVG",100,null,null,null,null,null,null,null,null,null,null,null,null,null,null,null,null,null,null,null,null,null,null,null,27,null,null,"","",{"$f":"IF(List1[[#This Row],[Price]]=\"\",\"\",CONVERT(List1[[#This Row],[Price]],\"kg\",\"lbm\"))","v":""}]
[null,null,216,"Sodium Phosphate, Monohydrate","NaH2PO4.H20","Minerals","AVG",97,null,null,null,null,null,null,null,null,null,null,null,null,null,null,null,null,null,null,null,null,22.5,null,null,16.68,null,null,"","",{"$f":"IF(List1[[#This Row],[Price]]=\"\",\"\",CONVERT(List1[[#This Row],[Price]],\"kg\",\"lbm\"))","v":""}]
[null,null,217,"Sodium Sulfate decahydrate","Na2SO4.10H20","Minerals","AVG",97,null,null,null,null,null,null,null,null,null,null,null,null,null,null,null,null,null,null,null,null,null,null,null,14.27,null,9.9499999999999993,"","",{"$f":"IF(List1[[#This Row],[Price]]=\"\",\"\",CONVERT(List1[[#This Row],[Price]],\"kg\",\"lbm\"))","v":""}]
[null,null,218,"Potassium Sulfate","K2SO4","Minerals","AVG",98,null,null,null,null,null,null,null,null,null,null,null,null,null,null,null,null,null,null,null,null,null,null,41.84,null,null,17.350000000000001,"","",{"$f":"IF(List1[[#This Row],[Price]]=\"\",\"\",CONVERT(List1[[#This Row],[Price]],\"kg\",\"lbm\"))","v":""}]
[null,null,219,"Ammonium Sulfate","(NH4)2SO4","Minerals-wN","AVG",100,134.1,null,null,null,null,null,null,null,null,null,null,null,100,null,null,null,null,null,null,null,null,null,null,null,null,24.1,"","",{"$f":"IF(List1[[#This Row],[Price]]=\"\",\"\",CONVERT(List1[[#This Row],[Price]],\"kg\",\"lbm\"))","v":""}]
[null,null,220,"Ammonium Phosphate, dibasic","(NH4)H2PO4","Minerals-wN","AVG",97,70.900000000000006,null,null,null,null,null,null,null,null,null,null,null,100,null,null,null,null,null,null,null,24.74,null,null,null,null,1.46,"","",{"$f":"IF(List1[[#This Row],[Price]]=\"\",\"\",CONVERT(List1[[#This Row],[Price]],\"kg\",\"lbm\"))","v":""}]

{"sheet":"diet formulation","index":4,"n_rows":40,"n_cols":35,"rows_kept":40,"cut":false,"hidden":false,"merged":[[23,33,23,34],[27,3,28,4],[22,2,22,34],[0,32,0,34],[0,1,0,30],[1,1,2,1],[1,10,2,10],[28,12,28,13],[1,8,2,8],[1,9,2,9],[29,7,31,10],[23,3,23,4],[24,3,24,4],[25,3,25,4],[23,12,23,14],[25,12,25,14],[27,12,27,13]]}
[null,"Feed Ingredients",null,null,null,null,null,null,null,null,null,null,null,null,null,null,null,null,null,null,null,null,null,null,null,null,null,null,null,null,null,null,"Costs"]
[null,"Enter feed number here",null,null,null,null,null,null,"Lower limit in Diet DM,  %","% in Diet DM","Higher Limit in Diet DM, %",null,null,"% \"as-is\"","% of the TMR","% of DM","% of DM","% of DM","% of DM","% of DM","% of CP","% of CP","% of CP","%/h",null,"%","% of DM","% of DM","% of DM","% of DM","% of DM",null,"$/Lbs of DM","$/day","$/kg of DM"]
[null,null,"Name","Description","Lower limit,\n Lbs of DM","Lbs of DM fed","Higher Limit,\n Lbs of DM","Kg of DM fed",null,null,null,null,"TDN eq. Cl.","DM","forage (DM basis)","CP","EE","NDF","Forage NDF","NFC","A","B","C","B Frc. Kd","B frc. Kp","RUP Dig","RDP","RUP","Ca","P","starch",null,"Feed Cost","Feed Cost in the TMR","Feed Cost"]
[null,null,2,3,null,null,null,null,null,null,null,null,4,6,null,7,10,11,null,15,19,20,21,22,null,23,null,null,26,27,33,null,34,34,35]
[null,null,{"$f":"IF($B5=\"\",\"\",INDEX('Feed Table'!$C$14:$AJ$177,MATCH(1,(List1[Entry]=$B5)*(List1[AVG-SD]=\"AVG\"),0),C$4))","v":""},{"$f":"IF($B5=\"\",\"\",INDEX('Feed Table'!$C$14:$AJ$177,MATCH(1,(List1[Entry]=$B5)*(List1[AVG-SD]=\"AVG\"),0),D$4))","v":""},{"$f":"IF(F5=\"\",\"\",I5/100*$F$25)","v":0},9.9999999999999995E-7,{"$f":"IF(F5=\"\",\"\",K5/100*$F$25)","v":9.9999999999999995E-7},{"$f":"IF(F5=\"\",\"\",CONVERT(F5,\"lbm\",\"kg\"))","v":4.5359237E-7},0,{"$f":"IF(OR(B5=\"\",F5=\"\"),0,F5/SUM($F$5:$F$21))","v":0},100,null,{"$f":"IF($B5=\"\",\"\",INDEX('Feed Table'!$C$14:$AJ$177,MATCH(1,(List1[Entry]=$B5)*(List1[AVG-SD]=\"AVG\"),0),M$4))","v":""},{"$f":"IF($B5=\"\",\"\",INDEX('Feed Table'!$C$14:$AJ$177,MATCH(1,(List1[Entry]=$B5)*(List1[AVG-SD]=\"AVG\"),0),N$4))","v":""},{"$f":"+IF(M5=\"forage\",J5,\"-\")","v":"-"},{"$f":"IF($B5=\"\",\"\",INDEX('Feed Table'!$C$14:$AJ$177,MATCH(1,(List1[Entry]=$B5)*(List1[AVG-SD]=\"AVG\"),0),P$4))","v":""},{"$f":"IF($B5=\"\",\"\",INDEX('Feed Table'!$C$14:$AJ$177,MATCH(1,(List1[Entry]=$B5)*(List1[AVG-SD]=\"AVG\"),0),Q$4))","v":""},{"$f":"IF($B5=\"\",\"\",INDEX('Feed Table'!$C$14:$AJ$177,MATCH(1,(List1[Entry]=$B5)*(List1[AVG-SD]=\"AVG\"),0),R$4))","v":""},{"$f":"IF(M5=\"Forage\",R5,\"\")","v":""},{"$f":"IF($B5=\"\",\"\",INDEX('Feed Table'!$C$14:$AJ$177,MATCH(1,(List1[Entry]=$B5)*(List1[AVG-SD]=\"AVG\"),0),T$4))","v":""},{"$f":"IF($B5=\"\",\"\",INDEX('Feed Table'!$C$14:$AJ$177,MATCH(1,(List1[Entry]=$B5)*(List1[AVG-SD]=\"AVG\"),0),U$4))","v":""},{"$f":"IF($B5=\"\",\"\",INDEX('Feed Table'!$C$14:$AJ$177,MATCH(1,(List1[Entry]=$B5)*(List1[AVG-SD]=\"AVG\"),0),V$4))","v":""},{"$f":"IF($B5=\"\",\"\",INDEX('Feed Table'!$C$14:$AJ$177,MATCH(1,(List1[Entry]=$B5)*(List1[AVG-SD]=\"AVG\"),0),W$4))","v":""},{"$f":"IF($B5=\"\",\"\",INDEX('Feed Table'!$C$14:$AJ$177,MATCH(1,(List1[Entry]=$B5)*(List1[AVG-SD]=\"AVG\"),0),X$4))","v":""},{"$f":"IF($B5=\"\",\"\",IF(AND(M5=\"Forage\",N5>=70),3.362+0.479*'lists to hide'!$E$14-0.007*(1-$O$25)-0.017*R5,IF(M5=\"Forage\",3.054+0.614*'lists to hide'!$E$14,IF(M5=\"Conc\",2.904+1.375*'lists to hide'!$E$14-0.02*(1-$O$25),0))))","v":""},{"$f":"IF($B5=\"\",\"\",INDEX('Feed Table'!$C$14:$AJ$177,MATCH(1,(List1[Entry]=$B5)*(List1[AVG-SD]=\"AVG\"),0),Z$4))","v":""},{"$f":"IF(M5=\"Minerals\",0,IF(M5=\"Minerals-wN\",P5,IF(Y5=\"\",\"\",(U5+V5*(X5/(X5+Y5)))*P5/100)))","v":""},{"$f":"IF(M5=\"minerals\",0,IF(M5=\"minerals-wN\",0,IF(Y5=\"\",\"\",(W5+V5*(Y5/(X5+Y5)))*P5/100)))","v":""},{"$f":"IF($B5=\"\",\"\",INDEX('Feed Table'!$C$14:$AJ$177,MATCH(1,(List1[Entry]=$B5)*(List1[AVG-SD]=\"AVG\"),0),AC$4))","v":""},{"$f":"IF($B5=\"\",\"\",INDEX('Feed Table'!$C$14:$AJ$177,MATCH(1,(List1[Entry]=$B5)*(List1[AVG-SD]=\"AVG\"),0),AD$4))","v":""},{"$f":"IF($B5=\"\",\"\",INDEX('Feed Table'!$C$14:$AJ$177,MATCH(1,(List1[Entry]=$B5)*(List1[AVG-SD]=\"AVG\"),0),AE$4))","v":""},null,{"$f":"IF($B5=\"\",\"\",INDEX('Feed Table'!$C$14:$AJ$177,MATCH(1,(List1[Entry]=$B5)*(List1[AVG-SD]=\"AVG\"),0),AG$4))","v":""},{"$f":"+IF(AG5=\"\",\"\",AG5*F5)","v":""},{"$f":"IF($B5=\"\",\"\",INDEX('Feed Table'!$C$14:$AK$177,MATCH(1,(List1[Entry]=$B5)*(List1[AVG-SD]=\"AVG\"),0),AI$4))","v":""}]
[null,null,{"$f":"IF($B6=\"\",\"\",INDEX('Feed Table'!$C$14:$AJ$177,MATCH(1,(List1[Entry]=$B6)*(List1[AVG-SD]=\"AVG\"),0),C$4))","v":""},{"$f":"IF($B6=\"\",\"\",INDEX('Feed Table'!$C$14:$AJ$177,MATCH(1,(List1[Entry]=$B6)*(List1[AVG-SD]=\"AVG\"),0),D$4))","v":""},0,0,9.9999999999999995E-7,{"$f":"IF(F6=\"\",\"\",CONVERT(F6,\"lbm\",\"kg\"))","v":0},0,0,100,null,{"$f":"IF($B6=\"\",\"\",INDEX('Feed Table'!$C$14:$AJ$177,MATCH(1,(List1[Entry]=$B6)*(List1[AVG-SD]=\"AVG\"),0),M$4))","v":""},{"$f":"IF($B6=\"\",\"\",INDEX('Feed Table'!$C$14:$AJ$177,MATCH(1,(List1[Entry]=$B6)*(List1[AVG-SD]=\"AVG\"),0),N$4))","v":""},{"$f":"+IF(M6=\"forage\",J6,\"-\")","v":"-"},{"$f":"IF($B6=\"\",\"\",INDEX('Feed Table'!$C$14:$AJ$177,MATCH(1,(List1[Entry]=$B6)*(List1[AVG-SD]=\"AVG\"),0),P$4))","v":""},{"$f":"IF($B6=\"\",\"\",INDEX('Feed Table'!$C$14:$AJ$177,MATCH(1,(List1[Entry]=$B6)*(List1[AVG-SD]=\"AVG\"),0),Q$4))","v":""},{"$f":"IF($B6=\"\",\"\",INDEX('Feed Table'!$C$14:$AJ$177,MATCH(1,(List1[Entry]=$B6)*(List1[AVG-SD]=\"AVG\"),0),R$4))","v":""},"",{"$f":"IF($B6=\"\",\"\",INDEX('Feed Table'!$C$14:$AJ$177,MATCH(1,(List1[Entry]=$B6)*(List1[AVG-SD]=\"AVG\"),0),T$4))","v":""},{"$f":"IF($B6=\"\",\"\",INDEX('Feed Table'!$C$14:$AJ$177,MATCH(1,(List1[Entry]=$B6)*(List1[AVG-SD]=\"AVG\"),0),U$4))","v":""},{"$f":"IF($B6=\"\",\"\",INDEX('Feed Table'!$C$14:$AJ$177,MATCH(1,(List1[Entry]=$B6)*(List1[AVG-SD]=\"AVG\"),0),V$4))","v":""},{"$f":"IF($B6=\"\",\"\",INDEX('Feed Table'!$C$14:$AJ$177,MATCH(1,(List1[Entry]=$B6)*(List1[AVG-SD]=\"AVG\"),0),W$4))","v":""},{"$f":"IF($B6=\"\",\"\",INDEX('Feed Table'!$C$14:$AJ$177,MATCH(1,(List1[Entry]=$B6)*(List1[AVG-SD]=\"AVG\"),0),X$4))","v":""},{"$f":"IF($B6=\"\",\"\",IF(AND(M6=\"Forage\",N6>=70),3.362+0.479*'lists to hide'!$E$14-0.007*(1-$O$25)-0.017*R6,IF(M6=\"Forage\",3.054+0.614*'lists to hide'!$E$14,IF(M6=\"Conc\",2.904+1.375*'lists to hide'!$E$14-0.02*(1-$O$25),0))))","v":""},{"$f":"IF($B6=\"\",\"\",INDEX('Feed Table'!$C$14:$AJ$177,MATCH(1,(List1[Entry]=$B6)*(List1[AVG-SD]=\"AVG\"),0),Z$4))","v":""},"","",{"$f":"IF($B6=\"\",\"\",INDEX('Feed Table'!$C$14:$AJ$177,MATCH(1,(List1[Entry]=$B6)*(List1[AVG-SD]=\"AVG\"),0),AC$4))","v":""},{"$f":"IF($B6=\"\",\"\",INDEX('Feed Table'!$C$14:$AJ$177,MATCH(1,(List1[Entry]=$B6)*(List1[AVG-SD]=\"AVG\"),0),AD$4))","v":""},{"$f":"IF($B6=\"\",\"\",INDEX('Feed Table'!$C$14:$AJ$177,MATCH(1,(List1[Entry]=$B6)*(List1[AVG-SD]=\"AVG\"),0),AE$4))","v":""},null,{"$f":"IF($B6=\"\",\"\",INDEX('Feed Table'!$C$14:$AJ$177,MATCH(1,(List1[Entry]=$B6)*(List1[AVG-SD]=\"AVG\"),0),AG$4))","v":""},{"$f":"+IF(AG6=\"\",\"\",AG6*F6)","v":""},{"$f":"IF($B6=\"\",\"\",INDEX('Feed Table'!$C$14:$AK$177,MATCH(1,(List1[Entry]=$B6)*(List1[AVG-SD]=\"AVG\"),0),AI$4))","v":""}]
[null,null,{"$f":"IF($B7=\"\",\"\",INDEX('Feed Table'!$C$14:$AJ$177,MATCH(1,(List1[Entry]=$B7)*(List1[AVG-SD]=\"AVG\"),0),C$4))","v":""},{"$f":"IF($B7=\"\",\"\",INDEX('Feed Table'!$C$14:$AJ$177,MATCH(1,(List1[Entry]=$B7)*(List1[AVG-SD]=\"AVG\"),0),D$4))","v":""},0,0,9.9999999999999995E-7,0,0,0,100,null,{"$f":"IF($B7=\"\",\"\",INDEX('Feed Table'!$C$14:$AJ$177,MATCH(1,(List1[Entry]=$B7)*(List1[AVG-SD]=\"AVG\"),0),M$4))","v":""},{"$f":"IF($B7=\"\",\"\",INDEX('Feed Table'!$C$14:$AJ$177,MATCH(1,(List1[Entry]=$B7)*(List1[AVG-SD]=\"AVG\"),0),N$4))","v":""},"-",{"$f":"IF($B7=\"\",\"\",INDEX('Feed Table'!$C$14:$AJ$177,MATCH(1,(List1[Entry]=$B7)*(List1[AVG-SD]=\"AVG\"),0),P$4))","v":""},{"$f":"IF($B7=\"\",\"\",INDEX('Feed Table'!$C$14:$AJ$177,MATCH(1,(List1[Entry]=$B7)*(List1[AVG-SD]=\"AVG\"),0),Q$4))","v":""},{"$f":"IF($B7=\"\",\"\",INDEX('Feed Table'!$C$14:$AJ$177,MATCH(1,(List1[Entry]=$B7)*(List1[AVG-SD]=\"AVG\"),0),R$4))","v":""},"",{"$f":"IF($B7=\"\",\"\",INDEX('Feed Table'!$C$14:$AJ$177,MATCH(1,(List1[Entry]=$B7)*(List1[AVG-SD]=\"AVG\"),0),T$4))","v":""},{"$f":"IF($B7=\"\",\"\",INDEX('Feed Table'!$C$14:$AJ$177,MATCH(1,(List1[Entry]=$B7)*(List1[AVG-SD]=\"AVG\"),0),U$4))","v":""},{"$f":"IF($B7=\"\",\"\",INDEX('Feed Table'!$C$14:$AJ$177,MATCH(1,(List1[Entry]=$B7)*(List1[AVG-SD]=\"AVG\"),0),V$4))","v":""},{"$f":"IF($B7=\"\",\"\",INDEX('Feed Table'!$C$14:$AJ$177,MATCH(1,(List1[Entry]=$B7)*(List1[AVG-SD]=\"AVG\"),0),W$4))","v":""},{"$f":"IF($B7=\"\",\"\",INDEX('Feed Table'!$C$14:$AJ$177,MATCH(1,(List1[Entry]=$B7)*(List1[AVG-SD]=\"AVG\"),0),X$4))","v":""},{"$f":"IF($B7=\"\",\"\",IF(AND(M7=\"Forage\",N7>=70),3.362+0.479*'lists to hide'!$E$14-0.007*(1-$O$25)-0.017*R7,IF(M7=\"Forage\",3.054+0.614*'lists to hide'!$E$14,IF(M7=\"Conc\",2.904+1.375*'lists to hide'!$E$14-0.02*(1-$O$25),0))))","v":""},{"$f":"IF($B7=\"\",\"\",INDEX('Feed Table'!$C$14:$AJ$177,MATCH(1,(List1[Entry]=$B7)*(List1[AVG-SD]=\"AVG\"),0),Z$4))","v":""},"","",{"$f":"IF($B7=\"\",\"\",INDEX('Feed Table'!$C$14:$AJ$177,MATCH(1,(List1[Entry]=$B7)*(List1[AVG-SD]=\"AVG\"),0),AC$4))","v":""},{"$f":"IF($B7=\"\",\"\",INDEX('Feed Table'!$C$14:$AJ$177,MATCH(1,(List1[Entry]=$B7)*(List1[AVG-SD]=\"AVG\"),0),AD$4))","v":""},{"$f":"IF($B7=\"\",\"\",INDEX('Feed Table'!$C$14:$AJ$177,MATCH(1,(List1[Entry]=$B7)*(List1[AVG-SD]=\"AVG\"),0),AE$4))","v":""},null,{"$f":"IF($B7=\"\",\"\",INDEX('Feed Table'!$C$14:$AJ$177,MATCH(1,(List1[Entry]=$B7)*(List1[AVG-SD]=\"AVG\"),0),AG$4))","v":""},"",{"$f":"IF($B7=\"\",\"\",INDEX('Feed Table'!$C$14:$AK$177,MATCH(1,(List1[Entry]=$B7)*(List1[AVG-SD]=\"AVG\"),0),AI$4))","v":""}]
[null,null,{"$f":"IF($B8=\"\",\"\",INDEX('Feed Table'!$C$14:$AJ$177,MATCH(1,(List1[Entry]=$B8)*(List1[AVG-SD]=\"AVG\"),0),C$4))","v":""},{"$f":"IF($B8=\"\",\"\",INDEX('Feed Table'!$C$14:$AJ$177,MATCH(1,(List1[Entry]=$B8)*(List1[AVG-SD]=\"AVG\"),0),D$4))","v":""},0,0,9.9999999999999995E-7,0,0,0,100,null,{"$f":"IF($B8=\"\",\"\",INDEX('Feed Table'!$C$14:$AJ$177,MATCH(1,(List1[Entry]=$B8)*(List1[AVG-SD]=\"AVG\"),0),M$4))","v":""},{"$f":"IF($B8=\"\",\"\",INDEX('Feed Table'!$C$14:$AJ$177,MATCH(1,(List1[Entry]=$B8)*(List1[AVG-SD]=\"AVG\"),0),N$4))","v":""},"-",{"$f":"IF($B8=\"\",\"\",INDEX('Feed Table'!$C$14:$AJ$177,MATCH(1,(List1[Entry]=$B8)*(List1[AVG-SD]=\"AVG\"),0),P$4))","v":""},{"$f":"IF($B8=\"\",\"\",INDEX('Feed Table'!$C$14:$AJ$177,MATCH(1,(List1[Entry]=$B8)*(List1[AVG-SD]=\"AVG\"),0),Q$4))","v":""},{"$f":"IF($B8=\"\",\"\",INDEX('Feed Table'!$C$14:$AJ$177,MATCH(1,(List1[Entry]=$B8)*(List1[AVG-SD]=\"AVG\"),0),R$4))","v":""},"",{"$f":"IF($B8=\"\",\"\",INDEX('Feed Table'!$C$14:$AJ$177,MATCH(1,(List1[Entry]=$B8)*(List1[AVG-SD]=\"AVG\"),0),T$4))","v":""},{"$f":"IF($B8=\"\",\"\",INDEX('Feed Table'!$C$14:$AJ$177,MATCH(1,(List1[Entry]=$B8)*(List1[AVG-SD]=\"AVG\"),0),U$4))","v":""},{"$f":"IF($B8=\"\",\"\",INDEX('Feed Table'!$C$14:$AJ$177,MATCH(1,(List1[Entry]=$B8)*(List1[AVG-SD]=\"AVG\"),0),V$4))","v":""},{"$f":"IF($B8=\"\",\"\",INDEX('Feed Table'!$C$14:$AJ$177,MATCH(1,(List1[Entry]=$B8)*(List1[AVG-SD]=\"AVG\"),0),W$4))","v":""},{"$f":"IF($B8=\"\",\"\",INDEX('Feed Table'!$C$14:$AJ$177,MATCH(1,(List1[Entry]=$B8)*(List1[AVG-SD]=\"AVG\"),0),X$4))","v":""},{"$f":"IF($B8=\"\",\"\",IF(AND(M8=\"Forage\",N8>=70),3.362+0.479*'lists to hide'!$E$14-0.007*(1-$O$25)-0.017*R8,IF(M8=\"Forage\",3.054+0.614*'lists to hide'!$E$14,IF(M8=\"Conc\",2.904+1.375*'lists to hide'!$E$14-0.02*(1-$O$25),0))))","v":""},{"$f":"IF($B8=\"\",\"\",INDEX('Feed Table'!$C$14:$AJ$177,MATCH(1,(List1[Entry]=$B8)*(List1[AVG-SD]=\"AVG\"),0),Z$4))","v":""},"","",{"$f":"IF($B8=\"\",\"\",INDEX('Feed Table'!$C$14:$AJ$177,MATCH(1,(List1[Entry]=$B8)*(List1[AVG-SD]=\"AVG\"),0),AC$4))","v":""},{"$f":"IF($B8=\"\",\"\",INDEX('Feed Table'!$C$14:$AJ$177,MATCH(1,(List1[Entry]=$B8)*(List1[AVG-SD]=\"AVG\"),0),AD$4))","v":""},{"$f":"IF($B8=\"\",\"\",INDEX('Feed Table'!$C$14:$AJ$177,MATCH(1,(List1[Entry]=$B8)*(List1[AVG-SD]=\"AVG\"),0),AE$4))","v":""},null,{"$f":"IF($B8=\"\",\"\",INDEX('Feed Table'!$C$14:$AJ$177,MATCH(1,(List1[Entry]=$B8)*(List1[AVG-SD]=\"AVG\"),0),AG$4))","v":""},"",{"$f":"IF($B8=\"\",\"\",INDEX('Feed Table'!$C$14:$AK$177,MATCH(1,(List1[Entry]=$B8)*(List1[AVG-SD]=\"AVG\"),0),AI$4))","v":""}]
[null,null,{"$f":"IF($B9=\"\",\"\",INDEX('Feed Table'!$C$14:$AJ$177,MATCH(1,(List1[Entry]=$B9)*(List1[AVG-SD]=\"AVG\"),0),C$4))","v":""},{"$f":"IF($B9=\"\",\"\",INDEX('Feed Table'!$C$14:$AJ$177,MATCH(1,(List1[Entry]=$B9)*(List1[AVG-SD]=\"AVG\"),0),D$4))","v":""},0,0,9.9999999999999995E-7,0,0,0,100,null,{"$f":"IF($B9=\"\",\"\",INDEX('Feed Table'!$C$14:$AJ$177,MATCH(1,(List1[Entry]=$B9)*(List1[AVG-SD]=\"AVG\"),0),M$4))","v":""},{"$f":"IF($B9=\"\",\"\",INDEX('Feed Table'!$C$14:$AJ$177,MATCH(1,(List1[Entry]=$B9)*(List1[AVG-SD]=\"AVG\"),0),N$4))","v":""},"-",{"$f":"IF($B9=\"\",\"\",INDEX('Feed Table'!$C$14:$AJ$177,MATCH(1,(List1[Entry]=$B9)*(List1[AVG-SD]=\"AVG\"),0),P$4))","v":""},{"$f":"IF($B9=\"\",\"\",INDEX('Feed Table'!$C$14:$AJ$177,MATCH(1,(List1[Entry]=$B9)*(List1[AVG-SD]=\"AVG\"),0),Q$4))","v":""},{"$f":"IF($B9=\"\",\"\",INDEX('Feed Table'!$C$14:$AJ$177,MATCH(1,(List1[Entry]=$B9)*(List1[AVG-SD]=\"AVG\"),0),R$4))","v":""},"",{"$f":"IF($B9=\"\",\"\",INDEX('Feed Table'!$C$14:$AJ$177,MATCH(1,(List1[Entry]=$B9)*(List1[AVG-SD]=\"AVG\"),0),T$4))","v":""},{"$f":"IF($B9=\"\",\"\",INDEX('Feed Table'!$C$14:$AJ$177,MATCH(1,(List1[Entry]=$B9)*(List1[AVG-SD]=\"AVG\"),0),U$4))","v":""},{"$f":"IF($B9=\"\",\"\",INDEX('Feed Table'!$C$14:$AJ$177,MATCH(1,(List1[Entry]=$B9)*(List1[AVG-SD]=\"AVG\"),0),V$4))","v":""},{"$f":"IF($B9=\"\",\"\",INDEX('Feed Table'!$C$14:$AJ$177,MATCH(1,(List1[Entry]=$B9)*(List1[AVG-SD]=\"AVG\"),0),W$4))","v":""},{"$f":"IF($B9=\"\",\"\",INDEX('Feed Table'!$C$14:$AJ$177,MATCH(1,(List1[Entry]=$B9)*(List1[AVG-SD]=\"AVG\"),0),X$4))","v":""},{"$f":"IF($B9=\"\",\"\",IF(AND(M9=\"Forage\",N9>=70),3.362+0.479*'lists to hide'!$E$14-0.007*(1-$O$25)-0.017*R9,IF(M9=\"Forage\",3.054+0.614*'lists to hide'!$E$14,IF(M9=\"Conc\",2.904+1.375*'lists to hide'!$E$14-0.02*(1-$O$25),0))))","v":""},{"$f":"IF($B9=\"\",\"\",INDEX('Feed Table'!$C$14:$AJ$177,MATCH(1,(List1[Entry]=$B9)*(List1[AVG-SD]=\"AVG\"),0),Z$4))","v":""},"","",{"$f":"IF($B9=\"\",\"\",INDEX('Feed Table'!$C$14:$AJ$177,MATCH(1,(List1[Entry]=$B9)*(List1[AVG-SD]=\"AVG\"),0),AC$4))","v":""},{"$f":"IF($B9=\"\",\"\",INDEX('Feed Table'!$C$14:$AJ$177,MATCH(1,(List1[Entry]=$B9)*(List1[AVG-SD]=\"AVG\"),0),AD$4))","v":""},{"$f":"IF($B9=\"\",\"\",INDEX('Feed Table'!$C$14:$AJ$177,MATCH(1,(List1[Entry]=$B9)*(List1[AVG-SD]=\"AVG\"),0),AE$4))","v":""},null,{"$f":"IF($B9=\"\",\"\",INDEX('Feed Table'!$C$14:$AJ$177,MATCH(1,(List1[Entry]=$B9)*(List1[AVG-SD]=\"AVG\"),0),AG$4))","v":""},"",{"$f":"IF($B9=\"\",\"\",INDEX('Feed Table'!$C$14:$AK$177,MATCH(1,(List1[Entry]=$B9)*(List1[AVG-SD]=\"AVG\"),0),AI$4))","v":""}]
[null,null,{"$f":"IF($B10=\"\",\"\",INDEX('Feed Table'!$C$14:$AJ$177,MATCH(1,(List1[Entry]=$B10)*(List1[AVG-SD]=\"AVG\"),0),C$4))","v":""},{"$f":"IF($B10=\"\",\"\",INDEX('Feed Table'!$C$14:$AJ$177,MATCH(1,(List1[Entry]=$B10)*(List1[AVG-SD]=\"AVG\"),0),D$4))","v":""},0,0,9.9999999999999995E-7,0,0,0,100,null,{"$f":"IF($B10=\"\",\"\",INDEX('Feed Table'!$C$14:$AJ$177,MATCH(1,(List1[Entry]=$B10)*(List1[AVG-SD]=\"AVG\"),0),M$4))","v":""},{"$f":"IF($B10=\"\",\"\",INDEX('Feed Table'!$C$14:$AJ$177,MATCH(1,(List1[Entry]=$B10)*(List1[AVG-SD]=\"AVG\"),0),N$4))","v":""},"-",{"$f":"IF($B10=\"\",\"\",INDEX('Feed Table'!$C$14:$AJ$177,MATCH(1,(List1[Entry]=$B10)*(List1[AVG-SD]=\"AVG\"),0),P$4))","v":""},{"$f":"IF($B10=\"\",\"\",INDEX('Feed Table'!$C$14:$AJ$177,MATCH(1,(List1[Entry]=$B10)*(List1[AVG-SD]=\"AVG\"),0),Q$4))","v":""},{"$f":"IF($B10=\"\",\"\",INDEX('Feed Table'!$C$14:$AJ$177,MATCH(1,(List1[Entry]=$B10)*(List1[AVG-SD]=\"AVG\"),0),R$4))","v":""},"",{"$f":"IF($B10=\"\",\"\",INDEX('Feed Table'!$C$14:$AJ$177,MATCH(1,(List1[Entry]=$B10)*(List1[AVG-SD]=\"AVG\"),0),T$4))","v":""},{"$f":"IF($B10=\"\",\"\",INDEX('Feed Table'!$C$14:$AJ$177,MATCH(1,(List1[Entry]=$B10)*(List1[AVG-SD]=\"AVG\"),0),U$4))","v":""},{"$f":"IF($B10=\"\",\"\",INDEX('Feed Table'!$C$14:$AJ$177,MATCH(1,(List1[Entry]=$B10)*(List1[AVG-SD]=\"AVG\"),0),V$4))","v":""},{"$f":"IF($B10=\"\",\"\",INDEX('Feed Table'!$C$14:$AJ$177,MATCH(1,(List1[Entry]=$B10)*(List1[AVG-SD]=\"AVG\"),0),W$4))","v":""},{"$f":"IF($B10=\"\",\"\",INDEX('Feed Table'!$C$14:$AJ$177,MATCH(1,(List1[Entry]=$B10)*(List1[AVG-SD]=\"AVG\"),0),X$4))","v":""},{"$f":"IF($B10=\"\",\"\",IF(AND(M10=\"Forage\",N10>=70),3.362+0.479*'lists to hide'!$E$14-0.007*(1-$O$25)-0.017*R10,IF(M10=\"Forage\",3.054+0.614*'lists to hide'!$E$14,IF(M10=\"Conc\",2.904+1.375*'lists to hide'!$E$14-0.02*(1-$O$25),0))))","v":""},{"$f":"IF($B10=\"\",\"\",INDEX('Feed Table'!$C$14:$AJ$177,MATCH(1,(List1[Entry]=$B10)*(List1[AVG-SD]=\"AVG\"),0),Z$4))","v":""},"","",{"$f":"IF($B10=\"\",\"\",INDEX('Feed Table'!$C$14:$AJ$177,MATCH(1,(List1[Entry]=$B10)*(List1[AVG-SD]=\"AVG\"),0),AC$4))","v":""},{"$f":"IF($B10=\"\",\"\",INDEX('Feed Table'!$C$14:$AJ$177,MATCH(1,(List1[Entry]=$B10)*(List1[AVG-SD]=\"AVG\"),0),AD$4))","v":""},{"$f":"IF($B10=\"\",\"\",INDEX('Feed Table'!$C$14:$AJ$177,MATCH(1,(List1[Entry]=$B10)*(List1[AVG-SD]=\"AVG\"),0),AE$4))","v":""},null,{"$f":"IF($B10=\"\",\"\",INDEX('Feed Table'!$C$14:$AJ$177,MATCH(1,(List1[Entry]=$B10)*(List1[AVG-SD]=\"AVG\"),0),AG$4))","v":""},"",{"$f":"IF($B10=\"\",\"\",INDEX('Feed Table'!$C$14:$AK$177,MATCH(1,(List1[Entry]=$B10)*(List1[AVG-SD]=\"AVG\"),0),AI$4))","v":""}]
[null,null,{"$f":"IF($B11=\"\",\"\",INDEX('Feed Table'!$C$14:$AJ$177,MATCH(1,(List1[Entry]=$B11)*(List1[AVG-SD]=\"AVG\"),0),C$4))","v":""},{"$f":"IF($B11=\"\",\"\",INDEX('Feed Table'!$C$14:$AJ$177,MATCH(1,(List1[Entry]=$B11)*(List1[AVG-SD]=\"AVG\"),0),D$4))","v":""},0,0,9.9999999999999995E-7,0,0,0,100,null,{"$f":"IF($B11=\"\",\"\",INDEX('Feed Table'!$C$14:$AJ$177,MATCH(1,(List1[Entry]=$B11)*(List1[AVG-SD]=\"AVG\"),0),M$4))","v":""},{"$f":"IF($B11=\"\",\"\",INDEX('Feed Table'!$C$14:$AJ$177,MATCH(1,(List1[Entry]=$B11)*(List1[AVG-SD]=\"AVG\"),0),N$4))","v":""},"-",{"$f":"IF($B11=\"\",\"\",INDEX('Feed Table'!$C$14:$AJ$177,MATCH(1,(List1[Entry]=$B11)*(List1[AVG-SD]=\"AVG\"),0),P$4))","v":""},{"$f":"IF($B11=\"\",\"\",INDEX('Feed Table'!$C$14:$AJ$177,MATCH(1,(List1[Entry]=$B11)*(List1[AVG-SD]=\"AVG\"),0),Q$4))","v":""},{"$f":"IF($B11=\"\",\"\",INDEX('Feed Table'!$C$14:$AJ$177,MATCH(1,(List1[Entry]=$B11)*(List1[AVG-SD]=\"AVG\"),0),R$4))","v":""},"",{"$f":"IF($B11=\"\",\"\",INDEX('Feed Table'!$C$14:$AJ$177,MATCH(1,(List1[Entry]=$B11)*(List1[AVG-SD]=\"AVG\"),0),T$4))","v":""},{"$f":"IF($B11=\"\",\"\",INDEX('Feed Table'!$C$14:$AJ$177,MATCH(1,(List1[Entry]=$B11)*(List1[AVG-SD]=\"AVG\"),0),U$4))","v":""},{"$f":"IF($B11=\"\",\"\",INDEX('Feed Table'!$C$14:$AJ$177,MATCH(1,(List1[Entry]=$B11)*(List1[AVG-SD]=\"AVG\"),0),V$4))","v":""},{"$f":"IF($B11=\"\",\"\",INDEX('Feed Table'!$C$14:$AJ$177,MATCH(1,(List1[Entry]=$B11)*(List1[AVG-SD]=\"AVG\"),0),W$4))","v":""},{"$f":"IF($B11=\"\",\"\",INDEX('Feed Table'!$C$14:$AJ$177,MATCH(1,(List1[Entry]=$B11)*(List1[AVG-SD]=\"AVG\"),0),X$4))","v":""},{"$f":"IF($B11=\"\",\"\",IF(AND(M11=\"Forage\",N11>=70),3.362+0.479*'lists to hide'!$E$14-0.007*(1-$O$25)-0.017*R11,IF(M11=\"Forage\",3.054+0.614*'lists to hide'!$E$14,IF(M11=\"Conc\",2.904+1.375*'lists to hide'!$E$14-0.02*(1-$O$25),0))))","v":""},{"$f":"IF($B11=\"\",\"\",INDEX('Feed Table'!$C$14:$AJ$177,MATCH(1,(List1[Entry]=$B11)*(List1[AVG-SD]=\"AVG\"),0),Z$4))","v":""},"","",{"$f":"IF($B11=\"\",\"\",INDEX('Feed Table'!$C$14:$AJ$177,MATCH(1,(List1[Entry]=$B11)*(List1[AVG-SD]=\"AVG\"),0),AC$4))","v":""},{"$f":"IF($B11=\"\",\"\",INDEX('Feed Table'!$C$14:$AJ$177,MATCH(1,(List1[Entry]=$B11)*(List1[AVG-SD]=\"AVG\"),0),AD$4))","v":""},{"$f":"IF($B11=\"\",\"\",INDEX('Feed Table'!$C$14:$AJ$177,MATCH(1,(List1[Entry]=$B11)*(List1[AVG-SD]=\"AVG\"),0),AE$4))","v":""},null,{"$f":"IF($B11=\"\",\"\",INDEX('Feed Table'!$C$14:$AJ$177,MATCH(1,(List1[Entry]=$B11)*(List1[AVG-SD]=\"AVG\"),0),AG$4))","v":""},"",{"$f":"IF($B11=\"\",\"\",INDEX('Feed Table'!$C$14:$AK$177,MATCH(1,(List1[Entry]=$B11)*(List1[AVG-SD]=\"AVG\"),0),AI$4))","v":""}]
[null,null,{"$f":"IF($B12=\"\",\"\",INDEX('Feed Table'!$C$14:$AJ$177,MATCH(1,(List1[Entry]=$B12)*(List1[AVG-SD]=\"AVG\"),0),C$4))","v":""},{"$f":"IF($B12=\"\",\"\",INDEX('Feed Table'!$C$14:$AJ$177,MATCH(1,(List1[Entry]=$B12)*(List1[AVG-SD]=\"AVG\"),0),D$4))","v":""},0,0,9.9999999999999995E-7,0,0,0,100,null,{"$f":"IF($B12=\"\",\"\",INDEX('Feed Table'!$C$14:$AJ$177,MATCH(1,(List1[Entry]=$B12)*(List1[AVG-SD]=\"AVG\"),0),M$4))","v":""},{"$f":"IF($B12=\"\",\"\",INDEX('Feed Table'!$C$14:$AJ$177,MATCH(1,(List1[Entry]=$B12)*(List1[AVG-SD]=\"AVG\"),0),N$4))","v":""},"-",{"$f":"IF($B12=\"\",\"\",INDEX('Feed Table'!$C$14:$AJ$177,MATCH(1,(List1[Entry]=$B12)*(List1[AVG-SD]=\"AVG\"),0),P$4))","v":""},{"$f":"IF($B12=\"\",\"\",INDEX('Feed Table'!$C$14:$AJ$177,MATCH(1,(List1[Entry]=$B12)*(List1[AVG-SD]=\"AVG\"),0),Q$4))","v":""},{"$f":"IF($B12=\"\",\"\",INDEX('Feed Table'!$C$14:$AJ$177,MATCH(1,(List1[Entry]=$B12)*(List1[AVG-SD]=\"AVG\"),0),R$4))","v":""},"",{"$f":"IF($B12=\"\",\"\",INDEX('Feed Table'!$C$14:$AJ$177,MATCH(1,(List1[Entry]=$B12)*(List1[AVG-SD]=\"AVG\"),0),T$4))","v":""},{"$f":"IF($B12=\"\",\"\",INDEX('Feed Table'!$C$14:$AJ$177,MATCH(1,(List1[Entry]=$B12)*(List1[AVG-SD]=\"AVG\"),0),U$4))","v":""},{"$f":"IF($B12=\"\",\"\",INDEX('Feed Table'!$C$14:$AJ$177,MATCH(1,(List1[Entry]=$B12)*(List1[AVG-SD]=\"AVG\"),0),V$4))","v":""},{"$f":"IF($B12=\"\",\"\",INDEX('Feed Table'!$C$14:$AJ$177,MATCH(1,(List1[Entry]=$B12)*(List1[AVG-SD]=\"AVG\"),0),W$4))","v":""},{"$f":"IF($B12=\"\",\"\",INDEX('Feed Table'!$C$14:$AJ$177,MATCH(1,(List1[Entry]=$B12)*(List1[AVG-SD]=\"AVG\"),0),X$4))","v":""},{"$f":"IF($B12=\"\",\"\",IF(AND(M12=\"Forage\",N12>=70),3.362+0.479*'lists to hide'!$E$14-0.007*(1-$O$25)-0.017*R12,IF(M12=\"Forage\",3.054+0.614*'lists to hide'!$E$14,IF(M12=\"Conc\",2.904+1.375*'lists to hide'!$E$14-0.02*(1-$O$25),0))))","v":""},{"$f":"IF($B12=\"\",\"\",INDEX('Feed Table'!$C$14:$AJ$177,MATCH(1,(List1[Entry]=$B12)*(List1[AVG-SD]=\"AVG\"),0),Z$4))","v":""},"","",{"$f":"IF($B12=\"\",\"\",INDEX('Feed Table'!$C$14:$AJ$177,MATCH(1,(List1[Entry]=$B12)*(List1[AVG-SD]=\"AVG\"),0),AC$4))","v":""},{"$f":"IF($B12=\"\",\"\",INDEX('Feed Table'!$C$14:$AJ$177,MATCH(1,(List1[Entry]=$B12)*(List1[AVG-SD]=\"AVG\"),0),AD$4))","v":""},{"$f":"IF($B12=\"\",\"\",INDEX('Feed Table'!$C$14:$AJ$177,MATCH(1,(List1[Entry]=$B12)*(List1[AVG-SD]=\"AVG\"),0),AE$4))","v":""},null,{"$f":"IF($B12=\"\",\"\",INDEX('Feed Table'!$C$14:$AJ$177,MATCH(1,(List1[Entry]=$B12)*(List1[AVG-SD]=\"AVG\"),0),AG$4))","v":""},"",{"$f":"IF($B12=\"\",\"\",INDEX('Feed Table'!$C$14:$AK$177,MATCH(1,(List1[Entry]=$B12)*(List1[AVG-SD]=\"AVG\"),0),AI$4))","v":""}]
[null,null,{"$f":"IF($B13=\"\",\"\",INDEX('Feed Table'!$C$14:$AJ$177,MATCH(1,(List1[Entry]=$B13)*(List1[AVG-SD]=\"AVG\"),0),C$4))","v":""},{"$f":"IF($B13=\"\",\"\",INDEX('Feed Table'!$C$14:$AJ$177,MATCH(1,(List1[Entry]=$B13)*(List1[AVG-SD]=\"AVG\"),0),D$4))","v":""},0,0,9.9999999999999995E-7,0,0,{"$f":"IF(OR(B13=\"\",F13=\"\"),0,F13/SUM($F$5:$F$21))","v":0},100,null,{"$f":"IF($B13=\"\",\"\",INDEX('Feed Table'!$C$14:$AJ$177,MATCH(1,(List1[Entry]=$B13)*(List1[AVG-SD]=\"AVG\"),0),M$4))","v":""},{"$f":"IF($B13=\"\",\"\",INDEX('Feed Table'!$C$14:$AJ$177,MATCH(1,(List1[Entry]=$B13)*(List1[AVG-SD]=\"AVG\"),0),N$4))","v":""},"-",{"$f":"IF($B13=\"\",\"\",INDEX('Feed Table'!$C$14:$AJ$177,MATCH(1,(List1[Entry]=$B13)*(List1[AVG-SD]=\"AVG\"),0),P$4))","v":""},{"$f":"IF($B13=\"\",\"\",INDEX('Feed Table'!$C$14:$AJ$177,MATCH(1,(List1[Entry]=$B13)*(List1[AVG-SD]=\"AVG\"),0),Q$4))","v":""},{"$f":"IF($B13=\"\",\"\",INDEX('Feed Table'!$C$14:$AJ$177,MATCH(1,(List1[Entry]=$B13)*(List1[AVG-SD]=\"AVG\"),0),R$4))","v":""},"",{"$f":"IF($B13=\"\",\"\",INDEX('Feed Table'!$C$14:$AJ$177,MATCH(1,(List1[Entry]=$B13)*(List1[AVG-SD]=\"AVG\"),0),T$4))","v":""},{"$f":"IF($B13=\"\",\"\",INDEX('Feed Table'!$C$14:$AJ$177,MATCH(1,(List1[Entry]=$B13)*(List1[AVG-SD]=\"AVG\"),0),U$4))","v":""},{"$f":"IF($B13=\"\",\"\",INDEX('Feed Table'!$C$14:$AJ$177,MATCH(1,(List1[Entry]=$B13)*(List1[AVG-SD]=\"AVG\"),0),V$4))","v":""},{"$f":"IF($B13=\"\",\"\",INDEX('Feed Table'!$C$14:$AJ$177,MATCH(1,(List1[Entry]=$B13)*(List1[AVG-SD]=\"AVG\"),0),W$4))","v":""},{"$f":"IF($B13=\"\",\"\",INDEX('Feed Table'!$C$14:$AJ$177,MATCH(1,(List1[Entry]=$B13)*(List1[AVG-SD]=\"AVG\"),0),X$4))","v":""},{"$f":"IF($B13=\"\",\"\",IF(AND(M13=\"Forage\",N13>=70),3.362+0.479*'lists to hide'!$E$14-0.007*(1-$O$25)-0.017*R13,IF(M13=\"Forage\",3.054+0.614*'lists to hide'!$E$14,IF(M13=\"Conc\",2.904+1.375*'lists to hide'!$E$14-0.02*(1-$O$25),0))))","v":""},{"$f":"IF($B13=\"\",\"\",INDEX('Feed Table'!$C$14:$AJ$177,MATCH(1,(List1[Entry]=$B13)*(List1[AVG-SD]=\"AVG\"),0),Z$4))","v":""},"","",{"$f":"IF($B13=\"\",\"\",INDEX('Feed Table'!$C$14:$AJ$177,MATCH(1,(List1[Entry]=$B13)*(List1[AVG-SD]=\"AVG\"),0),AC$4))","v":""},{"$f":"IF($B13=\"\",\"\",INDEX('Feed Table'!$C$14:$AJ$177,MATCH(1,(List1[Entry]=$B13)*(List1[AVG-SD]=\"AVG\"),0),AD$4))","v":""},{"$f":"IF($B13=\"\",\"\",INDEX('Feed Table'!$C$14:$AJ$177,MATCH(1,(List1[Entry]=$B13)*(List1[AVG-SD]=\"AVG\"),0),AE$4))","v":""},null,{"$f":"IF($B13=\"\",\"\",INDEX('Feed Table'!$C$14:$AJ$177,MATCH(1,(List1[Entry]=$B13)*(List1[AVG-SD]=\"AVG\"),0),AG$4))","v":""},"",{"$f":"IF($B13=\"\",\"\",INDEX('Feed Table'!$C$14:$AK$177,MATCH(1,(List1[Entry]=$B13)*(List1[AVG-SD]=\"AVG\"),0),AI$4))","v":""}]
[null,null,{"$f":"IF($B14=\"\",\"\",INDEX('Feed Table'!$C$14:$AJ$177,MATCH(1,(List1[Entry]=$B14)*(List1[AVG-SD]=\"AVG\"),0),C$4))","v":""},{"$f":"IF($B14=\"\",\"\",INDEX('Feed Table'!$C$14:$AJ$177,MATCH(1,(List1[Entry]=$B14)*(List1[AVG-SD]=\"AVG\"),0),D$4))","v":""},0,0,9.9999999999999995E-7,0,0,0,100,null,{"$f":"IF($B14=\"\",\"\",INDEX('Feed Table'!$C$14:$AJ$177,MATCH(1,(List1[Entry]=$B14)*(List1[AVG-SD]=\"AVG\"),0),M$4))","v":""},{"$f":"IF($B14=\"\",\"\",INDEX('Feed Table'!$C$14:$AJ$177,MATCH(1,(List1[Entry]=$B14)*(List1[AVG-SD]=\"AVG\"),0),N$4))","v":""},"-",{"$f":"IF($B14=\"\",\"\",INDEX('Feed Table'!$C$14:$AJ$177,MATCH(1,(List1[Entry]=$B14)*(List1[AVG-SD]=\"AVG\"),0),P$4))","v":""},{"$f":"IF($B14=\"\",\"\",INDEX('Feed Table'!$C$14:$AJ$177,MATCH(1,(List1[Entry]=$B14)*(List1[AVG-SD]=\"AVG\"),0),Q$4))","v":""},{"$f":"IF($B14=\"\",\"\",INDEX('Feed Table'!$C$14:$AJ$177,MATCH(1,(List1[Entry]=$B14)*(List1[AVG-SD]=\"AVG\"),0),R$4))","v":""},"",{"$f":"IF($B14=\"\",\"\",INDEX('Feed Table'!$C$14:$AJ$177,MATCH(1,(List1[Entry]=$B14)*(List1[AVG-SD]=\"AVG\"),0),T$4))","v":""},{"$f":"IF($B14=\"\",\"\",INDEX('Feed Table'!$C$14:$AJ$177,MATCH(1,(List1[Entry]=$B14)*(List1[AVG-SD]=\"AVG\"),0),U$4))","v":""},{"$f":"IF($B14=\"\",\"\",INDEX('Feed Table'!$C$14:$AJ$177,MATCH(1,(List1[Entry]=$B14)*(List1[AVG-SD]=\"AVG\"),0),V$4))","v":""},{"$f":"IF($B14=\"\",\"\",INDEX('Feed Table'!$C$14:$AJ$177,MATCH(1,(List1[Entry]=$B14)*(List1[AVG-SD]=\"AVG\"),0),W$4))","v":""},{"$f":"IF($B14=\"\",\"\",INDEX('Feed Table'!$C$14:$AJ$177,MATCH(1,(List1[Entry]=$B14)*(List1[AVG-SD]=\"AVG\"),0),X$4))","v":""},{"$f":"IF($B14=\"\",\"\",IF(AND(M14=\"Forage\",N14>=70),3.362+0.479*'lists to hide'!$E$14-0.007*(1-$O$25)-0.017*R14,IF(M14=\"Forage\",3.054+0.614*'lists to hide'!$E$14,IF(M14=\"Conc\",2.904+1.375*'lists to hide'!$E$14-0.02*(1-$O$25),0))))","v":""},{"$f":"IF($B14=\"\",\"\",INDEX('Feed Table'!$C$14:$AJ$177,MATCH(1,(List1[Entry]=$B14)*(List1[AVG-SD]=\"AVG\"),0),Z$4))","v":""},"","",{"$f":"IF($B14=\"\",\"\",INDEX('Feed Table'!$C$14:$AJ$177,MATCH(1,(List1[Entry]=$B14)*(List1[AVG-SD]=\"AVG\"),0),AC$4))","v":""},{"$f":"IF($B14=\"\",\"\",INDEX('Feed Table'!$C$14:$AJ$177,MATCH(1,(List1[Entry]=$B14)*(List1[AVG-SD]=\"AVG\"),0),AD$4))","v":""},{"$f":"IF($B14=\"\",\"\",INDEX('Feed Table'!$C$14:$AJ$177,MATCH(1,(List1[Entry]=$B14)*(List1[AVG-SD]=\"AVG\"),0),AE$4))","v":""},null,{"$f":"IF($B14=\"\",\"\",INDEX('Feed Table'!$C$14:$AJ$177,MATCH(1,(List1[Entry]=$B14)*(List1[AVG-SD]=\"AVG\"),0),AG$4))","v":""},"",{"$f":"IF($B14=\"\",\"\",INDEX('Feed Table'!$C$14:$AK$177,MATCH(1,(List1[Entry]=$B14)*(List1[AVG-SD]=\"AVG\"),0),AI$4))","v":""}]
[null,null,{"$f":"IF($B15=\"\",\"\",INDEX('Feed Table'!$C$14:$AJ$177,MATCH(1,(List1[Entry]=$B15)*(List1[AVG-SD]=\"AVG\"),0),C$4))","v":""},{"$f":"IF($B15=\"\",\"\",INDEX('Feed Table'!$C$14:$AJ$177,MATCH(1,(List1[Entry]=$B15)*(List1[AVG-SD]=\"AVG\"),0),D$4))","v":""},0,0,9.9999999999999995E-7,0,0,0,100,null,{"$f":"IF($B15=\"\",\"\",INDEX('Feed Table'!$C$14:$AJ$177,MATCH(1,(List1[Entry]=$B15)*(List1[AVG-SD]=\"AVG\"),0),M$4))","v":""},{"$f":"IF($B15=\"\",\"\",INDEX('Feed Table'!$C$14:$AJ$177,MATCH(1,(List1[Entry]=$B15)*(List1[AVG-SD]=\"AVG\"),0),N$4))","v":""},"-",{"$f":"IF($B15=\"\",\"\",INDEX('Feed Table'!$C$14:$AJ$177,MATCH(1,(List1[Entry]=$B15)*(List1[AVG-SD]=\"AVG\"),0),P$4))","v":""},{"$f":"IF($B15=\"\",\"\",INDEX('Feed Table'!$C$14:$AJ$177,MATCH(1,(List1[Entry]=$B15)*(List1[AVG-SD]=\"AVG\"),0),Q$4))","v":""},{"$f":"IF($B15=\"\",\"\",INDEX('Feed Table'!$C$14:$AJ$177,MATCH(1,(List1[Entry]=$B15)*(List1[AVG-SD]=\"AVG\"),0),R$4))","v":""},"",{"$f":"IF($B15=\"\",\"\",INDEX('Feed Table'!$C$14:$AJ$177,MATCH(1,(List1[Entry]=$B15)*(List1[AVG-SD]=\"AVG\"),0),T$4))","v":""},{"$f":"IF($B15=\"\",\"\",INDEX('Feed Table'!$C$14:$AJ$177,MATCH(1,(List1[Entry]=$B15)*(List1[AVG-SD]=\"AVG\"),0),U$4))","v":""},{"$f":"IF($B15=\"\",\"\",INDEX('Feed Table'!$C$14:$AJ$177,MATCH(1,(List1[Entry]=$B15)*(List1[AVG-SD]=\"AVG\"),0),V$4))","v":""},{"$f":"IF($B15=\"\",\"\",INDEX('Feed Table'!$C$14:$AJ$177,MATCH(1,(List1[Entry]=$B15)*(List1[AVG-SD]=\"AVG\"),0),W$4))","v":""},{"$f":"IF($B15=\"\",\"\",INDEX('Feed Table'!$C$14:$AJ$177,MATCH(1,(List1[Entry]=$B15)*(List1[AVG-SD]=\"AVG\"),0),X$4))","v":""},{"$f":"IF($B15=\"\",\"\",IF(AND(M15=\"Forage\",N15>=70),3.362+0.479*'lists to hide'!$E$14-0.007*(1-$O$25)-0.017*R15,IF(M15=\"Forage\",3.054+0.614*'lists to hide'!$E$14,IF(M15=\"Conc\",2.904+1.375*'lists to hide'!$E$14-0.02*(1-$O$25),0))))","v":""},{"$f":"IF($B15=\"\",\"\",INDEX('Feed Table'!$C$14:$AJ$177,MATCH(1,(List1[Entry]=$B15)*(List1[AVG-SD]=\"AVG\"),0),Z$4))","v":""},"","",{"$f":"IF($B15=\"\",\"\",INDEX('Feed Table'!$C$14:$AJ$177,MATCH(1,(List1[Entry]=$B15)*(List1[AVG-SD]=\"AVG\"),0),AC$4))","v":""},{"$f":"IF($B15=\"\",\"\",INDEX('Feed Table'!$C$14:$AJ$177,MATCH(1,(List1[Entry]=$B15)*(List1[AVG-SD]=\"AVG\"),0),AD$4))","v":""},{"$f":"IF($B15=\"\",\"\",INDEX('Feed Table'!$C$14:$AJ$177,MATCH(1,(List1[Entry]=$B15)*(List1[AVG-SD]=\"AVG\"),0),AE$4))","v":""},null,{"$f":"IF($B15=\"\",\"\",INDEX('Feed Table'!$C$14:$AJ$177,MATCH(1,(List1[Entry]=$B15)*(List1[AVG-SD]=\"AVG\"),0),AG$4))","v":""},"",{"$f":"IF($B15=\"\",\"\",INDEX('Feed Table'!$C$14:$AK$177,MATCH(1,(List1[Entry]=$B15)*(List1[AVG-SD]=\"AVG\"),0),AI$4))","v":""}]
[null,null,{"$f":"IF($B16=\"\",\"\",INDEX('Feed Table'!$C$14:$AJ$177,MATCH(1,(List1[Entry]=$B16)*(List1[AVG-SD]=\"AVG\"),0),C$4))","v":""},{"$f":"IF($B16=\"\",\"\",INDEX('Feed Table'!$C$14:$AJ$177,MATCH(1,(List1[Entry]=$B16)*(List1[AVG-SD]=\"AVG\"),0),D$4))","v":""},0,0,9.9999999999999995E-7,0,0,0,100,null,{"$f":"IF($B16=\"\",\"\",INDEX('Feed Table'!$C$14:$AJ$177,MATCH(1,(List1[Entry]=$B16)*(List1[AVG-SD]=\"AVG\"),0),M$4))","v":""},{"$f":"IF($B16=\"\",\"\",INDEX('Feed Table'!$C$14:$AJ$177,MATCH(1,(List1[Entry]=$B16)*(List1[AVG-SD]=\"AVG\"),0),N$4))","v":""},"-",{"$f":"IF($B16=\"\",\"\",INDEX('Feed Table'!$C$14:$AJ$177,MATCH(1,(List1[Entry]=$B16)*(List1[AVG-SD]=\"AVG\"),0),P$4))","v":""},{"$f":"IF($B16=\"\",\"\",INDEX('Feed Table'!$C$14:$AJ$177,MATCH(1,(List1[Entry]=$B16)*(List1[AVG-SD]=\"AVG\"),0),Q$4))","v":""},{"$f":"IF($B16=\"\",\"\",INDEX('Feed Table'!$C$14:$AJ$177,MATCH(1,(List1[Entry]=$B16)*(List1[AVG-SD]=\"AVG\"),0),R$4))","v":""},"",{"$f":"IF($B16=\"\",\"\",INDEX('Feed Table'!$C$14:$AJ$177,MATCH(1,(List1[Entry]=$B16)*(List1[AVG-SD]=\"AVG\"),0),T$4))","v":""},{"$f":"IF($B16=\"\",\"\",INDEX('Feed Table'!$C$14:$AJ$177,MATCH(1,(List1[Entry]=$B16)*(List1[AVG-SD]=\"AVG\"),0),U$4))","v":""},{"$f":"IF($B16=\"\",\"\",INDEX('Feed Table'!$C$14:$AJ$177,MATCH(1,(List1[Entry]=$B16)*(List1[AVG-SD]=\"AVG\"),0),V$4))","v":""},{"$f":"IF($B16=\"\",\"\",INDEX('Feed Table'!$C$14:$AJ$177,MATCH(1,(List1[Entry]=$B16)*(List1[AVG-SD]=\"AVG\"),0),W$4))","v":""},{"$f":"IF($B16=\"\",\"\",INDEX('Feed Table'!$C$14:$AJ$177,MATCH(1,(List1[Entry]=$B16)*(List1[AVG-SD]=\"AVG\"),0),X$4))","v":""},{"$f":"IF($B16=\"\",\"\",IF(AND(M16=\"Forage\",N16>=70),3.362+0.479*'lists to hide'!$E$14-0.007*(1-$O$25)-0.017*R16,IF(M16=\"Forage\",3.054+0.614*'lists to hide'!$E$14,IF(M16=\"Conc\",2.904+1.375*'lists to hide'!$E$14-0.02*(1-$O$25),0))))","v":""},{"$f":"IF($B16=\"\",\"\",INDEX('Feed Table'!$C$14:$AJ$177,MATCH(1,(List1[Entry]=$B16)*(List1[AVG-SD]=\"AVG\"),0),Z$4))","v":""},"","",{"$f":"IF($B16=\"\",\"\",INDEX('Feed Table'!$C$14:$AJ$177,MATCH(1,(List1[Entry]=$B16)*(List1[AVG-SD]=\"AVG\"),0),AC$4))","v":""},{"$f":"IF($B16=\"\",\"\",INDEX('Feed Table'!$C$14:$AJ$177,MATCH(1,(List1[Entry]=$B16)*(List1[AVG-SD]=\"AVG\"),0),AD$4))","v":""},{"$f":"IF($B16=\"\",\"\",INDEX('Feed Table'!$C$14:$AJ$177,MATCH(1,(List1[Entry]=$B16)*(List1[AVG-SD]=\"AVG\"),0),AE$4))","v":""},null,{"$f":"IF($B16=\"\",\"\",INDEX('Feed Table'!$C$14:$AJ$177,MATCH(1,(List1[Entry]=$B16)*(List1[AVG-SD]=\"AVG\"),0),AG$4))","v":""},"",{"$f":"IF($B16=\"\",\"\",INDEX('Feed Table'!$C$14:$AK$177,MATCH(1,(List1[Entry]=$B16)*(List1[AVG-SD]=\"AVG\"),0),AI$4))","v":""}]
[null,null,{"$f":"IF($B17=\"\",\"\",INDEX('Feed Table'!$C$14:$AJ$177,MATCH(1,(List1[Entry]=$B17)*(List1[AVG-SD]=\"AVG\"),0),C$4))","v":""},{"$f":"IF($B17=\"\",\"\",INDEX('Feed Table'!$C$14:$AJ$177,MATCH(1,(List1[Entry]=$B17)*(List1[AVG-SD]=\"AVG\"),0),D$4))","v":""},0,0,9.9999999999999995E-7,0,0,0,100,null,{"$f":"IF($B17=\"\",\"\",INDEX('Feed Table'!$C$14:$AJ$177,MATCH(1,(List1[Entry]=$B17)*(List1[AVG-SD]=\"AVG\"),0),M$4))","v":""},{"$f":"IF($B17=\"\",\"\",INDEX('Feed Table'!$C$14:$AJ$177,MATCH(1,(List1[Entry]=$B17)*(List1[AVG-SD]=\"AVG\"),0),N$4))","v":""},"-",{"$f":"IF($B17=\"\",\"\",INDEX('Feed Table'!$C$14:$AJ$177,MATCH(1,(List1[Entry]=$B17)*(List1[AVG-SD]=\"AVG\"),0),P$4))","v":""},{"$f":"IF($B17=\"\",\"\",INDEX('Feed Table'!$C$14:$AJ$177,MATCH(1,(List1[Entry]=$B17)*(List1[AVG-SD]=\"AVG\"),0),Q$4))","v":""},{"$f":"IF($B17=\"\",\"\",INDEX('Feed Table'!$C$14:$AJ$177,MATCH(1,(List1[Entry]=$B17)*(List1[AVG-SD]=\"AVG\"),0),R$4))","v":""},"",{"$f":"IF($B17=\"\",\"\",INDEX('Feed Table'!$C$14:$AJ$177,MATCH(1,(List1[Entry]=$B17)*(List1[AVG-SD]=\"AVG\"),0),T$4))","v":""},{"$f":"IF($B17=\"\",\"\",INDEX('Feed Table'!$C$14:$AJ$177,MATCH(1,(List1[Entry]=$B17)*(List1[AVG-SD]=\"AVG\"),0),U$4))","v":""},{"$f":"IF($B17=\"\",\"\",INDEX('Feed Table'!$C$14:$AJ$177,MATCH(1,(List1[Entry]=$B17)*(List1[AVG-SD]=\"AVG\"),0),V$4))","v":""},{"$f":"IF($B17=\"\",\"\",INDEX('Feed Table'!$C$14:$AJ$177,MATCH(1,(List1[Entry]=$B17)*(List1[AVG-SD]=\"AVG\"),0),W$4))","v":""},{"$f":"IF($B17=\"\",\"\",INDEX('Feed Table'!$C$14:$AJ$177,MATCH(1,(List1[Entry]=$B17)*(List1[AVG-SD]=\"AVG\"),0),X$4))","v":""},{"$f":"IF($B17=\"\",\"\",IF(AND(M17=\"Forage\",N17>=70),3.362+0.479*'lists to hide'!$E$14-0.007*(1-$O$25)-0.017*R17,IF(M17=\"Forage\",3.054+0.614*'lists to hide'!$E$14,IF(M17=\"Conc\",2.904+1.375*'lists to hide'!$E$14-0.02*(1-$O$25),0))))","v":""},{"$f":"IF($B17=\"\",\"\",INDEX('Feed Table'!$C$14:$AJ$177,MATCH(1,(List1[Entry]=$B17)*(List1[AVG-SD]=\"AVG\"),0),Z$4))","v":""},"","",{"$f":"IF($B17=\"\",\"\",INDEX('Feed Table'!$C$14:$AJ$177,MATCH(1,(List1[Entry]=$B17)*(List1[AVG-SD]=\"AVG\"),0),AC$4))","v":""},{"$f":"IF($B17=\"\",\"\",INDEX('Feed Table'!$C$14:$AJ$177,MATCH(1,(List1[Entry]=$B17)*(List1[AVG-SD]=\"AVG\"),0),AD$4))","v":""},{"$f":"IF($B17=\"\",\"\",INDEX('Feed Table'!$C$14:$AJ$177,MATCH(1,(List1[Entry]=$B17)*(List1[AVG-SD]=\"AVG\"),0),AE$4))","v":""},null,{"$f":"IF($B17=\"\",\"\",INDEX('Feed Table'!$C$14:$AJ$177,MATCH(1,(List1[Entry]=$B17)*(List1[AVG-SD]=\"AVG\"),0),AG$4))","v":""},"",{"$f":"IF($B17=\"\",\"\",INDEX('Feed Table'!$C$14:$AK$177,MATCH(1,(List1[Entry]=$B17)*(List1[AVG-SD]=\"AVG\"),0),AI$4))","v":""}]
[null,null,{"$f":"IF($B18=\"\",\"\",INDEX('Feed Table'!$C$14:$AJ$177,MATCH(1,(List1[Entry]=$B18)*(List1[AVG-SD]=\"AVG\"),0),C$4))","v":""},{"$f":"IF($B18=\"\",\"\",INDEX('Feed Table'!$C$14:$AJ$177,MATCH(1,(List1[Entry]=$B18)*(List1[AVG-SD]=\"AVG\"),0),D$4))","v":""},0,0,9.9999999999999995E-7,0,0,0,100,null,{"$f":"IF($B18=\"\",\"\",INDEX('Feed Table'!$C$14:$AJ$177,MATCH(1,(List1[Entry]=$B18)*(List1[AVG-SD]=\"AVG\"),0),M$4))","v":""},{"$f":"IF($B18=\"\",\"\",INDEX('Feed Table'!$C$14:$AJ$177,MATCH(1,(List1[Entry]=$B18)*(List1[AVG-SD]=\"AVG\"),0),N$4))","v":""},"-",{"$f":"IF($B18=\"\",\"\",INDEX('Feed Table'!$C$14:$AJ$177,MATCH(1,(List1[Entry]=$B18)*(List1[AVG-SD]=\"AVG\"),0),P$4))","v":""},{"$f":"IF($B18=\"\",\"\",INDEX('Feed Table'!$C$14:$AJ$177,MATCH(1,(List1[Entry]=$B18)*(List1[AVG-SD]=\"AVG\"),0),Q$4))","v":""},{"$f":"IF($B18=\"\",\"\",INDEX('Feed Table'!$C$14:$AJ$177,MATCH(1,(List1[Entry]=$B18)*(List1[AVG-SD]=\"AVG\"),0),R$4))","v":""},"",{"$f":"IF($B18=\"\",\"\",INDEX('Feed Table'!$C$14:$AJ$177,MATCH(1,(List1[Entry]=$B18)*(List1[AVG-SD]=\"AVG\"),0),T$4))","v":""},{"$f":"IF($B18=\"\",\"\",INDEX('Feed Table'!$C$14:$AJ$177,MATCH(1,(List1[Entry]=$B18)*(List1[AVG-SD]=\"AVG\"),0),U$4))","v":""},{"$f":"IF($B18=\"\",\"\",INDEX('Feed Table'!$C$14:$AJ$177,MATCH(1,(List1[Entry]=$B18)*(List1[AVG-SD]=\"AVG\"),0),V$4))","v":""},{"$f":"IF($B18=\"\",\"\",INDEX('Feed Table'!$C$14:$AJ$177,MATCH(1,(List1[Entry]=$B18)*(List1[AVG-SD]=\"AVG\"),0),W$4))","v":""},{"$f":"IF($B18=\"\",\"\",INDEX('Feed Table'!$C$14:$AJ$177,MATCH(1,(List1[Entry]=$B18)*(List1[AVG-SD]=\"AVG\"),0),X$4))","v":""},{"$f":"IF($B18=\"\",\"\",IF(AND(M18=\"Forage\",N18>=70),3.362+0.479*'lists to hide'!$E$14-0.007*(1-$O$25)-0.017*R18,IF(M18=\"Forage\",3.054+0.614*'lists to hide'!$E$14,IF(M18=\"Conc\",2.904+1.375*'lists to hide'!$E$14-0.02*(1-$O$25),0))))","v":""},{"$f":"IF($B18=\"\",\"\",INDEX('Feed Table'!$C$14:$AJ$177,MATCH(1,(List1[Entry]=$B18)*(List1[AVG-SD]=\"AVG\"),0),Z$4))","v":""},"","",{"$f":"IF($B18=\"\",\"\",INDEX('Feed Table'!$C$14:$AJ$177,MATCH(1,(List1[Entry]=$B18)*(List1[AVG-SD]=\"AVG\"),0),AC$4))","v":""},{"$f":"IF($B18=\"\",\"\",INDEX('Feed Table'!$C$14:$AJ$177,MATCH(1,(List1[Entry]=$B18)*(List1[AVG-SD]=\"AVG\"),0),AD$4))","v":""},{"$f":"IF($B18=\"\",\"\",INDEX('Feed Table'!$C$14:$AJ$177,MATCH(1,(List1[Entry]=$B18)*(List1[AVG-SD]=\"AVG\"),0),AE$4))","v":""},null,{"$f":"IF($B18=\"\",\"\",INDEX('Feed Table'!$C$14:$AJ$177,MATCH(1,(List1[Entry]=$B18)*(List1[AVG-SD]=\"AVG\"),0),AG$4))","v":""},"",{"$f":"IF($B18=\"\",\"\",INDEX('Feed Table'!$C$14:$AK$177,MATCH(1,(List1[Entry]=$B18)*(List1[AVG-SD]=\"AVG\"),0),AI$4))","v":""}]
[null,null,{"$f":"IF($B19=\"\",\"\",INDEX('Feed Table'!$C$14:$AJ$177,MATCH(1,(List1[Entry]=$B19)*(List1[AVG-SD]=\"AVG\"),0),C$4))","v":""},{"$f":"IF($B19=\"\",\"\",INDEX('Feed Table'!$C$14:$AJ$177,MATCH(1,(List1[Entry]=$B19)*(List1[AVG-SD]=\"AVG\"),0),D$4))","v":""},0,0,9.9999999999999995E-7,0,0,0,100,null,{"$f":"IF($B19=\"\",\"\",INDEX('Feed Table'!$C$14:$AJ$177,MATCH(1,(List1[Entry]=$B19)*(List1[AVG-SD]=\"AVG\"),0),M$4))","v":""},{"$f":"IF($B19=\"\",\"\",INDEX('Feed Table'!$C$14:$AJ$177,MATCH(1,(List1[Entry]=$B19)*(List1[AVG-SD]=\"AVG\"),0),N$4))","v":""},"-",{"$f":"IF($B19=\"\",\"\",INDEX('Feed Table'!$C$14:$AJ$177,MATCH(1,(List1[Entry]=$B19)*(List1[AVG-SD]=\"AVG\"),0),P$4))","v":""},{"$f":"IF($B19=\"\",\"\",INDEX('Feed Table'!$C$14:$AJ$177,MATCH(1,(List1[Entry]=$B19)*(List1[AVG-SD]=\"AVG\"),0),Q$4))","v":""},{"$f":"IF($B19=\"\",\"\",INDEX('Feed Table'!$C$14:$AJ$177,MATCH(1,(List1[Entry]=$B19)*(List1[AVG-SD]=\"AVG\"),0),R$4))","v":""},"",{"$f":"IF($B19=\"\",\"\",INDEX('Feed Table'!$C$14:$AJ$177,MATCH(1,(List1[Entry]=$B19)*(List1[AVG-SD]=\"AVG\"),0),T$4))","v":""},{"$f":"IF($B19=\"\",\"\",INDEX('Feed Table'!$C$14:$AJ$177,MATCH(1,(List1[Entry]=$B19)*(List1[AVG-SD]=\"AVG\"),0),U$4))","v":""},{"$f":"IF($B19=\"\",\"\",INDEX('Feed Table'!$C$14:$AJ$177,MATCH(1,(List1[Entry]=$B19)*(List1[AVG-SD]=\"AVG\"),0),V$4))","v":""},{"$f":"IF($B19=\"\",\"\",INDEX('Feed Table'!$C$14:$AJ$177,MATCH(1,(List1[Entry]=$B19)*(List1[AVG-SD]=\"AVG\"),0),W$4))","v":""},{"$f":"IF($B19=\"\",\"\",INDEX('Feed Table'!$C$14:$AJ$177,MATCH(1,(List1[Entry]=$B19)*(List1[AVG-SD]=\"AVG\"),0),X$4))","v":""},{"$f":"IF($B19=\"\",\"\",IF(AND(M19=\"Forage\",N19>=70),3.362+0.479*'lists to hide'!$E$14-0.007*(1-$O$25)-0.017*R19,IF(M19=\"Forage\",3.054+0.614*'lists to hide'!$E$14,IF(M19=\"Conc\",2.904+1.375*'lists to hide'!$E$14-0.02*(1-$O$25),0))))","v":""},{"$f":"IF($B19=\"\",\"\",INDEX('Feed Table'!$C$14:$AJ$177,MATCH(1,(List1[Entry]=$B19)*(List1[AVG-SD]=\"AVG\"),0),Z$4))","v":""},"","",{"$f":"IF($B19=\"\",\"\",INDEX('Feed Table'!$C$14:$AJ$177,MATCH(1,(List1[Entry]=$B19)*(List1[AVG-SD]=\"AVG\"),0),AC$4))","v":""},{"$f":"IF($B19=\"\",\"\",INDEX('Feed Table'!$C$14:$AJ$177,MATCH(1,(List1[Entry]=$B19)*(List1[AVG-SD]=\"AVG\"),0),AD$4))","v":""},{"$f":"IF($B19=\"\",\"\",INDEX('Feed Table'!$C$14:$AJ$177,MATCH(1,(List1[Entry]=$B19)*(List1[AVG-SD]=\"AVG\"),0),AE$4))","v":""},null,{"$f":"IF($B19=\"\",\"\",INDEX('Feed Table'!$C$14:$AJ$177,MATCH(1,(List1[Entry]=$B19)*(List1[AVG-SD]=\"AVG\"),0),AG$4))","v":""},"",{"$f":"IF($B19=\"\",\"\",INDEX('Feed Table'!$C$14:$AK$177,MATCH(1,(List1[Entry]=$B19)*(List1[AVG-SD]=\"AVG\"),0),AI$4))","v":""}]
[null,null,{"$f":"IF($B20=\"\",\"\",INDEX('Feed Table'!$C$14:$AJ$177,MATCH(1,(List1[Entry]=$B20)*(List1[AVG-SD]=\"AVG\"),0),C$4))","v":""},{"$f":"IF($B20=\"\",\"\",INDEX('Feed Table'!$C$14:$AJ$177,MATCH(1,(List1[Entry]=$B20)*(List1[AVG-SD]=\"AVG\"),0),D$4))","v":""},0,0,9.9999999999999995E-7,0,0,0,100,null,{"$f":"IF($B20=\"\",\"\",INDEX('Feed Table'!$C$14:$AJ$177,MATCH(1,(List1[Entry]=$B20)*(List1[AVG-SD]=\"AVG\"),0),M$4))","v":""},{"$f":"IF($B20=\"\",\"\",INDEX('Feed Table'!$C$14:$AJ$177,MATCH(1,(List1[Entry]=$B20)*(List1[AVG-SD]=\"AVG\"),0),N$4))","v":""},"-",{"$f":"IF($B20=\"\",\"\",INDEX('Feed Table'!$C$14:$AJ$177,MATCH(1,(List1[Entry]=$B20)*(List1[AVG-SD]=\"AVG\"),0),P$4))","v":""},{"$f":"IF($B20=\"\",\"\",INDEX('Feed Table'!$C$14:$AJ$177,MATCH(1,(List1[Entry]=$B20)*(List1[AVG-SD]=\"AVG\"),0),Q$4))","v":""},{"$f":"IF($B20=\"\",\"\",INDEX('Feed Table'!$C$14:$AJ$177,MATCH(1,(List1[Entry]=$B20)*(List1[AVG-SD]=\"AVG\"),0),R$4))","v":""},"",{"$f":"IF($B20=\"\",\"\",INDEX('Feed Table'!$C$14:$AJ$177,MATCH(1,(List1[Entry]=$B20)*(List1[AVG-SD]=\"AVG\"),0),T$4))","v":""},{"$f":"IF($B20=\"\",\"\",INDEX('Feed Table'!$C$14:$AJ$177,MATCH(1,(List1[Entry]=$B20)*(List1[AVG-SD]=\"AVG\"),0),U$4))","v":""},{"$f":"IF($B20=\"\",\"\",INDEX('Feed Table'!$C$14:$AJ$177,MATCH(1,(List1[Entry]=$B20)*(List1[AVG-SD]=\"AVG\"),0),V$4))","v":""},{"$f":"IF($B20=\"\",\"\",INDEX('Feed Table'!$C$14:$AJ$177,MATCH(1,(List1[Entry]=$B20)*(List1[AVG-SD]=\"AVG\"),0),W$4))","v":""},{"$f":"IF($B20=\"\",\"\",INDEX('Feed Table'!$C$14:$AJ$177,MATCH(1,(List1[Entry]=$B20)*(List1[AVG-SD]=\"AVG\"),0),X$4))","v":""},{"$f":"IF($B20=\"\",\"\",IF(AND(M20=\"Forage\",N20>=70),3.362+0.479*'lists to hide'!$E$14-0.007*(1-$O$25)-0.017*R20,IF(M20=\"Forage\",3.054+0.614*'lists to hide'!$E$14,IF(M20=\"Conc\",2.904+1.375*'lists to hide'!$E$14-0.02*(1-$O$25),0))))","v":""},{"$f":"IF($B20=\"\",\"\",INDEX('Feed Table'!$C$14:$AJ$177,MATCH(1,(List1[Entry]=$B20)*(List1[AVG-SD]=\"AVG\"),0),Z$4))","v":""},"","",{"$f":"IF($B20=\"\",\"\",INDEX('Feed Table'!$C$14:$AJ$177,MATCH(1,(List1[Entry]=$B20)*(List1[AVG-SD]=\"AVG\"),0),AC$4))","v":""},{"$f":"IF($B20=\"\",\"\",INDEX('Feed Table'!$C$14:$AJ$177,MATCH(1,(List1[Entry]=$B20)*(List1[AVG-SD]=\"AVG\"),0),AD$4))","v":""},{"$f":"IF($B20=\"\",\"\",INDEX('Feed Table'!$C$14:$AJ$177,MATCH(1,(List1[Entry]=$B20)*(List1[AVG-SD]=\"AVG\"),0),AE$4))","v":""},null,{"$f":"IF($B20=\"\",\"\",INDEX('Feed Table'!$C$14:$AJ$177,MATCH(1,(List1[Entry]=$B20)*(List1[AVG-SD]=\"AVG\"),0),AG$4))","v":""},"",{"$f":"IF($B20=\"\",\"\",INDEX('Feed Table'!$C$14:$AK$177,MATCH(1,(List1[Entry]=$B20)*(List1[AVG-SD]=\"AVG\"),0),AI$4))","v":""}]
[null,null,{"$f":"IF($B21=\"\",\"\",INDEX('Feed Table'!$C$14:$AJ$177,MATCH(1,(List1[Entry]=$B21)*(List1[AVG-SD]=\"AVG\"),0),C$4))","v":""},{"$f":"IF($B21=\"\",\"\",INDEX('Feed Table'!$C$14:$AJ$177,MATCH(1,(List1[Entry]=$B21)*(List1[AVG-SD]=\"AVG\"),0),D$4))","v":""},0,0,9.9999999999999995E-7,0,0,0,100,null,{"$f":"IF($B21=\"\",\"\",INDEX('Feed Table'!$C$14:$AJ$177,MATCH(1,(List1[Entry]=$B21)*(List1[AVG-SD]=\"AVG\"),0),M$4))","v":""},{"$f":"IF($B21=\"\",\"\",INDEX('Feed Table'!$C$14:$AJ$177,MATCH(1,(List1[Entry]=$B21)*(List1[AVG-SD]=\"AVG\"),0),N$4))","v":""},"-",{"$f":"IF($B21=\"\",\"\",INDEX('Feed Table'!$C$14:$AJ$177,MATCH(1,(List1[Entry]=$B21)*(List1[AVG-SD]=\"AVG\"),0),P$4))","v":""},{"$f":"IF($B21=\"\",\"\",INDEX('Feed Table'!$C$14:$AJ$177,MATCH(1,(List1[Entry]=$B21)*(List1[AVG-SD]=\"AVG\"),0),Q$4))","v":""},{"$f":"IF($B21=\"\",\"\",INDEX('Feed Table'!$C$14:$AJ$177,MATCH(1,(List1[Entry]=$B21)*(List1[AVG-SD]=\"AVG\"),0),R$4))","v":""},"",{"$f":"IF($B21=\"\",\"\",INDEX('Feed Table'!$C$14:$AJ$177,MATCH(1,(List1[Entry]=$B21)*(List1[AVG-SD]=\"AVG\"),0),T$4))","v":""},{"$f":"IF($B21=\"\",\"\",INDEX('Feed Table'!$C$14:$AJ$177,MATCH(1,(List1[Entry]=$B21)*(List1[AVG-SD]=\"AVG\"),0),U$4))","v":""},{"$f":"IF($B21=\"\",\"\",INDEX('Feed Table'!$C$14:$AJ$177,MATCH(1,(List1[Entry]=$B21)*(List1[AVG-SD]=\"AVG\"),0),V$4))","v":""},{"$f":"IF($B21=\"\",\"\",INDEX('Feed Table'!$C$14:$AJ$177,MATCH(1,(List1[Entry]=$B21)*(List1[AVG-SD]=\"AVG\"),0),W$4))","v":""},{"$f":"IF($B21=\"\",\"\",INDEX('Feed Table'!$C$14:$AJ$177,MATCH(1,(List1[Entry]=$B21)*(List1[AVG-SD]=\"AVG\"),0),X$4))","v":""},{"$f":"IF($B21=\"\",\"\",IF(AND(M21=\"Forage\",N21>=70),3.362+0.479*'lists to hide'!$E$14-0.007*(1-$O$25)-0.017*R21,IF(M21=\"Forage\",3.054+0.614*'lists to hide'!$E$14,IF(M21=\"Conc\",2.904+1.375*'lists to hide'!$E$14-0.02*(1-$O$25),0))))","v":""},{"$f":"IF($B21=\"\",\"\",INDEX('Feed Table'!$C$14:$AJ$177,MATCH(1,(List1[Entry]=$B21)*(List1[AVG-SD]=\"AVG\"),0),Z$4))","v":""},"","",{"$f":"IF($B21=\"\",\"\",INDEX('Feed Table'!$C$14:$AJ$177,MATCH(1,(List1[Entry]=$B21)*(List1[AVG-SD]=\"AVG\"),0),AC$4))","v":""},{"$f":"IF($B21=\"\",\"\",INDEX('Feed Table'!$C$14:$AJ$177,MATCH(1,(List1[Entry]=$B21)*(List1[AVG-SD]=\"AVG\"),0),AD$4))","v":""},{"$f":"IF($B21=\"\",\"\",INDEX('Feed Table'!$C$14:$AJ$177,MATCH(1,(List1[Entry]=$B21)*(List1[AVG-SD]=\"AVG\"),0),AE$4))","v":""},null,{"$f":"IF($B21=\"\",\"\",INDEX('Feed Table'!$C$14:$AJ$177,MATCH(1,(List1[Entry]=$B21)*(List1[AVG-SD]=\"AVG\"),0),AG$4))","v":""},"",{"$f":"IF($B21=\"\",\"\",INDEX('Feed Table'!$C$14:$AK$177,MATCH(1,(List1[Entry]=$B21)*(List1[AVG-SD]=\"AVG\"),0),AI$4))","v":""}]
[]
[null,null,"Diet"]
[null,null,null,"higher limit --->",null,{"$f":"F28*0.97","v":56.14105520649759},null,{"$f":"F29*0.97","v":25.46515428541608},null,null,null,null,"lower limit, % ---------------->",null,null,0,0,0,0,0,null,null,null,null,null,null,null,null,0,0,0,null,null,"Least-cost of the TMR"]
[null,null,null,"Supply",null,{"$f":"SUM(F5:F21)","v":9.9999999999999995E-7},null,{"$f":"SUM(H5:H21)","v":4.5359237E-7},null,{"$f":"IF(SUM(J5:J21)=0,\"\",SUM(J5:J21))","v":""},null,null,null,{"$f":"SUMPRODUCT(N5:N21,$J$5:$J$21)","v":0},{"$f":"SUMIF(M5:M21,\"Forage\",J5:J21)","v":0},{"$f":"P31/$F$25","v":0},{"$f":"Q31/$F$25","v":0},0,0,0,0,0,0,0,0,0,0,0,0,0,0,null,null,{"$f":"SUMPRODUCT($AG$5:$AG$21,$F$5:$F$21)","v":0},"$/cow /day"]
[null,null,null,"higher limit --->",null,{"$f":"F28*1.03","v":59.613697796590223},null,{"$f":"F29*1.03","v":27.040318468019141},null,null,null,null,"higher limit, % ---------------->",null,null,100,100,100,100,100,null,null,null,null,null,null,null,null,100,100,100]
[]
[null,null,null,"Predicted DMI ",null,{"$f":"IF('cow info'!D17=\"\",\"GO BACK TO DMI TAB\",'cow info'!D17)","v":57.877376501543907},"Lbs/d",null,null,null,null,null,"Supply, Lbs/day",null,null,{"$f":"+CONVERT(P29,\"kg\",\"lbm\")","v":0},{"$f":"+CONVERT(Q29,\"kg\",\"lbm\")","v":0},0,0,0,0,0,0,0,0,0,0,0,0,0,0]
[null,null,null,null,null,{"$f":"IF('cow info'!D16=\"\",\"GO BACK TO DMI TAB\",'cow info'!D16)","v":26.252736376717611},"Kg/d",null,null,null,null,null,"Supply, kg/day",null,null,{"$f":"P31/100","v":0},0,0,0,0,0,0,0,0,0,0,0,0,0,0,0]
[null,null,null,null,null,null,null,null,null,null,null,null,"lower limit",null,null,{"$f":"P24*$F$25","v":0},0,0,0,0,0,0,0,0,0,0,0,0,0,0,0]
[null,null,null,null,null,null,null,null,null,null,null,null,null,null,null,{"$f":"SUMPRODUCT(P5:P21,$F$5:$F$21)","v":0},0,0,0,0,0,0,0,0,0,0,0,0,0,0,0]
[null,null,null,null,null,null,null,null,null,null,null,null,"higher limit",null,null,{"$f":"P26*$F$25","v":9.9999999999999991E-5},9.9999999999999991E-5,9.9999999999999991E-5,9.9999999999999991E-5,9.9999999999999991E-5,0,0,0,0,0,0,0,0,9.9999999999999991E-5,9.9999999999999991E-5,9.9999999999999991E-5]
[]
[]
[]
[null,null,null,null,null,null,null,null,null,null,null,null,null,null,null,null,null,null,null,null,null,null,null,null,null,null,null,null,null,null,"Cells where instructions can be found."]
[null,null,null,null,null,null,null,null,null,null,null,null,null,null,null,null,null,null,null,null,null,null,null,null,null,null,null,null,null,null,"Cells where you enter a number identifying a feed from the Feed Table"]
[null,null,null,null,null,null,null,null,null,null,null,null,null,null,null,null,null,null,null,null,null,null,null,null,null,null,null,null,null,null,"Cells where you should modify numbers (as per instructions)"]
[null,null,null,null,null,null,null,null,null,null,null,null,null,null,null,null,null,null,null,null,null,null,null,null,null,null,null,null,null,null,"Cells where calcuated values are displayed (Do not change)"]
[null,null,null,null,null,null,null,null,null,null,null,null,null,null,null,null,null,null,null,null,null,null,null,null,null,null,null,null,null,null,"Cell where the (least-cost) is displayed"]

{"sheet":"Ration Guidlines","index":5,"n_rows":27,"n_cols":38,"rows_kept":27,"cut":false,"hidden":true,"merged":[[12,1,12,2],[15,1,15,2],[0,4,1,4],[0,6,1,6]]}
[null,null,null,null," Lower limit Diet DM, %",null,"Higher Limit Diet DM, %",null,null,"%forage","% \"as-is\"",null,null,null,"% of the dry matter (DM) in the feed from Lab. Analysis",null,null,null,null,null,"% of DM",null,"% of DM","%","% of CP","% of CP","% of CP","%/h",null,"%","% of CP","% of CP","% of DM","% of DM","% of CP","% of CP"]
[null,"Enter feed number here","Kg of DM fed","Lbs of DM fed",null," Diet DM, %",null,"Name","Description","TDN eq. Cl.","DM","CP","NDICP ","ADICP","EE","NDF","Forage NDF","ADF","Lig.","Ash","NFC","PAF","Hcel","TDN 1x","A","B","C","B Frc. Kd","B frc. Kp","RUP Dig","RDP","RUP","RDP","RUP","Lys2","Met2","Ca","P"]
[]
[]
[null,"Ration guidelines"]
[]
[null,"Early / Dry Period"]
[null,"lower limit",null,null,null,null,null,null,null,null,null,10.8,null,null,null,33,21,null,null,null,0,null,null,null,null,null,null,null,null,null,null,null,8.6999999999999993,2.1,null,null,0.45,0.23]
[null,"higher limit",null,null,null,null,null,null,null,null,null,10.8,null,null,null,100,100,null,null,null,42,null,null,null,null,null,null,null,null,null,null,null,8.6999999999999993,2.1,null,null,0.45,0.23]
[null,"pre-calviing"]
[null,"lower limit",null,null,null,null,null,null,null,null,null,10.199999999999999,null,null,null,33,21,null,null,null,0,null,null,null,null,null,null,null,null,null,null,null,9.9,1.3,null,null,0.6,0.3]
[null,"higher limit",null,null,null,null,null,null,null,null,null,12,null,null,null,100,100,null,null,null,43,null,null,null,null,null,null,null,null,null,null,null,9.9,1.3,null,null,1.5,0.4]
[null,"Early lactation, low DMI"]
[null,"lower limit",null,null,null,null,null,null,null,null,null,19.5,null,null,0,25,21,null,null,null,0,null,null,null,null,null,null,null,null,null,null,null,10.5,9,null,null,0.79,0.42]
[null,"higher limit",null,null,null,null,null,null,null,null,null,19.5,null,null,7,100,100,null,null,null,44,null,null,null,null,null,null,null,null,null,null,null,10.5,9,null,null,0.79,0.42]
[null,"Early lactation, High DMI"]
[null,"lower limit",null,null,null,null,null,null,null,null,null,15.9,null,null,0,25,21,null,null,null,0,null,null,null,null,null,null,null,null,null,null,null,10.3,5.6,null,null,0.68,0.37]
[null,"higher limit",null,null,null,null,null,null,null,null,null,15.9,null,null,7,100,100,null,null,null,44,null,null,null,null,null,null,null,null,null,null,null,10.3,5.6,null,null,0.68,0.37]
[null,"Highest yiled (Peak)"]
[null,"lower limit",null,null,null,null,null,null,null,null,null,16.7,null,null,0,25,21,null,null,null,0,null,null,null,null,null,null,null,null,null,null,null,9.8000000000000007,6.9,null,null,0.6,0.38]
[null,"higher limit",null,null,null,null,null,null,null,null,null,16.7,null,null,7,100,100,null,null,null,44,null,null,null,null,null,null,null,null,null,null,null,9.8000000000000007,6.9,null,null,0.6,0.38]
[null,"Mid Lactation"]
[null,"lower limit",null,null,null,null,null,null,null,null,null,15.2,null,null,null,25,21,null,null,null,0,null,null,null,null,null,null,null,null,null,null,null,9.6999999999999993,5.5,null,null,0.61,0.35]
[null,"higher limit",null,null,null,null,null,null,null,null,null,15.2,null,null,null,100,100,null,null,null,44,null,null,null,null,null,null,null,null,null,null,null,9.6999999999999993,5.5,null,null,0.61,0.35]
[null,"Late Lactation"]
[null,"lower limit",null,null,null,null,null,null,null,null,null,14.1,null,null,null,25,21,null,null,null,0,null,null,null,null,null,null,null,null,null,null,null,9.5,4.5999999999999996,null,null,0.62,0.32]
[null,"higher limit",null,null,null,null,null,null,null,null,null,14.1,null,null,null,100,100,null,null,null,44,null,null,null,null,null,null,null,null,null,null,null,9.5,4.5999999999999996,null,null,0.62,0.32]

{"sheet":"lists to hide","index":6,"n_rows":21,"n_cols":5,"rows_kept":21,"cut":false,"hidden":true,"merged":[]}
[null,"breed ",null,"type "]
[null,"Holstein",null,"Heifer"]
[null,"Ayrshire",null,"Lactating cow"]
[null,"Brown Swiss",null,"Dry cow/ late lactating heifer"]
[null,"Guernsey"]
[null,"Holstein",null,"Cow stage"]
[null,"Jersey",null,"Fresh cow"]
[null,"Large Breed ",null,"Early lactation cow"]
[null,"Midsize breed",null,"mid lactation cow"]
[null,"small breed",null,"Late lactation cow"]
[null,null,null,"Pre-dry cow"]
[]
[]
[null,null,null,"DMI_bw = DMI/BW*100",{"$f":"'cow info'!D27/'Animal data'!C16*100","v":0}]
[]
[null,null,null,"NDF_fg = %NDF of feedstuff*100"]
[]
[null,null,null,"Diet_conc = % concentrate in the diet *100"]
[]
[]
[null,null,null,"Enter feed number here"]

{"sheet":"diets with the feed analysi (2","index":7,"n_rows":81,"n_cols":43,"rows_kept":81,"cut":false,"hidden":true,"merged":[[2,23,2,29],[2,31,2,37],[2,40,2,42],[4,13,4,21],[4,23,4,29],[4,31,4,37],[4,40,4,42]]}
[]
[null,"Assumed DMI:",25,"kg/d"]
[null,null,null,null,null,null,null,null,null,null,null,null,null,"FEED INGREDIENT COMPOSITION (NRC & Other Sources)",null,null,null,null,null,null,null,null,null,"Macro-Mineral Ingredient composition (NRC)",null,null,null,null,null,null,null,"Micro-Mineral Ingredient composition (NRC)",null,null,null,null,null,null,null,null,"Vitamins Ingredient composition (NRC)"]
["Name","Description","TDN eq. Cl.","AVG-SD","DM","CP","NDICP ","ADICP","EE","NDF","ADF","Lig.","Ash","NFC","PAF","Hcel","TDN 1x","A","B","C","B Frc. Kd","RUP Dig","Lys2","Met2","Ca","P","Mg","K","Na","Cl","S","Co","Cu","I","Fe","Mn","Se","Zn","Mb",null,"VitA","VitD","VitE"]
[null,null,"FORAGE",{"$f":"SUM(D6:D7)","v":55},{"$f":"SUM(E6:E7)","v":62},{"$f":"SUM(F6:F7)","v":69},{"$f":"SUM(G6:G7)","v":76},{"$f":"D5","v":55},{"$f":"E5","v":62},null,{"$f":"D5","v":55},{"$f":"E5","v":62},null,"% of DM",null,null,null,null,null,null,null,null,null,"% of DM",null,null,null,null,null,null,null,"mg/Kg",null,null,null,null,null,null,null,null,"1000 IU/Kg"]
[1,"Corn silage",null,27.5,31,34.5,38,{"$f":"(D6*($C$2/100)*$V6)/$C$2","v":1.8975},{"$f":"(E6*($C$2/100)*$V6)/$C$2","v":2.1390000000000002},null,{"$f":"H6*100/$H$18","v":12.195043574384945},{"$f":"I6*100/$I$18","v":13.708902134204964},null,41.4,3.3,36.200000000000003,{"$f":"P6-18","v":18.200000000000003},49.9,2.5499999999999998,4.0999999999999996,38.200000000000003,6.9,null,0.25,0.18,0.17,0.28999999999999998,0.67,0.01,0.11,null,0,5.7,0,104,36,0.04,24,null,null,0,0,0]
[2,"Alfalfa silage",null,27.5,31,34.5,38,{"$f":"(D7*($C$2/100)*V7)/$C$2","v":6.4625000000000004},{"$f":"(E7*($C$2/100)*$V7)/$C$2","v":7.2850000000000001},null,41.533844057687858,{"$f":"I7*100/$I$18","v":46.689739152727043},null,33.9,3.5,37,{"$f":"P7-8","v":29},26.6,6.35,10.5,1.2,23.5,null,1.26,0.28999999999999998,0.24,0.48,2.5099999999999998,0.02,0.28000000000000003,null,0.65,9,0,403,63,0.18,29,null,null,0,0,0]
[3,"Wheat straw",null,0,0,0,0,0,0,null,0,0]
[4,"HMC",null,26.75,20,13.25,6.5,2.4396,1.8239999999999998,null,15.679066299904882,11.690059603922322,null,71.8,4.57,5.55,1.27,{"$f":"100-T9-O9-P9-V9","v":79.11999999999999},0.01,1.64,72,9.1199999999999992,null,0.03,0.3,0.12,0.05,0.43,0.01,0.1,null,0,1,0,59,7,7.0000000000000007E-2,21,null,null,0,0,0]
[5,"Beet sugar pulp",null,0,0,0,0,0,0,null,0,0,null,88.3,0.3,45.8,23.1,37.800000000000011,1.6,7.3,3.3,8.8000000000000007,null,0.6,0.1,0.23,0.18,0.96,0.31,0.3,null,0,11,0,642,62,0.14000000000000001,22,null,null,0,0,0]
[6,"Molasses",null,0,0,0,0,0,0,null,0,0,null,97.98,0.38,27.89,22.16,54.33,0,9.93,0,7.47,null,0.91,0.17,0.46,1.03,3.1,0.23,0.31,null,0.6,11.5,2.1,493,44.6,0,45.5,0.7,null,0,0,0]
[7,"SoybeanMeal solv 48%",null,8.25,7.25,6.25,5.25,3.96,3.48,null,25.450525720455538,22.303403191693906,null,89,1,7.1,5.3,37.5,0.5,6.4,1.9,48,null,0.2,0.65,0.28999999999999998,0.13,2.41,0.03,0.39,null,0,16,0,206,40,0.13,53,null,null,0,0,0]
[8,"Soyhulls",null,8,8.75,9.5,10.25,0.8,0.875,null,5.1415203475667752,5.6078959174517724,null,91,2,61.1,45.5,22.1,2.5,4.8,1.7,10,null,0.45,0.16,0.25,0.05,1.51,0.01,0.12,null,0.12,10,0,604,26,0.21,35,null,null,0,0,0]
[9,"VitPremix",null,2,2,2,2,0,0,null,0,0,null,100,0,0,0,100,0,0,0,0]
[11,"Cottonseed, Whole w lint",null,0,0,0,0,0,0,null,0,0]
[12,"Cottonseed hulls",null,0,0,0,0,0,0,null,0,0]
[86,"SALT (lactating Trace minerals)",null,0,0,0,0,0,0,null,0,0]
[null,null,null,{"$f":"SUM(D6:D17)","v":100},100,100,100,15.5596,15.603,null,100,100]
[null,null,null,null,null,null,null,null,"Change in Composition"]
["CALCULATED ",null,"Units","DIET CHEMICAL COMPOSITION (% of DM)",null,null,null,null,"76.0 Diet - 55.0 Diet",null,null,null,null,null,"feed Analysis"]
[null,"DM","% \"as-fed\"",{"$f":"SUMPRODUCT($N$6:$N$17,D6:D17)/100","v":56.536499999999997},{"$f":"SUMPRODUCT($N$6:$N$17,E6:E17)/100","v":54.117999999999995},{"$f":"SUMPRODUCT($N$6:$N$17,F6:F17)/100","v":51.6995},{"$f":"SUMPRODUCT($N$6:$N$17,G6:G17)/100","v":49.281000000000006},null,{"$f":"G21-D21","v":-7.2554999999999907},null,null,null,null,null,"NRC "]
[null,"CP","%DM",{"$f":"SUMPRODUCT($V$6:$V$17,D6:D17/100)","v":15.559600000000003},{"$f":"SUMPRODUCT($V$6:$V$17,E6:E17/100)","v":15.602999999999998},{"$f":"SUMPRODUCT($V$6:$V$17,F6:F17/100)","v":15.646399999999998},{"$f":"SUMPRODUCT($V$6:$V$17,G6:G17/100)","v":15.6898},null,{"$f":"G22-D22","v":0.13019999999999676},null,null,null,null,null,"AMTS"]
[null,"NDF","%DM",{"$f":"SUMPRODUCT($P$6:$P$17,D6:D17)/100","v":27.088374999999999},{"$f":"SUMPRODUCT($P$6:$P$17,E6:E17)/100","v":29.662999999999997},{"$f":"SUMPRODUCT($P$6:$P$17,F6:F17)/100","v":32.237625000000001},{"$f":"SUMPRODUCT($P$6:$P$17,G6:G17)/100","v":34.812250000000006},null,7.7238750000000067]
[null,"Forage NDF","%DM",{"$f":"SUMPRODUCT($P$6:$P$8,D6:D8)/100","v":20.13},{"$f":"SUMPRODUCT($P$6:$P$8,E6:E8)/100","v":22.691999999999997},{"$f":"SUMPRODUCT($P$6:$P$8,F6:F8)/100","v":25.254000000000001},{"$f":"SUMPRODUCT($P$6:$P$8,G6:G8)/100","v":27.816000000000003},null,7.6860000000000035]
[null,"Non Forage NDF","%DM",{"$f":"SUMPRODUCT($P$9:$P$17,D9:D17)/100","v":6.9583750000000002},{"$f":"SUMPRODUCT($P$9:$P$17,E9:E17)/100","v":6.9710000000000001},{"$f":"SUMPRODUCT($P$9:$P$17,F9:F17)/100","v":6.9836250000000009},{"$f":"SUMPRODUCT($P$9:$P$17,G9:G17)/100","v":6.9962499999999999},null,3.7874999999999659E-2]
[null,"ADF","%DM",{"$f":"SUMPRODUCT($Q$6:$Q$17,D6:D17)/100","v":17.396975000000001},{"$f":"SUMPRODUCT($Q$6:$Q$17,E6:E17)/100","v":19.2515},{"$f":"SUMPRODUCT($Q$6:$Q$17,F6:F17)/100","v":21.106024999999999},{"$f":"SUMPRODUCT($Q$6:$Q$17,G6:G17)/100","v":22.960550000000001},null,5.5635750000000002]
[null,"Lignin","%DM",{"$f":"SUMPRODUCT($S$6:$S$17,D6:D17)/100","v":2.6914250000000006},{"$f":"SUMPRODUCT($S$6:$S$17,E6:E17)/100","v":3.0159999999999996},{"$f":"SUMPRODUCT($S$6:$S$17,F6:F17)/100","v":3.3405749999999994},{"$f":"SUMPRODUCT($S$6:$S$17,G6:G17)/100","v":3.6651499999999997},null,0.97372499999999906]
[null,"NFC","%DM",{"$f":"SUMPRODUCT($R$6:$R$17,D6:D17)/100","v":49.063849999999995},{"$f":"SUMPRODUCT($R$6:$R$17,E6:E17)/100","v":46.191499999999998},{"$f":"SUMPRODUCT($R$6:$R$17,F6:F17)/100","v":43.31915},{"$f":"SUMPRODUCT($R$6:$R$17,G6:G17)/100","v":40.446799999999996},null,-8.617049999999999]
[null,"Starch","%DM",{"$f":"SUMPRODUCT($U$6:$U$17,D6:D17)/100","v":30.38775},{"$f":"SUMPRODUCT($U$6:$U$17,E6:E17)/100","v":26.900500000000001},{"$f":"SUMPRODUCT($U$6:$U$17,F6:F17)/100","v":23.413250000000001},{"$f":"SUMPRODUCT($U$6:$U$17,G6:G17)/100","v":19.925999999999998},null,-10.461750000000002,null,{"$f":"E29-D29","v":-3.4872499999999995},{"$f":"F29-E29","v":-3.4872499999999995}]
[null,"Fat","%DM",{"$f":"SUMPRODUCT($O$6:$O$17,$D$6:$D$17)/100","v":3.334975},{"$f":"SUMPRODUCT($O$6:$O$17,E6:E17)/100","v":3.2695000000000003},{"$f":"SUMPRODUCT($O$6:$O$17,F6:F17)/100","v":3.2040249999999997},{"$f":"SUMPRODUCT($O$6:$O$17,G6:G17)/100","v":3.1385499999999995},null,-0.19642500000000052]
[null,"Ash","%DM",{"$f":"SUMPRODUCT($T$6:$T$17,D6:D17)/100","v":5.3657000000000004},{"$f":"SUMPRODUCT($T$6:$T$17,E6:E17)/100","v":5.7380000000000004},{"$f":"SUMPRODUCT($T$6:$T$17,F6:F17)/100","v":6.1102999999999996},{"$f":"SUMPRODUCT($T$6:$T$17,G6:G17)/100","v":6.4825999999999997},null,1.1168999999999993]
[null,"NDF:starch",null,{"$f":"D23/D29","v":0.8914241758603384},{"$f":"E23/E29","v":1.102693258489619},{"$f":"F23/F29","v":1.3768966290455191},{"$f":"G23/G29","v":1.7470766837298006},null,0.85565250786946223,null,{"$f":"E32-D32","v":0.21126908262928057},{"$f":"F32-E32","v":0.27420337055590016}]
[null,"NFC:RDP",null,{"$f":"D28/D41","v":4.8240794990425124},{"$f":"E28/E41","v":4.4846116504854363},{"$f":"F28/F41","v":4.125633333333333},{"$f":"G28/G41","v":3.8157358490566033},null,-1.0083436499859091]
[]
["NRC PREDICTIONS",null,"Units"]
[null,"DMI predicted","kg/day",25.672000000000001,25.672000000000001,25.672000000000001,25.672000000000001,null,{"$f":"G36-D36","v":0}]
[null,"NEl balance","Mcal/day",3.8,3.3,2.7,1.2,null,-2.5999999999999996]
[null,"Allowable milk kg /day","NEl basis",41.3,40.6,39.799999999999997,38.9,null,-2.3999999999999986]
[null,"Allowable milk kg /day","MP basis",36.4,35,33.6,32,null,-4.3999999999999986]
[]
[null,"RDP","%DM",{"$f":"2.611/D36*100","v":10.17061389841072},10.3,10.5,10.6,null,0.42938610158928014]
[null,"RUP","%DM",5.4,5.3,5.2,5.0999999999999996,null,-0.30000000000000071]
[null,"RDP:CP","CP, frctn",{"$f":"D41/D22","v":0.65365522882405191},{"$f":"E41/E22","v":0.66012946228289449},{"$f":"F41/F22","v":0.67108088761632079},{"$f":"G41/G22","v":0.67559815931369427},null,2.1942930489642354E-2]
[null,"RUP:CP","CP, frctn",{"$f":"D42/D22","v":0.34705262346075727},{"$f":"E42/E22","v":0.33967826699993592},{"$f":"F42/F22","v":0.33234482053379694},{"$f":"G42/G22","v":0.32505194457545666},null,-2.2000678885300606E-2]
[]
[null,"MP suply","g/day",{"$f":"D47+D48+D49","v":2586},{"$f":"E47+E48+E49","v":2459},{"$f":"F47+F48+F49","v":2457},{"$f":"G47+G48+G49","v":2328},null,-258]
[null,"MP - Bacterial","g/day",1392,1346,1360,1311,null,-81]
[null,"MP - RUP","g/day",1073,992,976,896,null,-177]
[null,"MP - Endogenous","g/day",121,121,121,121,null,0]
[]
[null,"MP balance","g/day",19,-45,-113,-183,null,-202]
[null,"RDP Balance","g/day",53,117,186,261,null,208]
[null,"lys","%MP",6.54,6.58,6.62,6.66,null,0.12000000000000011]
[null,"Met","%MP",1.85,1.84,1.84,1.83,null,-2.0000000000000018E-2]
[]
[null,"Total essential AA","g/day",1440,1415,1388,1360,null,-80]
[null,"DIGAA flow","g/day",1143,1115,1084,1053,null,-90]
[]
[null,"Digetible Met","g/day",48,47,45,44,null,-4]
[null,"Digestible Lys","g/day",169,166,163,159,null,-10]
[null,"Lys/Met",null,{"$f":"+D60/D59","v":3.5208333333333335},{"$f":"+E60/E59","v":3.5319148936170213},{"$f":"+F60/F59","v":3.6222222222222222},{"$f":"+G60/G59","v":3.6136363636363638},null,9.2803030303030276E-2]
["Macro-Minerals (% of DM)"]
[null,"Ca",null,{"$f":"SUMPRODUCT(D$6:D$17,$X$6:$X$17)/100","v":0.475775},{"$f":"SUMPRODUCT(E6:E17,$X$6:$X$17)/100","v":0.52797500000000008},{"$f":"SUMPRODUCT(F6:F17,$X$6:$X$17)/100","v":0.580175},{"$f":"SUMPRODUCT(G6:G17,$X$6:$X$17)/100","v":0.63237500000000002}]
[null,"P",null,{"$f":"SUMPRODUCT(D$6:D$17,$Y$6:$Y$17)/100","v":0.27592500000000003},{"$f":"SUMPRODUCT(E$6:E$17,$Y$6:$Y$17)/100","v":0.26682499999999998},{"$f":"SUMPRODUCT(F$6:F$17,$Y$6:$Y$17)/100","v":0.25772499999999998},{"$f":"SUMPRODUCT(G$6:G$17,$Y$6:$Y$17)/100","v":0.24862500000000001}]
[null,"Mg",null,{"$f":"SUMPRODUCT(D$6:D$17,$Z$6:$Z$17)/100","v":0.18877499999999997},{"$f":"SUMPRODUCT(E$6:E$17,$Z$6:$Z$17)/100","v":0.19400000000000003},{"$f":"SUMPRODUCT(F$6:F$17,$Z$6:$Z$17)/100","v":0.19922499999999999},{"$f":"SUMPRODUCT(G$6:G$17,$Z$6:$Z$17)/100","v":0.20444999999999999}]
[null,"Cl",null,{"$f":"SUMPRODUCT(D$6:D$17,$AA$6:$AA$17)/100","v":0.23984999999999995},{"$f":"SUMPRODUCT(E$6:E$17,$AA$6:$AA$17)/100","v":0.26249999999999996},{"$f":"SUMPRODUCT(F$6:F$17,$AA$6:$AA$17)/100","v":0.28515000000000001},{"$f":"SUMPRODUCT(G$6:G$17,$AA$6:$AA$17)/100","v":0.30779999999999996}]
[null,"k",null,{"$f":"SUMPRODUCT(D$6:D$17,$AB$6:$AB$17)/100","v":1.3091499999999998},{"$f":"SUMPRODUCT(E$6:E$17,$AB$6:$AB$17)/100","v":1.3786499999999997},{"$f":"SUMPRODUCT(F$6:F$17,$AB$6:$AB$17)/100","v":1.4481500000000003},{"$f":"SUMPRODUCT(G$6:G$17,$AB$6:$AB$17)/100","v":1.5176499999999999}]
[null,"Na",null,{"$f":"SUMPRODUCT(D$6:D$17,$AC$6:$AC$17)/100","v":1.4200000000000001E-2},{"$f":"SUMPRODUCT(E$6:E$17,$AC$6:$AC$17)/100","v":1.4349999999999998E-2},{"$f":"SUMPRODUCT(F$6:F$17,$AC$6:$AC$17)/100","v":1.4500000000000002E-2},{"$f":"SUMPRODUCT(G$6:G$17,$AC$6:$AC$17)/100","v":1.4650000000000002E-2}]
[null,"S",null,{"$f":"SUMPRODUCT(D$6:D$17,$AD$6:$AD$17)/100","v":0.17577500000000004},{"$f":"SUMPRODUCT(E$6:E$17,$AD$6:$AD$17)/100","v":0.179675},{"$f":"SUMPRODUCT(F$6:F$17,$AD$6:$AD$17)/100","v":0.18357500000000002},{"$f":"SUMPRODUCT(G$6:G$17,$AD$6:$AD$17)/100","v":0.18747500000000003}]
["Micro-Minerals (% of DM)"]
[null,"Co",null,{"$f":"SUMPRODUCT(D$6:D$17,$AF$6:$AF$17)/100","v":0.18835000000000002},{"$f":"SUMPRODUCT(E$6:E$17,$AF$6:$AF$17)/100","v":0.21200000000000002},{"$f":"SUMPRODUCT(F$6:F$17,$AF$6:$AF$17)/100","v":0.23565000000000003},{"$f":"SUMPRODUCT(G$6:G$17,$AF$6:$AF$17)/100","v":0.25929999999999997}]
[null,"Cu",null,{"$f":"SUMPRODUCT(D$6:D$17,$AG$6:$AG$17)/100","v":6.43},{"$f":"SUMPRODUCT(E$6:E$17,$AG$6:$AG$17)/100","v":6.7920000000000007},{"$f":"SUMPRODUCT(F$6:F$17,$AG$6:$AG$17)/100","v":7.1539999999999999},{"$f":"SUMPRODUCT(G$6:G$17,$AG$6:$AG$17)/100","v":7.516}]
[null,"I",null,{"$f":"SUMPRODUCT(D$6:D$17,$AH$6:$AH$17)/100","v":0},{"$f":"SUMPRODUCT(E$6:E$17,$AH$6:$AH$17)/100","v":0},{"$f":"SUMPRODUCT(F$6:F$17,$AH$6:$AH$17)/100","v":0},{"$f":"SUMPRODUCT(G$6:G$17,$AH$6:$AH$17)/100","v":0}]
[null,"Fe",null,{"$f":"SUMPRODUCT(D$6:D$17,$AI$6:$AI$17)/100","v":220.52250000000001},{"$f":"SUMPRODUCT(E$6:E$17,$AI$6:$AI$17)/100","v":236.755},{"$f":"SUMPRODUCT(F$6:F$17,$AI$6:$AI$17)/100","v":252.98750000000001},{"$f":"SUMPRODUCT(G$6:G$17,$AI$6:$AI$17)/100","v":269.22000000000003}]
[null,"Mn",null,{"$f":"SUMPRODUCT(D$6:D$17,$AJ$6:$AJ$17)/100","v":34.477499999999999},{"$f":"SUMPRODUCT(E$6:E$17,$AJ$6:$AJ$17)/100","v":37.265000000000001},{"$f":"SUMPRODUCT(F$6:F$17,$AJ$6:$AJ$17)/100","v":40.052500000000002},{"$f":"SUMPRODUCT(G$6:G$17,$AJ$6:$AJ$17)/100","v":42.84}]
[null,"Se",null,{"$f":"SUMPRODUCT(D$6:D$17,$AK$6:$AK$17)/100","v":0.10675000000000001},{"$f":"SUMPRODUCT(E$6:E$17,$AK$6:$AK$17)/100","v":0.11000000000000001},{"$f":"SUMPRODUCT(F$6:F$17,$AK$6:$AK$17)/100","v":0.11324999999999999},{"$f":"SUMPRODUCT(G$6:G$17,$AK$6:$AK$17)/100","v":0.11649999999999999}]
[null,"Zn",null,{"$f":"SUMPRODUCT(D$6:D$17,$AL$6:$AL$17)/100","v":27.364999999999998},{"$f":"SUMPRODUCT(E$6:E$17,$AL$6:$AL$17)/100","v":27.535},{"$f":"SUMPRODUCT(F$6:F$17,$AL$6:$AL$17)/100","v":27.704999999999998},{"$f":"SUMPRODUCT(G$6:G$17,$AL$6:$AL$17)/100","v":27.875}]
[]
[null,"VitA",null,{"$f":"SUMPRODUCT(D$6:D$17,$AO$6:$AO$17)/100","v":0},{"$f":"SUMPRODUCT(E$6:E$17,$AO$6:$AO$17)/100","v":0},{"$f":"SUMPRODUCT(F$6:F$17,$AO$6:$AO$17)/100","v":0},{"$f":"SUMPRODUCT(G$6:G$17,$AO$6:$AO$17)/100","v":0}]
[null,"VitD",null,{"$f":"SUMPRODUCT(D$6:D$17,$AP$6:$AP$17)/100","v":0},{"$f":"SUMPRODUCT(E$6:E$17,$AP$6:$AP$17)/100","v":0},{"$f":"SUMPRODUCT(F$6:F$17,$AP$6:$AP$17)/100","v":0},{"$f":"SUMPRODUCT(G$6:G$17,$AP$6:$AP$17)/100","v":0}]
[null,"VitE",null,{"$f":"SUMPRODUCT(D$6:D$17,$AQ$6:$AQ$17)/100","v":0},{"$f":"SUMPRODUCT(E$6:E$17,$AQ$6:$AQ$17)/100","v":0},{"$f":"SUMPRODUCT(F$6:F$17,$AQ$6:$AQ$17)/100","v":0},{"$f":"SUMPRODUCT(G$6:G$17,$AQ$6:$AQ$17)/100","v":0}]